{"text_format":"1","workbook":"xlsx","n_sheets":5,"sheets":["入力・出力","計算結果","確率計算","正規乱数","注意事項"],"not_rendered":{"charts":9,"images":0,"macros":1,"external_links":0,"defined_names":21,"comments":0,"pivot_tables":0},"unopened":[],"bounds":{"document_bytes":16777216,"sheet_cells":100000,"rows_first":2000,"rows_last":500,"rows_between":2000,"halvings":0,"cell_chars":16384,"cell_head_chars":4096},"cells_cut":0,"cells_raw":0,"read":"whole","date_system":"1900"}

{"sheet":"入力・出力","index":0,"n_rows":47,"n_cols":10,"rows_kept":47,"cut":false,"hidden":false,"merged":[[1,1,1,9],[17,1,17,2],[18,1,18,2],[19,1,19,2],[37,4,46,10]]}
[]
[null,"１スライスに限定した安定解析シート　Version.0.5（2019/8/21）"]
[null,"【入力】"]
[null,"＜地盤条件＞"]
[null,"斜面傾斜角","土層深","土塊幅","水の\n単位重量","地下水位\n(静水圧）","土の\n単位重量","粘着力","内部摩擦角","過剰間隙水圧比"]
[null,"θ","ｚ","b","γw","ｚw","γ","ｃ","φ","α"]
[null,"deg","m","m","kN/m3","m","kN/m3","kN/㎡","deg"]
[null,30,1.5,1,9.81,1.5,18,10,35,0.15]
[null,null,null,null,null,"標準偏差",1,2,3,3.3000000000000002E-2]
[]
[null,"＜過剰間隙水圧計算＞"]
[null,"初期値⊿h0",0.2]
[null,"ピッチ",0.2,null,null,"※「正規乱数」のグラフを見て、正規乱数の形が悪いときに再セット"]
[]
[]
[null,"【計算結果出力】"]
[null,"・過剰間隙水圧を考慮しない計算"]
[null,"確定論的安全率Fs",null,{"$f":"+計算結果!Q6","v":1.1868310408854434}]
[null,"確率的安全率の平均値Fs'",null,{"$f":"+確率計算!M3","v":1.138170513781211}]
[null,"崩壊確率PF",null,{"$f":"+確率計算!M6","v":0.14799999999999999}]
[]
[]
[]
[null,"・過剰間隙水圧を考慮した計算"]
[null,"比高⊿hごとの崩壊確率"]
[null,"⊿h","PF"]
[null,{"$f":"+計算結果!B12","v":0.2},{"$f":"+計算結果!G12","v":0.17299999999999999}]
[null,{"$f":"+計算結果!B13","v":0.4},{"$f":"+計算結果!G13","v":0.20399999999999999}]
[null,{"$f":"+計算結果!B14","v":0.60000000000000009},{"$f":"+計算結果!G14","v":0.23899999999999999}]
[null,{"$f":"+計算結果!B15","v":0.8},{"$f":"+計算結果!G15","v":0.26}]
[null,{"$f":"+計算結果!B16","v":1},{"$f":"+計算結果!G16","v":0.28999999999999998}]
[null,{"$f":"+計算結果!B17","v":1.2},{"$f":"+計算結果!G17","v":0.318}]
[null,{"$f":"+計算結果!B18","v":1.4},{"$f":"+計算結果!G18","v":0.34200000000000003}]
[null,{"$f":"+計算結果!B19","v":1.5999999999999999},{"$f":"+計算結果!G19","v":0.38100000000000001}]
[null,{"$f":"+計算結果!B20","v":1.7999999999999998},{"$f":"+計算結果!G20","v":0.42299999999999999}]
[null,{"$f":"+計算結果!B21","v":1.9999999999999998},{"$f":"+計算結果!G21","v":0.46300000000000002}]
[null,{"$f":"+計算結果!B22","v":2.1999999999999997},{"$f":"+計算結果!G22","v":0.498}]
[null,{"$f":"+計算結果!B23","v":2.4},{"$f":"+計算結果!G23","v":0.52500000000000002},null,"【解決すべき課題】\n・円弧状に滑る土塊を無限長斜面の計算で行うため、浅い位置（粘着力がよく効く）効果が計算できないことの改善を図る必要があること。\n・過剰間隙水圧を考慮したφ成分抵抗力がマイナスとなった場合には、ゼロとしているが、実際には土を引き剥がすような揚圧力が作用するのではないかとも思えること。\n・過剰間隙水圧比αを、円弧すべりで逆算した実績の最大値0.3を使うのが適切かどうか再検討が必要なこと。\n・静水圧が地表面まで達していることを標準とすべきかどうか再検討すること。"]
[null,{"$f":"+計算結果!B24","v":2.6},{"$f":"+計算結果!G24","v":0.56699999999999995}]
[null,{"$f":"+計算結果!B25","v":2.8000000000000003},{"$f":"+計算結果!G25","v":0.623}]
[null,{"$f":"+計算結果!B26","v":3.0000000000000004},{"$f":"+計算結果!G26","v":0.67100000000000004}]
[null,{"$f":"+計算結果!B27","v":3.2000000000000006},{"$f":"+計算結果!G27","v":0.69199999999999995}]
[null,{"$f":"+計算結果!B28","v":3.4000000000000008},{"$f":"+計算結果!G28","v":0.72}]
[null,{"$f":"+計算結果!B29","v":3.600000000000001},{"$f":"+計算結果!G29","v":0.752}]
[null,{"$f":"+計算結果!B30","v":3.8000000000000012},{"$f":"+計算結果!G30","v":0.78500000000000003}]
[null,{"$f":"+計算結果!B31","v":4.0000000000000009},{"$f":"+計算結果!G31","v":0.81399999999999995}]
[null,{"$f":"+計算結果!B32","v":4.2000000000000011},{"$f":"+計算結果!G32","v":0.84}]

{"sheet":"計算結果","index":1,"n_rows":34,"n_cols":18,"rows_kept":34,"cut":false,"hidden":false,"merged":[[3,16,4,16],[9,5,10,5],[33,1,35,10],[3,17,4,17],[2,16,2,17],[9,6,10,6],[8,5,8,6]]}
[null,"【安定計算結果】"]
[null,"（１）過剰間隙水圧を考慮しない計算"]
[null,"斜面傾斜角","土層深","土塊幅","水の\n単位重量","地下水位\n(静水圧）","土の\n単位重量","粘着力","内部摩擦角","土塊重量","滑動力","法線力","間隙水圧\n（静水圧）","φ成分\n抵抗力","すべり面長","ｃ成分\n抵抗力","静水圧時"]
[null,"θ","ｚ","b","γw","ｚw","γ","ｃ","φ","W","T","N","u","（N-u）\ntanφ","ℓ","ｃ・ℓ","安全率\nFs","崩壊確率\nPF"]
[null,"deg","m","m","kN/m3","m","kN/m3","kN/㎡","deg","kN/m","kN/m","kN/m","kN/m","kN/m","m","kN/m"]
[null,{"$f":"+入力・出力!B8","v":30},{"$f":"+入力・出力!C8","v":1.5},{"$f":"+入力・出力!D8","v":1},{"$f":"+入力・出力!E8","v":9.81},{"$f":"+入力・出力!F8","v":1.5},{"$f":"+入力・出力!G8","v":18},{"$f":"+入力・出力!H8","v":10},{"$f":"+入力・出力!I8","v":35},{"$f":"+G6*D6*C6","v":27},{"$f":"+J6*SIN(PI()/180*B6)","v":13.499999999999998},{"$f":"+J6*COS(PI()/180*B6)","v":23.382685902179844},{"$f":"+E6*D6*F6/COS(PI()/180*B6)","v":16.991418422250685},{"$f":"+(L6-M6)*TAN(PI()/180*I6)","v":4.4752136681609711},{"$f":"+D6/COS(PI()/180*B6)","v":1.1547005383792515},{"$f":"+H6*O6","v":11.547005383792515},{"$f":"+(N6+P6)/K6","v":1.1868310408854434},{"$f":"+確率計算!M6","v":0.14799999999999999}]
[]
[null,"（２）過剰間隙水圧を考慮した計算"]
[null,"圧力水頭\nゼロ地点との比高","過剰間隙水圧比","過剰間隙水圧","過剰間隙水圧を考慮したφ成分抵抗力","過剰間隙水圧\n考慮時"]
["min","⊿h","α","Ue","(N-u-ue）tanφ","安全率\nFs-e","崩壊確率\nPF"]
[{"$f":"+MIN(A12:A32)","v":1.0105714962315877},"m","(0≦α<1)","kN/m","kN/m"]
[{"$f":"+IF(F12>1,F12,\"\")","v":1.1692050864200578},{"$f":"+入力・出力!C12","v":0.2},{"$f":"+入力・出力!J8","v":0.15},{"$f":"+B12*$E$6*C12*$O$6","v":0.33982836844501374},{"$f":"+IF($L$6-$M$6-D12<0,0,($L$6-$M$6-D12)*TAN($I$6*PI()/180))","v":4.2372632828782661},{"$f":"+(E12+$P$6)/$K$6","v":1.1692050864200578},{"$f":"+確率計算!O6","v":0.17299999999999999},{"$f":"+IF(F12=$A$11,\"<--Fs>1.0となる排水パイプの最大ピッチ\",\"\")","v":""}]
[{"$f":"+IF(F13>1,F13,\"\")","v":1.1515791319546724},{"$f":"+B12+入力・出力!$C$13","v":0.4},{"$f":"+C12","v":0.15},{"$f":"+B13*$E$6*C13*$O$6","v":0.67965673689002748},{"$f":"+IF($L$6-$M$6-D13<0,0,($L$6-$M$6-D13)*TAN($I$6*PI()/180))","v":3.9993128975955607},{"$f":"+(E13+$P$6)/$K$6","v":1.1515791319546724},{"$f":"+確率計算!P6","v":0.20399999999999999},{"$f":"+IF(F13=$A$11,\"<--Fs>1.0となる排水パイプの最大ピッチ\",\"\")","v":""}]
[{"$f":"+IF(F14>1,F14,\"\")","v":1.1339531774892868},{"$f":"+B13+入力・出力!$C$13","v":0.60000000000000009},{"$f":"+C13","v":0.15},1.0194851053350413,3.7613625123128553,{"$f":"+(E14+$P$6)/$K$6","v":1.1339531774892868},{"$f":"+確率計算!Q6","v":0.23899999999999999},""]
[{"$f":"+IF(F15>1,F15,\"\")","v":1.1163272230239012},{"$f":"+B14+入力・出力!$C$13","v":0.8},{"$f":"+C14","v":0.15},1.359313473780055,3.5234121270301499,{"$f":"+(E15+$P$6)/$K$6","v":1.1163272230239012},{"$f":"+確率計算!R6","v":0.26},""]
[{"$f":"+IF(F16>1,F16,\"\")","v":1.0987012685585158},{"$f":"+B15+入力・出力!$C$13","v":1},{"$f":"+C15","v":0.15},1.6991418422250686,3.2854617417474454,{"$f":"+(E16+$P$6)/$K$6","v":1.0987012685585158},{"$f":"+確率計算!S6","v":0.28999999999999998},""]
[{"$f":"+IF(F17>1,F17,\"\")","v":1.0810753140931302},{"$f":"+B16+入力・出力!$C$13","v":1.2},{"$f":"+C16","v":0.15},2.0389702106700822,3.04751135646474,{"$f":"+(E17+$P$6)/$K$6","v":1.0810753140931302},{"$f":"+確率計算!T6","v":0.318},""]
[{"$f":"+IF(F18>1,F18,\"\")","v":1.0634493596277446},{"$f":"+B17+入力・出力!$C$13","v":1.4},{"$f":"+C17","v":0.15},2.3787985791150956,2.8095609711820351,{"$f":"+(E18+$P$6)/$K$6","v":1.0634493596277446},{"$f":"+確率計算!U6","v":0.34200000000000003},""]
[{"$f":"+IF(F19>1,F19,\"\")","v":1.0458234051623589},{"$f":"+B18+入力・出力!$C$13","v":1.5999999999999999},{"$f":"+C18","v":0.15},2.7186269475601099,2.5716105858993292,{"$f":"+(E19+$P$6)/$K$6","v":1.0458234051623589},{"$f":"+確率計算!V6","v":0.38100000000000001},""]
[{"$f":"+IF(F20>1,F20,\"\")","v":1.0281974506969735},{"$f":"+B19+入力・出力!$C$13","v":1.7999999999999998},{"$f":"+C19","v":0.15},3.0584553160051224,2.3336602006166247,{"$f":"+(E20+$P$6)/$K$6","v":1.0281974506969735},{"$f":"+確率計算!W6","v":0.42299999999999999},""]
[{"$f":"+IF(F21>1,F21,\"\")","v":1.0105714962315877},{"$f":"+B20+入力・出力!$C$13","v":1.9999999999999998},{"$f":"+C20","v":0.15},3.3982836844501367,2.0957098153339193,{"$f":"+(E21+$P$6)/$K$6","v":1.0105714962315877},{"$f":"+確率計算!X6","v":0.46300000000000002},"<--Fs>1.0となる排水パイプの最大ピッチ"]
[{"$f":"+IF(F22>1,F22,\"\")","v":""},{"$f":"+B21+入力・出力!$C$13","v":2.1999999999999997},{"$f":"+C21","v":0.15},3.7381120528951501,1.8577594300512141,{"$f":"+(E22+$P$6)/$K$6","v":0.9929455417662022},{"$f":"+確率計算!Y6","v":0.498},""]
[{"$f":"+IF(F23>1,F23,\"\")","v":""},{"$f":"+B22+入力・出力!$C$13","v":2.4},{"$f":"+C22","v":0.15},4.0779404213401644,1.6198090447685085,{"$f":"+(E23+$P$6)/$K$6","v":0.97531958730081669},{"$f":"+確率計算!Z6","v":0.52500000000000002},""]
[{"$f":"+IF(F24>1,F24,\"\")","v":""},{"$f":"+B23+入力・出力!$C$13","v":2.6},{"$f":"+C23","v":0.15},4.4177687897851783,1.3818586594858031,{"$f":"+(E24+$P$6)/$K$6","v":0.95769363283543096},{"$f":"+確率計算!AA6","v":0.56699999999999995},""]
[{"$f":"+IF(F25>1,F25,\"\")","v":""},{"$f":"+B24+入力・出力!$C$13","v":2.8000000000000003},{"$f":"+C24","v":0.15},4.7575971582301921,1.1439082742030979,{"$f":"+(E25+$P$6)/$K$6","v":0.94006767837004546},{"$f":"+確率計算!AB6","v":0.623},""]
[{"$f":"+IF(F26>1,F26,\"\")","v":""},{"$f":"+B25+入力・出力!$C$13","v":3.0000000000000004},{"$f":"+C25","v":0.15},5.0974255266752069,0.90595788892039186,{"$f":"+(E26+$P$6)/$K$6","v":0.92244172390465995},{"$f":"+確率計算!AC6","v":0.67100000000000004},""]
[{"$f":"+IF(F27>1,F27,\"\")","v":""},{"$f":"+B26+入力・出力!$C$13","v":3.2000000000000006},{"$f":"+C26","v":0.15},5.4372538951202207,0.66800750363768657,{"$f":"+(E27+$P$6)/$K$6","v":0.90481576943927433},{"$f":"+確率計算!AD6","v":0.69199999999999995},""]
[{"$f":"+IF(F28>1,F28,\"\")","v":""},{"$f":"+B27+入力・出力!$C$13","v":3.4000000000000008},{"$f":"+C27","v":0.15},5.7770822635652337,0.43005711835498184,{"$f":"+(E28+$P$6)/$K$6","v":0.88718981497388882},{"$f":"+確率計算!AE6","v":0.72},""]
[{"$f":"+IF(F29>1,F29,\"\")","v":""},{"$f":"+B28+入力・出力!$C$13","v":3.600000000000001},{"$f":"+C28","v":0.15},6.1169106320102484,0.19210673307227585,{"$f":"+(E29+$P$6)/$K$6","v":0.86956386050850309},{"$f":"+確率計算!AF6","v":0.752},""]
[{"$f":"+IF(F30>1,F30,\"\")","v":""},{"$f":"+B29+入力・出力!$C$13","v":3.8000000000000012},{"$f":"+C29","v":0.15},6.4567390004552632,0,{"$f":"+(E30+$P$6)/$K$6","v":0.85533373213277897},{"$f":"+確率計算!AG6","v":0.78500000000000003},""]
[{"$f":"+IF(F31>1,F31,\"\")","v":""},{"$f":"+B30+入力・出力!$C$13","v":4.0000000000000009},{"$f":"+C30","v":0.15},6.7965673689002752,0,{"$f":"+(E31+$P$6)/$K$6","v":0.85533373213277897},{"$f":"+確率計算!AH6","v":0.81399999999999995},""]
[{"$f":"+IF(F32>1,F32,\"\")","v":""},{"$f":"+B31+入力・出力!$C$13","v":4.2000000000000011},{"$f":"+C31","v":0.15},7.13639573734529,0,{"$f":"+(E32+$P$6)/$K$6","v":0.85533373213277897},{"$f":"+確率計算!AI6","v":0.84},""]
[]
[null,"【解決すべき課題】\n・円弧状に滑る土塊を無限長斜面の計算で行うため、浅い位置（粘着力がよく効く）効果が計算できないことの改善を図る必要があること。\n・過剰間隙水圧を考慮したφ成分抵抗力がマイナスとなった場合には、ゼロとしているが、実際には土を引き剥がすような揚圧力が作用するのではないかとも思えること。\n・過剰間隙水圧比αを、円弧すべりで逆算した実績の最大値0.3を使うのが適切かどうか再検討が必要なこと。\n・静水圧が地表面まで達していることを標準とすべきかどうか再検討すること。"]

{"sheet":"確率計算","index":2,"n_rows":1010,"n_cols":35,"rows_kept":1010,"cut":false,"hidden":false,"merged":[[8,14,8,34],[7,14,7,34],[7,0,9,0],[7,1,8,4],[1,4,5,4],[2,10,2,11],[3,10,3,11],[4,10,4,11],[5,10,5,11]]}
[]
[null,null,null,null,"参照用\nメモ","傾斜角θ",{"$f":"入力・出力!B8","v":30}]
[null,null,null,null,null,"土層深Z",{"$f":"+入力・出力!C8","v":1.5},null,null,null,"平均安全率",null,{"$f":"+AVERAGE(M11:M36)","v":1.138170513781211},null,{"$f":"+AVERAGE(O11:O36)","v":1.1211713839462196},{"$f":"+AVERAGE(P11:P36)","v":1.1041722541112282},1.0871731242762368,1.0701739944412452,1.0531748646062538,1.0361757347712623,1.0191766049362712,1.0021774751012795,0.985178345266288,0.9681792154312967,0.95118008559630518,0.93418095576131377,0.91718182592632225,0.90018269609133073,0.88318356625633931,0.86618443642134801,0.8491853065863566,0.83218617675136497,0.81518704691637334,0.79818791708138237,0.78118878724639051]
[null,null,null,null,null,"幅b",{"$f":"+入力・出力!D8","v":1},null,null,null,"総数",null,{"$f":"+COUNT(M11:M1010)","v":1000},null,{"$f":"+COUNT(O11:O1010)","v":1000},{"$f":"+COUNT(P11:P1010)","v":1000},1000,1000,1000,1000,1000,1000,1000,1000,1000,1000,1000,1000,1000,1000,1000,1000,1000,1000,1000]
[null,null,null,null,null,"水位Zw",{"$f":"+入力・出力!F8","v":1.5},null,null,null,"<1.00",null,{"$f":"COUNTIF(M11:M1010,\"<1\")","v":148},null,{"$f":"COUNTIF(O11:O1010,\"<1\")","v":173},{"$f":"COUNTIF(P11:P1010,\"<1\")","v":204},239,260,290,318,342,381,423,463,498,525,567,623,671,692,720,752,785,814,840]
[null,null,null,null,null,"γw",{"$f":"+入力・出力!E8","v":9.81},null,null,null,"崩壊確率",null,{"$f":"+M5/M4","v":0.14799999999999999},null,{"$f":"+O5/O4","v":0.17299999999999999},{"$f":"+P5/P4","v":0.20399999999999999},0.23899999999999999,0.26,0.28999999999999998,0.318,0.34200000000000003,0.38100000000000001,0.42299999999999999,0.46300000000000002,0.498,0.52500000000000002,0.56699999999999995,0.623,0.67100000000000004,0.69199999999999995,0.72,0.752,0.78500000000000003,0.81399999999999995,0.84]
[]
["計算ケース","3σで正規分布させたパラメータ",null,null,null,"土塊重量","滑動力","法線力","間隙水圧\n（静水圧）","φ成分\n抵抗力","すべり面長","ｃ成分\n抵抗力","静水圧時",null,"過剰間隙水圧を考慮した安定計算"]
[null,null,null,null,null,"W","T","N","u","（N-u）\ntanφ","ℓ","ｃ・ℓ","安全率\nFs",null,"過剰間隙水圧の比高⊿h(m)ごとの安全率"]
[null,"正規乱数ｃ","正規乱数φ","正規乱数γ","正規乱数α","kN/m","kN/m","kN/m","kN/m","kN/m","m","kN/m",null,null,{"$f":"+入力・出力!C12","v":0.2},{"$f":"+O10+入力・出力!$C$13","v":0.4},{"$f":"+P10+入力・出力!$C$13","v":0.60000000000000009},{"$f":"+Q10+入力・出力!$C$13","v":0.8},{"$f":"+R10+入力・出力!$C$13","v":1},{"$f":"+S10+入力・出力!$C$13","v":1.2},{"$f":"+T10+入力・出力!$C$13","v":1.4},{"$f":"+U10+入力・出力!$C$13","v":1.5999999999999999},{"$f":"+V10+入力・出力!$C$13","v":1.7999999999999998},{"$f":"+W10+入力・出力!$C$13","v":1.9999999999999998},{"$f":"+X10+入力・出力!$C$13","v":2.1999999999999997},{"$f":"+Y10+入力・出力!$C$13","v":2.4},{"$f":"+Z10+入力・出力!$C$13","v":2.6},{"$f":"+AA10+入力・出力!$C$13","v":2.8000000000000003},{"$f":"+AB10+入力・出力!$C$13","v":3.0000000000000004},{"$f":"+AC10+入力・出力!$C$13","v":3.2000000000000006},{"$f":"+AD10+入力・出力!$C$13","v":3.4000000000000008},{"$f":"+AE10+入力・出力!$C$13","v":3.600000000000001},{"$f":"+AF10+入力・出力!$C$13","v":3.8000000000000012},{"$f":"+AG10+入力・出力!$C$13","v":4.0000000000000009},{"$f":"+AH10+入力・出力!$C$13","v":4.2000000000000011}]
[1,{"$f":"+正規乱数!L9","v":9.6558164435629106},{"$f":"+正規乱数!M9","v":36.317912583335463},{"$f":"+正規乱数!N9","v":18.480878339044278},{"$f":"+正規乱数!O9","v":0.15275432118840079},{"$f":"+$G$3*$G$4*D11","v":27.721317508566415},{"$f":"+F11*SIN($G$2*PI()/180)","v":13.860658754283206},{"$f":"+F11*COS($G$2*PI()/180)","v":24.007365188792861},{"$f":"+$G$5*$G$4*$G$6/COS($G$2*PI()/180)","v":16.991418422250685},{"$f":"+(H11-I11)*TAN(C11*PI()/180)","v":5.1571030223985961},{"$f":"+$G$4/COS($G$2*PI()/180)","v":1.1547005383792515},{"$f":"+K11*B11","v":11.149576445873322},{"$f":"+(J11+L11)/G11","v":1.176472183418616},null,{"$f":"+(($H11-$I11-O$10*$G$6*$E11*$K11)*TAN($C11*PI()/180)+$L11)/$G11","v":1.1581195864811307},{"$f":"+(($H11-$I11-P$10*$G$6*$E11*$K11)*TAN($C11*PI()/180)+$L11)/$G11","v":1.1397669895436453},1.1214143926061599,1.1030617956686746,1.0847091987311892,1.0663566017937038,1.0480040048562185,1.0296514079187331,1.0112988109812477,0.99294621404376238,0.9745936171062769,0.95624102016879153,0.93788842323130617,0.91953582629382069,0.90118322935633532,0.88283063241884996,0.86447803548136459,0.84612543854387923,0.82777284160639375,0.8094202446689085,0.79106764773142302]
[2,{"$f":"+正規乱数!L10","v":8.2954675996555967},{"$f":"+正規乱数!M10","v":33.794827390736202},{"$f":"+正規乱数!N10","v":18.730399431886443},{"$f":"+正規乱数!O10","v":0.14276023760150322},{"$f":"+$G$3*$G$4*D12","v":28.095599147829667},{"$f":"+F12*SIN($G$2*PI()/180)","v":14.047799573914832},{"$f":"+F12*COS($G$2*PI()/180)","v":24.331502596564921},{"$f":"+$G$5*$G$4*$G$6/COS($G$2*PI()/180)","v":16.991418422250685},{"$f":"+(H12-I12)*TAN(C12*PI()/180)","v":4.9127985033789789},{"$f":"+$G$4/COS($G$2*PI()/180)","v":1.1547005383792515},{"$f":"+K12*B12","v":9.5787809034299549},{"$f":"+(J12+L12)/G12","v":1.0315907007755258},null,{"$f":"+(($H12-$I12-O$10*$G$6*$E12*$K12)*TAN($C12*PI()/180)+$L12)/$G12","v":1.016180963199633},1.00077122562374,0.98536148804784718,0.96995175047195403,0.95454201289606122,0.93913227532016841,0.92372253774427537,0.90831280016838256,0.89290306259248975,0.87749332501659683,0.8620835874407039,0.84667384986481109,0.83126411228891794,0.81585437471302513,0.80044463713713221,0.78503489956123929,0.76962516198534647,0.75421542440945355,0.73880568683356052,0.72339594925766759,0.70798621168177478]
[3,{"$f":"+正規乱数!L11","v":5.7042239583996164},{"$f":"+正規乱数!M11","v":36.114954768163855},{"$f":"+正規乱数!N11","v":18.517190418374089},{"$f":"+正規乱数!O11","v":0.19008875984008825},27.775785627561135,13.887892813780566,24.05453596353864,16.991418422250685,5.1533382862615928,1.1547005383792515,6.5866704757998615,0.84534125655205039,null,0.82271666897027107,0.80009208138849164,0.77746749380671221,0.75484290622493289,0.73221831864315345,0.70959373106137413,0.68696914347959481,0.66434455589781538,0.64171996831603595,0.61909538073425663,0.59647079315247731,0.57384620557069788,0.55122161798891844,0.52859703040713901,0.50597244282535969,0.4833478552435802,0.46072326766180077,0.43809868008002145,0.41547409249824208,0.39284950491646276,0.37022491733468321]
[4,{"$f":"+正規乱数!L12","v":7.5338321383579814},{"$f":"+正規乱数!M12","v":29.780258518409696},{"$f":"+正規乱数!N12","v":18.007428849046356},{"$f":"+正規乱数!O12","v":0.23217446274915271},27.011143273569534,13.505571636784765,23.392336260172382,16.991418422250685,3.6629119547949953,1.1547005383792515,8.6993200262208692,0.91534311271543534,null,0.89305598628211103,0.8707688598487866,0.84848173341546218,0.82619460698213787,0.80390748054881334,0.78162035411548902,0.7593332276821646,0.73704610124884029,0.71475897481551587,0.69247184838219145,0.67018472194886713,0.6478975955155426,0.62561046908221818,0.60332334264889387,0.58103621621556933,0.55874908978224491,0.5364619633489206,0.51417483691559618,0.49188771048227176,0.46960058404894733,0.44731345761562286]
[5,{"$f":"+正規乱数!L13","v":5.1516392424865796},{"$f":"+正規乱数!M13","v":35.87648365357753},{"$f":"+正規乱数!N13","v":17.555663644239893},{"$f":"+正規乱数!O13","v":0.13670439491408595},26.333495466359839,13.166747733179918,22.805476044309966,16.991418422250685,4.2050401690851826,1.1547005383792515,5.9486006068349324,0.77115784259564424,null,0.75414553797333483,0.73713323335102554,0.72012092872871614,0.70310862410640673,0.68609631948409733,0.66908401486178792,0.65207171023947852,0.63505940561716911,0.61804710099485971,0.60103479637255042,0.58402249175024101,0.56701018712793161,0.54999788250562209,0.5329855778833128,0.5159732732610034,0.49896096863869394,0.48194866401638448,0.46493635939407518,0.44792405477176572,0.43091175014945637,0.41389944552714691]
[6,{"$f":"+正規乱数!L14","v":11.586841139366129},{"$f":"+正規乱数!M14","v":34.826712585106691},{"$f":"+正規乱数!N14","v":18.061437710522725},{"$f":"+正規乱数!O14","v":0.18276131148565261},27.092156565784087,13.546078282892042,23.462495829274395,16.991418422250685,4.5019917171678232,1.1547005383792515,13.379331701740929,1.3200369173631523,null,1.2987718308986329,1.2775067444341135,1.2562416579695941,1.2349765715050747,1.2137114850405553,1.1924463985760358,1.1711813121115167,1.1499162256469972,1.1286511391824778,1.1073860527179584,1.086120966253439,1.0648558797889198,1.0435907933244002,1.0223257068598808,1.0010606203953614,0.97979553393084218,0.95853044746632277,0.93726536100180335,0.91600027453728383,0.89473518807276453,0.87347010160824523]
[7,{"$f":"+正規乱数!L15","v":7.4496714579993411},{"$f":"+正規乱数!M15","v":35.5019208618397},{"$f":"+正規乱数!N15","v":17.655249017605804},{"$f":"+正規乱数!O15","v":8.4919977171923525E-2},26.482873526408707,13.241436763204351,22.934841239080324,16.991418422250685,4.2397029359886327,1.1547005383792515,8.6021396433003829,0.96982244517258587,null,0.95945809852703257,0.94909375188147926,0.93872940523592563,0.92836505859037233,0.91800071194481903,0.90763636529926561,0.8972720186537122,0.88690767200815868,0.87654332536260537,0.86617897871705196,0.85581463207149866,0.84545028542594525,0.83508593878039183,0.82472159213483842,0.8143572454892849,0.8039928988437316,0.79362855219817818,0.78326420555262466,0.77289985890707136,0.76253551226151794,0.75217116561596453]
[8,{"$f":"+正規乱数!L16","v":12.113217879011623},{"$f":"+正規乱数!M16","v":37.972553982411114},{"$f":"+正規乱数!N16","v":17.95345051277371},{"$f":"+正規乱数!O16","v":0.16146820815925655},26.930175769160563,13.46508788458028,23.322216344473183,16.991418422250685,4.941279526394351,1.1547005383792515,13.987139206399895,1.4057404522751293,null,1.3845359942697522,1.3633315362643745,1.3421270782589976,1.32092262025362,1.299718162248243,1.2785137042428654,1.2573092462374884,1.2361047882321108,1.2149003302267338,1.1936958722213562,1.172491414215979,1.1512869562106016,1.1300824982052244,1.108878040199847,1.0876735821944696,1.0664691241890925,1.0452646661837151,1.0240602081783379,1.0028557501729605,0.98165129216758329,0.960446834162206]
[9,{"$f":"+正規乱数!L17","v":11.346246148317309},{"$f":"+正規乱数!M17","v":27.21641872159206},{"$f":"+正規乱数!N17","v":18.980723985031823},{"$f":"+正規乱数!O17","v":0.20164077021826748},28.471085977547734,14.235542988773865,24.656683729887249,16.991418422250685,3.9421884066384947,1.1547005383792515,13.101516536045505,1.1972641265685928,null,1.1807603677954983,1.1642566090224034,1.1477528502493088,1.1312490914762139,1.1147453327031192,1.0982415739300244,1.0817378151569297,1.0652340563838349,1.0487302976107402,1.0322265388376455,1.0157227800645505,0.99921902129145579,0.98271526251836094,0.96621150374526621,0.94970774497217136,0.93320398619907663,0.9167002274259819,0.90019646865288705,0.8836927098797922,0.86718895110669747,0.85068519233360285]
[10,{"$f":"+正規乱数!L18","v":9.093951575251678},{"$f":"+正規乱数!M18","v":30.338761035523792},{"$f":"+正規乱数!N18","v":16.753158862706378},{"$f":"+正規乱数!O18","v":0.1898863553555464},25.129738294059567,12.564869147029782,21.76299175311021,16.991418422250685,2.7926143071401017,1.1547005383792515,10.500790779937955,1.057981975898292,null,1.0379440154001121,1.0179060549019319,0.99786809440375168,0.97783013390557172,0.95779217340739153,0.93775421290921157,0.91771625241103139,0.89767829191285131,0.87764033141467124,0.85760237091649116,0.83756441041831098,0.8175264499201309,0.79748848942195072,0.77745052892377076,0.75741256842559057,0.7373746079274105,0.71733664742923031,0.69729868693105024,0.67726072643287005,0.6572227659346902,0.6371848054365099]
[11,{"$f":"+正規乱数!L19","v":10.248281538334057},{"$f":"+正規乱数!M19","v":32.890077459785246},{"$f":"+正規乱数!N19","v":16.317317429635658},{"$f":"+正規乱数!O19","v":0.17452127943176882},24.475976144453487,12.237988072226742,21.19681712351862,16.991418422250685,2.7195614461183069,1.1547005383792515,11.833696209776479,1.1891871090250845,null,1.1682942230785831,1.1474013371320819,1.1265084511855807,1.1056155652390793,1.0847226792925782,1.063829793346077,1.0429369073995758,1.0220440214530746,1.0011511355065734,0.98025824956007201,0.95936536361357083,0.93847247766706965,0.91757959172056824,0.89668670577406706,0.87579381982756577,0.85490093388106447,0.83400804793456318,0.813115161988062,0.7922222760415607,0.77132939009505941,0.75043650414855811]
[12,{"$f":"+正規乱数!L20","v":10.092538337734721},{"$f":"+正規乱数!M20","v":34.632570155723648},{"$f":"+正規乱数!N20","v":19.558680318338936},{"$f":"+正規乱数!O20","v":0.14120488902793063},29.338020477508405,14.669010238754201,25.407471030270347,16.991418422250685,5.8129095075131412,1.1547005383792515,11.653859452195519,1.190725800542632,null,1.175663114845882,1.1606004291491321,1.1455377434523821,1.1304750577556324,1.1154123720588824,1.1003496863621325,1.0852870006653828,1.0702243149686328,1.0551616292718828,1.0400989435751329,1.0250362578783832,1.0099735721816332,0.99491088648488324,0.97984820078813328,0.96478551509138322,0.94972282939463348,0.93466014369788353,0.91959745800113368,0.90453477230438362,0.88947208660763377,0.87440940091088382]
[13,{"$f":"+正規乱数!L21","v":7.5592794349890475},{"$f":"+正規乱数!M21","v":29.942769803910373},{"$f":"+正規乱数!N21","v":18.796023839044828},{"$f":"+正規乱数!O21","v":0.15850967379857264},28.194035758567242,14.097017879283619,24.4167512021261,16.991418422250685,4.2771344644607829,1.1547005383792515,8.7287040333410566,0.92259502039184249,null,0.90792151504310692,0.89324800969437146,0.878574504345636,0.86390099899690043,0.84922749364816486,0.83455398829942928,0.81988048295069382,0.80520697760195836,0.79053347225322279,0.77585996690448722,0.76118646155575176,0.74651295620701619,0.73183945085828062,0.71716594550954504,0.70249244016080958,0.68781893481207401,{"$f":"+(($H23-$I23-AE$10*$G$6*$E23*$K23)*TAN($C23*PI()/180)+$L23)/$G23","v":0.67314542946333855},0.65847192411460298,0.64379841876586741,0.62912491341713184,0.61445140806839627]
[14,{"$f":"+正規乱数!L22","v":7.2601978435263224},{"$f":"+正規乱数!M22","v":36.96067956848551},{"$f":"+正規乱数!N22","v":17.749787305383737},{"$f":"+正規乱数!O22","v":0.10687633693174414},26.624680958075608,13.312340479037802,23.057650077349283,16.991418422250685,4.5647097482779895,1.1547005383792515,8.3833543586597248,0.97263618875481039,null,0.95894977415679816,0.94526335955878582,0.93157694496077359,0.91789053036276136,0.90420411576474913,0.8905177011667369,0.87683128656872467,0.86314487197071244,0.84945845737270009,0.83577204277468786,0.82208562817667563,0.8083992135786634,0.79471279898065117,0.78102638438263894,0.76733996978462671,0.75365355518661448,0.73996714058860202,0.72628072599058979,0.71259431139257756,0.69890789679456544,0.6852214821965531]
[15,{"$f":"+正規乱数!L23","v":12.078601102996412},{"$f":"+正規乱数!M23","v":27.334184311595529},{"$f":"+正規乱数!N23","v":17.442277823593169},{"$f":"+正規乱数!O23","v":0.1539080009770212},26.163416735389752,13.081708367694874,22.658183542646452,16.991418422250685,2.9291185361236045,1.1547005383792515,13.947167196498178,1.2900674176698184,null,1.2762900312094547,1.2625126447490911,1.2487352582887272,1.2349578718283636,1.2211804853679997,1.2074030989076359,1.1936257124472722,1.1798483259869086,1.1660709395265449,1.1522935530661811,1.1385161666058174,1.1247387801454536,1.1109613936850899,1.0971840072247263,1.0834066207643624,1.0696292343039986,1.0558518478436349,1.0420744613832711,1.0282970749229075,1.0145196884625436,1.00074230200218]
[16,{"$f":"+正規乱数!L24","v":6.5077763280618948},{"$f":"+正規乱数!M24","v":34.617280809805052},{"$f":"+正規乱数!N24","v":20.121964250088155},{"$f":"+正規乱数!O24","v":0.16762758140002984},30.182946375132232,15.091473187566114,26.139198321927953,16.991418422250685,6.3147035529793589,1.1547005383792515,7.5145328296648177,0.91636092850352757,null,0.89899014233434416,0.88161935616516052,0.86424856999597699,0.84687778382679335,0.82950699765760971,0.81213621148842619,0.79476542531924266,0.77739463915005891,0.76002385298087538,0.74265306681169185,0.72528228064250821,0.70791149447332469,0.69054070830414105,0.67316992213495741,0.65579913596577377,0.63842834979659036,0.62105756362740661,0.60368677745822297,0.58631599128903944,0.56894520511985591,0.55157441895067216]
[17,{"$f":"+正規乱数!L25","v":11.869329391328932},{"$f":"+正規乱数!M25","v":32.81299794311542},{"$f":"+正規乱数!N25","v":17.511915065941871},{"$f":"+正規乱数!O25","v":0.11042571241644911},26.267872598912806,13.133936299456401,22.748644974031656,16.991418422250685,3.7121281037136766,1.1547005383792515,13.705521038368191,1.3261560544345539,null,1.3138745007480905,1.3015929470616274,1.2893113933751641,1.2770298396887008,1.2647482860022377,1.2524667323157743,1.240185178629311,1.2279036249428479,1.2156220712563846,1.2033405175699212,1.1910589638834579,1.1787774101969946,1.1664958565105312,1.1542143028240681,1.1419327491376048,1.1296511954511415,1.1173696417646781,1.1050880880782148,1.0928065343917517,1.0805249807052884,1.068243427018825]
[18,{"$f":"+正規乱数!L26","v":8.6994259001511924},{"$f":"+正規乱数!M26","v":37.502816681283221},{"$f":"+正規乱数!N26","v":17.027070769694536},{"$f":"+正規乱数!O26","v":9.0996379012125525E-2},25.540606154541805,12.770303077270901,22.118813757886386,16.991418422250685,3.9347893120925868,1.1547005383792515,10.045231770494986,1.0947289972678704,null,1.0823405762345868,1.0699521552013032,1.0575637341680197,1.0451753131347359,1.0327868921014525,1.0203984710681688,1.0080100500348852,0.99562162900160156,0.98323320796831792,0.9708447869350344,0.95845636590175076,0.94606794486846713,0.93367952383518349,0.92129110280189985,0.90890268176861633,0.89651426073533258,0.88412583970204905,0.87173741866876542,0.85934899763548189,0.84696057660219815,0.83457215556891451]
[19,{"$f":"+正規乱数!L27","v":9.3199226714133641},{"$f":"+正規乱数!M27","v":37.972199469200852},{"$f":"+正規乱数!N27","v":19.339965658257508},{"$f":"+正規乱数!O27","v":0.13134935500894529},29.009948487386261,14.504974243693129,25.123352352554452,16.991418422250685,6.3470113155849202,1.1547005383792515,10.761719726334004,1.1795078539596806,null,1.1634955146287573,1.1474831752978341,1.1314708359669108,1.1154584966359875,1.0994461573050642,1.083433817974141,1.0674214786432177,1.0514091393122944,1.0353967999813709,1.0193844606504479,1.0033721213195246,0.98735978198860119,0.97134744265767792,0.95533510332675464,0.93932276399583137,0.92331042466490809,0.90729808533398482,0.89128574600306154,0.87527340667213827,0.85926106734121477,0.84324872801029171]
[20,{"$f":"+正規乱数!L28","v":12.734924645937127},{"$f":"+正規乱数!M28","v":36.210339879312997},{"$f":"+正規乱数!N28","v":17.766429115842481},{"$f":"+正規乱数!O28","v":0.12653771486324994},26.64964367376372,13.324821836881858,23.079268423282638,16.991418422250685,4.457320018195376,1.1547005383792515,14.7050243448828,1.4380938520347495,null,1.4223418115133981,1.406589770992047,1.3908377304706956,1.3750856899493444,1.3593336494279931,1.3435816089066419,1.3278295683852903,1.3120775278639392,1.2963254873425882,1.2805734468212366,1.2648214062998855,1.2490693657785341,1.233317325257183,1.2175652847358316,1.2018132442144804,1.1860612036931291,1.1703091631717779,1.1545571226504265,1.1388050821290752,1.123053041607724,1.1073010010863729]
[21,{"$f":"+正規乱数!L29","v":8.2848798568618545},{"$f":"+正規乱数!M29","v":33.732259042758699},{"$f":"+正規乱数!N29","v":20.875564702983613},{"$f":"+正規乱数!O29","v":0.17368326173874574},31.313347054475422,15.656673527237709,27.118154026694341,16.991418422250685,6.761933778612045,1.1547005383792515,9.5665552311257986,1.0429092093752472,null,1.0261278057135985,1.00934640205195,0.99256499839030143,0.97578359472865284,0.95900219106700402,0.94222078740535542,0.92543938374370682,0.90865798008205811,0.89187657642040963,0.87509517275876081,0.85831376909711221,0.84153236543546361,0.82475096177381491,0.8079695581121662,0.7911881544505176,0.77440675078886889,0.75762534712722041,0.74084394346557159,0.72406253980392299,0.70728113614227428,0.69049973248062568]
[22,{"$f":"+正規乱数!L30","v":8.3451832807570092},{"$f":"+正規乱数!M30","v":37.436654160475435},{"$f":"+正規乱数!N30","v":16.92836709871413},{"$f":"+正規乱数!O30","v":0.16446507804930074},25.392550648071193,12.696275324035595,21.990593928112666,16.991418422250685,3.8272283882071605,1.1547005383792515,9.6361876271636469,1.0604224996509741,null,1.0379551558691824,1.0154878120873907,0.99302046830559876,0.97055312452380693,0.94808578074201511,0.92561843696022339,0.90315109317843156,0.88068374939663974,0.85821640561484791,0.83574906183305619,0.81328171805126437,0.79081437426947265,0.76834703048768072,0.74587968670588889,0.72341234292409706,0.70094499914230524,0.67847765536051352,0.65601031157872169,0.63354296779692976,0.61107562401513804,0.58860828023334621]
[23,{"$f":"+正規乱数!L31","v":13.595979830670718},{"$f":"+正規乱数!M31","v":31.890059086352167},{"$f":"+正規乱数!N31","v":16.404160255951801},{"$f":"+正規乱数!O31","v":0.15035368594965712},24.606240383927702,12.303120191963849,21.309629264107951,16.991418422250685,2.6868101440915821,1.1547005383792515,15.699285230268922,1.494425404896063,null,1.4771987751361151,1.4599721453761674,1.4427455156162194,1.4255188858562715,1.4082922560963236,1.3910656263363756,1.3738389965764277,1.35661236681648,1.3393857370565321,1.3221591072965844,1.3049324775366364,1.2877058477766885,1.2704792180167406,1.2532525882567926,1.2360259584968447,1.2187993287368968,1.2015726989769491,1.1843460692170011,1.1671194394570532,1.1498928096971053,1.1326661799371573]
[24,{"$f":"+正規乱数!L32","v":11.585867317591287},{"$f":"+正規乱数!M32","v":38.017095344608983},{"$f":"+正規乱数!N32","v":19.353416694377245},{"$f":"+正規乱数!O32","v":0.15623198266318494},29.030125041565867,14.515062520782932,25.140825761034826,16.991418422250685,6.3709314995925244,1.1547005383792515,13.378207229213233,1.3605961876174202,null,1.341532965231226,1.3224697428450316,1.3034065204588372,1.2843432980726426,1.2652800756864484,1.246216853300254,1.2271536309140596,1.2080904085278654,1.189027186141671,1.1699639637554766,1.1509007413692822,1.131837518983088,1.1127742965968934,1.093711074210699,1.0746478518245046,1.0555846294383104,1.036521407052116,1.0174581846659216,0.99839496227972713,0.97933173989353284,0.96026851750733855]
[25,{"$f":"+正規乱数!L33","v":12.227366889775919},{"$f":"+正規乱数!M33","v":37.471542742714945},{"$f":"+正規乱数!N33","v":18.635284954328064},{"$f":"+正規乱数!O33","v":0.17025167157428528},27.952927431492096,13.976463715746046,24.207945265815056,16.991418422250685,5.5317433479091225,1.1547005383792515,14.118947130584887,1.4059844377054629,null,1.3848302552693192,1.3636760728331756,1.3425218903970322,1.3213677079608883,1.3002135255247447,1.279059343088601,1.2579051606524574,1.2367509782163135,1.2155967957801699,1.1944426133440265,1.1732884309078828,1.152134248471739,1.1309800660355953,1.1098258835994517,1.088671701163308,1.0675175187271642,1.0463633362910207,1.0252091538548769,1.0040549714187332,0.98290078898258959,0.96174660654644584]
[26,{"$f":"+正規乱数!L34","v":9.0978819435554907},{"$f":"+正規乱数!M34","v":26.926649460611625},{"$f":"+正規乱数!N34","v":18.176323075122333},{"$f":"+正規乱数!O34","v":9.8621764820220392E-2},27.2644846126835,13.632242306341748,23.611736295673843,16.991418422250685,3.362551659421475,1.1547005383792515,10.505329178334396,1.0172853831467259,null,1.0089607717917588,1.0006361604367917,0.9923115490818244,0.98398693772685741,0.97566232637189032,0.96733771501692312,0.95901310366195602,0.95068849230698893,0.94236388095202184,0.93403926959705474,0.92571465824208765,0.91739004688712045,0.90906543553215324,0.90074082417718626,0.89241621282221917,0.88409160146725196,0.87576699011228487,0.86744237875731778,0.85911776740235068,0.85079315604738359,0.84246854469241639]
[27,{"$f":"+正規乱数!L35","v":12.788849478602646},{"$f":"+正規乱数!M35","v":36.473873438094969},{"$f":"+正規乱数!N35","v":17.766426113825037},{"$f":"+正規乱数!O35","v":0.16926024169809969},{"$f":"+$G$3*$G$4*D37","v":26.649639170737558},13.324819585368777,{"$f":"+F37*COS($G$2*PI()/180)","v":23.07926452354759},16.991418422250685,{"$f":"+(H37-I37)*TAN(C37*PI()/180)","v":4.5004745788847806},1.1547005383792515,{"$f":"+K37*B37","v":14.767291378193685},{"$f":"+(J37+L37)/G37","v":1.4460057664296857},null,1.4247313998473374,1.4034570332649892,1.3821826666826413,1.3609083001002931,1.339633933517945,1.3183595669355967,1.2970852003532487,1.2758108337709004,1.2545364671885524,1.2332621006062041,1.2119877340238561,1.1907133674415078,1.1694390008591595,1.1481646342768115,1.1268902676944632,1.1056159011121152,1.0843415345297671,1.0630671679474188,1.0417928013650706,1.0205184347827225,0.99924406820037437]
[28,{"$f":"+正規乱数!L36","v":9.3759313628668224},{"$f":"+正規乱数!M36","v":35.991934605622944},{"$f":"+正規乱数!N36","v":17.582252237625788},{"$f":"+正規乱数!O36","v":0.199283947366304},26.373378356438682,13.186689178219339,22.840015640294585,16.991418422250685,4.2479968561651704,1.1547005383792515,10.826392992509229,1.1431519803752563,null,{"$f":"+(($H38-$I38-O$10*$G$6*$E38*$K38)*TAN($C38*PI()/180)+$L38)/$G38","v":1.1182841788759617},1.0934163773766667,1.0685485758773721,1.0436807743780772,1.0188129728787825,0.99394517137948757,0.96907736988019277,0.94420956838089798,0.91934176688160318,0.8944739653823085,0.86960616388301359,0.8447383623837188,0.81987056088442389,0.79500275938512921,0.77013495788583419,0.74526715638653951,0.7203993548872446,0.69553155338794992,0.6706637518886549,0.64579595038936022,0.62092814889006542]
[29,{"$f":"+正規乱数!L37","v":13.052386122198692},{"$f":"+正規乱数!M37","v":34.42707575917936},{"$f":"+正規乱数!N37","v":18.571542476673066},{"$f":"+正規乱数!O37","v":0.19177365136207408},27.8573137150096,13.928656857504798,24.12514135839097,16.991418422250685,4.889515255728619,1.1547005383792515,15.0715972824367,1.4330967258634288,null,1.4117172213031,1.3903377167427713,1.3689582121824426,1.3475787076221137,1.3261992030617851,1.3048196985014564,1.2834401939411277,1.2620606893807989,1.2406811848204702,1.2193016802601415,1.1979221756998129,1.176542671139484,1.1551631665791553,1.1337836620188264,1.1124041574584977,1.0910246528981691,{"$f":"+(($H39-$I39-AE$10*$G$6*$E39*$K39)*TAN($C39*PI()/180)+$L39)/$G39","v":1.0696451483378404},1.0482656437775115,1.0268861392171829,1.0055066346568542,0.98412713009652542]
[30,{"$f":"+正規乱数!L38","v":11.552706128693156},{"$f":"+正規乱数!M38","v":28.935357628588939},{"$f":"+正規乱数!N38","v":17.229366571261487},{"$f":"+正規乱数!O38","v":0.13314879948603645},25.84404985689223,12.922024928446113,22.381603712740258,16.991418422250685,2.9798835944665973,1.1547005383792515,13.339915986539266,1.2629444434114969,null,1.2500390675822972,1.237133691753098,1.2242283159238985,1.2113229400946992,1.1984175642654999,1.1855121884363005,1.172606812607101,1.1597014367779015,1.1467960609487022,1.1338906851195028,1.1209853092903035,1.108079933461104,1.0951745576319045,1.0822691818027053,1.0693638059735058,1.0564584301443065,1.043553054315107,1.0306476784859075,1.0177423026567083,1.0048369268275088,0.99193155099830932]
[31,{"$f":"+正規乱数!L39","v":9.9168409501936132},{"$f":"+正規乱数!M39","v":33.056119006874631},{"$f":"+正規乱数!N39","v":15.6266065330973},{"$f":"+正規乱数!O39","v":0.15517546448600966},23.43990979964595,11.719954899822973,20.299557348909204,16.991418422250685,2.1529401543191851,1.1547005383792515,11.450981584209973,1.160748642363346,null,1.1412271190781675,1.1217055957929891,1.1021840725078109,1.0826625492226325,1.0631410259374541,1.0436195026522759,1.0240979793670975,1.0045764560819193,0.98505493279674083,0.96553340951156241,0.94601188622638421,0.92649036294120579,0.90696883965602737,0.88744731637084917,0.86792579308567075,0.84840426980049233,0.82888274651531413,0.80936122323013571,0.7898396999449574,0.77031817665977897,0.75079665337460055]
[32,{"$f":"+正規乱数!L40","v":10.002170717519574},{"$f":"+正規乱数!M40","v":33.440272028385579},{"$f":"+正規乱数!N40","v":17.058096582310149},{"$f":"+正規乱数!O40","v":0.17044734542889239},25.587144873465224,12.79357243673261,22.159117470733651,16.991418422250685,3.4126836235682552,1.1547005383792515,11.549511912481035,1.1695087990505435,null,1.149576123600923,1.1296434481513027,1.1097107727016822,1.0897780972520619,1.0698454218024414,1.0499127463528208,1.0299800709032005,1.0100473954535802,0.99011472000395973,0.97018204455433932,0.95024936910471891,0.93031669365509839,0.91038401820547799,0.89045134275585758,0.87051866730623717,0.85058599185661665,0.83065331640699636,0.81072064095737595,0.79078796550775532,0.77085529005813502,0.7509226146085145]
[33,{"$f":"+正規乱数!L41","v":9.6001851821576363},{"$f":"+正規乱数!M41","v":31.953609626295762},{"$f":"+正規乱数!N41","v":19.343843497884535},{"$f":"+正規乱数!O41","v":0.12346884356769472},29.015765246826803,14.5078826234134,25.128389813997664,16.991418422250685,5.0753880041730479,1.1547005383792515,11.085338998377935,1.1139273333015638,null,1.1019011400491925,1.0898749467968216,1.0778487535444503,1.0658225602920792,1.0537963670397079,1.0417701737873368,1.0297439805349655,1.0177177872825944,1.0056915940302233,0.99366540077785226,0.98163920752548106,0.96961301427310986,0.95758682102073867,0.94556062776836747,0.93353443451599627,0.92150824126362507,0.9094820480112541,0.89745585475888279,0.88542966150651159,0.8734034682541405,0.8613772750017693]
[34,{"$f":"+正規乱数!L42","v":12.416462417364448},{"$f":"+正規乱数!M42","v":35.767964145725834},{"$f":"+正規乱数!N42","v":20.297600771451819},{"$f":"+正規乱数!O42","v":0.1499746073424871},30.446401157177728,15.223200578588862,26.367356855927845,16.991418422250685,6.7541740113674784,1.1547005383792515,14.33729583809647,1.3854819648851433,null,1.3694037572168205,1.3533255495484975,1.3372473418801742,1.3211691342118514,1.3050909265435287,1.2890127188752054,1.2729345112068824,1.2568563035385596,1.2407780958702366,1.2246998882019136,1.2086216805335908,1.1925434728652675,1.1764652651969447,1.1603870575286217,1.1443088498602985,1.1282306421919757,1.1121524345236526,1.0960742268553298,1.0799960191870066,1.0639178115186838,1.0478396038503608]
[35,{"$f":"+正規乱数!L43","v":14.001646835327149},{"$f":"+正規乱数!M43","v":37.086935646650417},{"$f":"+正規乱数!N43","v":18.331240700457268},{"$f":"+正規乱数!O43","v":0.12618781105249555},27.496861050685901,13.748430525342949,23.812980194224863,16.991418422250685,5.1566619715612116,1.1547005383792515,16.1677091389484,1.5510403948437368,null,1.5353216631070743,1.519602931370412,1.5038841996337495,1.4881654678970873,1.4724467361604248,1.4567280044237627,1.4410092726871,1.4252905409504379,1.4095718092137755,1.3938530774771132,1.3781343457404507,1.3624156140037882,1.3466968822671257,1.3309781505304636,1.3152594187938009,1.2995406870571387,1.2838219553204762,1.2681032235838139,1.2523844918471514,1.2366657601104891,1.2209470283738266]
[36,{"$f":"+正規乱数!L44","v":9.4015700885064639},{"$f":"+正規乱数!M44","v":41.157380778190856},{"$f":"+正規乱数!N44","v":18.488121014803884},{"$f":"+正規乱数!O44","v":0.18501879275146602},27.732181522205828,13.866090761102912,24.016773700591653,16.991418422250685,6.1410088967660901,1.1547005383792515,10.855998042808681,1.2257966021147568,null,1.1993724165573965,1.1729482310000359,1.1465240454426755,1.1200998598853151,1.0936756743279548,1.0672514887705944,1.040827303213234,1.0144031176558734,0.98797893209851328,0.9615547465411528,0.93513056098379244,0.90870637542643184,0.88228218986907148,0.85585800431171111,0.82943381875435052,0.80300963319699026,0.77658544763962989,0.75016126208226952,0.72373707652490893,0.69731289096754867,0.67088870541018819]
[37,{"$f":"+正規乱数!L45","v":10.057335315688624},{"$f":"+正規乱数!M45","v":36.070577874358804},{"$f":"+正規乱数!N45","v":18.302438827508592},{"$f":"+正規乱数!O45","v":0.17635008493999257},27.453658241262886,13.726829120631441,23.775565463749675,16.991418422250685,4.9417508747254946,1.1547005383792515,11.613210503686313,1.2060295376977979,null,1.1848283879962815,1.163627238294765,1.1424260885932487,1.1212249388917321,1.1000237891902158,1.0788226394886995,1.057621489787183,1.0364203400856666,1.0152191903841501,0.99401804068263366,0.97281689098111734,0.95161574127960069,0.93041459157808437,0.90921344187656794,0.88801229217505151,0.86681114247353508,0.84560999277201854,0.82440884307050211,0.80320769336898568,0.78200654366746924,0.76080539396595293]
[38,{"$f":"+正規乱数!L46","v":11.924096353011068},{"$f":"+正規乱数!M46","v":41.138367800692002},{"$f":"+正規乱数!N46","v":18.481403157932039},{"$f":"+正規乱数!O46","v":0.16167735805807301},27.722104736898061,13.861052368449029,24.008046948526644,16.991418422250685,6.1292743673271808,1.1547005383792515,13.768760478507948,1.4355356517610216,null,1.4124521363640126,1.3893686209670038,1.3662851055699945,1.3432015901729857,1.3201180747759766,1.2970345593789676,1.2739510439819586,1.2508675285849498,1.2277840131879409,1.2047004977909317,1.1816169823939229,1.1585334669969136,1.1354499515999048,1.1123664362028958,1.0892829208058867,1.0661994054088777,1.0431158900118687,1.0200323746148596,0.99694885921785059,0.97386534382084167,0.95078182842383263]
[39,{"$f":"+正規乱数!L47","v":11.026798426794707},{"$f":"+正規乱数!M47","v":40.454872454750678},{"$f":"+正規乱数!N47","v":19.143340605787962},{"$f":"+正規乱数!O47","v":0.20050706023093412},28.715010908681943,14.35750545434097,24.867928916865843,16.991418422250685,6.7164536269565778,1.1547005383792515,12.732650080019331,1.3546297279027326,null,1.3276507672014546,1.3006718065001766,1.2736928457988985,1.2467138850976203,1.2197349243963422,1.1927559636950642,1.1657770029937862,1.1387980422925079,1.1118190815912299,1.0848401208899519,1.0578611601886738,1.0308821994873956,1.0039032387861175,0.97692427808483939,0.94994531738356114,0.92296635668228322,0.89598739598100507,0.86900843527972704,0.84202947457844879,0.81505051387717076,0.78807155317589273]
[40,{"$f":"+正規乱数!L48","v":12.830211523162038},{"$f":"+正規乱数!M48","v":38.814193857116237},{"$f":"+正規乱数!N48","v":17.855267443049115},{"$f":"+正規乱数!O48","v":0.1402638719152125},26.782901164573673,13.391450582286835,23.194672795568628,16.991418422250685,4.990075218339503,1.1547005383792515,14.815052153314882,1.4789381665531487,null,1.4598495667391296,1.4407609669251105,1.4216723671110914,1.402583767297072,1.3834951674830531,1.364406567669034,1.3453179678550151,1.326229368040996,1.3071407682269767,1.2880521684129578,1.2689635685989387,1.2498749687849195,1.2307863689709004,1.2116977691568815,1.1926091693428624,1.1735205695288431,1.1544319697148242,1.1353433699008051,1.116254770086786,1.0971661702727669,1.0780775704587477]
[41,{"$f":"+正規乱数!L49","v":6.9404448122511715},{"$f":"+正規乱数!M49","v":36.035837902705012},{"$f":"+正規乱数!N49","v":15.914462696112224},{"$f":"+正規乱数!O49","v":0.11516464555017206},23.871694044168336,11.935847022084166,20.673493473619462,16.991418422250685,2.6787045384424486,1.1547005383792515,8.0141353612979103,0.8958593286220955,null,0.87995678924131404,0.86405424986053248,0.84815171047975113,0.83224917109896979,0.81634663171818833,0.80044409233740688,0.78454155295662542,0.76863901357584408,0.75273647419506251,0.73683393481428117,0.7209313954334996,0.70502885605271826,0.6891263166719368,0.67322377729115523,0.65732123791037389,0.64141869852959243,0.62551615914881098,0.60961361976802952,0.59371108038724818,0.57780854100646661,0.56190600162568516]
[42,{"$f":"+正規乱数!L50","v":9.5159000131184168},{"$f":"+正規乱数!M50","v":29.828725836751119},{"$f":"+正規乱数!N50","v":18.387170262904114},{"$f":"+正規乱数!O50","v":0.15201394878410254},27.580755394356171,13.790377697178084,23.885634827077137,16.991418422250685,3.9529464678504644,1.1547005383792515,10.988014868310962,1.083433801760106,null,1.069114835278838,1.05479586879757,1.0404769023163019,1.0261579358350339,1.0118389693537659,0.99752000287249787,0.98320103639122991,0.96888206990996184,0.95456310342869388,0.94024413694742581,0.92592517046615785,0.91160620398488978,0.89728723750362183,0.88296827102235376,0.86864930454108569,0.85433033805981773,0.84001137157854966,0.82569240509728159,0.81137343861601363,0.79705447213474556,0.78273550565347749]
[43,{"$f":"+正規乱数!L51","v":11.080549056633673},{"$f":"+正規乱数!M51","v":32.984461429905082},{"$f":"+正規乱数!N51","v":18.421694487909274},{"$f":"+正規乱数!O51","v":0.17464922219437867},27.63254173186391,13.816270865931953,23.930483110927796,16.991418422250685,4.5036062597478264,1.1547005383792515,12.79471596123261,1.2520254118377556,null,1.2334386529072712,1.2148518939767869,1.1962651350463027,1.1776783761158185,1.159091617185334,1.1405048582548498,1.1219180993243656,1.1033313403938814,1.0847445814633971,1.0661578225329129,1.0475710636024287,1.0289843046719445,1.01039754574146,0.99181078681097579,0.97322402788049156,{"$f":"+(($H53-$I53-AD$10*$G$6*$E53*$K53)*TAN($C53*PI()/180)+$L53)/$G53","v":0.95463726895000733},0.93605051001952289,0.91746375108903866,0.89887699215855443,0.88029023322807021,0.86170347429758576]
[44,{"$f":"+正規乱数!L52","v":10.36393271961685},{"$f":"+正規乱数!M52","v":33.417551375444546},{"$f":"+正規乱数!N52","v":17.68358867940449},{"$f":"+正規乱数!O52","v":0.10956914721712582},26.525383019106734,13.262691509553365,22.971655539658801,16.991418422250685,3.9458687752920882,1.1547005383792515,11.967238691067916,1.1998399762896916,null,1.1874904807159918,1.1751409851422918,1.1627914895685918,1.150441993994892,1.138092498421192,1.1257430028474922,1.1133935072737924,1.1010440117000924,1.0886945161263926,1.0763450205526925,1.0639955249789927,1.0516460294052927,1.0392965338315929,1.0269470382578929,1.0145975426841929,1.0022480471104931,0.98989855153679329,0.97754905596309327,0.96519956038939336,0.95285006481569356,0.94050056924199366]
[45,{"$f":"+正規乱数!L53","v":9.2061926814104993},{"$f":"+正規乱数!M53","v":32.978972163321359},{"$f":"+正規乱数!N53","v":18.150695867650072},{"$f":"+正規乱数!O53","v":0.15092084291773075},27.226043801475107,13.613021900737552,23.578445576625295,16.991418422250685,4.2742292767397769,1.1547005383792515,10.630395645647829,1.0948799635428541,null,1.07858207245663,1.0622841813704056,1.0459862902841812,1.0296883991979571,1.0133905081117327,0.99709261702550844,0.98079472593928418,0.96449683485306004,0.94819894376683567,0.93190105268061141,0.91560316159438704,0.89930527050816289,0.88300737942193852,0.86670948833571415,0.85041159724949,0.83411370616326574,0.81781581507704137,0.80151792399081712,0.78522003290459275,0.76892214181836849,0.75262425073214434]
[46,{"$f":"+正規乱数!L54","v":8.5340209241518146},{"$f":"+正規乱数!M54","v":30.1587218397835},{"$f":"+正規乱数!N54","v":18.362100939771604},{"$f":"+正規乱数!O54","v":0.1544031502948835},27.543151409657405,13.771575704828701,23.853068821044488,16.991418422250685,3.9869607332246626,1.1547005383792515,9.8542385556578971,1.0050556004299092,null,0.99029669105751816,0.97553778168512739,0.9607788723127364,0.94601996294034563,0.93126105356795452,0.91650214419556375,0.90174323482317276,0.88698432545078199,0.87222541607839099,0.857466506706,0.84270759733360912,0.82794868796121823,0.81318977858882735,0.79843086921643647,0.78367195984404547,0.76891305047165459,0.7541541410992636,0.73939523172687271,0.72463632235448172,0.70987741298209084,0.69511850360969996]
[47,{"$f":"+正規乱数!L55","v":14.639427246306898},{"$f":"+正規乱数!M55","v":34.61423135990124},{"$f":"+正規乱数!N55","v":19.557556815185563},{"$f":"+正規乱数!O55","v":0.19287199369298555},29.336335222778345,14.668167611389171,25.406011556862268,16.991418422250685,5.807924212277511,1.1547005383792515,16.904154522874457,1.5483923648047944,null,1.5278311156336855,1.507269866462577,1.4867086172914681,1.4661473681203596,1.4455861189492509,1.4250248697781425,1.4044636206070336,1.3839023714359251,1.3633411222648166,1.3427798730937077,1.3222186239225993,1.3016573747514906,1.2810961255803819,1.2605348764092732,1.2399736272381645,1.2194123780670558,1.1988511288959474,1.1782898797248385,1.15772863055373,1.1371673813826213,1.1166061322115126]
[48,{"$f":"+正規乱数!L56","v":9.8879327896305398},{"$f":"+正規乱数!M56","v":32.009576817363666},{"$f":"+正規乱数!N56","v":17.984995349554183},{"$f":"+正規乱数!O56","v":0.168896450358654},26.977493024331274,13.488746512165635,23.363194289488369,16.991418422250685,3.9830084853322845,1.1547005383792515,11.417601315644237,1.1417376542057898,null,1.1240052328970682,1.1062728115883464,1.0885403902796249,1.0708079689709031,1.0530755476621816,1.0353431263534598,1.0176107050447383,0.9998782837360165,0.98214586242729496,0.9644134411185733,0.94668101980985164,0.92894859850112999,0.91121617719240822,0.89348375588368656,0.87575133457496479,0.85801891326624324,0.84028649195752159,0.82255407064879982,0.80482164934007816,0.7870892280313565,0.76935680672263496]
[49,{"$f":"+正規乱数!L57","v":12.054725741010241},{"$f":"+正規乱数!M57","v":37.327599306005112},{"$f":"+正規乱数!N57","v":18.377788376061545},{"$f":"+正規乱数!O57","v":0.14465174233553149},27.566682564092318,13.783341282046157,23.873447398565496,16.991418422250685,5.247941975971786,1.1547005383792515,13.919598303158747,1.3906308990620222,null,1.3725003874806176,1.3543698758992131,1.3362393643178085,1.318108852736404,1.2999783411549992,1.2818478295735947,1.2637173179921901,1.2455868064107856,1.227456294829381,1.2093257832479762,1.1911952716665717,1.1730647600851671,1.1549342485037626,1.136803736922358,1.1186732253409533,1.1005427137595487,1.0824122021781442,1.0642816905967394,1.0461511790153348,1.0280206674339303,1.0098901558525257]
[50,{"$f":"+正規乱数!L58","v":5.9088226673778932},{"$f":"+正規乱数!M58","v":32.863550056456354},{"$f":"+正規乱数!N58","v":18.398300165489903},{"$f":"+正規乱数!O58","v":9.2061774541865593E-2},27.597450248234857,13.798725124117427,23.900092994648549,16.991418422250685,4.4631900560740601,1.1547005383792515,6.8229207152087783,0.81790967424642458,null,0.80814496323989071,0.79838025223335718,0.78861554122682331,0.77885083022028967,0.7690861192137558,0.75932140820722227,0.7495566972006884,0.73979198619415476,0.73002727518762101,0.72026256418108736,0.71049785317455361,0.70073314216801985,0.69096843116148599,0.68120372015495245,0.67143900914841859,0.66167429814188494,0.6519095871353513,0.64214487612881754,0.63238016512228368,0.62261545411575003,0.61285074310921617]
[51,{"$f":"+正規乱数!L59","v":8.9420668252480162},{"$f":"+正規乱数!M59","v":33.107047140490472},{"$f":"+正規乱数!N59","v":16.484129896161132},{"$f":"+正規乱数!O59","v":0.18664582572493343},24.726194844241697,12.363097422120847,21.413512874037121,16.991418422250685,2.8835022045142336,1.1547005383792515,10.325409377337127,1.0684144216332978,null,1.0461120198926552,1.0238096181520122,1.0015072164113694,0.97920481467072651,0.95690241293008371,0.9346000111894408,0.91229760944879801,0.8899952077081551,0.8676928059675123,0.84539040422686951,0.8230880024862266,0.80078560074558369,0.77848319900494067,0.75618079726429799,0.73387839552365519,0.71157599378301217,0.68927359204236927,0.66697119030172647,0.64466878856108356,0.62236638682044076,0.60006398507979786]
[52,{"$f":"+正規乱数!L60","v":7.985281549017003},{"$f":"+正規乱数!M60","v":34.460545709502412},{"$f":"+正規乱数!N60","v":18.200310395617564},{"$f":"+正規乱数!O60","v":0.22739818184533081},27.300465593426345,13.650232796713171,23.642896739050226,16.991418422250685,4.5646938188470072,1.1547005383792515,9.2206089037598371,1.0098950639088144,null,0.98399452659567055,0.95809398928252654,0.93219345196938241,0.9062929146562384,0.88039237734309428,0.85449184002995027,0.82859130271680626,0.80269076540366213,0.77679022809051812,0.75088969077737411,0.72498915346422999,0.69908861615108597,0.67318807883794185,0.64728754152479784,0.62138700421165372,0.59548646689850959,0.56958592958536558,0.54368539227222135,0.51778485495907745,0.49188431764593327,0.46598378033278925]
[53,{"$f":"+正規乱数!L61","v":11.099264020599959},{"$f":"+正規乱数!M61","v":38.140353889774723},{"$f":"+正規乱数!N61","v":16.648661763645489},{"$f":"+正規乱数!O61","v":0.211218211029917},24.972992645468231,12.486496322734114,21.627246039497443,16.991418422250685,3.6402285297886063,1.1547005383792515,12.816326140200228,1.3179481453117037,null,1.2878554901603396,1.2577628350089753,1.2276701798576113,1.197577524706247,1.167484869554883,1.1373922144035187,1.1072995592521546,1.0772069041007903,1.0471142489494263,1.017021593798062,0.98692893864669795,0.95683628349533378,0.92674362834396951,0.89665097319260534,0.86655831804124117,0.836465662889877,0.80637300773851284,0.77628035258714867,0.7461876974357845,0.71609504228442022,0.68600238713305606]
[54,{"$f":"+正規乱数!L62","v":9.2909608414349236},{"$f":"+正規乱数!M62","v":33.222470493863199},{"$f":"+正規乱数!N62","v":16.736849162554954},{"$f":"+正規乱数!O62","v":0.15921017961942144},25.105273743832431,12.552636871916214,21.74180483112135,16.991418422250685,3.111227246607724,1.1547005383792515,10.728277485665449,1.1025177318110784,null,1.0836982771781285,1.0648788225451786,1.0460593679122288,1.0272399132792787,1.0084204586463288,0.98960100401337903,0.97078154938042904,0.95196209474747917,0.93314264011452941,0.91432318548157954,0.89550373084862955,0.87668427621567968,0.8578648215827297,0.83904536694977971,0.82022591231682984,0.80140645768388008,0.78258700305093021,0.76376754841798022,0.74494809378503024,0.72612863915208037,0.70730918451913061]
[55,{"$f":"+正規乱数!L63","v":10.83274186784541},{"$f":"+正規乱数!M63","v":32.162135266042263},{"$f":"+正規乱数!N63","v":17.04858568159786},{"$f":"+正規乱数!O63","v":0.12426817557171144},25.572878522396792,12.786439261198394,22.146762448289081,16.991418422250685,3.2417373048682405,1.1547005383792515,12.508572866924553,1.2317979892641835,null,1.2179528017965944,1.204107614329005,1.1902624268614161,1.176417239393827,1.1625720519262377,1.1487268644586486,1.1348816769910595,1.1210364895234703,1.1071913020558812,1.0933461145882921,1.079500927120703,1.0656557396531137,1.0518105521855245,1.0379653647179354,1.0241201772503463,1.010274989782757,0.99642980231516798,0.98258461484757886,0.96873942737998975,0.95489423991240052,0.9410490524448113]
[56,{"$f":"+正規乱数!L64","v":9.0917176827719715},{"$f":"+正規乱数!M64","v":36.384861940687607},{"$f":"+正規乱数!N64","v":16.614193042023842},{"$f":"+正規乱数!O64","v":0.17990441582542033},24.921289563035764,12.46064478151788,21.582469856656964,16.991418422250685,3.3829430734307597,1.1547005383792515,10.498211303088956,1.1139996862047452,null,1.0898977345730956,1.0657957829414457,1.0416938313097961,1.0175918796781462,0.9934899280464965,0.96938797641484664,0.94528602478319701,0.92118407315154716,0.89708212151989741,0.87298016988824767,0.84887821825659782,0.82477626662494807,0.80067431499329822,0.77657236336164837,0.75247041172999862,0.72836846009834888,0.70426650846669914,0.68016455683504928,0.65606260520339943,0.63196065357174969,0.60785870194009983]
[57,{"$f":"+正規乱数!L65","v":11.528356040402864},{"$f":"+正規乱数!M65","v":35.075495355620326},{"$f":"+正規乱数!N65","v":17.709347722067474},{"$f":"+正規乱数!O65","v":0.13312803610269933},26.564021583101209,13.282010791550602,23.005117517643768,16.991418422250685,4.2226572733121586,1.1547005383792515,13.311798926480883,1.3201657847581065,null,1.3042210166268786,1.2882762484956509,1.2723314803644232,1.2563867122331953,1.2404419441019676,1.2244971759707397,1.2085524078395118,1.1926076397082841,1.1766628715770564,1.1607181034458285,1.1447733353146008,1.1288285671833729,1.1128837990521452,1.0969390309209173,1.0809942627896894,1.0650494946584617,1.0491047265272337,1.0331599583960061,1.0172151902647781,1.0012704221335504,0.98532565400232253]
[58,{"$f":"+正規乱数!L66","v":9.480564705204527},{"$f":"+正規乱数!M66","v":31.890509523187017},{"$f":"+正規乱数!N66","v":16.302581737868774},{"$f":"+正規乱数!O66","v":0.11951048025052563},24.453872606803159,12.226936303401578,21.177674898399932,16.991418422250685,2.6047531981216978,1.1547005383792515,10.947213169238998,1.1083697527393259,null,1.0945913948662369,1.0808130369931479,1.0670346791200589,1.0532563212469699,1.0394779633738809,1.0256996055007919,1.0119212476277029,0.99814288975461385,0.98436453188152495,0.97058617400843594,0.95680781613534693,0.94302945826225792,0.92925110038916869,0.9154727425160798,0.90169438464299079,0.88791602676990178,0.87413766889681277,0.86035931102372376,0.84658095315063464,0.83280259527754563,0.81902423740445662]
[59,{"$f":"+正規乱数!L67","v":13.77003465958761},{"$f":"+正規乱数!M67","v":36.436940284018405},{"$f":"+正規乱数!N67","v":17.075198982333088},{"$f":"+正規乱数!O67","v":0.18552047453925075},25.61279847349963,12.806399236749813,22.181334140061974,16.991418422250685,3.8315032110513907,1.1547005383792515,15.900266434926767,1.5407742083625655,null,1.5165448412710971,1.4923154741796287,1.4680861070881603,1.443856739996692,1.4196273729052236,1.3953980058137552,1.3711686387222868,1.3469392716308184,1.32270990453935,1.2984805374478816,1.2742511703564132,1.2500218032649446,1.2257924361734762,1.2015630690820081,{"$f":"+(($H69-$I69-AC$10*$G$6*$E69*$K69)*TAN($C69*PI()/180)+$L69)/$G69","v":1.1773337019905394},1.153104334899071,1.1288749678076027,1.1046456007161343,1.0804162336246659,1.0561868665331973,1.0319574994417289]
[60,{"$f":"+正規乱数!L68","v":9.6235462790355246},{"$f":"+正規乱数!M68","v":36.572148830282835},{"$f":"+正規乱数!N68","v":19.024579716046485},{"$f":"+正規乱数!O68","v":0.16531736888793533},28.536869574069726,14.268434787034861,24.713653995627599,16.991418422250685,5.729216246562955,1.1547005383792515,11.112314069519963,1.1803348136956213,null,1.1608604762928407,1.1413861388900599,1.1219118014872791,1.1024374640844985,1.0829631266817177,1.0634887892789371,1.0440144518761563,1.0245401144733755,1.0050657770705949,0.98559143966781415,0.96611710226503333,0.94664276486225252,0.92716842745947181,0.90769409005669099,0.88821975265391029,0.86874541525112958,0.84927107784834877,0.82979674044556795,0.81032240304278724,0.79084806564000654,0.77137372823722572]
[61,{"$f":"+正規乱数!L69","v":11.795571818718845},{"$f":"+正規乱数!M69","v":33.463813350050295},{"$f":"+正規乱数!N69","v":17.506628398226553},{"$f":"+正規乱数!O69","v":0.12566561013163605},26.25994259733983,13.129971298669913,22.741777391217408,16.991418422250685,3.8008589053132078,1.1547005383792515,13.620353129565776,1.3268278839759369,null,1.3124958499587069,1.2981638159414768,1.2838317819242471,1.2694997479070169,1.2551677138897872,1.2408356798725571,1.2265036458553271,1.2121716118380972,1.1978395778208673,1.1835075438036373,1.1691755097864074,1.1548434757691775,1.1405114417519475,1.1261794077347176,1.1118473737174874,1.0975153397002575,1.0831833056830276,1.0688512716657976,1.0545192376485677,1.0401872036313378,1.0258551696141078]
[62,{"$f":"+正規乱数!L70","v":11.460316681315948},{"$f":"+正規乱数!M70","v":30.501469970399121},{"$f":"+正規乱数!N70","v":17.931103609029684},{"$f":"+正規乱数!O70","v":0.10759188627937302},26.896655413544526,13.448327706772261,23.293186864965808,16.991418422250685,3.7122430739075662,1.1547005383792515,13.233233841912242,1.2600434258667317,null,1.2493663193808966,1.2386892128950615,1.228012106409226,1.2173349999233909,1.2066578934375558,1.1959807869517207,1.1853036804658852,1.1746265739800501,1.163949467494215,1.1532723610083797,1.1425952545225444,1.1319181480367093,1.121241041550874,1.1105639350650387,1.0998868285792036,1.0892097220933685,1.0785326156075332,1.0678555091216981,1.0571784026358628,1.0465012961500277,1.0358241896641924]
[63,{"$f":"+正規乱数!L71","v":10.66565125380971},{"$f":"+正規乱数!M71","v":38.315964395791035},{"$f":"+正規乱数!N71","v":19.488060603768698},{"$f":"+正規乱数!O71","v":0.20084715662368507},29.232090905653045,14.616045452826521,25.315733330031598,16.991418422250685,6.5779146624930247,1.1547005383792515,12.315633244939411,1.2926579879907742,null,1.2680574894681234,1.2434569909454727,1.2188564924228218,1.1942559939001711,1.1696554953775202,1.1450549968548696,1.1204544983322187,1.095853999809568,1.0712535012869171,1.0466530027642662,1.0220525042416155,0.99745200571896464,0.97285150719631375,0.94825100867366297,0.92365051015101218,0.8990500116283614,0.87444951310571062,0.84984901458305973,0.82524851606040872,0.80064801753775816,0.77604751901510716]
[64,{"$f":"+正規乱数!L72","v":10.658637374186268},{"$f":"+正規乱数!M72","v":31.764958904341061},{"$f":"+正規乱数!N72","v":20.738297514352801},{"$f":"+正規乱数!O72","v":0.160215042725633},31.107446271529202,15.553723135764599,26.939838718003809,16.991418422250685,6.1598618354172183,1.1547005383792515,12.307534314362096,1.1873296180330577,null,1.1728800739748593,1.1584305299166611,1.1439809858584626,1.1295314418002642,1.115081897742066,1.1006323536838676,1.0861828096256694,1.0717332655674709,1.0572837215092727,1.0428341774510743,1.0283846333928759,1.0139350893346777,0.99948554527647926,0.98503600121828083,0.97058645716008252,0.9561369131018842,0.94168736904368588,0.92723782498548746,0.91278828092728914,0.89833873686909083,0.88388919281089251]
[65,{"$f":"+正規乱数!L73","v":9.163047522685547},{"$f":"+正規乱数!M73","v":27.436561488635377},{"$f":"+正規乱数!N73","v":18.659734791121029},{"$f":"+正規乱数!O73","v":0.18176883220541024},27.989602186681545,13.99480109334077,24.239706535486693,16.991418422250685,3.7630256535575444,1.1547005383792515,10.580575907639668,1.0249235745138539,null,1.0096471123300186,0.99437065014618353,0.97909418796234826,0.9638177257785131,0.94854126359467794,0.93326480141084289,0.91798833922700762,0.90271187704317235,0.8874354148593373,0.87215895267550203,0.85688249049166698,0.84160602830783171,0.82632956612399655,0.81105310394016139,0.79577664175632612,0.78050017957249096,0.7652237173886558,0.74994725520482064,0.73467079302098537,0.71939433083715021,0.70411786865331505]
[66,{"$f":"+正規乱数!L74","v":9.3102171883504727},{"$f":"+正規乱数!M74","v":32.838569161225742},{"$f":"+正規乱数!N74","v":17.601966565952335},{"$f":"+正規乱数!O74","v":0.19629440589105535},26.4029498489285,{"$f":"+F76*SIN($G$2*PI()/180)","v":13.201474924464248},22.86562530401859,{"$f":"+$G$5*$G$4*$G$6/COS($G$2*PI()/180)","v":16.991418422250685},3.7912670123062759,{"$f":"+$G$4/COS($G$2*PI()/180)","v":1.1547005383792515},10.750512799816052,1.1015269047835179,null,1.0797854313280482,1.0580439578725784,1.0363024844171087,1.014561010961639,0.99281953750616936,0.97107806405069963,0.94933659059523001,0.92759511713976028,0.90585364368429055,0.88411217022882094,0.8623706967733511,0.84062922331788159,0.81888774986241175,0.79714627640694202,0.77540480295147229,0.75366332949600268,0.73192185604053295,0.71018038258506322,0.68843890912959349,0.66669743567412387,0.64495596221865403]
[67,{"$f":"+正規乱数!L75","v":15.952465681789114},{"$f":"+正規乱数!M75","v":36.689514141653063},{"$f":"+正規乱数!N75","v":17.848074221434963},{"$f":"+正規乱数!O75","v":0.13377420334077783},26.772111332152445,13.386055666076221,23.185328526589267,16.991418422250685,4.6150351887295358,1.1547005383792515,18.420320711238421,1.720847161747997,null,1.703977816101357,1.687108470454717,1.670239124808077,1.6533697791614372,1.6365004335147972,1.6196310878681572,1.6027617422215172,1.5858923965748775,1.5690230509282375,1.5521537052815977,1.5352843596349575,1.5184150139883177,1.5015456683416779,1.4846763226950377,1.4678069770483979,1.4509376314017579,1.4340682857551179,1.4171989401084779,1.4003295944618381,1.3834602488151981,1.3665909031685581]
[68,{"$f":"+正規乱数!L76","v":9.3396029846599102},{"$f":"+正規乱数!M76","v":36.20169056463223},{"$f":"+正規乱数!N76","v":17.982226905226423},{"$f":"+正規乱数!O76","v":0.22380591663609956},26.973340357839632,13.486670178919814,23.359597974813163,16.991418422250685,4.6610914222924364,1.1547005383792515,10.784444594635263,1.1452445868417296,null,1.1177271790819101,1.0902097713220906,1.0626923635622711,1.0351749558024517,1.007657548042632,0.9801401402828126,0.95262273252299301,0.92510532476317353,0.89758791700335405,0.87007050924353435,0.84255310148371487,0.81503569372389539,0.7875182859640758,0.76000087820425632,0.73248347044443662,0.70496606268461715,0.67744865492479756,0.64993124716497808,0.6224138394051586,0.59489643164533901,0.56737902388551942]
[69,{"$f":"+正規乱数!L77","v":8.2233408358251996},{"$f":"+正規乱数!M77","v":35.531528182338498},{"$f":"+正規乱数!N77","v":18.943476597584919},{"$f":"+正規乱数!O77","v":0.16972966532575753},28.415214896377378,14.207607448188687,24.608297954256816,16.991418422250685,5.4393936994652412,1.1547005383792515,9.4954960904034422,1.0511896421921987,null,1.0318620130387273,1.0125343838852561,0.99320675473178477,0.97387912557831346,0.95455149642484216,0.93522386727137086,0.91589623811789955,0.89656860896442825,0.87724097981095694,0.85791335065748564,0.83858572150401434,0.81925809235054292,0.79993046319707162,0.78060283404360031,0.7612752048901289,0.74194757573665759,0.72261994658318651,0.7032923174297151,0.68396468827624379,0.66463705912277249,0.64530942996930118]
[70,{"$f":"+正規乱数!L78","v":11.652604707203084},{"$f":"+正規乱数!M78","v":30.529745117097306},{"$f":"+正規乱数!N78","v":17.954212196015721},{"$f":"+正規乱数!O78","v":0.16109119096945543},26.931318294023583,13.46565914701179,23.323205800029015,16.991418422250685,3.7341368588992681,1.1547005383792515,13.455268928928001,1.2765365289705723,null,1.2605528607944121,1.2445691926182518,1.2285855244420916,1.2126018562659313,1.1966181880897713,1.1806345199136108,1.1646508517374505,1.1486671835612903,1.13268351538513,1.1166998472089698,1.1007161790328095,1.0847325108566492,1.068748842680489,1.0527651745043287,1.0367815063281682,1.0207978381520082,1.0048141699758479,0.98883050179968757,0.97284683362352731,0.95686316544736705,0.94087949727120679]
[71,{"$f":"+正規乱数!L79","v":8.0510895632717183},{"$f":"+正規乱数!M79","v":34.718677075763964},{"$f":"+正規乱数!N79","v":18.203127029327845},{"$f":"+正規乱数!O79","v":0.15533467767451925},27.304690543991768,13.652345271995882,23.646555653569617,16.991418422250685,4.6114457934831217,1.1547005383792515,9.2965974532494258,1.0187292344020304,null,1.0008680760221238,0.98300691764221693,0.96514575926231017,0.94728460088240318,0.92942344250249631,0.91156228412258944,0.89370112574268268,0.87583996736277581,0.85797880898286893,0.84011765060296217,0.8222564922230553,0.80439533384314843,0.78653417546324145,0.76867301708333469,0.7508118587034277,0.73295070032352094,0.71508954194361407,0.6972283835637072,0.67936722518380033,0.66150606680389357,0.64364490842398658]
[72,{"$f":"+正規乱数!L80","v":7.3561933015052681},{"$f":"+正規乱数!M80","v":34.710096554033719},{"$f":"+正規乱数!N80","v":16.194933173853634},{"$f":"+正規乱数!O80","v":0.11199645420293011},24.292399760780452,12.146199880390224,21.037835311722894,16.991418422250685,2.8029269532909979,1.1547005383792515,8.4942003656699772,0.93009562086986086,null,0.91562545944774976,0.90115529802563865,0.88668513660352755,0.87221497518141644,0.85774481375930522,0.84327465233719423,0.82880449091508313,0.81433432949297202,0.79986416807086091,0.7853940066487497,0.77092384522663859,0.7564536838045276,0.74198352238241627,0.72751336096030528,0.71304319953819417,0.69857303811608307,0.68410287669397185,0.66963271527186075,0.65516255384974964,0.64069239242763854,0.62622223100552732]
[73,{"$f":"+正規乱数!L81","v":9.8698182588629013},{"$f":"+正規乱数!M81","v":34.117550040698724},{"$f":"+正規乱数!N81","v":18.652705699146317},{"$f":"+正規乱数!O81","v":0.10949829775655912},27.979058548719475,13.989529274359736,24.230575477163235,16.991418422250685,4.90451231546239,1.1547005383792515,11.396684457214359,1.1652426935160627,null,1.1532288915653401,1.1412150896146178,1.1292012876638955,1.1171874857131729,1.1051736837624504,1.0931598818117281,1.0811460798610055,1.069132277910283,1.0571184759595607,1.0451046740088381,1.0330908720581158,1.0210770701073932,1.0090632681566707,0.99704946620594825,0.98503566425522582,0.97302186230450338,0.96100806035378084,0.9489942584030584,0.93698045645233585,0.92496665450161342,0.91295285255089098]
[74,{"$f":"+正規乱数!L82","v":11.080673880428916},{"$f":"+正規乱数!M82","v":34.057447564017131},{"$f":"+正規乱数!N82","v":18.303143203180845},{"$f":"+正規乱数!O82","v":0.13411445920341483},27.454714804771267,13.727357402385632,23.776480474588645,16.991418422250685,4.5864870015400916,1.1547005383792515,12.79486009533618,1.26618303781146,null,1.2512212539632297,1.2362594701149998,1.2212976862667695,1.2063359024185394,1.1913741185703093,1.1764123347220792,1.1614505508738491,1.146488767025619,1.1315269831773889,1.1165651993291588,1.1016034154809287,1.0866416316326986,1.0716798477844685,1.0567180639362383,1.041756280088008,1.0267944962397779,1.0118327123915478,0.99687092854331771,0.9819091446950875,0.9669473608468574,0.95198557699862729]
[75,{"$f":"+正規乱数!L83","v":6.7551362813504277},{"$f":"+正規乱数!M83","v":40.832186726348816},{"$f":"+正規乱数!N83","v":16.20933680523763},{"$f":"+正規乱数!O83","v":0.19937305343964523},24.314005207856447,12.157002603928222,21.056546177750825,16.991418422250685,3.5129112133113343,1.1547005383792515,7.8001595009005538,0.93058059480519983,null,0.89847347885298623,0.8663663629007724,0.8342592469485588,0.80215213099634519,0.77004501504413148,0.73793789909191787,0.70583078313970427,0.67372366718749044,0.64161655123527683,0.60950943528306312,0.57740231933084951,0.5452952033786358,0.51318808742642208,{"$f":"+(($H85-$I85-AB$10*$G$6*$E85*$K85)*TAN($C85*PI()/180)+$L85)/$G85","v":0.48108097147420847},0.4489738555219947,0.41686673956978093,0.38475962361756733,0.35265250766535355,0.32054539171313989,0.28843827576092629,0.25633115980871257]
[76,{"$f":"+正規乱数!L84","v":10.218195129875435},{"$f":"+正規乱数!M84","v":38.009158330352378},{"$f":"+正規乱数!N84","v":18.66478522786068},{"$f":"+正規乱数!O84","v":0.15204061008366013},27.997177841791022,13.998588920895509,24.246267245261809,16.991418422250685,5.6699768288658596,1.1547005383792515,11.79895541773141,1.2479066529714022,null,1.2286758848332677,1.2094451166951334,1.1902143485569987,1.1709835804188644,1.1517528122807297,1.1325220441425952,1.1132912760044609,1.0940605078663261,1.0748297397281916,1.0555989715900573,1.0363682034519226,1.0171374353137881,0.99790666717565357,0.97867589903751906,0.95944513089938455,0.94021436276125003,0.92098359462311541,0.90175282648498101,0.88252205834684638,0.86329129020871187,0.84406052207057736]
[77,{"$f":"+正規乱数!L85","v":9.4242043956284824},{"$f":"+正規乱数!M85","v":36.144749154731322},{"$f":"+正規乱数!N85","v":20.289563405622779},{"$f":"+正規乱数!O85","v":0.10598698266678766},30.434345108434169,15.217172554217083,26.356916011446657,16.991418422250685,6.8406489028556807,1.1547005383792515,10.882133889428317,1.1646567540152224,null,1.1531314237591113,1.1416060935030001,1.1300807632468888,1.1185554329907776,1.1070301027346665,1.0955047724785552,1.0839794422224442,1.0724541119663329,1.0609287817102218,1.0494034514541106,1.0378781211979995,1.0263527909418881,1.014827460685777,1.0033021304296659,0.99177680017355463,0.9802514699174435,0.96872613966133236,0.95720080940522101,0.94567547914910977,0.93415014889299874,0.9226248186368875]
[78,{"$f":"+正規乱数!L86","v":6.2672724051935838},{"$f":"+正規乱数!M86","v":28.091257034375509},{"$f":"+正規乱数!N86","v":18.623159281804341},{"$f":"+正規乱数!O86","v":0.16878267660992016},27.934738922706511,13.967369461353254,24.192193555149782,16.991418422250685,3.8434439049602047,1.1547005383792515,7.2368228204464575,0.7932966014871301,null,0.77868415552887049,0.76407170957061088,0.74945926361235138,0.73484681765409188,0.72023437169583238,0.70562192573757276,0.69100947977931326,0.67639703382105376,0.66178458786279426,0.64717214190453476,0.63255969594627515,0.61794724998801565,0.60333480402975614,0.58872235807149653,0.57410991211323692,0.55949746615497753,0.54488502019671792,0.53027257423845842,0.51566012828019892,0.5010476823219393,0.4864352363636798]
[79,{"$f":"+正規乱数!L87","v":9.5980287072809976},{"$f":"+正規乱数!M87","v":33.374805734574451},{"$f":"+正規乱数!N87","v":18.294930164288459},{"$f":"+正規乱数!O87","v":8.5673811172151323E-2},27.442395246432689,13.721197623216343,23.765811424104029,16.991418422250685,4.4626163991934256,1.1547005383792515,11.082848915676879,1.1329525119999213,null,1.1236340635277702,1.1143156150556193,1.1049971665834681,1.0956787181113172,1.0863602696391663,1.0770418211670154,1.0677233726948643,1.0584049242227134,1.0490864757505625,1.0397680272784113,1.0304495788062604,1.0211311303341093,1.0118126818619584,1.0024942333898073,0.99317578491765635,0.98385733644550533,0.97453888797335431,0.9652204395012034,0.95590199102905238,0.94658354255690147,0.93726509408475045]
[80,{"$f":"+正規乱数!L88","v":9.6823115041893679},{"$f":"+正規乱数!M88","v":34.047426248855892},{"$f":"+正規乱数!N88","v":18.058284067015098},{"$f":"+正規乱数!O88","v":0.18730395109047138},27.087426100522649,13.543713050261323,23.458399126186272,16.991418422250685,4.3698263342356718,1.1547005383792515,11.180170306643083,1.1481339410523557,null,1.1269629992311747,1.1057920574099938,1.0846211155888128,1.0634501737676316,1.0422792319464507,1.0211082901252695,0.99993734830408854,0.97876640648290758,0.9575954646617264,0.93642452284054534,0.91525358101936438,0.89408263919818332,0.87291169737700225,0.85174075555582118,0.83056981373464023,0.80939887191345905,{"$f":"+(($H90-$I90-AE$10*$G$6*$E90*$K90)*TAN($C90*PI()/180)+$L90)/$G90","v":0.7882279300922781},0.76705698827109692,0.74588604644991585,0.7247151046287349,0.70354416280755383]
[81,{"$f":"+正規乱数!L89","v":12.099629825223886},{"$f":"+正規乱数!M89","v":31.183845148580893},{"$f":"+正規乱数!N89","v":18.012327551433202},{"$f":"+正規乱数!O89","v":0.10787572169169996},27.018491327149803,13.5092456635749,23.398699861241262,16.991418422250685,3.8779188150764639,1.1547005383792515,13.97144907337567,1.3212705085806191,null,1.3103212201001933,1.2993719316197672,1.2884226431393409,1.277473354658915,1.2665240661784887,1.2555747776980626,1.2446254892176367,1.2336762007372104,1.2227269122567843,1.2117776237763582,1.2008283352959321,1.189879046815506,1.1789297583350797,1.1679804698546539,1.1570311813742276,1.1460818928938015,1.1351326044133754,1.1241833159329493,1.113234027452523,1.1022847389720971,1.091335450491671]
[82,{"$f":"+正規乱数!L90","v":12.776208825038236},{"$f":"+正規乱数!M90","v":34.764409121737472},{"$f":"+正規乱数!N90","v":17.799536857200298},{"$f":"+正規乱数!O90","v":0.12295548727439196},26.699305285800449,13.349652642900223,23.122276640899333,16.991418422250685,4.255411920497763,1.1547005383792515,14.752695208717395,1.4238652972985244,null,1.4093820263940382,1.3948987554895522,1.380415484585066,1.36593221368058,1.3514489427760941,1.3369656718716079,1.3224824009671219,1.3079991300626355,1.2935158591581495,1.2790325882536633,1.2645493173491773,1.2500660464446913,1.2355827755402051,1.2210995046357191,1.2066162337312329,1.1921329628267467,1.1776496919222608,1.1631664210177746,1.1486831501132886,1.1341998792088024,1.1197166083043162]
[83,{"$f":"+正規乱数!L91","v":10.558027188933673},{"$f":"+正規乱数!M91","v":30.098539663260045},{"$f":"+正規乱数!N91","v":17.69401971947612},{"$f":"+正規乱数!O91","v":0.15365658406113786},26.541029579214182,13.270514789607089,22.985205858193694,16.991418422250685,3.4742729507253869,1.1547005383792515,12.191359679284487,1.1804841694821471,null,1.1652788911869996,1.1500736128918525,1.134868334596705,1.1196630563015579,1.1044577780064107,1.0892524997112634,1.0740472214161159,1.0588419431209686,1.0436366648258215,1.028431386530674,1.0132261082355269,0.99802082994037955,0.98281555164523227,0.96761027335008487,0.9524049950549377,0.9371997167597903,0.92199443846464313,0.90678916016949573,0.89158388187434834,0.87637860357920117,0.86117332528405377]
[84,{"$f":"+正規乱数!L92","v":10.869628622773492},{"$f":"+正規乱数!M92","v":36.066300937703019},{"$f":"+正規乱数!N92","v":16.618959556980464},{"$f":"+正規乱数!O92","v":0.11799149224719016},24.928439335470696,12.464219667735346,21.588661741216892,16.991418422250685,3.3482275422234498,1.1547005383792515,12.551166022699073,1.275602804568617,null,1.2599831492880784,1.2443634940075401,1.2287438387270015,1.213124183446463,1.1975045281659245,1.1818848728853861,1.1662652176048476,1.1506455623243093,1.1350259070437707,1.1194062517632322,1.1037865964826936,1.0881669412021553,1.0725472859216167,1.0569276306410782,1.0413079753605397,1.0256883200800011,1.0100686647994628,0.99444900951892423,0.97882935423838568,0.96320969895784725,0.9475900436773087]
[85,{"$f":"+正規乱数!L93","v":11.247487531116432},{"$f":"+正規乱数!M93","v":33.53231324673046},{"$f":"+正規乱数!N93","v":17.826550947870452},{"$f":"+正規乱数!O93","v":0.12421971276761731},26.739826421805677,13.369913210902837,23.157368974070064,16.991418422250685,4.086156370716223,1.1547005383792515,12.987479907594063,1.2770192303407888,null,1.2630701604988503,1.2491210906569115,1.235172020814973,1.2212229509730341,1.2072738811310957,1.1933248112891568,1.1793757414472181,1.1654266716052795,1.1514776017633408,1.1375285319214021,1.1235794620794635,1.1096303922375248,1.0956813223955861,1.0817322525536475,1.0677831827117088,1.0538341128697701,1.0398850430278315,1.0259359731858928,1.0119869033439541,0.99803783350201547,0.9840887636600768]
[86,{"$f":"+正規乱数!L94","v":5.1828768446508411},{"$f":"+正規乱数!M94","v":35.858233863954446},{"$f":"+正規乱数!N94","v":17.728527866073669},{"$f":"+正規乱数!O94","v":0.17408657129905425},26.592791799110504,13.29639589955525,23.030033255580186,16.991418422250685,4.3645231915834524,1.1547005383792515,5.9846706828716822,0.77834579781136815,null,0.7569070615593585,0.73546832530734896,0.7140295890553392,0.69259085280332966,0.67115211655132001,0.64971338029931025,0.62827464404730071,0.60683590779529117,0.58539717154328141,0.56395843529127188,0.54251969903926223,0.52108096278725247,0.49964222653524287,0.47820349028323328,0.45676475403122357,0.43532601777921393,0.41388728152720433,0.39244854527519468,0.37100980902318498,0.34957107277117544,0.32813233651916568]
[87,{"$f":"+正規乱数!L95","v":9.5896012638329395},{"$f":"+正規乱数!M95","v":32.378698704399532},{"$f":"+正規乱数!N95","v":18.59223641455635},{"$f":"+正規乱数!O95","v":0.13651912794131979},27.888354621834523,13.94417731091726,24.15202357225786,16.991418422250685,4.5405247772004644,1.1547005383792515,11.073117742190245,1.1197248981599208,null,1.1056603655727044,1.0915958329854878,1.0775313003982712,1.0634667678110548,1.0494022352238381,1.0353377026366215,1.0212731700494049,1.0072086374621885,0.99314410487497196,0.97907957228775522,0.9650150397005387,0.95095050711332207,0.93688597452610556,0.92282144193888893,0.9087569093516723,0.8946923767644559,0.88062784417723916,0.86656331159002264,0.85249877900280602,0.8384342464155895,0.82436971382837287]
[88,{"$f":"+正規乱数!L96","v":7.8637703353403516},{"$f":"+正規乱数!M96","v":36.180086966320296},{"$f":"+正規乱数!N96","v":17.143207034426961},{"$f":"+正規乱数!O96","v":8.0738037354381675E-2},25.71481055164044,12.857405275820218,22.269679191224757,16.991418422250685,3.8602865267109703,1.1547005383792515,9.0802998399082906,1.0064695083506059,null,0.996064991341301,0.98566047433199622,0.97525595732269155,0.96485144031338677,0.95444692330408187,0.94404240629477709,0.93363788928547231,0.92323337227616764,0.91282885526686286,0.90242433825755797,0.89201982124825319,0.88161530423894841,0.87121078722964351,0.86080627022033873,0.85040175321103406,0.83999723620172928,0.8295927191924245,0.81918820218311961,0.80878368517381483,0.79837916816451004,0.78797465115520515]
[89,{"$f":"+正規乱数!L97","v":9.9504732957360655},{"$f":"+正規乱数!M97","v":35.691666633575409},{"$f":"+正規乱数!N97","v":17.92631087168018},{"$f":"+正規乱数!O97","v":0.16525761722004689},26.889466307520269,13.444733153760133,23.2869609165183,16.991418422250685,4.5224178963679869,1.1547005383792515,11.489816871714799,1.1909670935792869,null,1.1709631692823326,1.150959244985378,1.1309553206884235,1.1109513963914692,1.0909474720945147,1.0709435477975602,1.0509396235006057,1.0309356992036514,1.0109317749066971,0.99092785060974242,0.9709239263127879,0.95092000201583338,0.93091607771887885,0.91091215342192444,0.89090822912497003,0.87090430482801551,0.8509003805310611,0.83089645623410657,0.81089253193715205,0.79088860764019764,0.77088468334324312]
[90,{"$f":"+正規乱数!L98","v":7.1921412057058749},{"$f":"+正規乱数!M98","v":32.328089362563844},{"$f":"+正規乱数!N98","v":17.74551625487835},{"$f":"+正規乱数!O98","v":0.17207572262397955},26.618274382317523,13.30913719115876,23.052101819991513,16.991418422250685,3.8355649947612247,1.1547005383792515,8.3047693223281733,0.91218041731166499,null,0.8936431454016952,0.87510587349172553,0.85656860158175585,0.83803132967178606,0.81949405776181639,0.80095678585184671,0.78241951394187692,0.76388224203190713,0.74534497012193757,0.72680769821196778,0.7082704263019981,0.68973315439202831,0.67119588248205864,0.65265861057208885,0.63412133866211906,0.61558406675214949,0.59704679484217971,0.57850952293220992,0.55997225102224024,0.54143497911227045,0.52289770720230078]
[91,{"$f":"+正規乱数!L99","v":11.745795728039518},{"$f":"+正規乱数!M99","v":33.455238076639148},{"$f":"+正規乱数!N99","v":18.189151267067228},{"$f":"+正規乱数!O99","v":0.13655260732578225},{"$f":"+$G$3*$G$4*D101","v":27.28372690060084},13.641863450300418,{"$f":"+F101*COS($G$2*PI()/180)","v":23.628400605837196},16.991418422250685,{"$f":"+(H101-I101)*TAN(C101*PI()/180)","v":4.3854698825904936},1.1547005383792515,{"$f":"+K101*B101","v":13.562876650859943},{"$f":"+(J101+L101)/G101","v":1.3156814388913403},null,1.3006970115158079,1.2857125841402752,1.2707281567647428,1.2557437293892102,1.2407593020136778,1.2257748746381452,1.2107904472626128,1.1958060198870801,1.1808215925115477,1.1658371651360151,1.1508527377604829,1.1358683103849501,{"$f":"+(($H101-$I101-AA$10*$G$6*$E101*$K101)*TAN($C101*PI()/180)+$L101)/$G101","v":1.1208838830094179},1.1058994556338853,1.0909150282583526,1.0759306008828202,1.0609461735072876,1.0459617461317552,1.0309773187562226,1.0159928913806902,1.0010084640051577]
[92,{"$f":"+正規乱数!L100","v":10.459499516426231},{"$f":"+正規乱数!M100","v":37.847347731115434},{"$f":"+正規乱数!N100","v":18.350585754479098},{"$f":"+正規乱数!O100","v":0.14001862577116153},27.525878631718648,13.762939315859322,23.838110156555594,16.991418422250685,5.3199064920965355,1.1547005383792515,12.077589722794889,1.2640828979638039,null,1.2461741093028724,1.2282653206419409,1.2103565319810095,1.1924477433200782,1.1745389546591467,1.1566301659982154,1.138721377337284,1.1208125886763525,1.1029038000154212,1.0849950113544897,1.0670862226935582,1.0491774340326268,1.0312686453716955,1.0133598567107638,0.99545106804983241,0.97754227938890104,0.95963349072796966,0.94172470206703829,0.92381591340610669,0.90590712474517532,0.88799833608424394]
[93,{"$f":"+正規乱数!L101","v":11.766158403912909},{"$f":"+正規乱数!M101","v":38.543603187980544},{"$f":"+正規乱数!N101","v":19.477072542716233},{"$f":"+正規乱数!O101","v":0.12010004103666296},29.215608814074351,14.607804407037174,25.301459420016947,16.991418422250685,6.6204368097712161,1.1547005383792515,13.58638944365379,1.3832897600744543,null,1.3684505746968336,1.353611389319213,1.3387722039415924,1.3239330185639717,1.3090938331863511,1.2942546478087305,1.27941546243111,1.2645762770534894,1.2497370916758688,1.2348979062982481,1.2200587209206275,1.2052195355430069,1.1903803501653862,1.1755411647877656,1.160701979410145,1.1458627940325243,1.1310236086549041,1.1161844232772835,1.1013452378996629,1.086506052522042,1.0716668671444216]
[94,{"$f":"+正規乱数!L102","v":8.6092931134960402},{"$f":"+正規乱数!M102","v":33.43192942048789},{"$f":"+正規乱数!N102","v":17.644005675323051},{"$f":"+正規乱数!O102","v":0.1703539213383351},26.466008512984576,13.233004256492286,22.92023570901986,16.991418422250685,3.91407692538621,1.1547005383792515,9.9411553932186596,1.0470209220863289,null,1.0277668167085556,1.0085127113307824,0.98925860595300896,0.97000450057523557,0.95075039519746229,0.93149628981968891,0.91224218444191563,0.89298807906414235,0.87373397368636896,0.85447986830859568,0.8352257629308224,0.81597165755304901,0.79671755217527551,0.77746344679750223,0.75820934141972884,0.73895523604195557,0.71970113066418229,0.7004470252864089,0.68119291990863551,0.66193881453086223,0.64268470915308884]
[95,{"$f":"+正規乱数!L103","v":11.516381428924237},{"$f":"+正規乱数!M103","v":33.603056463690187},{"$f":"+正規乱数!N103","v":16.786586993831619},{"$f":"+正規乱数!O103","v":0.15457154753722649},25.179880490747429,12.589940245373713,21.806416169243452,16.991418422250685,3.1994471089301855,1.1547005383792515,13.297971836159631,1.3103651505535892,null,1.2918829744352105,1.2734007983168316,1.254918622198453,1.2364364460800741,1.2179542699616954,1.1994720938433168,1.1809899177249381,1.1625077416065592,1.1440255654881806,1.1255433893698017,1.107061213251423,1.0885790371330444,1.0700968610146655,1.0516146848962868,1.033132508777908,1.0146503326595293,0.99616815654115054,0.97768598042277177,0.959203804304393,0.94072162818601424,0.92223945206763558]
[96,{"$f":"+正規乱数!L104","v":10.607867183587334},{"$f":"+正規乱数!M104","v":35.173194953985465},{"$f":"+正規乱数!N104","v":18.009157493458378},{"$f":"+正規乱数!O104","v":0.13159289368502558},27.013736240187569,13.506868120093783,23.394581835134765,16.991418422250685,4.5124500674594392,1.1547005383792515,12.248909947943888,1.2409508900488877,null,1.2253961064782393,1.2098413229075913,1.1942865393369431,1.1787317557662949,1.1631769721956466,1.1476221886249984,1.1320674050543502,1.1165126214837018,1.1009578379130536,1.0854030543424054,1.0698482707717574,1.0542934872011089,1.0387387036304607,1.0231839200598125,1.0076291364891643,0.99207435291851609,0.97651956934786788,0.96096478577721944,0.94541000220657123,0.92985521863592302,0.91430043506527481]
[97,{"$f":"+正規乱数!L105","v":10.920496664660615},{"$f":"+正規乱数!M105","v":36.568143008883048},{"$f":"+正規乱数!N105","v":17.718989231691413},{"$f":"+正規乱数!O105","v":0.16106170581513138},26.578483847537122,13.289241923768559,23.017642206041518,16.991418422250685,4.4702722071982501,1.1547005383792515,12.609903378052431,1.2852633493489063,null,1.2648953124850422,1.2445272756211783,1.2241592387573139,1.20379120189345,1.1834231650295859,1.1630551281657218,1.1426870913018576,1.1223190544379937,1.1019510175741294,1.0815829807102653,1.0612149438464014,1.0408469069825372,1.0204788701186731,1.000110833254809,0.97974279639094486,0.95937475952708073,0.93900672266321672,0.91863868579935248,0.89827064893548836,0.87790261207162446,0.85753457520776022]
[98,{"$f":"+正規乱数!L106","v":10.687794725983112},{"$f":"+正規乱数!M106","v":36.58773577220812},{"$f":"+正規乱数!N106","v":17.282915121788459},{"$f":"+正規乱数!O106","v":0.1357216799828935},25.924372682682687,12.962186341341342,22.451165320378546,16.991418422250685,4.0529529300656408,1.1547005383792515,12.341202324179624,1.2647677500174543,null,1.2471586002416428,1.2295494504658313,1.2119403006900198,1.1943311509142083,1.1767220011383968,1.1591128513625852,1.1415037015867737,1.1238945518109622,1.1062854020351507,1.0886762522593392,1.0710671024835277,1.0534579527077161,1.0358488029319046,1.0182396531560931,1.0006305033802816,0.98302135360447018,0.96541220382865867,0.94780305405284715,0.93019390427703563,0.91258475450122434,0.89497560472541282]
[99,{"$f":"+正規乱数!L107","v":7.1330394962632591},{"$f":"+正規乱数!M107","v":34.318370070720647},{"$f":"+正規乱数!N107","v":17.408617322521554},{"$f":"+正規乱数!O107","v":0.12012786156037164},26.112925983782333,13.056462991891165,22.614457269098256,16.991418422250685,3.838419385242068,1.1547005383792515,8.2365245466156498,0.92482504177103486,null,0.91059625354925233,0.89636746532746958,0.88213867710568694,0.86790988888390419,0.85368110066212144,0.83945231244033869,0.82522352421855616,0.81099473599677341,0.79676594777499077,0.78253715955320802,0.76830837133142527,0.75407958310964252,0.73985079488785976,0.72562200666607723,0.71139321844429448,0.69716443022251173,0.68293564200072909,0.66870685377894634,0.65447806555716359,0.64024927733538106,0.62602048911359831]
[100,{"$f":"+正規乱数!L108","v":8.9801536775105166},{"$f":"+正規乱数!M108","v":30.380007802319369},{"$f":"+正規乱数!N108","v":18.333659760082401},{"$f":"+正規乱数!O108","v":0.14667665830650831},27.500489640123604,13.7502448200618,23.816122644857817,16.991418422250685,4.0008298102239506,1.1547005383792515,10.369388286149809,1.0450881627509212,null,1.0309209247144371,1.0167536866779527,1.0025864486414684,0.98841921060498406,0.97425197256849994,0.96008473453201548,0.94591749649553114,0.93175025845904702,0.91758302042256279,0.90341578238607845,0.88924854434959411,0.87508130631310987,0.86091406827662553,0.84674683024014119,0.83257959220365696,0.81841235416717262,0.80424511613068839,0.79007787809420404,0.7759106400577197,0.76174340202123547,0.74757616398475113]
[101,{"$f":"+正規乱数!L109","v":9.5921126424994103},{"$f":"+正規乱数!M109","v":33.366956243470149},{"$f":"+正規乱数!N109","v":17.925110354753862},{"$f":"+正規乱数!O109","v":0.12218059424010486},26.887665532130793,13.443832766065395,23.285401399284506,16.991418422250685,4.1449110157999334,1.1547005383792515,11.076017632488494,1.1321866995183647,null,1.1186274032405616,1.1050681069627586,1.0915088106849553,1.0779495144071523,1.0643902181293492,1.0508309218515461,1.0372716255737431,1.0237123292959398,1.0101530330181367,0.9965937367403338,0.98303444046253063,0.96947514418472758,0.95591584790692441,0.94235655162912135,0.92879725535131819,0.91523795907351513,0.90167866279571196,0.8881193665179089,0.87456007024010585,0.86100077396230279,0.84744147768449962]
[102,{"$f":"+正規乱数!L110","v":10.87564584572705},{"$f":"+正規乱数!M110","v":37.756359030051129},{"$f":"+正規乱数!N110","v":16.268918166063884},{"$f":"+正規乱数!O110","v":0.10280690217960142},24.403377249095826,12.201688624547911,21.133944635852199,16.991418422250685,3.2082219564050507,1.1547005383792515,12.558114113283095,1.292143780654156,null,1.2773605331582896,1.2625772856624236,1.2477940381665571,1.2330107906706909,1.2182275431748246,1.2034442956789584,1.1886610481830919,1.1738778006872259,1.1590945531913595,1.1443113056954932,1.129528058199627,1.1147448107037607,1.0999615632078943,1.0851783157120283,1.0703950682161618,1.0556118207202956,1.0408285732244293,1.0260453257285631,1.0112620782326969,0.99647883073683041,0.98169558324096429]
[103,{"$f":"+正規乱数!L111","v":8.4423579278704146},{"$f":"+正規乱数!M111","v":38.285498491885086},{"$f":"+正規乱数!N111","v":18.809928189481056},{"$f":"+正規乱数!O111","v":0.11768816917790439},28.214892284221584,14.10744614211079,24.434813483177443,16.991418422250685,5.8753808851592009,1.1547005383792515,9.7483952445023103,1.1074843718895704,null,1.0925661269577134,1.0776478820258562,1.0627296370939991,1.0478113921621419,1.0328931472302849,1.0179749022984279,1.0030566573665709,0.98813841243471368,0.97322016750285678,0.95830192257099955,0.94338367763914244,0.92846543270728543,0.9135471877754282,0.8986289428435712,0.88371069791171408,0.86879245297985697,0.85387420804799996,0.83895596311614284,0.82403771818428573,0.80911947325242872,0.79420122832057161]
[104,{"$f":"+正規乱数!L112","v":13.440312744763865},{"$f":"+正規乱数!M112","v":36.441693925898385},{"$f":"+正規乱数!N112","v":18.832571795118511},{"$f":"+正規乱数!O112","v":0.12699036014507473},28.248857692677767,14.124428846338882,24.46422838975041,16.991418422250685,5.5178289415335646,1.1547005383792515,15.519536362364351,1.4894312210968375,null,1.474391058704341,1.4593508963118447,1.4443107339193482,1.4292705715268517,1.4142304091343552,1.3991902467418587,1.3841500843493624,1.3691099219568659,1.3540697595643694,1.3390295971718731,1.3239894347793766,1.3089492723868801,1.2939091099943838,1.2788689476018873,1.2638287852093908,1.2487886228168943,1.233748460424398,1.2187082980319015,1.203668135639405,1.1886279732469087,1.173587810854412]
[105,{"$f":"+正規乱数!L113","v":7.779032129839222},{"$f":"+正規乱数!M113","v":38.095361774220905},{"$f":"+正規乱数!N113","v":18.205236944631789},{"$f":"+正規乱数!O113","v":0.17136403443453457},27.307855416947682,13.653927708473839,23.649296513949189,16.991418422250685,5.2195729828099768,1.1547005383792515,8.9824525883948443,1.0401421389092915,null,1.0178511371493617,0.99556013538943178,0.97326913362950185,0.95097813186957203,0.92868713010964221,0.90639612834971228,0.88410512658978246,0.86181412482985253,0.83952312306992272,0.8172321213099929,0.79494111955006297,0.77265011779013304,0.75035911603020322,0.72806811427027329,0.70577711251034336,0.68348611075041354,0.66119510899048362,0.63890410723055358,0.61661310547062376,0.59432210371069405,0.57203110195076401]
[106,{"$f":"+正規乱数!L114","v":10.678075386947558},{"$f":"+正規乱数!M114","v":37.882334261755219},{"$f":"+正規乱数!N114","v":19.073831690363349},{"$f":"+正規乱数!O114","v":0.22050766870405786},28.610747535545023,14.30537376777251,24.777634187045013,16.991418422250685,6.057548946903232,1.1547005383792515,12.32997939816258,1.2853581209104565,null,1.2581897650357567,1.2310214091610567,1.2038530532863569,1.1766846974116569,1.1495163415369569,1.1223479856622571,1.0951796297875573,1.0680112739128576,1.0408429180381575,1.0136745621634577,0.98650620628875774,0.95933785041405784,0.93216949453935782,0.90500113866465792,0.87783278278995802,0.85066442691525823,0.82349607104055833,0.79632771516585832,0.76915935929115831,0.74199100341645852,0.7148226475417585]
[107,{"$f":"+正規乱数!L115","v":12.399855166488377},{"$f":"+正規乱数!M115","v":29.986165903180947},{"$f":"+正規乱数!N115","v":16.48429416797034},{"$f":"+正規乱数!O115","v":0.14843082887856182},24.72644125195551,12.363220625977753,21.413726269376973,16.991418422250685,2.551797132905552,1.1547005383792515,14.318119436568873,1.364524429340616,null,1.348829547943593,1.3331346665465702,1.3174397851495474,1.3017449037525246,1.2860500223555018,1.270355140958479,1.2546602595614564,1.2389653781644334,1.2232704967674106,1.207575615370388,1.191880733973365,{"$f":"+(($H117-$I117-Z$10*$G$6*$E117*$K117)*TAN($C117*PI()/180)+$L117)/$G117","v":1.1761858525763424},1.1604909711793194,1.1447960897822966,1.1291012083852741,1.113406326988251,1.0977114455912285,1.0820165641942054,1.0663216827971826,1.0506268014001601,1.0349319200031371]
[108,{"$f":"+正規乱数!L116","v":10.514500907928113},{"$f":"+正規乱数!M116","v":35.547319433237774},{"$f":"+正規乱数!N116","v":17.787003642440322},{"$f":"+正規乱数!O116","v":0.15862826019335957},26.680505463660481,13.340252731830239,23.10599551733949,16.991418422250685,4.3691091809803995,1.1547005383792515,12.141099859173721,1.2376234072957457,null,1.218374266577003,1.1991251258582603,1.1798759851395173,1.1606268444207746,1.1413777037020318,1.1221285629832889,1.1028794222645462,1.0836302815458032,1.0643811408270605,1.0451320001083177,1.025882859389575,1.0066337186708323,0.98738457795208934,0.96813543723334661,0.94888629651460366,0.92963715579586093,0.91038801507711808,0.89113887435837535,0.87188973363963251,0.85264059292088967,0.83339145220214683]
[109,{"$f":"+正規乱数!L117","v":9.5277729624223024},{"$f":"+正規乱数!M117","v":31.874042205321043},{"$f":"+正規乱数!N117","v":16.920172356043985},{"$f":"+正規乱数!O117","v":0.11860873401097484},25.380258534065977,12.690129267032987,21.979948645117933,16.991418422250685,3.1019517978899906,1.1547005383792515,11.001724569264308,1.1113894957550583,null,1.0982226595520006,1.0850558233489431,1.0718889871458854,1.058722150942828,1.0455553147397705,1.0323884785367128,1.0192216423336553,1.0060548061305976,0.99288796992754014,0.97972113372448244,0.96655429752142485,0.95338746131836727,0.94022062511530968,0.9270537889122521,0.91388695270919451,0.90072011650613693,0.88755328030307934,0.87438644410002175,0.86121960789696417,0.84805277169390658,0.834885935490849]
[110,{"$f":"+正規乱数!L118","v":8.9181072906465317},{"$f":"+正規乱数!M118","v":31.845662762981519},{"$f":"+正規乱数!N118","v":18.13737714911715},{"$f":"+正規乱数!O118","v":0.12145702325727879},27.206065723675724,13.60303286183786,23.561144053732246,16.991418422250685,4.0806547313715571,1.1547005383792515,10.297743289833479,1.0569994329383998,null,1.0444351451751777,1.0318708574119557,1.0193065696487336,1.0067422818855114,0.99417799412228935,0.98161370635906742,0.96904941859584526,0.95648513083262332,0.94392084306940116,0.93135655530617911,0.91879226754295706,0.9062279797797349,0.89366369201651286,0.8810994042532907,0.86853511649006876,0.85597082872684671,0.84340654096362455,0.8308422532004025,0.81827796543718034,0.8057136776739583,0.79314938991073614]
[111,{"$f":"+正規乱数!L119","v":13.029611101779201},{"$f":"+正規乱数!M119","v":33.685282709085428},{"$f":"+正規乱数!N119","v":19.888155707288199},{"$f":"+正規乱数!O119","v":0.11383534274555837},29.832233560932298,14.916116780466147,25.835472115398076,16.991418422250685,5.8949690255965841,1.1547005383792515,15.045298954096715,1.4038685998433762,null,1.3923441587356389,1.3808197176279018,1.3692952765201645,1.3577708354124272,1.3462463943046898,1.3347219531969525,1.3231975120892152,1.3116730709814783,1.300148629873741,1.2886241887660039,1.2770997476582666,1.2655753065505293,1.254050865442792,1.2425264243350547,1.2310019832273174,1.2194775421195803,1.2079531010118429,1.1964286599041056,1.1849042187963683,1.1733797776886312,1.1618553365808939]
[112,{"$f":"+正規乱数!L120","v":11.310497623839233},{"$f":"+正規乱数!M120","v":30.00703517796682},{"$f":"+正規乱数!N120","v":19.463389912785626},{"$f":"+正規乱数!O120","v":0.1263573031186046},29.195084869178437,14.597542434589217,25.283685162351212,16.991418422250685,4.7889001077945395,1.1547005383792515,13.060237695584407,1.2227495061829721,null,1.2114241599638278,1.2000988137446837,1.1887734675255395,1.1774481213063954,1.1661227750872512,1.1547974288681071,1.1434720826489631,1.1321467364298188,1.1208213902106747,1.1094960439915305,1.0981706977723862,1.0868453515532421,1.0755200053340979,1.0641946591149538,1.0528693128958095,1.0415439666766655,1.0302186204575212,1.0188932742383772,1.0075679280192329,0.99624258180008873,0.98491723558094457]
[113,{"$f":"+正規乱数!L121","v":9.0525493549132747},{"$f":"+正規乱数!M121","v":30.103900738712596},{"$f":"+正規乱数!N121","v":17.204504125358486},{"$f":"+正規乱数!O121","v":9.9371157138404595E-2},25.806756188037731,12.903378094018864,22.349306448111939,16.991418422250685,3.1063464159121206,1.1547005383792515,10.452983613823104,1.0508356750408188,null,1.0407203102758968,1.0306049455109749,1.020489580746053,1.0103742159811311,1.0002588512162092,0.99014348645128725,0.98002812168636522,0.96991275692144352,0.9597973921565216,0.94968202739159968,0.93956666262667776,0.92945129786175584,0.91933593309683381,0.90922056833191212,0.89910520356699009,0.88898983880206817,0.87887447403714625,0.86875910927222433,0.85864374450730252,0.8485283797423806,0.83841301497745868]
[114,{"$f":"+正規乱数!L122","v":8.7420991773154935},{"$f":"+正規乱数!M122","v":33.686980127341684},{"$f":"+正規乱数!N122","v":18.95622340012126},{"$f":"+正規乱数!O122","v":0.21340598181665948},28.43433510018189,14.217167550090943,24.624856536477061,16.991418422250685,5.0883646209917268,1.1547005383792515,10.094506626611011,1.0679251822917157,null,1.0452568320771689,1.0225884818626221,0.99992013164807514,0.97725178143352831,0.95458343121898137,0.93191508100443454,0.9092467307898876,0.88657838057534077,0.86391003036079395,0.8412416801462469,0.81857332993170007,0.79590497971715313,0.77323662950260619,0.75056827928805936,0.72789992907351242,0.70523157885896548,0.68256322864441865,0.65989487842987171,0.63722652821532477,0.61455817800077783,0.59188982778623089]
[115,{"$f":"+正規乱数!L123","v":13.433232565984504},{"$f":"+正規乱数!M123","v":36.211758964928819},{"$f":"+正規乱数!N123","v":16.71847531563234},{"$f":"+正規乱数!O123","v":0.1247766834938093},25.077712973448509,12.538856486724253,21.717936503821001,16.991418422250685,3.4607781719377559,1.1547005383792515,15.511360876116001,1.513067724169334,null,1.49656041379797,1.4800531034266058,1.4635457930552418,1.4470384826838776,1.4305311723125136,1.4140238619411494,1.3975165515697856,1.3810092411984214,1.3645019308270574,1.3479946204556932,1.3314873100843292,1.314979999712965,1.2984726893416008,1.2819653789702368,1.2654580685988726,1.2489507582275086,1.2324434478561443,1.2159361374847804,1.1994288271134164,1.1829215167420521,1.1664142063706882]
[116,{"$f":"+正規乱数!L124","v":9.1937041005143669},{"$f":"+正規乱数!M124","v":33.110600784673352},{"$f":"+正規乱数!N124","v":19.718331059763308},{"$f":"+正規乱数!O124","v":0.17605921364958876},29.577496589644962,14.788748294822479,25.614863426980136,16.991418422250685,5.6238268747647648,1.1547005383792515,10.615975074563471,1.0981187606671059,null,1.0805295295027422,1.0629402983383784,1.0453510671740145,1.0277618360096508,1.010172604845287,0.99258337368092331,0.97499414251655958,0.95740491135219585,0.93981568018783224,0.92222644902346851,0.90463721785910478,0.88704798669474094,0.8694587555303771,0.85186952436601338,0.83428029320164965,0.81669106203728581,0.79910183087292208,0.78151259970855846,0.76392336854419463,0.7463341373798309,0.72874490621546717]
[117,{"$f":"+正規乱数!L125","v":12.69086030255235},{"$f":"+正規乱数!M125","v":36.611232477949351},{"$f":"+正規乱数!N125","v":17.045988215548746},{"$f":"+正規乱数!O125","v":0.12895461221748977},25.568982323323119,12.784491161661558,22.14338824091308,16.991418422250685,3.8277577687872038,1.1547005383792515,14.654143223853069,1.4456501051887185,null,1.428671854555869,1.4116936039230195,1.3947153532901699,1.3777371026573209,1.3607588520244713,1.3437806013916218,1.3268023507587723,1.3098241001259228,1.2928458494930735,1.2758675988602239,1.2588893482273744,1.2419110975945249,1.2249328469616756,1.2079545963288261,1.1909763456959765,1.1739980950631272,1.1570198444302777,1.1400415937974282,1.1230633431645787,1.1060850925317294,1.0891068418988799]
[118,{"$f":"+正規乱数!L126","v":10.80985355676086},{"$f":"+正規乱数!M126","v":32.641997461369996},{"$f":"+正規乱数!N126","v":19.142002812998118},{"$f":"+正規乱数!O126","v":0.11251980397435049},28.713004219497179,14.356502109748588,24.866191073054338,16.991418422250685,5.0442639717190829,1.1547005383792515,12.482143721792632,1.2207992977349715,null,1.2094254219648541,1.1980515461947363,1.1866776704246187,1.1753037946545009,1.1639299188843835,1.1525560431142658,1.141182167344148,1.1298082915740306,1.118434415803913,1.1070605400337954,1.0956866642636778,1.0843127884935602,1.0729389127234426,1.0615650369533247,1.0501911611832073,1.0388172854130895,1.0274434096429719,1.0160695338728543,1.0046956581027366,0.99332178233261903,0.98194790656250142]
[119,{"$f":"+正規乱数!L127","v":12.018176744136781},{"$f":"+正規乱数!M127","v":36.752889536935214},{"$f":"+正規乱数!N127","v":20.695919882877039},{"$f":"+正規乱数!O127","v":0.12697433187655993},31.04387982431556,15.521939912157778,26.884788559888474,16.991418422250685,7.3885070708866962,1.1547005383792515,13.87739515679174,1.3700544099530769,null,1.3562139429094624,1.3423734758658481,1.3285330088222338,1.3146925417786195,1.3008520747350052,1.2870116076913911,1.2731711406477766,1.2593306736041623,1.2454902065605478,1.2316497395169337,1.2178092724733194,1.2039688054297049,1.1901283383860906,1.1762878713424765,1.162447404298862,1.1486069372552477,1.1347664702116336,1.120926003168019,1.1070855361244047,1.0932450690807907,1.0794046020371761]
[120,{"$f":"+正規乱数!L128","v":12.191783798596949},{"$f":"+正規乱数!M128","v":38.697648839246291},{"$f":"+正規乱数!N128","v":16.960704137134204},{"$f":"+正規乱数!O128","v":0.16089716535402471},25.441056205701308,12.720528102850652,22.032600973245074,16.991418422250685,4.0384091649296172,1.1547005383792515,14.077859316043334,1.4241758152252437,null,1.4012201693273107,1.3782645234293778,1.355308877531445,1.3323532316335118,1.3093975857355789,1.2864419398376461,1.2634862939397129,1.2405306480417801,1.2175750021438472,1.1946193562459142,1.1716637103479812,1.1487080644500482,1.1257524185521153,1.1027967726541823,1.0798411267562493,1.0568854808583164,1.0339298349603834,1.0109741890624504,0.98801854316451743,0.96506289726658445,0.94210725136865159]
[121,{"$f":"+正規乱数!L129","v":10.27992990606389},{"$f":"+正規乱数!M129","v":35.196832295514362},{"$f":"+正規乱数!N129","v":16.650212539041416},{"$f":"+正規乱数!O129","v":0.12824675797183663},24.975318808562122,12.487659404281059,21.629260555830097,16.991418422250685,3.2712537408057529,1.1547005383792515,11.870240597032941,1.21251660120133,null,1.1961057165836353,1.1796948319659404,1.1632839473482457,1.146873062730551,1.1304621781128563,1.1140512934951616,1.0976404088774669,1.081229524259772,1.0648186396420773,1.0484077550243829,1.031996870406688,1.0155859857889933,0.99917510117129849,0.98276421655360369,0.96635333193590889,0.94994244731821431,0.93353156270051951,0.91712067808282483,0.90070979346513003,0.88429890884743534,0.86788802422974054]
[122,{"$f":"+正規乱数!L130","v":13.081314293950783},{"$f":"+正規乱数!M130","v":40.077166302388896},{"$f":"+正規乱数!N130","v":19.557452420109918},{"$f":"+正規乱数!O130","v":0.11585456200832039},29.336178630164877,14.668089315082437,25.405875943680961,16.991418422250685,7.0799018854471658,1.1547005383792515,15.105000657933166,1.5124602848285595,null,1.4974043029916866,1.4823483211548136,1.4672923393179407,1.4522363574810677,1.4371803756441948,1.4221243938073218,1.4070684119704489,1.3920124301335761,1.3769564482967034,1.3619004664598304,1.3468444846229575,1.3317885027860845,1.3167325209492116,1.3016765391123386,1.2866205572754656,1.2715645754385927,1.25650859360172,1.241452611764847,1.226396629927974,1.2113406480911011,1.1962846662542281]
[123,{"$f":"+正規乱数!L131","v":10.422569078533975},{"$f":"+正規乱数!M131","v":37.883501254287424},{"$f":"+正規乱数!N131","v":20.186382322120611},{"$f":"+正規乱数!O131","v":0.1221796306996554},30.279573483180918,15.139786741590457,26.222879852192339,16.991418422250685,7.1822283501168727,1.1547005383792515,12.03494612627812,1.2693160613421033,null,1.2550915888072998,1.2408671162724967,1.2266426437376932,1.2124181712028899,1.1981936986680868,1.1839692261332835,1.1697447535984802,1.1555202810636769,1.1412958085288736,1.1270713359940703,{"$f":"+(($H133-$I133-Y$10*$G$6*$E133*$K133)*TAN($C133*PI()/180)+$L133)/$G133","v":1.112846863459267},1.0986223909244637,1.0843979183896606,1.0701734458548573,1.055948973320054,1.0417245007852505,1.0275000282504474,1.0132755557156441,0.99905108318084068,0.98482661064603749,0.97060213811123408]
[124,{"$f":"+正規乱数!L132","v":12.015121327499214},{"$f":"+正規乱数!M132","v":34.83699355535304},{"$f":"+正規乱数!N132","v":18.616514063001276},{"$f":"+正規乱数!O132","v":0.15743340285914498},27.924771094501914,13.962385547250955,24.183561162704041,16.991418422250685,5.0055593166215893,1.1547005383792515,13.87386706555537,1.3521633762572984,null,1.334384678702381,1.3166059811474633,1.2988272835925461,1.2810485860376284,1.2632698884827107,1.2454911909277935,1.227712493372876,1.2099337958179583,1.1921550982630411,1.1743764007081234,1.156597703153206,1.1388190055982883,1.1210403080433708,1.1032616104884532,1.0854829129335357,1.0677042153786183,1.0499255178237006,1.0321468202687831,1.0143681227138657,0.99658942515894822,0.97881072760403065]
[125,{"$f":"+正規乱数!L133","v":9.9737349630216361},{"$f":"+正規乱数!M133","v":34.329506394532643},{"$f":"+正規乱数!N133","v":17.985678896452413},{"$f":"+正規乱数!O133","v":0.21429398245520515},26.978518344678619,13.489259172339308,23.364082242956187,16.991418422250685,4.3519471681126873,1.1547005383792515,11.516677131453047,1.1763896072295419,null,1.1518112498850914,1.1272328925406412,1.1026545351961907,1.0780761778517403,1.0534978205072898,1.0289194631628393,1.0043411058183889,0.97976274847393841,0.95518439112948794,0.93060603378503759,0.90602767644058713,0.88144931909613666,0.8568709617516862,0.83229260440723574,0.80771424706278527,0.78313588971833492,0.75855753237388435,0.73397917502943388,0.70940081768498331,0.68482246034053307,0.66024410299608249]
[126,{"$f":"+正規乱数!L134","v":12.982188575100171},{"$f":"+正規乱数!M134","v":37.483748480388059},{"$f":"+正規乱数!N134","v":18.71361136347722},{"$f":"+正規乱数!O134","v":0.19378697521891519},28.07041704521583,14.035208522607913,24.309694255980631,16.991418422250685,5.6122132994196132,1.1547005383792515,14.990540137009134,1.4679335474953461,null,1.4439452470254801,1.4199569465556146,1.3959686460857486,1.371980345615883,1.3479920451460172,1.3240037446761517,1.3000154442062857,1.2760271437364201,1.2520388432665543,1.2280505427966886,1.2040622423268228,1.180073941856957,1.1560856413870912,1.1320973409172257,1.1081090404473597,1.0841207399774941,1.0601324395076284,1.0361441390377626,1.0121558385678968,0.98816753809803115,0.96417923762816538]
[127,{"$f":"+正規乱数!L135","v":6.9394307594084879},{"$f":"+正規乱数!M135","v":33.483619361635192},{"$f":"+正規乱数!N135","v":17.352456739696848},{"$f":"+正規乱数!O135","v":0.13600520626228657},26.028685109545272,13.014342554772634,22.54150253197195,16.991418422250685,3.6712390779889326,1.1547005383792515,8.0129644339345187,0.89779437284279928,null,0.88213354289765511,0.86647271295251105,0.85081188300736688,0.8351510530622227,0.81949022311707864,0.80382939317193447,0.78816856322679019,0.77250773328164624,0.75684690333650217,0.741186073391358,0.72552524344621372,0.70986441350106955,0.69420358355592537,0.67854275361078131,0.66288192366563714,0.64722109372049297,0.63156026377534891,0.61589943383020473,0.60023860388506056,0.5845777739399165,0.56891694399477233]
[128,{"$f":"+正規乱数!L136","v":9.4917556208270941},{"$f":"+正規乱数!M136","v":38.787383968497032},{"$f":"+正規乱数!N136","v":18.583143579141986},{"$f":"+正規乱数!O136","v":0.21067454794744928},27.874715368712977,13.937357684356487,24.140211632565954,16.991418422250685,5.7451860905078691,1.1547005383792515,10.960135325533331,1.19860032255551,null,1.1710788693546856,1.1435574161538615,1.1160359629530374,1.0885145097522129,1.0609930565513888,1.0334716033505646,1.0059501501497403,0.97842869694891599,0.95090724374809177,0.92338579054726744,0.89586433734644333,0.86834288414561911,0.84082143094479467,0.81329997774397045,0.78577852454314612,0.7582570713423219,0.73073561814149757,0.70321416494067346,0.67569271173984891,0.64817125853902491,0.62064980533820058]
[129,{"$f":"+正規乱数!L137","v":11.686361821401018},{"$f":"+正規乱数!M137","v":40.376384482337905},{"$f":"+正規乱数!N137","v":19.001227767162995},{"$f":"+正規乱数!O137","v":0.10651752568785752},28.501841650744492,14.250920825372244,24.683318924186132,16.991418422250685,6.5408556648832397,1.1547005383792515,13.494248286866485,1.4058813600367044,null,1.3914818597218739,1.3770823594070432,1.3626828590922124,1.3482833587773819,1.3338838584625514,1.3194843581477209,1.3050848578328902,1.2906853575180595,1.276285857203229,1.2618863568883985,1.2474868565735679,1.2330873562587372,1.2186878559439065,1.204288355629076,1.1898888553142453,1.1754893549994145,1.1610898546845843,1.1466903543697535,1.132290854054923,1.1178913537400923,1.1034918534252616]
[130,{"$f":"+正規乱数!L138","v":12.168523287210647},{"$f":"+正規乱数!M138","v":38.796447676429324},{"$f":"+正規乱数!N138","v":17.274317211283719},{"$f":"+正規乱数!O138","v":9.3292782624431358E-2},25.911475816925581,{"$f":"+F140*SIN($G$2*PI()/180)","v":12.955737908462789},22.439996307003696,{"$f":"+$G$5*$G$4*$G$6/COS($G$2*PI()/180)","v":16.991418422250685},4.3802129321599859,{"$f":"+$G$4/COS($G$2*PI()/180)","v":1.1547005383792515},14.051000391022592,1.4226293749847445,null,1.4095144344962909,1.396399494007837,1.3832845535193832,1.3701696130309293,1.3570546725424755,1.3439397320540218,1.330824791565568,1.3177098510771141,1.3045949105886603,1.2914799701002064,1.2783650296117528,1.2652500891232989,1.2521351486348451,1.2390202081463912,1.2259052676579374,1.2127903271694835,1.1996753866810297,1.1865604461925761,1.1734455057041222,1.1603305652156684,1.1472156247272145]
[131,{"$f":"+正規乱数!L139","v":8.7114461774579333},{"$f":"+正規乱数!M139","v":37.975288974688368},{"$f":"+正規乱数!N139","v":17.69579276122429},{"$f":"+正規乱数!O139","v":0.19753717110402563},26.543689141836435,13.271844570918216,22.98750910698752,16.991418422250685,4.6804962818412514,1.1547005383792515,10.059111591172547,1.1105922612529537,null,1.0842708223781186,1.0579493835032834,1.031627944628448,1.005306505753613,0.97898506687877773,0.95266362800394266,0.92634218912910726,0.90002075025427219,0.87369931137943702,0.84737787250460184,0.82105643362976666,0.79473499475493137,0.76841355588009619,0.7420921170052609,0.71577067813042572,0.68944923925559054,{"$f":"+(($H141-$I141-AE$10*$G$6*$E141*$K141)*TAN($C141*PI()/180)+$L141)/$G141","v":0.66312780038075536},0.63680636150592007,0.61048492263108489,0.58416348375624971,0.55784204488141453]
[132,{"$f":"+正規乱数!L140","v":11.016852294151706},{"$f":"+正規乱数!M140","v":37.518259890309196},{"$f":"+正規乱数!N140","v":18.623340054734911},{"$f":"+正規乱数!O140","v":0.11452070318175597},27.935010082102366,13.967505041051181,24.192428386075068,16.991418422250685,5.5291763371964153,1.1547005383792515,12.721165275301667,1.3066286039532067,null,1.2923659426372227,1.278103281321239,1.263840620005255,1.249577958689271,1.235315297373287,1.2210526360573033,1.2067899747413195,1.1925273134253354,1.1782646521093516,1.1640019907933676,1.1497393294773839,1.1354766681613997,1.1212140068454157,1.106951345529432,1.092688684213448,1.078426022897464,1.0641633615814801,1.0499007002654963,1.0356380389495123,1.0213753776335284,1.0071127163175446]
[133,{"$f":"+正規乱数!L141","v":9.5759328960760524},{"$f":"+正規乱数!M141","v":40.027580077318348},{"$f":"+正規乱数!N141","v":19.242952703430912},{"$f":"+正規乱数!O141","v":0.16406525661384042},28.864429055146367,14.432214527573182,24.997328827490417,16.991418422250685,6.7243262527870389,1.1547005383792515,11.057334870582602,1.2320812644100627,null,1.2104495934324513,1.1888179224548396,1.1671862514772284,1.145554580499617,1.1239229095220056,1.1022912385443941,1.0806595675667827,1.0590278965891711,1.0373962256115596,1.0157645546339484,0.99413288365633701,0.97250121267872547,0.95086954170111393,0.92923787072350261,0.90760619974589096,0.88597452876827953,0.86434285779066811,0.84271118681305668,0.82107951583544525,0.79944784485783371,0.77781617388022239]
[134,{"$f":"+正規乱数!L142","v":9.5915226056715568},{"$f":"+正規乱数!M142","v":33.936458352978057},{"$f":"+正規乱数!N142","v":17.683815280687561},{"$f":"+正規乱数!O142","v":0.18357659074849894},26.525722921031342,13.262861460515669,22.971949903360308,16.991418422250685,4.0242766312262264,1.1547005383792515,11.075336316645707,1.1384883264312442,null,1.1173876448270463,1.0962869632228485,1.0751862816186502,1.0540856000144523,1.0329849184102544,1.0118842368060563,0.99078355520185823,0.96968287359766037,0.94858219199346216,0.9274815103892643,0.90638082878506632,0.88528014718086823,0.86417946557667014,0.84307878397247216,0.82197810236827407,0.80087742076407609,0.779776739159878,0.75867605755568002,0.73757537595148193,0.71647469434728395,0.69537401274308586]
[135,{"$f":"+正規乱数!L143","v":10.190088713713257},{"$f":"+正規乱数!M143","v":36.421689859847625},{"$f":"+正規乱数!N143","v":18.58194057323584},{"$f":"+正規乱数!O143","v":0.14234057174179027},27.872910859853761,13.936455429926879,24.138648882052522,16.991418422250685,5.2735702472583892,1.1547005383792515,11.766500923857032,1.2226976405007473,null,1.2056245675296002,1.188551494558453,1.171478421587306,1.1544053486161587,1.1373322756450117,1.1202592026738647,1.1031861297027177,1.0861130567315704,1.0690399837604234,1.0519669107892762,1.0348938378181292,1.0178207648469821,1.0007476918758349,0.98367461890468777,0.96660154593354064,0.94952847296239362,0.93245539999124649,0.91538232702009936,0.89830925404895212,0.88123618107780499,0.86416310810665797]
[136,{"$f":"+正規乱数!L144","v":9.5871918834022161},{"$f":"+正規乱数!M144","v":38.075679581667799},{"$f":"+正規乱数!N144","v":19.195808150862295},{"$f":"+正規乱数!O144","v":0.17687818686549711},28.793712226293444,14.39685611314672,24.936086257228709,16.991418422250685,6.2239715086728848,1.1547005383792515,11.070335629309728,1.2012558159965243,null,1.1794502764729264,1.1576447369493288,1.1358391974257309,1.1140336579021333,1.0922281183785354,1.0704225788549375,1.0486170393313399,1.0268114998077422,1.0050059602841444,0.98320042076054659,0.96139488123694872,0.93958934171335085,0.91778380218975308,0.89597826266615532,0.87417272314255756,0.8523671836189598,0.83056164409536204,0.80875610457176417,0.7869505650481663,0.76514502552456864,0.74333948600097077]
[137,{"$f":"+正規乱数!L145","v":8.2289843487008056},{"$f":"+正規乱数!M145","v":32.997727898060212},{"$f":"+正規乱数!N145","v":16.754032997511551},{"$f":"+正規乱数!O145","v":0.18113198415512943},25.131049496267327,12.565524748133662,21.764127287531625,16.991418422250685,3.0991643005084422,1.1547005383792515,9.5020126577592539,1.002837303721783,null,0.98163111883666865,0.96042493395155448,0.93921874906644032,0.91801256418132604,0.89680637929621188,0.87560019441109771,0.85439400952598354,0.83318782464086916,0.81198163975575499,0.79077545487064083,0.76956926998552666,0.74836308510041238,0.72715690021529822,0.70595071533018394,0.68474453044506978,0.6635383455599555,0.64233216067484133,0.62112597578972706,0.59991979090461278,0.57871360601949862,0.55750742113438445]
[138,{"$f":"+正規乱数!L146","v":9.8133534461619369},{"$f":"+正規乱数!M146","v":36.910577158859418},{"$f":"+正規乱数!N146","v":19.913064777520191},{"$f":"+正規乱数!O146","v":0.1178502080685036},29.869597166280286,14.934798583140141,25.86782994680641,16.991418422250685,6.6671610417273257,1.1547005383792515,11.331484507589071,1.2051481946087323,null,1.1917204562040018,1.1782927177992712,1.1648649793945407,1.1514372409898099,1.1380095025850794,1.1245817641803488,1.1111540257756183,1.0977262873708875,1.084298548966157,1.0708708105614264,1.0574430721566956,1.0440153337519651,1.0305875953472345,1.017159856942504,1.0037321185377732,0.99030438013304267,0.97687664172831212,0.96344890332358146,0.9500211649188508,0.93659342651412025,0.92316568810938959]
[139,{"$f":"+正規乱数!L147","v":10.425810087534838},{"$f":"+正規乱数!M147","v":38.466125944749464},{"$f":"+正規乱数!N147","v":18.56752238099136},{"$f":"+正規乱数!O147","v":0.156871715878387},27.851283571487038,13.925641785743517,24.119919100911964,16.991418422250685,5.6633876665211904,1.1547005383792515,12.038688521116308,1.2711856631096268,null,1.250909961361331,1.2306342596130355,1.2103585578647396,1.190082856116444,1.1698071543681483,1.1495314526198526,1.1292557508715573,1.1089800491232615,1.0887043473749658,{"$f":"+(($H149-$I149-X$10*$G$6*$E149*$K149)*TAN($C149*PI()/180)+$L149)/$G149","v":1.0684286456266703},1.0481529438783745,1.0278772421300788,1.0076015403817833,0.98732583863348766,0.96705013688519192,0.9467744351368963,0.92649873338860056,0.90622303164030504,0.88594732989200931,0.86567162814371368,0.84539592639541805]
[140,{"$f":"+正規乱数!L148","v":10.458047043314853},{"$f":"+正規乱数!M148","v":31.123130675013812},{"$f":"+正規乱数!N148","v":15.642726321808635},{"$f":"+正規乱数!O148","v":0.20495048041368508},23.46408948271295,11.732044741356473,20.320497568700684,16.991418422250685,2.0100624167701509,1.1547005383792515,12.0759125513112,1.2006410884563941,null,1.1767448785461587,1.1528486686359234,1.1289524587256881,1.1050562488154527,1.0811600389052174,1.0572638289949821,1.0333676190847467,1.0094714091745114,0.98557519926427606,0.96167898935404073,0.93778277944380539,0.91388656953357006,0.8899903596233345,0.86609414971309928,0.84219793980286384,0.81830172989262862,0.79440551998239306,0.77050931007215795,0.74661310016192239,0.72271689025168717,0.69882068034145173]
[141,{"$f":"+正規乱数!L149","v":10.884334099535883},{"$f":"+正規乱数!M149","v":33.981747772934078},{"$f":"+正規乱数!N149","v":17.380186635969501},{"$f":"+正規乱数!O149","v":8.8653915737596539E-2},26.070279953954252,13.035139976977124,22.577524723896587,16.991418422250685,3.7652877017232518,1.1547005383792515,12.568146444633729,1.2530309743666244,null,1.2426451837031578,1.2322593930396915,1.2218736023762251,1.2114878117127585,1.2011020210492922,1.1907162303858259,1.1803304397223595,1.1699446490588932,1.1595588583954266,1.1491730677319605,1.1387872770684939,1.1284014864050276,1.118015695741561,1.1076299050780947,1.0972441144146283,1.086858323751162,1.0764725330876956,1.0660867424242291,1.0557009517607627,1.0453151610972964,1.03492937043383]
[142,{"$f":"+正規乱数!L150","v":8.2629212954326245},{"$f":"+正規乱数!M150","v":38.967533920119592},{"$f":"+正規乱数!N150","v":19.491625505895264},{"$f":"+正規乱数!O150","v":0.1338843189946439},29.237438258842896,14.618719129421446,25.320364273737017,16.991418422250685,6.7368366112504185,1.1547005383792515,9.5411996684214326,1.1135063294916778,null,1.0967239035623746,1.0799414776330716,1.0631590517037686,1.0463766257744656,1.0295941998451625,1.0128117739158595,0.9960293479865564,0.97924692205725339,0.96246449612795026,0.94568207019864725,0.92889964426934424,0.91211721834004111,0.89533479241073788,0.87855236648143487,0.86176994055213185,0.84498751462282873,0.82820508869352572,0.81142266276422259,0.79464023683491958,0.77785781090561656,0.76107538497631344]
[143,{"$f":"+正規乱数!L151","v":11.016086199029299},{"$f":"+正規乱数!M151","v":37.694141941058938},{"$f":"+正規乱数!N151","v":16.984696494924094},{"$f":"+正規乱数!O151","v":0.16500913525063046},25.477044742386141,12.738522371193069,22.06376796025917,16.991418422250685,3.9195288942409197,1.1547005383792515,12.720280664851375,1.3062590051042033,null,1.2835821929488906,1.2609053807935782,1.2382285686382655,1.2155517564829528,1.1928749443276403,1.1701981321723276,1.1475213200170149,1.1248445078617024,1.1021676957063897,1.0794908835510773,1.0568140713957646,1.0341372592404519,1.0114604470851392,0.98878363492982668,0.96610682277451398,0.9434300106192014,0.92075319846388881,0.89807638630857622,0.87539957415326342,0.85272276199795105,0.83004594984263824]
[144,{"$f":"+正規乱数!L152","v":12.005959051998648},{"$f":"+正規乱数!M152","v":34.456557014232637},{"$f":"+正規乱数!N152","v":19.425433485098416},{"$f":"+正規乱数!O152","v":0.15676280111324428},29.138150227647625,14.569075113823811,25.23437831643017,16.991418422250685,5.6560319451420158,1.1547005383792515,13.863287381102086,1.3397775201064939,null,1.3230509047171517,1.3063242893278095,1.2895976739384674,1.2728710585491252,1.256144443159783,1.2394178277704406,1.2226912123810985,1.2059645969917561,1.1892379816024139,1.1725113662130717,1.1557847508237293,1.1390581354343872,1.122331520045045,1.1056049046557026,1.0888782892663604,1.0721516738770183,1.0554250584876759,1.0386984430983337,1.0219718277089913,1.0052452123196491,0.98851859693030686]
[145,{"$f":"+正規乱数!L153","v":5.9033598116629111},{"$f":"+正規乱数!M153","v":37.856473818732582},{"$f":"+正規乱数!N153","v":18.65731144287885},{"$f":"+正規乱数!O153","v":0.15893304134286435},27.985967164318275,13.992983582159136,24.236558513776778,16.991418422250685,5.6313533899224772,1.1547005383792515,6.8166127527736,0.88958627512198796,null,0.86958589566296574,0.84958551620394329,0.82958513674492096,0.80958475728589863,0.7895843778268764,0.76958399836785407,0.74958361890883185,0.72958323944980941,0.70958285999078718,0.68958248053176485,0.66958210107274252,0.64958172161372019,0.62958134215469796,0.60958096269567552,0.58958058323665319,0.56958020377763086,0.54957982431860852,0.5295794448595863,0.50957906540056397,0.48957868594154158,0.46957830648251925]
[146,{"$f":"+正規乱数!L154","v":9.9863472020939668},{"$f":"+正規乱数!M154","v":38.634336177743791},{"$f":"+正規乱数!N154","v":17.516642117524587},{"$f":"+正規乱数!O154","v":0.12587655701395678},26.274963176286882,13.137481588143439,22.754785594165106,16.991418422250685,4.6064931750609475,1.1547005383792515,11.531240490700036,1.2283734563194568,null,1.2110236252669335,1.1936737942144107,1.1763239631618876,1.1589741321093643,1.1416243010568414,1.1242744700043181,1.106924638951795,1.089574807899272,1.0722249768467489,1.0548751457942258,1.0375253147417027,1.0201754836891794,1.0028256526366564,0.98547582158413316,0.96812599053161008,0.95077615947908689,0.93342632842656381,0.91607649737404062,0.89872666632151743,0.88137683526899435,0.86402700421647127]
[147,{"$f":"+正規乱数!L155","v":12.555568108315695},{"$f":"+正規乱数!M155","v":34.700848310399905},{"$f":"+正規乱数!N155","v":18.388813914393968},{"$f":"+正規乱数!O155","v":0.119966767563291},27.583220871590953,13.791610435795475,23.887769992994912,16.991418422250685,4.7754112853760669,1.1547005383792515,14.497921254329492,1.3974678758096686,null,1.3838218642383822,1.3701758526670957,1.3565298410958093,1.3428838295245229,1.3292378179532365,1.3155918063819501,1.3019457948106636,1.2882997832393772,1.2746537716680908,1.2610077600968042,1.2473617485255177,1.2337157369542313,1.2200697253829449,1.2064237138116585,1.1927777022403721,1.1791316906690856,1.1654856790977992,1.1518396675265126,1.1381936559552261,1.1245476443839397,1.1109016328126533]
[148,{"$f":"+正規乱数!L156","v":9.8279017851988275},{"$f":"+正規乱数!M156","v":34.136103728385486},{"$f":"+正規乱数!N156","v":17.075836376637724},{"$f":"+正規乱数!O156","v":0.11228242703607502},25.613754564956587,12.806877282478291,22.182162139552037,16.991418422250685,3.5191699235627572,1.1547005383792515,11.348283482507492,1.1608960621814601,null,1.147429784513885,1.1339635068463096,1.1204972291787343,1.1070309515111592,1.0935646738435838,1.0800983961760087,1.0666321185084333,1.053165840840858,1.0396995631732828,1.0262332855057075,1.0127670078381323,0.99930073017055698,0.98583445250298163,0.97236817483540638,0.95890189716783103,0.94543561950025579,0.93196934183268043,0.91850306416510519,0.90503678649752994,0.89157050882995459,0.87810423116237935]
[149,{"$f":"+正規乱数!L157","v":5.5030685839515279},{"$f":"+正規乱数!M157","v":32.809452313639326},{"$f":"+正規乱数!N157","v":17.172912085672241},{"$f":"+正規乱数!O157","v":0.1706815768585756},25.759368128508363,12.87968406425418,22.308267184723455,16.991418422250685,3.4277167793416945,1.1547005383792515,6.3543962566267744,0.75949945566734811,null,0.74014413230736109,0.72078880894737407,0.70143348558738683,0.6820781622273997,0.66272283886741268,0.64336751550742544,0.62401219214743842,0.60465686878745128,0.58530154542746415,0.56594622206747713,0.54659089870748989,0.52723557534750276,0.50788025198751563,0.48852492862752855,0.46916960526754137,0.44981428190755424,0.43045895854756711,0.41110363518758003,0.39174831182759284,0.37239298846760577,0.35303766510761858]
[150,{"$f":"+正規乱数!L158","v":8.48267594243692},{"$f":"+正規乱数!M158","v":30.494657865038725},{"$f":"+正規乱数!N158","v":18.158989355648824},{"$f":"+正規乱数!O158","v":0.15376536202841415},27.238484033473235,13.619242016736615,23.589219133564644,16.991418422250685,3.8855730629434553,1.1547005383792515,9.7949504776286354,1.0044996280821037,null,0.98943599130180182,0.97437235452149995,0.95930871774119808,0.94424508096089632,0.92918144418059445,0.91411780740029247,0.8990541706199906,0.88399053383968873,0.86892689705938686,0.8538632602790851,0.83879962349878312,0.82373598671848125,0.80867234993817938,0.79360871315787751,0.77854507637757564,0.76348143959727366,0.7484178028169719,0.73335416603667003,0.71829052925636805,0.70322689247606629,0.68816325569576431]
[151,{"$f":"+正規乱数!L159","v":11.325692859302139},{"$f":"+正規乱数!M159","v":30.013461723131194},{"$f":"+正規乱数!N159","v":18.098412785125074},{"$f":"+正規乱数!O159","v":0.14860196772987344},27.147619177687609,13.573809588843803,23.510527860143085,16.991418422250685,3.7658520977256922,1.1547005383792515,13.077783642154223,1.2408922955368074,null,1.2265649357671249,1.212237575997442,1.1979102162277591,1.1835828564580764,1.1692554966883937,1.1549281369187108,1.1406007771490281,1.1262734173793454,1.1119460576096627,1.0976186978399798,1.0832913380702971,1.0689639783006144,1.0546366185309315,1.0403092587612488,1.0259818989915659,1.0116545392218832,0.9973271794522004,0.98299981968251748,0.96867245991283479,0.95434510014315199,0.9400177403734693]
[152,{"$f":"+正規乱数!L160","v":11.067770503973303},{"$f":"+正規乱数!M160","v":31.421113716561635},{"$f":"+正規乱数!N160","v":18.075001108928653},{"$f":"+正規乱数!O160","v":0.17321054725209883},27.11250166339298,13.556250831696488,23.480115200646171,16.991418422250685,3.9640001846704402,1.1547005383792515,12.779960559595972,1.235146867090759,null,1.217462916390613,1.1997789656904672,1.1820950149903211,1.164411064290175,1.146727113590029,1.1290431628898832,1.1113592121897371,1.093675261489591,1.0759913107894452,1.0583073600892992,1.0406234093891531,1.022939458689007,1.0052555079888612,0.98757155728871515,0.96988760658856921,0.95220365588842315,0.93451970518827721,0.91683575448813115,0.8991518037879852,0.88146785308783915,0.86378390238769309]
[153,{"$f":"+正規乱数!L161","v":10.356788603406221},{"$f":"+正規乱数!M161","v":31.0408437806596},{"$f":"+正規乱数!N161","v":16.931794728406331},{"$f":"+正規乱数!O161","v":0.17492268248662901},25.397692092609496,12.698846046304746,21.995046549694987,16.991418422250685,3.0113398163398588,1.1547005383792515,11.958989376233259,1.1788731935158276,null,1.1600919223423478,1.1413106511688678,1.1225293799953879,1.1037481088219079,1.0849668376484281,1.0661855664749482,1.0474042953014682,1.0286230241279883,1.0098417529545085,0.99106048178102857,0.97227921060754852,0.95349793943406869,0.93471666826058875,0.91593539708710869,0.89715412591362886,0.87837285474014892,0.85959158356666909,0.84081031239318915,0.8220290412197091,0.80324777004622927,0.78446649887274933]
[154,{"$f":"+正規乱数!L162","v":11.679567522121234},{"$f":"+正規乱数!M162","v":33.794478237870578},{"$f":"+正規乱数!N162","v":17.11458023841838},{"$f":"+正規乱数!O162","v":0.13850729315570934},25.671870357627569,12.835935178813783,22.232491892366177,16.991418422250685,3.507861468598974,1.1547005383792515,13.486402905830209,1.3239599715709758,null,1.3075979980948691,1.2912360246187626,1.2748740511426562,1.2585120776665495,1.242150104190443,1.2257881307143363,1.2094261572382299,1.1930641837621234,1.176702210286017,1.1603402368099103,1.1439782633338038,1.1276162898576971,1.1112543163815907,1.0948923429054842,1.0785303694293775,1.0621683959532711,1.0458064224771644,1.0294444490010579,1.0130824755249512,0.99672050204884477,0.9803585285727382]
[155,{"$f":"+正規乱数!L163","v":10.04992980569132},{"$f":"+正規乱数!M163","v":31.560775620819527},{"$f":"+正規乱数!N163","v":18.62737873269738},{"$f":"+正規乱数!O163","v":0.14751006672246889},{"$f":"+$G$3*$G$4*D165","v":27.94106809904607},13.970534049523033,{"$f":"+F165*COS($G$2*PI()/180)","v":24.197674782644871},16.991418422250685,{"$f":"+(H165-I165)*TAN(C165*PI()/180)","v":4.4265208301057388},1.1547005383792515,{"$f":"+K165*B165","v":11.604659357305454},{"$f":"+(J165+L165)/G165","v":1.1474994535343848},null,1.1328057989287841,1.1181121443231836,1.1034184897175829,1.0887248351119825,1.074031180506382,1.0593375259007816,1.0446438712951811,1.0299502166895804,{"$f":"+(($H165-$I165-W$10*$G$6*$E165*$K165)*TAN($C165*PI()/180)+$L165)/$G165","v":1.0152565620839802},1.0005629074783795,0.98586925287277904,0.97117559826717859,0.95648194366157802,0.94178828905597756,0.9270946344503771,0.91240097984477664,0.89770732523917607,0.88301367063357561,0.86832001602797504,0.85362636142237458,0.83893270681677401]
[156,{"$f":"+正規乱数!L164","v":8.3990119245681747},{"$f":"+正規乱数!M164","v":32.53775679757775},{"$f":"+正規乱数!N164","v":17.90117672824935},{"$f":"+正規乱数!O164","v":0.19950610943870464},26.851765092374023,13.42588254618701,23.254310706448109,16.991418422250685,3.9957070102860159,1.1547005383792515,9.698343591152625,1.0199739610658065,null,0.99849563552101428,0.97701730997622205,0.95553898443142971,0.93406065888663758,0.91258233334184524,0.8911040077970529,0.86962568225226078,0.84814735670746844,0.8266690311626762,0.80519070561788397,0.78371238007309174,0.7622340545282994,0.74075572898350706,0.71927740343871482,0.69779907789392248,0.67632075234913036,0.65484242680433802,0.63336410125954579,0.61188577571475344,0.59040745016996121,0.56892912462516898]
[157,{"$f":"+正規乱数!L165","v":10.717551392013826},{"$f":"+正規乱数!M165","v":35.881296331441696},{"$f":"+正規乱数!N165","v":16.854919575705637},{"$f":"+正規乱数!O165","v":0.20130355551982942},25.282379363558455,12.641189681779226,21.895182796957073,16.991418422250685,3.5472943821437446,1.1547005383792515,12.375562362465661,1.259601125008061,null,1.2335035889728707,1.2074060529376804,1.1813085169024899,1.1552109808672995,1.1291134448321092,1.1030159087969189,1.0769183727617284,1.0508208367265381,1.0247233006913476,0.99862576465615738,0.97252822862096699,0.94643069258577661,0.92033315655058612,0.89423562051539573,0.86813808448020535,0.84204054844501497,0.81594301240982459,0.7898454763746342,0.76374794033944371,0.73765040430425344,0.71155286826906294]
[158,{"$f":"+正規乱数!L166","v":12.552077106411822},{"$f":"+正規乱数!M166","v":39.125408683343259},{"$f":"+正規乱数!N166","v":17.816077744573089},{"$f":"+正規乱数!O166","v":0.13402724697691853},26.724116616859632,13.362058308429814,23.143763883898291,16.991418422250685,5.0044074426219094,1.1547005383792515,14.493890192551607,1.459228599748924,null,1.4407444255228798,1.4222602512968359,1.4037760770707914,1.3852919028447472,1.3668077286187028,1.3483235543926586,1.3298393801666144,1.3113552059405702,1.292871031714526,1.2743868574884816,1.2559026832624376,1.2374185090363932,1.218934334810349,1.2004501605843045,1.1819659863582603,1.1634818121322161,1.1449976379061719,1.1265134636801277,1.1080292894540833,1.0895451152280391,1.0710609410019949]
[159,{"$f":"+正規乱数!L167","v":13.639707675761144},{"$f":"+正規乱数!M167","v":34.144856095546565},{"$f":"+正規乱数!N167","v":19.427728987895833},{"$f":"+正規乱数!O167","v":0.16596214793818348},29.141593481843749,14.570796740921873,25.2373602620357,16.991418422250685,5.5923422240839136,1.1547005383792515,15.749777796537002,1.4647188070836152,null,1.4472184225559777,1.4297180380283403,1.4122176535007027,1.3947172689730649,1.3772168844454276,1.35971649991779,1.3422161153901522,1.3247157308625148,1.3072153463348772,1.2897149618072394,1.2722145772796019,1.2547141927519645,1.2372138082243267,1.2197134236966891,1.2022130391690515,1.184712654641414,1.1672122701137764,1.149711885586139,1.1322115010585012,1.1147111165308636,1.0972107320032261]
[160,{"$f":"+正規乱数!L168","v":11.253845271123019},{"$f":"+正規乱数!M168","v":34.804862859835389},{"$f":"+正規乱数!N168","v":16.727467844933873},{"$f":"+正規乱数!O168","v":0.16609169814863681},25.091201767400811,12.545600883700404,21.729618142050111,16.991418422250685,3.2937310289791606,1.1547005383792515,12.994821193402544,1.2983477135434978,null,1.2774980237372244,1.2566483339309511,1.2357986441246778,1.2149489543184044,1.1940992645121311,1.1732495747058578,1.1523998848995844,1.1315501950933111,1.1107005052870378,1.0898508154807647,1.0690011256744913,1.048151435868218,1.0273017460619447,1.0064520562556711,0.98560236644939792,0.96475267664312458,0.94390298683685114,0.92305329703057781,0.90220360722430448,0.88135391741803115,0.86050422761175793]
[161,{"$f":"+正規乱数!L169","v":10.366169856071334},{"$f":"+正規乱数!M169","v":33.250917706466282},{"$f":"+正規乱数!N169","v":16.253220596333254},{"$f":"+正規乱数!O169","v":0.13446743970986064},24.379830894499882,12.189915447249939,21.113552894605593,16.991418422250685,2.7026841909431685,1.1547005383792515,11.969821913736338,1.2036593828868307,null,1.1872739484699946,1.1708885140531589,1.1545030796363227,1.1381176452194868,1.1217322108026508,1.1053467763858149,1.0889613419689788,1.0725759075521428,1.0561904731353069,1.039805038718471,1.023419604301635,1.0070341698847989,0.99064873546796295,0.97426330105112713,0.95787786663429109,0.94149243221745504,0.92510699780061911,0.90872156338378318,0.89233612896694714,0.8759506945501111,0.85956526013327506]
[162,{"$f":"+正規乱数!L170","v":8.7065011749968306},{"$f":"+正規乱数!M170","v":40.157354785829966},{"$f":"+正規乱数!N170","v":18.947996066206763},{"$f":"+正規乱数!O170","v":0.15332589625654416},28.421994099310144,14.21099704965507,24.614168916214002,16.991418422250685,6.4320043823259345,1.1547005383792515,10.053401594168426,1.160045696926979,null,1.1394206967508709,1.1187956965747625,1.0981706963986544,1.0775456962225463,1.0569206960464379,1.0362956958703298,1.0156706956942214,0.99504569551811328,0.97442069534200504,0.9537956951658968,0.93317069498978855,0.91254569481368031,0.89192069463757195,0.87129569446146371,0.85067069428535536,0.83004569410924711,0.80942069393313898,0.78879569375703074,0.76817069358092249,0.74754569340481425,0.72692069322870601]
[163,{"$f":"+正規乱数!L171","v":9.8317880531930282},{"$f":"+正規乱数!M171","v":34.020387506552908},{"$f":"+正規乱数!N171","v":19.904050245468955},{"$f":"+正規乱数!O171","v":0.18859151222809367},29.856075368203435,14.928037684101715,25.856119726167012,16.991418422250685,5.9839070439221658,1.1547005383792515,11.352770958252682,1.1613500963116086,null,1.1420300339748144,1.1227099716380202,1.1033899093012258,1.0840698469644316,1.0647497846276375,1.0454297222908435,1.0261096599540491,1.0067895976172552,0.98746953528046089,0.96814947294366671,0.94882941060687254,0.92950934827007825,0.91018928593328408,0.8908692235964899,0.87154916125969573,0.85222909892290144,0.83290903658610738,0.81358897424931309,0.79426891191251892,0.77494884957572474,0.75562878723893057]
[164,{"$f":"+正規乱数!L172","v":5.3994928234243593},{"$f":"+正規乱数!M172","v":38.528724118696118},{"$f":"+正規乱数!N172","v":18.172309609276709},{"$f":"+正規乱数!O172","v":0.14693407278185214},27.258464413915064,13.62923220695753,23.606522650604546,16.991418422250685,5.2673083267651926,1.1547005383792515,6.2347972701830123,0.84392909463209109,null,0.82448124684362889,0.8050333990551668,0.7855855512667046,0.7661377034782425,0.7466898556897803,0.72724200790131799,0.70779416011285601,0.68834631232439392,0.66889846453593171,0.6494506167474694,0.63000276895900731,0.61055492117054511,0.5911070733820829,0.57165922559362081,0.55221137780515861,0.53276353001669641,0.51331568222823432,0.49386783443977217,0.47441998665130991,0.45497213886284782,0.43552429107438567]
[165,{"$f":"+正規乱数!L173","v":11.469632434529672},{"$f":"+正規乱数!M173","v":40.789061163629043},{"$f":"+正規乱数!N173","v":17.533404979784045},{"$f":"+正規乱数!O173","v":0.11150628157249431},26.300107469676067,13.150053734838032,22.776561191000351,16.991418422250685,4.9916741813080874,1.1547005383792515,13.243990747163537,1.3867369134895959,null,1.3701611963737788,1.353585479257962,1.3370097621421451,1.3204340450263283,1.3038583279105116,1.2872826107946946,1.2707068936788777,1.2541311765630607,1.237555459447244,1.2209797423314273,1.2044040252156103,1.1878283080997933,1.1712525909839764,1.1546768738681596,1.1381011567523427,1.1215254396365257,1.104949722520709,1.088374005404892,1.0717982882890751,1.0552225711732584,1.0386468540574414]
[166,{"$f":"+正規乱数!L174","v":6.2623152154754287},{"$f":"+正規乱数!M174","v":36.601353191987897},{"$f":"+正規乱数!N174","v":19.601171766159926},{"$f":"+正規乱数!O174","v":0.2352011881459104},29.40175764923989,14.700878824619943,25.462669040155184,16.991418422250685,6.2916163537646295,1.1547005383792515,7.2310987508100553,0.91985759939248279,null,0.89293733709531287,0.86601707479814305,0.83909681250097323,0.81217655020380353,0.78525628790663371,0.75833602560946378,0.73141576331229397,0.70449550101512415,0.67757523871795444,0.65065497642078451,0.6237347141236147,0.59681445182644488,0.56989418952927484,0.54297392723210514,0.51605366493493521,0.48913340263776539,0.46221314034059557,0.4352928780434257,0.40837261574625588,0.38145235344908607,0.3545320911519162]
[167,{"$f":"+正規乱数!L175","v":7.437140127929176},{"$f":"+正規乱数!M175","v":32.91340997931686},{"$f":"+正規乱数!N175","v":18.587435945737273},{"$f":"+正規乱数!O175","v":0.17817236772530848},27.881153918605911,13.940576959302954,24.145787580336769,16.991418422250685,4.6307445965982454,1.1547005383792515,8.5876697097217551,0.94819707569556266,null,0.92945544147577919,0.91071380725599571,0.89197217303621223,0.87323053881642876,0.85448890459664517,0.8357472703768617,0.81700563615707822,0.79826400193729474,0.77952236771751127,0.76078073349772768,0.7420390992779442,0.72329746505816073,0.70455583083837725,0.68581419661859366,0.66707256239881019,0.6483309281790266,0.62958929395924323,0.61084765973945965,0.59210602551967617,0.57336439129989258,0.55462275708010911]
[168,{"$f":"+正規乱数!L176","v":5.942796512028683},{"$f":"+正規乱数!M176","v":33.566506187236989},{"$f":"+正規乱数!N176","v":15.478564106254989},{"$f":"+正規乱数!O176","v":0.1321074250265617},23.217846159382482,11.608923079691239,20.107244595184195,16.991418422250685,2.0675255074034715,1.1547005383792515,6.8621503319178583,0.76920794271976789,null,0.75210064866363036,0.73499335460749271,0.71788606055135529,0.70077876649521775,0.68367147243908022,0.6665641783829428,0.64945688432680526,0.63234959027066773,0.6152422962145303,0.59813500215839277,0.58102770810225524,0.5639204140461177,0.54681311998998017,0.52970582593384263,0.51259853187770499,0.49549123782156757,0.47838394376543003,0.4612766497092925,0.44416935565315496,0.42706206159701748,0.40995476754087989]
[169,{"$f":"+正規乱数!L177","v":11.885742672503724},{"$f":"+正規乱数!M177","v":38.273170612528105},{"$f":"+正規乱数!N177","v":17.100216544780299},{"$f":"+正規乱数!O177","v":0.18408677927419764},25.65032481717045,12.825162408585223,22.213832906992049,16.991418422250685,4.1204452002331262,1.1547005383792515,13.724473462977294,1.3913990400047449,null,1.3657423337009456,1.3400856273971464,1.3144289210933473,1.2887722147895482,1.2631155084857491,1.2374588021819499,1.2118020958781508,1.1861453895743517,1.1604886832705525,1.1348319769667532,1.1091752706629543,1.0835185643591549,1.0578618580553558,1.0322051517515567,1.0065484454477576,0.98089173914395833,0.95523503284015931,0.92957832653636008,0.90392162023256073,0.87826491392876171,0.85260820762496259]
[170,{"$f":"+正規乱数!L178","v":9.835687349264866},{"$f":"+正規乱数!M178","v":35.86925714309298},{"$f":"+正規乱数!N178","v":17.929138656196038},{"$f":"+正規乱数!O178","v":0.18006992200562696},26.893707984294057,13.446853992147027,23.290634316359043,16.991418422250685,4.5547228223740222,1.1547005383792515,11.357273477526133,1.1833248363663929,null,1.1613884888094399,1.1394521412524872,1.1175157936955344,1.0955794461385815,1.0736430985816288,1.0517067510246758,1.0297704034677231,1.0078340559107701,0.9858977083538174,0.96396136079686456,0.94202501323991172,0.92008866568295888,0.89815231812600604,0.8762159705690532,0.85427962301210036,0.83234327545514741,0.8104069278981948,0.78847058034124173,0.766534232784289,0.74459788522733628,0.72266153767038332]
[171,{"$f":"+正規乱数!L179","v":13.721235128866555},{"$f":"+正規乱数!M179","v":34.05679027980046},{"$f":"+正規乱数!N179","v":16.627009754127823},{"$f":"+正規乱数!O179","v":0.17198983127234047},24.940514631191732,12.470257315595864,21.599119254069521,16.991418422250685,3.1145827829854156,1.1547005383792515,15.843917590530509,1.5202974480571121,null,1.4991766009924525,1.4780557539277934,1.4569349068631339,1.4358140597984745,1.4146932127338154,1.3935723656691559,1.3724515186044963,{"$f":"+(($H181-$I181-V$10*$G$6*$E181*$K181)*TAN($C181*PI()/180)+$L181)/$G181","v":1.3513306715398372},1.3302098244751779,1.3090889774105186,1.2879681303458592,1.2668472832811997,1.2457264362165403,1.224605589151881,1.2034847420872217,1.1823638950225621,1.1612430479579028,1.1401222008932435,1.1190013538285841,1.0978805067639248,1.0767596596992655]
[172,{"$f":"+正規乱数!L180","v":9.9044386562991082},{"$f":"+正規乱数!M180","v":33.164394260139737},{"$f":"+正規乱数!N180","v":17.569588911728509},{"$f":"+正規乱数!O180","v":0.18838686863156007},26.354383367592764,13.17719168379638,22.823565497409419,16.991418422250685,3.8112759076089731,1.1547005383792515,11.43666064877285,1.157146144814132,null,1.1359801806137153,1.1148142164132986,1.0936482522128821,1.0724822880124654,1.0513163238120486,1.0301503596116319,1.0089843954112152,0.98781843121079849,0.96665246701038177,0.94548650280996516,0.92432053860954844,0.90315457440913172,0.88198861020871488,0.86082264600829816,0.83965668180788156,0.81849071760746483,0.79732475340704811,0.77615878920663139,0.75499282500621467,0.73382686080579806,0.71266089660538134]
[173,{"$f":"+正規乱数!L181","v":10.316847707656049},{"$f":"+正規乱数!M181","v":35.126984339447958},{"$f":"+正規乱数!N181","v":18.884642192410734},{"$f":"+正規乱数!O181","v":0.10475328735769757},28.326963288616099,14.163481644308048,24.53186982001073,16.991418422250685,5.3048251941089024,1.1547005383792515,11.912869602407186,1.2156399979121979,null,1.2038520084049735,1.1920640188977496,1.1802760293905252,1.1684880398833009,1.1567000503760765,1.1449120608688526,1.1331240713616282,1.121336081854404,1.1095480923471797,1.0977601028399555,1.0859721133327311,1.074184123825507,1.0623961343182826,1.0506081448110585,1.0388201553038343,1.0270321657966099,1.0152441762893858,1.0034561867821616,0.99166819727493727,0.9798802077677129,0.96809221826048875]
[174,{"$f":"+正規乱数!L182","v":12.595567803357023},{"$f":"+正規乱数!M182","v":36.966495618658897},{"$f":"+正規乱数!N182","v":19.15067367724108},{"$f":"+正規乱数!O182","v":0.16111743206018114},28.726010515861621,14.363005257930809,24.877454856115094,16.991418422250685,5.9353278407316621,1.1547005383792515,14.54410892372872,1.4258462206683569,null,1.4067190154960623,1.3875918103237677,1.3684646051514731,1.3493373999791785,1.3302101948068838,1.3110829896345892,1.2919557844622944,1.2728285792899998,1.2537013741177052,1.2345741689454106,1.215446963773116,1.1963197586008214,1.1771925534285268,1.1580653482562322,1.1389381430839376,1.119810937911643,1.1006837327393482,1.0815565275670536,1.062429322394759,1.0433021172224644,1.0241749120501698]
[175,{"$f":"+正規乱数!L183","v":11.749809976665572},{"$f":"+正規乱数!M183","v":34.166825184473311},{"$f":"+正規乱数!N183","v":18.072241251485032},{"$f":"+正規乱数!O183","v":0.14544175196968759},27.108361877227548,13.554180938613772,23.476530040660673,16.991418422250685,4.4017902804246356,1.1547005383792515,13.567511905909637,1.3257386977284993,null,1.3092382365897883,1.2927377754510772,1.2762373143123658,1.2597368531736548,1.2432363920349436,1.2267359308962327,1.2102354697575213,1.1937350086188101,1.1772345474800991,1.160734086341388,1.1442336252026766,1.1277331640639656,1.1112327029252544,1.0947322417865433,1.0782317806478321,1.0617313195091209,1.0452308583704097,1.0287303972316986,1.0122299360929874,0.99572947495427633,0.97922901381556504]
[176,{"$f":"+正規乱数!L184","v":10.319659089632347},{"$f":"+正規乱数!M184","v":38.719022823599666},{"$f":"+正規乱数!N184","v":16.283147687503476},{"$f":"+正規乱数!O184","v":0.19874660654986048},24.424721531255216,12.212360765627606,21.152429326427772,16.991418422250685,3.3358671518456329,1.1547005383792515,11.916115906688807,1.2488971912344766,null,1.2193389655221616,1.1897807398098466,1.1602225140975315,1.1306642883852165,1.1011060626729015,1.0715478369605862,1.0419896112482712,1.0124313855359561,0.98287315982364121,0.95331493411132606,0.92375670839901114,0.89419848268669599,0.86464025697438096,0.83508203126206582,0.80552380554975078,0.77596557983743564,0.7464073541251206,0.71684912841280568,0.68729090270049031,0.6577326769881755,0.62817445127586025]
[177,{"$f":"+正規乱数!L185","v":13.051701438542857},{"$f":"+正規乱数!M185","v":39.314347480475305},{"$f":"+正規乱数!N185","v":17.80861454041197},{"$f":"+正規乱数!O185","v":9.4465834667347759E-2},26.712921810617956,13.356460905308976,23.134068897302555,16.991418422250685,5.0302703417668697,1.1547005383792515,15.070806677850687,1.5049703032955162,null,1.4918486891683029,1.478727075041089,1.4656054609138756,1.4524838467866616,1.4393622326594484,1.4262406185322345,1.413119004405021,1.3999973902778076,1.3868757761505939,1.3737541620233802,1.3606325478961667,1.347510933768953,1.3343893196417393,1.3212677055145259,1.3081460913873122,1.2950244772600985,1.2819028631328848,1.2687812490056714,1.2556596348784577,1.242538020751244,1.2294164066240305]
[178,{"$f":"+正規乱数!L186","v":9.5540956584124554},{"$f":"+正規乱数!M186","v":39.752879163079939},{"$f":"+正規乱数!N186","v":17.254811928243722},{"$f":"+正規乱数!O186","v":0.1626739594792293},25.882217892365581,12.941108946182789,22.414658201072726,16.991418422250685,4.5109219612366758,1.1547005383792515,11.032119400495731,1.2010594630158882,null,1.1773718432597076,1.1536842235035267,1.1299966037473459,1.1063089839911653,1.0826213642349845,1.0589337444788036,1.035246124722623,1.0115585049664422,0.98787088521026145,0.96418326545408062,0.94049564569789978,0.91680802594171917,0.89312040618553834,0.86943278642935751,0.84574516667317667,0.82205754691699595,0.79836992716081523,0.7746823074046344,0.75099468764845367,0.72730706789227284,0.70361944813609212]
[179,{"$f":"+正規乱数!L187","v":7.2547508865580941},{"$f":"+正規乱数!M187","v":30.173939209184127},{"$f":"+正規乱数!N187","v":18.665570366296016},{"$f":"+正規乱数!O187","v":0.17341044355623583},27.998355549444025,13.999177774722011,24.247287170007542,16.991418422250685,4.2185993700310949,1.1547005383792515,8.3770647545159829,0.89974313686413609,null,0.88342690166220272,0.86711066646026935,0.85079443125833576,0.83447819605640239,0.81816196085446902,0.80184572565253553,0.78552949045060216,0.76921325524866879,0.75289702004673542,0.73658078484480205,0.72026454964286846,0.70394831444093509,0.6876320792390016,0.67131584403706823,0.65499960883513486,0.63868337363320149,0.62236713843126801,0.60605090322933464,0.58973466802740104,0.57341843282546767,0.5571021976235343]
[180,{"$f":"+正規乱数!L188","v":7.2849924761322935},{"$f":"+正規乱数!M188","v":35.432468808032574},{"$f":"+正規乱数!N188","v":18.384256139914942},{"$f":"+正規乱数!O188","v":0.13986480179821226},27.576384209872415,13.788192104936206,23.88184927026958,16.991418422250685,4.9026534605771754,1.1547005383792515,8.4119847342787555,0.96565511225284262,null,0.94930373652301903,0.93295236079319532,0.91660098506337151,0.9002496093335477,0.8838982336037241,0.86754685787390029,0.85119548214407659,0.834844106414253,0.81849273068442918,0.80214135495460548,0.78578997922478178,0.76943860349495796,0.75308722776513426,0.73673585203531056,0.72038447630548674,0.70403310057566315,0.68768172484583945,0.67133034911601563,0.65497897338619193,0.63862759765636812,0.62227622192654442]
[181,{"$f":"+正規乱数!L189","v":11.831617212605973},{"$f":"+正規乱数!M189","v":34.009039531376693},{"$f":"+正規乱数!N189","v":18.767764041771883},{"$f":"+正規乱数!O189","v":0.12354163304906084},28.151646062657825,14.075823031328911,24.380040648609846,16.991418422250685,4.9853848486352152,1.1547005383792515,13.661974765293335,1.3247793448684781,null,1.3113627242760915,1.297946103683705,1.2845294830913183,1.2711128624989319,1.2576962419065452,1.2442796213141585,1.230863000721772,1.2174463801293853,1.2040297595369989,1.1906131389446122,1.1771965183522255,1.163779897759839,1.1503632771674523,1.1369466565750659,1.1235300359826792,1.1101134153902927,1.0966967947979063,1.0832801742055196,1.0698635536131327,1.0564469330207464,1.0430303124283598]
[182,{"$f":"+正規乱数!L190","v":8.2273972946069662},{"$f":"+正規乱数!M190","v":39.360507891694127},{"$f":"+正規乱数!N190","v":16.490584479903834},{"$f":"+正規乱数!O190","v":0.17834528097197738},24.735876719855753,12.367938359927875,21.421897624275175,16.991418422250685,3.634125325087429,1.1547005383792515,9.5001800855426612,1.0619640095543528,null,1.0351672746696798,1.0083705397850069,0.98157380490033386,0.95477707001566092,0.92798033513098788,0.90118360024631494,0.87438686536164201,0.84759013047696918,0.82079339559229625,0.7939966607076232,0.76719992582295027,0.74040319093827733,0.7136064560536044,0.68680972116893135,0.66001298628425842,0.63321625139958548,{"$f":"+(($H192-$I192-AE$10*$G$6*$E192*$K192)*TAN($C192*PI()/180)+$L192)/$G192","v":0.60641951651491255},0.5796227816302395,0.55282604674556646,0.52602931186089374,0.4992325769762207]
[183,{"$f":"+正規乱数!L191","v":11.456969742193255},{"$f":"+正規乱数!M191","v":38.945549505266094},{"$f":"+正規乱数!N191","v":17.778669521670746},{"$f":"+正規乱数!O191","v":0.18089653247815005},26.668004282506118,13.334002141253057,23.0951691768825,16.991418422250685,4.9331228740062816,1.1547005383792515,13.229369129505345,1.3621185755865504,null,1.3372779096157377,1.312437243644925,1.2875965776741123,1.2627559117032996,1.2379152457324869,1.2130745797616744,1.1882339137908617,1.163393247820049,1.1385525818492364,1.1137119158784239,1.0888712499076112,1.0640305839367985,1.0391899179659858,1.0143492519951731,0.98950858602436031,0.96466792005354784,0.93982725408273515,0.91498658811192246,0.89014592214110977,0.86530525617029708,0.8404645901994845]
[184,{"$f":"+正規乱数!L192","v":6.9649823415079997},{"$f":"+正規乱数!M192","v":36.824568208961978},{"$f":"+正規乱数!N192","v":19.34451498273739},{"$f":"+正規乱数!O192","v":0.17049750589424492},29.016772474106084,14.50838623705304,25.129262098408908,16.991418422250685,6.0933289734947644,1.1547005383792515,8.0424688595412661,0.97431910083387119,null,0.95438426902225049,0.9344494372106299,0.91451460539900908,0.89457977358738838,0.87464494177576779,0.85471010996414709,0.83477527815252639,0.81484044634090569,0.79490561452928499,0.77497078271766418,0.75503595090604358,0.73510111909442299,0.71516628728280218,0.69523145547118137,0.67529662365956078,0.65536179184794008,0.63542696003631938,0.61549212822469856,0.59555729641307797,0.57562246460145727,0.55568763278983657]
[185,{"$f":"+正規乱数!L193","v":9.5301460685301915},{"$f":"+正規乱数!M193","v":37.403387258835643},{"$f":"+正規乱数!N193","v":17.880155354591651},{"$f":"+正規乱数!O193","v":0.1811746570096277},26.820233031887476,13.410116515943736,23.227003141033091,16.991418422250685,4.7680486588584428,1.1547005383792515,11.004464796164719,1.1761652806126399,null,1.1527609209957768,1.1293565613789136,1.1059522017620504,1.0825478421451873,1.0591434825283244,1.0357391229114612,1.012334763294598,0.98893040367773499,0.96552604406087195,0.94212168444400879,0.91871732482714574,0.89531296521028247,0.87190860559341932,0.84850424597655616,0.82509988635969311,0.80169552674282996,0.7782911671259668,0.75488680750910364,0.73148244789224048,0.70807808827537755,0.68467372865851428]
[186,{"$f":"+正規乱数!L194","v":9.9400436594827166},{"$f":"+正規乱数!M194","v":34.68767661645461},{"$f":"+正規乱数!N194","v":17.14124088743403},{"$f":"+正規乱数!O194","v":0.16867969445389694},25.711861331151045,12.855930665575521,22.267125091359581,16.991418422250685,3.6513939653774368,1.1547005383792515,11.477773765117957,1.1768239985150937,null,1.1562506156478758,1.1356772327806579,1.11510384991344,1.0945304670462219,1.073957084179004,1.0533837013117862,1.0328103184445683,1.0122369355773504,0.9916635527101324,0.97109016984291452,0.95051678697569653,0.92994340410847853,0.90937002124126065,0.88879663837404266,0.86822325550682478,0.84764987263960678,0.8270764897723889,0.80650310690517102,0.78592972403795303,0.76535634117073525,0.74478295830351704]
[187,{"$f":"+正規乱数!L195","v":7.4510963342816598},{"$f":"+正規乱数!M195","v":34.798985958867689},{"$f":"+正規乱数!N195","v":18.136691586228729},{"$f":"+正規乱数!O195","v":0.13025533297857256},27.205037379343093,13.602518689671545,23.56025348141635,16.991418422250685,4.5652868846096419,1.1547005383792515,8.6037849487107003,0.96813480898355087,null,0.95305748488475572,0.93798016078596036,0.92290283668716522,0.90782551258836985,0.89274818848957471,0.87767086439077946,{"$f":"+(($H197-$I197-U$10*$G$6*$E197*$K197)*TAN($C197*PI()/180)+$L197)/$G197","v":0.86259354029198432},0.84751621619318906,0.83243889209439381,0.81736156799559856,0.80228424389680331,0.78720691979800794,0.77212959569921269,0.75705227160041744,0.74197494750162218,0.72689762340282693,0.71182029930403168,0.69674297520523643,0.68166565110644106,0.66658832700764592,0.65151100290885056]
[188,{"$f":"+正規乱数!L196","v":6.3670167032223173},{"$f":"+正規乱数!M196","v":31.89670822601277},{"$f":"+正規乱数!N196","v":18.996399872984064},{"$f":"+正規乱数!O196","v":0.18086422080561443},28.494599809476096,14.247299904738046,24.677047305677526,16.991418422250685,4.7832700408850659,1.1547005383792515,7.3519976150804967,0.85175912187613101,null,0.83385990802793941,0.81596069417974804,0.79806148033155633,0.78016226648336484,0.76226305263517335,0.74436383878698176,0.72646462493879027,0.70856541109059878,0.6906661972424073,0.6727669833942157,0.65486776954602421,0.63696855569783262,0.61906934184964102,0.60117012800144953,0.58327091415325805,0.56537170030506645,0.54747248645687485,0.52957327260868337,0.51167405876049177,0.49377484491230028,0.47587563106410874]
[189,{"$f":"+正規乱数!L197","v":10.556286190392873},{"$f":"+正規乱数!M197","v":34.186619987604942},{"$f":"+正規乱数!N197","v":17.382631060346966},{"$f":"+正規乱数!O197","v":0.18959410147541569},26.07394659052045,13.036973295260223,22.580700124309363,16.991418422250685,3.7965641553073897,1.1547005383792515,12.189349347332108,1.2261982241270222,null,1.2038186838238614,1.1814391435207003,1.1590596032175395,1.1366800629143785,1.1143005226112177,1.0919209823080567,1.0695414420048959,1.0471619017017351,1.024782361398574,1.0024028210954132,0.9800232807922522,0.9576437404890914,0.93526420018593048,0.91288465988276957,0.89050511957960865,0.86812557927644773,0.84574603897328671,0.8233664986701259,0.80098695836696499,0.77860741806380396,0.75622787776064315]
[190,{"$f":"+正規乱数!L198","v":10.855957226521932},{"$f":"+正規乱数!M198","v":34.727952689256142},{"$f":"+正規乱数!N198","v":17.883584170438237},{"$f":"+正規乱数!O198","v":0.17838884187047188},26.825376255657353,13.412688127828675,23.231457303475153,16.991418422250685,4.3253132306145172,1.1547005383792515,12.535379654087,1.2570703742614364,null,1.2361846038920208,1.2152988335226054,1.1944130631531897,1.1735272927837741,1.1526415224143585,1.1317557520449428,1.1108699816755272,1.0899842113061116,1.0690984409366959,1.0482126705672805,1.0273269001978649,1.0064411298284492,0.98555535945903361,0.96466958908961786,0.94378381872020223,0.9228980483507867,0.90201227798137107,0.88112650761195532,0.8602407372425398,0.83935496687312416,0.81846919650370853]
[191,{"$f":"+正規乱数!L199","v":13.201829464754804},{"$f":"+正規乱数!M199","v":33.383049869472238},{"$f":"+正規乱数!N199","v":17.501949746266472},{"$f":"+正規乱数!O199","v":8.2372709824412457E-2},26.252924619399707,13.126462309699852,22.735699644038064,16.991418422250685,3.785217856215719,1.1547005383792515,15.244159590543436,1.4496958127626909,null,1.4403275467209842,1.430959280679277,1.4215910146375701,1.4122227485958629,1.4028544825541562,1.3934862165124493,1.3841179504707424,1.3747496844290352,1.3653814183873285,1.3560131523456216,1.3466448863039144,1.3372766202622077,1.3279083542205008,1.3185400881787936,1.3091718221370867,1.29980355609538,1.2904352900536731,1.2810670240119659,1.271698757970259,1.2623304919285523,1.2529622258868451]
[192,{"$f":"+正規乱数!L200","v":10.582744557689061},{"$f":"+正規乱数!M200","v":40.656487100901948},{"$f":"+正規乱数!N200","v":18.82729105014818},{"$f":"+正規乱数!O200","v":0.1687879133030081},28.240936575222271,14.120468287611134,24.45736850080759,16.991418422250685,6.411871797526346,1.1547005383792515,12.219900838293652,1.3194868793527865,null,1.2962295220900022,1.2729721648272179,1.2497148075644333,1.226457450301649,1.2032000930388647,1.1799427357760801,1.1566853785132962,1.1334280212505117,1.1101706639877273,1.086913306724943,1.0636559494621585,1.0403985921993741,1.0171412349365898,0.99388387767380548,0.97062652041102104,0.94736916314823671,0.92411180588545239,0.90085444862266795,0.87759709135988351,0.85433973409709929,0.83108237683431485]
[193,{"$f":"+正規乱数!L201","v":9.7578392694695086},{"$f":"+正規乱数!M201","v":33.313186055218999},{"$f":"+正規乱数!N201","v":16.361660785111532},{"$f":"+正規乱数!O201","v":0.11381813979245731},24.542491177667298,12.271245588833647,21.254420832015345,16.991418422250685,2.8016738093603286,1.1547005383792515,11.267382257874644,1.1465059488367884,null,1.1326959640885796,1.1188859793403709,1.1050759945921624,1.0912660098439539,1.0774560250957455,1.0636460403475367,1.0498360555993282,1.0360260708511195,1.022216086102911,1.0084061013547025,0.99459611660649394,0.98078613185828545,0.96697614711007673,0.95316616236186824,0.93935617761365964,0.92554619286545114,0.91173620811724243,0.89792622336903383,0.88411623862082533,0.87030625387261684,0.85649626912440813]
[194,{"$f":"+正規乱数!L202","v":6.9227019477286991},{"$f":"+正規乱数!M202","v":34.848086030755312},{"$f":"+正規乱数!N202","v":18.399682115603497},{"$f":"+正規乱数!O202","v":0.17318956927165641},27.599523173405245,{"$f":"+F204*SIN($G$2*PI()/180)","v":13.799761586702621},23.901888200506249,{"$f":"+$G$5*$G$4*$G$6/COS($G$2*PI()/180)","v":16.991418422250685},4.8115078487818579,{"$f":"+$G$4/COS($G$2*PI()/180)","v":1.1547005383792515},7.9936476660814213,0.92792585106704029,null,0.90812918092893569,0.8883325107908312,0.86853584065272671,0.848739170514622,0.82894250037651751,0.80914583023841302,0.78934916010030853,0.76955248996220393,0.74975581982409945,0.72995914968599485,0.71016247954789036,0.69036580940978576,0.67056913927168116,0.65077246913357656,0.63097579899547207,0.61117912885736747,0.59138245871926298,0.57158578858115838,0.55178911844305378,0.53199244830494929,0.51219577816684481]
[195,{"$f":"+正規乱数!L203","v":9.0148615511827597},{"$f":"+正規乱数!M203","v":35.75420476245673},{"$f":"+正規乱数!N203","v":18.048524385760889},{"$f":"+正規乱数!O203","v":0.16338275453322085},27.072786578641335,13.536393289320666,23.445720928337796,16.991418422250685,4.647152113070776,1.1547005383792515,10.409465486565146,1.1123064525256232,null,1.0926181083416957,1.072929764157768,1.0532414199738402,1.0335530757899127,1.013864731605985,0.99417638742205749,0.97448804323812976,0.95479969905420226,0.93511135487027464,0.91542301068634702,0.8957346665024194,0.87604632231849167,0.85635797813456405,0.83666963395063643,0.81698128976670881,0.79729294558278119,0.77760460139885346,0.75791625721492595,0.73822791303099822,0.71853956884707071,0.69885122466314298]
[196,{"$f":"+正規乱数!L204","v":10.235425652637508},{"$f":"+正規乱数!M204","v":32.150249721847473},{"$f":"+正規乱数!N204","v":19.317077535969929},{"$f":"+正規乱数!O204","v":0.12331215968984943},28.975616303954894,14.487808151977445,25.093619809535504,16.991418422250685,5.0924087862062919,1.1547005383792515,11.818851511641332,1.1672752786652136,null,1.1551555802224385,1.1430358817796635,1.1309161833368884,1.1187964848941137,1.1066767864513385,1.0945570880085636,1.0824373895657886,1.0703176911230137,1.0581979926802387,1.0460782942374638,1.0339585957946886,1.0218388973519137,1.0097191989091387,0.99759950046636381,0.98547980202358876,0.97336010358081382,0.96124040513803888,0.94912070669526383,0.93700100825248867,0.92488130980971384,0.9127616113669389]
[197,{"$f":"+正規乱数!L205","v":7.8205288701456022},{"$f":"+正規乱数!M205","v":33.872191725465662},{"$f":"+正規乱数!N205","v":19.756781631688572},{"$f":"+正規乱数!O205","v":0.13642888205690046},29.63517244753286,14.817586223766428,25.664812185096118,16.991418422250685,5.82217029967416,1.1547005383792515,9.0303688967676052,1.0023588843788387,null,0.9883567877693421,0.9743546911598453,0.96035259455034883,0.94635049794085224,0.93234840133135566,0.91834630472185896,0.90434420811236238,0.89034211150286591,0.87634001489336921,0.86233791828387263,0.84833582167437604,0.83433372506487935,0.82033162845538277,0.80632953184588618,0.7923274352363896,0.77832533862689302,0.76432324201739643,0.75032114540789974,0.73631904879840315,0.72231695218890657,0.70831485557940999]
[198,{"$f":"+正規乱数!L206","v":9.3753845979505765},{"$f":"+正規乱数!M206","v":36.772564804798122},{"$f":"+正規乱数!N206","v":17.992435626488412},{"$f":"+正規乱数!O206","v":0.17497665646186952},26.988653439732616,13.494326719866306,23.37285949274272,16.991418422250685,4.7691638165265262,1.1547005383792515,10.825761642766073,1.1556653238826506,null,1.13371096591132,1.1117566079399896,1.0898022499686593,1.0678478919973289,1.0458935340259983,1.0239391760546679,1.0019848180833375,0.98003046011200712,0.95807610214067673,0.93612174416934635,0.91416738619801585,0.89221302822668536,0.87025867025535497,0.84830431228402448,0.82634995431269398,0.80439559634136359,0.7824412383700331,0.76048688039870271,0.73853252242737222,0.71657816445604194,0.69462380648471134]
[199,{"$f":"+正規乱数!L207","v":10.319995518737084},{"$f":"+正規乱数!M207","v":38.130673622956323},{"$f":"+正規乱数!N207","v":19.936126830931595},{"$f":"+正規乱数!O207","v":0.11617903787753645},29.904190246397391,14.952095123198694,25.897788432982974,16.991418422250685,6.9911889192493017,1.1547005383792515,11.916504381557173,1.2645514320913149,null,1.2507334571766049,1.2369154822618944,1.2230975073471844,1.2092795324324741,1.1954615575177636,1.1816435826030536,1.1678256076883431,1.1540076327736331,1.1401896578589226,1.1263716829442125,1.1125537080295023,1.0987357331147918,1.0849177582000817,1.0710997832853715,1.0572818083706612,1.043463833455951,1.0296458585412407,1.0158278836265304,1.0020099087118202,0.9881919337971099,0.97437395888239953]
[200,{"$f":"+正規乱数!L208","v":12.12952729448099},{"$f":"+正規乱数!M208","v":36.799768274714253},{"$f":"+正規乱数!N208","v":16.747514344032595},{"$f":"+正規乱数!O208","v":0.13673957919452126},25.121271516048893,12.560635758024445,21.755659308264761,16.991418422250685,3.5640774920426175,1.1547005383792515,14.005971697223025,1.3988184617200528,null,1.3803681199702302,1.3619177782204077,1.3434674364705854,1.3250170947207629,1.3065667529709404,1.2881164112211179,1.2696660694712956,1.251215727721473,1.2327653859716505,1.2143150442218282,1.1958647024720059,1.1774143607221832,1.1589640189723607,1.1405136772225384,1.1220633354727159,1.1036129937228933,1.085162651973071,1.0667123102232485,1.048261968473426,1.0298116267236035,1.011361284973781]
[201,{"$f":"+正規乱数!L209","v":10.75701623896602},{"$f":"+正規乱数!M209","v":30.91509819293265},{"$f":"+正規乱数!N209","v":18.695326293344248},{"$f":"+正規乱数!O209","v":0.10274903205588615},28.04298944001637,14.021494720008183,24.285941253112927,16.991418422250685,4.3682929768770027,1.1547005383792515,12.421132442488414,1.1974062505196035,null,1.187464412835646,1.1775225751516885,1.1675807374677309,1.1576388997837732,1.1476970620998157,1.137755224415858,1.1278133867319002,1.1178715490479427,1.107929711363985,1.0979878736800275,1.08804603599607,1.0781041983121122,1.0681623606281547,1.058220522944197,1.0482786852602395,1.038336847576282,1.0283950098923242,1.0184531722083667,1.0085113345244092,0.99856949684045149,0.98862765915649387]
[202,{"$f":"+正規乱数!L210","v":12.684698275834458},{"$f":"+正規乱数!M210","v":38.033622578011162},{"$f":"+正規乱数!N210","v":17.956824884193956},{"$f":"+正規乱数!O210","v":0.17032680801435071},26.935237326290935,13.467618663145466,23.326599781530792,16.991418422250685,4.9555757998094681,1.1547005383792515,14.647027928284412,1.4555359947736703,null,1.4331232193479619,1.4107104439222535,1.3882976684965456,1.3658848930708372,1.343472117645129,1.3210593422194208,1.2986465667937126,1.2762337913680042,1.2538210159422962,1.2314082405165878,1.2089954650908794,1.1865826896651712,1.164169914239463,1.1417571388137548,1.1193443633880464,1.096931587962338,1.0745188125366298,1.0521060371109217,1.0296932616852135,1.0072804862595053,0.98486771083379687]
[203,{"$f":"+正規乱数!L211","v":10.261085476262494},{"$f":"+正規乱数!M211","v":35.514656227232287},{"$f":"+正規乱数!N211","v":19.481241589730214},{"$f":"+正規乱数!O211","v":0.22315921262193961},29.221862384595319,14.610931192297658,25.306875170952463,16.991418422250685,5.934567565263194,1.1547005383792515,11.848480923795819,1.2171057583539631,null,1.1924108018306572,1.1677158453073513,1.1430208887840458,1.11832593226074,1.0936309757374343,{"$f":"+(($H213-$I213-T$10*$G$6*$E213*$K213)*TAN($C213*PI()/180)+$L213)/$G213","v":1.0689360192141286},1.044241062690823,1.0195461061675173,0.99485114964421151,0.97015619312090584,0.94546123659760006,0.92076628007429417,0.89607132355098851,0.87137636702768284,0.84668141050437706,0.8219864539810714,0.79729149745776562,0.77259654093445984,0.74790158441115417,0.72320662788784851,0.69851167136454262]
[204,{"$f":"+正規乱数!L212","v":11.236206686003396},{"$f":"+正規乱数!M212","v":32.604879437787829},{"$f":"+正規乱数!N212","v":17.31476007866306},{"$f":"+正規乱数!O212","v":0.15163523944813065},25.972140117994591,12.986070058997294,22.492533132832286,16.991418422250685,3.5187697623357144,1.1547005383792515,12.974453909668666,1.2700704367890872,null,1.2531492460298082,1.2362280552705289,1.2193068645112499,1.2023856737519707,1.1854644829926917,1.1685432922334125,1.1516221014741335,1.1347009107148542,1.1177797199555752,1.1008585291962962,1.083937338437017,1.0670161476777378,1.0500949569184588,1.0331737661591796,1.0162525753999005,0.99933138464062143,0.98241019388134232,0.96548900312206309,0.94856781236278398,0.93164662160350498,0.91472543084422575]
[205,{"$f":"+正規乱数!L213","v":10.937213387637231},{"$f":"+正規乱数!M213","v":34.594838608954404},{"$f":"+正規乱数!N213","v":18.907109989008202},{"$f":"+正規乱数!O213","v":0.16604231260859137},28.360664983512301,14.180332491756149,24.561056343941431,16.991418422250685,5.2209370741840626,1.1547005383792515,12.629206187073468,1.258795819606829,null,1.240499064162494,1.2222023087181588,1.2039055532738236,1.1856087978294885,1.1673120423851535,1.1490152869408181,1.1307185314964832,1.112421776052148,1.0941250206078128,1.0758282651634776,1.0575315097191424,1.0392347542748075,1.0209379988304721,1.0026412433861371,0.98434448794180185,0.96604773249746678,0.9477509770531316,0.92945422160879643,0.91115746616446125,0.89286071072012629,0.87456395527579112]
[206,{"$f":"+正規乱数!L214","v":8.4088206244575581},{"$f":"+正規乱数!M214","v":34.934841066877297},{"$f":"+正規乱数!N214","v":17.142951229550476},{"$f":"+正規乱数!O214","v":0.16140856671240136},25.714426844325715,12.857213422162856,22.269346890942586,16.991418422250685,3.6867073011844034,1.1547005383792515,9.7096697021956953,1.0419347150516962,null,1.0220681282807755,1.0022015415098549,0.98233495473893406,0.96246836796801349,0.9426017811970927,0.92273519442617213,0.90286860765525134,0.88300202088433066,0.86313543411341009,0.8432688473424893,0.82340226057156873,0.80353567380064794,0.78366908702972715,0.76380250025880658,0.74393591348788579,0.72406932671696522,0.70420273994604443,0.68433615317512364,0.66446956640420307,0.64460297963328239,0.62473639286236171]
[207,{"$f":"+正規乱数!L215","v":12.655889360907498},{"$f":"+正規乱数!M215","v":36.799318471394933},{"$f":"+正規乱数!N215","v":17.096191866518744},{"$f":"+正規乱数!O215","v":0.16618830190977107},25.644287799778116,12.822143899889056,22.2086046965672,16.991418422250685,3.9028571985418807,1.1547005383792515,14.613762258708128,1.4441125916088202,null,1.4221464138769935,1.400180236145167,1.3782140584133404,1.3562478806815139,1.3342817029496874,1.3123155252178604,1.2903493474860339,1.2683831697542074,1.2464169920223811,1.2244508142905544,1.2024846365587278,1.1805184588269011,1.1585522810950746,1.1365861033632478,1.1146199256314213,1.0926537478995948,1.0706875701677683,1.0487213924359415,1.026755214704115,1.0047890369722885,0.98282285924046175]
[208,{"$f":"+正規乱数!L216","v":9.4178234070951969},{"$f":"+正規乱数!M216","v":37.390759902520315},{"$f":"+正規乱数!N216","v":18.859571273955947},{"$f":"+正規乱数!O216","v":0.10168586411625039},28.289356910933918,14.144678455466957,24.499301741593648,16.991418422250685,5.7382919044774425,1.1547005383792515,10.87476575853354,1.1745093898963812,null,1.1620613492458509,1.1496133085953204,1.1371652679447901,1.1247172272942596,1.1122691866437293,1.099821145993199,1.0873731053426687,1.0749250646921382,1.0624770240416079,1.0500289833910776,1.0375809427405474,1.0251329020900168,1.0126848614394863,1.000236820788956,0.98778878013842575,0.97534073948789546,0.96289269883736506,0.95044465818683466,0.93799661753630426,0.92554857688577397,0.91310053623524357]
[209,{"$f":"+正規乱数!L217","v":9.2041910931715609},{"$f":"+正規乱数!M217","v":35.377788255391749},{"$f":"+正規乱数!N217","v":19.650559441296551},{"$f":"+正規乱数!O217","v":0.15263034556879471},29.475839161944826,14.737919580972411,25.526825512108438,16.991418422250685,6.0608194196752656,1.1547005383792515,10.628084410630713,1.1323785381386129,null,1.1157183392508649,1.0990581403631168,1.0823979414753688,1.0657377425876207,1.0490775436998727,1.0324173448121245,1.0157571459243766,0.99909694703662844,0.98243674814888049,0.96577654926113232,0.94911635037338427,0.93245615148563621,0.91579595259788804,0.89913575371013998,0.88247555482239193,0.86581535593464387,0.84915515704689581,0.83249495815914776,0.81583475927139959,0.79917456038365164,0.78251436149590348]
[210,{"$f":"+正規乱数!L218","v":12.070725366760453},{"$f":"+正規乱数!M218","v":35.678121487418238},{"$f":"+正規乱数!N218","v":18.582082912621839},{"$f":"+正規乱数!O218","v":0.15156340480764469},27.873124368932757,13.936562184466377,24.138833786338868,16.991418422250685,5.1318015907043613,1.1547005383792515,13.938073079626383,1.3683342002079919,null,1.3506441973524332,1.3329541944968746,1.3152641916413159,1.2975741887857573,1.2798841859301988,1.2621941830746402,1.2445041802190815,1.2268141773635228,1.2091241745079642,1.1914341716524055,1.1737441687968471,1.1560541659412882,1.1383641630857295,1.1206741602301711,1.1029841573746124,1.0852941545190538,1.0676041516634951,1.0499141488079364,1.0322241459523778,1.0145341430968191,0.99684414024126056]
[211,{"$f":"+正規乱数!L219","v":5.2602879367926416},{"$f":"+正規乱数!M219","v":39.346338897261681},{"$f":"+正規乱数!N219","v":18.221574603838892},{"$f":"+正規乱数!O219","v":0.1798156550046924},27.33236190575834,13.666180952879168,23.670519755816777,16.991418422250685,5.4758077388817057,1.1547005383792515,6.0740573126443449,0.84514211331972344,null,0.82070337042295849,0.79626462752619354,0.77182588462942869,0.74738714173266374,0.72294839883589879,0.69850965593913406,0.6740709130423691,0.64963217014560415,0.62519342724883931,0.60075468435207435,0.57631594145530951,0.55187719855854445,0.5274384556617796,0.50299971276501476,0.47856096986824981,0.45412222697148491,0.42968348407472001,0.40524474117795506,0.38080599828119016,0.35636725538442521,0.33192851248766037]
[212,{"$f":"+正規乱数!L220","v":16.12426849563149},{"$f":"+正規乱数!M220","v":34.653706818575749},{"$f":"+正規乱数!N220","v":18.375927637564555},{"$f":"+正規乱数!O220","v":0.10758858532728491},27.56389145634683,13.781945728173413,23.871030228353206,16.991418422250685,4.7554500456098223,1.1547005383792515,18.618701512877283,1.695997939587373,null,1.6837728591924215,1.6715477787974704,1.6593226984025191,1.6470976180075676,1.6348725376126165,1.6226474572176652,1.6104223768227139,1.5981972964277626,1.5859722160328114,1.5737471356378601,1.5615220552429088,1.5492969748479575,1.5370718944530062,1.5248468140580549,1.5126217336631034,1.5003966532681523,1.488171572873201,1.4759464924782495,1.4637214120832984,1.4514963316883469,1.4392712512933956]
[213,{"$f":"+正規乱数!L221","v":6.2794092314947427},{"$f":"+正規乱数!M221","v":39.146041617215893},{"$f":"+正規乱数!N221","v":17.187539706479811},{"$f":"+正規乱数!O221","v":0.20556168924262821},25.781309559719716,12.890654779859856,22.327269021547878,16.991418422250685,4.3434524198202027,1.1547005383792515,7.2508372203106211,0.89943372451844328,null,0.87002562368982594,0.84061752286120883,0.8112094220325915,0.78180132120397428,0.75239322037535705,0.72298511954673972,0.6935770187181225,0.66416891788950538,0.63476081706088805,0.60535271623227083,0.5759446154036536,0.54653651457503638,0.51712841374641905,0.48772031291780182,0.45831221208918449,0.42890411126056721,0.3994960104319501,0.37008790960333265,0.34067980877471549,0.31127170794609826,0.28186360711748093]
[214,{"$f":"+正規乱数!L222","v":15.697686527505027},{"$f":"+正規乱数!M222","v":35.609131172309567},{"$f":"+正規乱数!N222","v":17.85228999854592},{"$f":"+正規乱数!O222","v":0.17481393435541115},26.778434997818881,13.389217498909439,23.19080498170144,16.991418422250685,4.4398194150275296,1.1547005383792515,18.126127084618776,1.6853820248632392,null,1.6641981300825397,1.64301423530184,1.6218303405211407,1.600646445740441,1.5794625509597415,1.558278656179042,1.5370947613983423,1.5159108666176428,1.4947269718369431,1.4735430770562437,1.4523591822755442,1.4311752874948445,1.4099913927141452,1.3888074979334455,1.367623603152746,1.3464397083720463,1.3252558135913468,1.3040719188106471,1.2828880240299476,1.2617041292492479,1.2405202344685484]
[215,{"$f":"+正規乱数!L223","v":12.605124874802684},{"$f":"+正規乱数!M223","v":32.836752346967991},{"$f":"+正規乱数!N223","v":18.607686231258302},{"$f":"+正規乱数!O223","v":0.12068562243819676},27.911529346887455,13.955764673443726,24.172093472879418,16.991418422250685,4.6341510190195674,1.1547005383792515,14.555144479272354,1.3750085321234331,null,1.3623648031736704,1.3497210742239076,1.3370773452741451,1.3244336163243824,1.3117898873746194,1.2991461584248569,1.2865024294750942,1.2738587005253315,1.2612149715755687,1.248571242625806,1.2359275136760435,1.2232837847262805,1.2106400557765178,1.1979963268267553,1.1853525978769923,1.1727088689272298,1.1600651399774671,1.1474214110277041,1.1347776820779416,1.1221339531281789,1.1094902241784161]
[216,{"$f":"+正規乱数!L224","v":10.991433801966451},{"$f":"+正規乱数!M224","v":36.898787242972787},{"$f":"+正規乱数!N224","v":18.175762930434836},{"$f":"+正規乱数!O224","v":0.10402901572185777},27.263644395652253,13.631822197826125,23.611008646380093,16.991418422250685,4.9699098296779685,1.1547005383792515,12.691814528690564,1.2956246129138229,null,1.282644264456986,1.2696639160001491,1.2566835675433119,1.243703219086475,1.2307228706296378,1.2177425221728011,1.2047621737159639,1.191781825259127,1.1788014768022901,1.1658211283454532,1.152840779888616,1.1398604314317791,1.1268800829749419,1.113899734518105,1.1009193860612678,1.0879390376044309,1.074958689147594,1.0619783406907568,1.0489979922339199,1.0360176437770829,1.023037295320246]
[217,{"$f":"+正規乱数!L225","v":11.356133195221942},{"$f":"+正規乱数!M225","v":34.446895931909729},{"$f":"+正規乱数!N225","v":17.577180546950348},{"$f":"+正規乱数!O225","v":0.19180206347577769},26.365770820425524,13.18288541021276,22.833427320846987,16.991418422250685,4.0071343165145263,1.1547005383792515,13.112933114429264,1.2986585939433943,null,1.2760495157832952,1.2534404376231962,1.2308313594630973,1.2082222813029984,1.1856132031428992,1.1630041249828003,1.1403950468227011,1.1177859686626022,1.0951768905025032,1.0725678123424043,1.0499587341823051,1.0273496560222062,1.004740577862107,0.98213149970200808,0.95952242154190892,0.93691334338180998,0.91430426522171093,0.89169518706161188,0.86908610890151283,0.84647703074141389,0.82386795258131473]
[218,{"$f":"+正規乱数!L226","v":11.097580284374118},{"$f":"+正規乱数!M226","v":36.321357850543436},{"$f":"+正規乱数!N226","v":17.331541855822962},{"$f":"+正規乱数!O226","v":0.11588083402310237},25.997312783734444,12.99865639186722,22.514333300843973,16.991418422250685,4.0601548189925429,1.1547005383792515,12.814381929073761,1.2981754605517599,null,1.2833278774649244,1.2684802943780888,1.2536327112912535,1.2387851282044178,1.2239375451175825,1.2090899620307469,1.1942423789439114,1.1793947958570761,1.1645472127702405,1.1496996296834052,1.1348520465965697,1.1200044635097344,1.1051568804228988,1.0903092973360633,1.0754617142492278,1.0606141311623922,1.0457665480755569,1.0309189649887214,1.0160713819018858,1.0012237988150505,0.9863762157282151]
[219,{"$f":"+正規乱数!L227","v":12.464915371915023},{"$f":"+正規乱数!M227","v":35.319541008635952},{"$f":"+正規乱数!N227","v":18.449755400981118},{"$f":"+正規乱数!O227","v":0.18977277106766549},{"$f":"+$G$3*$G$4*D229","v":27.674633101471677},13.837316550735837,{"$f":"+F229*COS($G$2*PI()/180)","v":23.966935306288203},16.991418422250685,{"$f":"+(H229-I229)*TAN(C229*PI()/180)","v":4.9425138121505094},1.1547005383792515,{"$f":"+K229*B229","v":14.393244490802084},{"$f":"+(J229+L229)/G229","v":1.3973632988777989},null,1.3753481365662759,1.3533329742547524,1.3313178119432296,1.3093026496317064,{"$f":"+(($H229-$I229-S$10*$G$6*$E229*$K229)*TAN($C229*PI()/180)+$L229)/$G229","v":1.2872874873201836},1.2652723250086602,1.2432571626971374,1.2212420003856141,1.1992268380740909,1.1772116757625679,1.1551965134510449,1.1331813511395217,1.1111661888279987,1.0891510265164757,1.0671358642049524,1.0451207018934294,1.0231055395819062,1.0010903772703832,0.97907521495886007,0.95706005264733707,0.93504489033581395]
[220,{"$f":"+正規乱数!L228","v":9.073554697774437},{"$f":"+正規乱数!M228","v":35.924248236704017},{"$f":"+正規乱数!N228","v":18.343977961855508},{"$f":"+正規乱数!O228","v":0.14943158770857884},27.515966942783262,13.757983471391629,23.829526382143143,16.991418422250685,4.9543764037085189,1.1547005383792515,10.477238494533729,1.1216480184273205,null,1.1038197549279478,1.0859914914285751,1.0681632279292024,1.0503349644298297,1.0325067009304569,1.0146784374310842,0.99685017393171149,0.97902191043233877,0.96119364693296616,0.94336538343359344,0.92553711993422072,0.90770885643484811,0.88988059293547539,0.87205232943610267,0.85422406593672995,0.83639580243735712,0.81856753893798451,0.80073927543861168,0.78291101193923907,0.76508274843986634,0.74725448494049362]
[221,{"$f":"+正規乱数!L229","v":10.664801455143449},{"$f":"+正規乱数!M229","v":32.522586224208204},{"$f":"+正規乱数!N229","v":18.012937493954336},{"$f":"+正規乱数!O229","v":0.1599481541835564},27.019406240931502,13.509703120465749,23.399492199818489,16.991418422250685,4.0859454475959796,1.1547005383792515,12.314651981961966,1.213986516455184,null,1.1968837305442441,1.1797809446333043,1.1626781587223645,1.1455753728114246,1.1284725869004848,1.111369800989545,1.0942670150786049,1.0771642291676651,1.0600614432567252,1.0429586573457854,1.0258558714348456,1.0087530855239057,0.99165029961296591,0.97454751370202597,0.95744472779108614,0.94034194188014619,0.92323915596920625,0.90613637005826642,0.88903358414732647,0.87193079823638675,0.8548280123254467]
[222,{"$f":"+正規乱数!L230","v":12.742772335879089},{"$f":"+正規乱数!M230","v":39.190550289869755},{"$f":"+正規乱数!N230","v":17.807840508638517},{"$f":"+正規乱数!O230","v":0.18585360223632544},26.711760762957773,13.355880381478885,23.133063400533832,16.991418422250685,5.0073169391027852,1.1547005383792515,14.714086076683815,1.4766082394040478,null,1.4509050387545872,1.4252018381051266,1.3994986374556659,1.3737954368062053,1.3480922361567447,1.3223890355072843,1.2966858348578236,1.270982634208363,1.2452794335589024,1.2195762329094419,1.1938730322599813,1.1681698316105207,1.1424666309610598,1.1167634303115992,1.0910602296621386,1.0653570290126779,1.0396538283632173,1.0139506277137567,0.98824742706429602,0.96254422641483539,0.93684102576537487]
[223,{"$f":"+正規乱数!L231","v":14.142963415464672},{"$f":"+正規乱数!M231","v":39.180481346322026},{"$f":"+正規乱数!N231","v":17.482241072114199},{"$f":"+正規乱数!O231","v":0.11070870832152099},26.223361608171299,13.111680804085648,22.710097325301899,16.991418422250685,4.6607975989580162,1.1547005383792515,16.330887470115115,1.6009911606856724,null,1.5854007944116504,1.5698104281376284,1.5542200618636064,1.5386296955895842,1.5230393293155624,1.5074489630415402,1.4918585967675182,1.476268230493496,1.4606778642194742,1.445087497945452,1.42949713167143,1.4139067653974078,1.398316399123386,1.3827260328493638,1.3671356665753418,1.3515453003013196,1.3359549340272978,1.3203645677532756,1.3047742014792536,1.2891838352052314,1.2735934689312096]
[224,{"$f":"+正規乱数!L232","v":9.4799816945010598},{"$f":"+正規乱数!M232","v":39.561435579956857},{"$f":"+正規乱数!N232","v":17.597722840884323},{"$f":"+正規乱数!O232","v":0.16116515620793209},26.396584261326485,13.198292130663241,22.860112543445229,16.991418422250685,4.8483562800864224,1.1547005383792515,10.946539966465823,1.196737887764765,null,1.1738832238170456,1.1510285598693264,1.128173895921607,1.1053192319738876,1.0824645680261684,1.059609904078449,1.0367552401307298,1.0139005761830104,0.99104591223529137,0.96819124828757186,0.94533658433985268,0.92248192039213328,0.89962725644441399,0.8767725924966947,0.85391792854897541,0.83106326460125612,0.80820860065353672,0.78535393670581732,0.76249927275809803,0.73964460881037886,0.71678994486265946]
[225,{"$f":"+正規乱数!L233","v":11.329921929777228},{"$f":"+正規乱数!M233","v":40.072623934402671},{"$f":"+正規乱数!N233","v":17.138182096055701},{"$f":"+正規乱数!O233","v":0.16522515627679649},25.707273144083551,12.853636572041774,22.263151604801816,16.991418422250685,4.4349083235083064,1.1547005383792515,13.082666952108653,1.3628497411946296,null,1.3383506625542123,1.3138515839137948,1.2893525052733772,1.2648534266329599,1.2403543479925423,1.2158552693521247,1.1913561907117074,1.1668571120712898,1.1423580334308725,1.1178589547904549,1.0933598761500374,1.0688607975096198,1.0443617188692025,1.0198626402287849,0.99536356158836725,0.9708644829479498,0.94636540430753235,0.92186632566711479,0.89736724702669723,0.8728681683862799,0.84836908974586234]
[226,{"$f":"+正規乱数!L234","v":5.9154154571763948},{"$f":"+正規乱数!M234","v":30.818897964511375},{"$f":"+正規乱数!N234","v":19.931337698187324},{"$f":"+正規乱数!O234","v":0.10938336567350709},29.897006547280988,14.948503273640492,25.891567167055026,16.991418422250685,5.3095329764506962,1.1547005383792515,6.8305334131385287,0.81212588092324023,null,0.80223622913926573,0.79234657735529113,0.78245692557131674,0.77256727378734213,0.76267762200336775,0.75278797021939314,0.74289831843541865,0.73300866665144426,0.72311901486746977,0.71322936308349527,0.70333971129952066,0.69345005951554617,0.68356040773157167,0.67367075594759718,0.66378110416362279,0.65389145237964819,0.64400180059567369,0.63411214881169919,0.62422249702772459,0.61433284524375009,0.6044431934597756]
[227,{"$f":"+正規乱数!L235","v":8.6854954314357045},{"$f":"+正規乱数!M235","v":33.931144153544238},{"$f":"+正規乱数!N235","v":17.360678088911545},{"$f":"+正規乱数!O235","v":0.16473047892935447},26.041017133367319,13.020508566683658,22.55218237788192,16.991418422250685,3.7410674305478007,1.1547005383792515,10.029146250769337,1.0575787889385362,null,1.0382957507864299,1.0190127126343236,0.9997296744822175,0.98044663633011131,0.96116359817800512,0.94188056002589871,0.92259752187379251,0.90331448372168643,0.88403144556958024,0.86474840741747405,0.84546536926536764,0.82618233111326145,0.80689929296115537,0.78761625480904895,0.76833321665694265,0.74905017850483646,0.72976714035273027,0.71048410220062408,0.69120106404851778,0.67191802589641159,0.65263498774430539]
[228,{"$f":"+正規乱数!L236","v":9.6564122297640829},{"$f":"+正規乱数!M236","v":33.809021284823302},{"$f":"+正規乱数!N236","v":17.132180229013766},{"$f":"+正規乱数!O236","v":0.19136535442269573},25.698270343520647,12.849135171760322,22.255354950809135,16.991418422250685,3.5250987366185025,1.1547005383792515,11.150264400520575,1.1421284733148749,null,1.119533156791704,1.0969378402685328,1.0743425237453617,1.0517472072221907,1.0291518906990198,1.0065565741758489,0.98396125765267783,0.96136594112950702,0.93877062460633587,0.91617530808316494,0.89357999155999401,0.87098467503682298,0.84838935851365194,0.82579404199048101,0.80319872546730997,0.78060340894413904,0.75800809242096812,0.73541277589779697,0.71281745937462593,0.690222142851455,0.66762682632828407]
[229,{"$f":"+正規乱数!L237","v":11.262515424960933},{"$f":"+正規乱数!M237","v":26.946009870996221},{"$f":"+正規乱数!N237","v":18.953627126968357},{"$f":"+正規乱数!O237","v":0.1575380706031948},28.430440690452535,14.215220345226266,24.621483878718692,16.991418422250685,3.8786604199863417,1.1547005383792515,13.004832624707014,1.1877053351735871,null,1.1749423051037382,1.1621792750338895,1.1494162449640404,1.1366532148941917,1.1238901848243428,1.1111271547544939,1.0983641246846452,1.0856010946147963,1.0728380645449473,1.0600750344750987,1.0473120044052497,1.0345489743354008,1.0217859442655521,1.0090229141957032,0.99625988412585431,0.9834968540560054,0.9707338239861566,0.95797079391630779,0.94520776384645899,0.93244473377661008,0.91968170370676128]
[230,{"$f":"+正規乱数!L238","v":9.8126470030820627},{"$f":"+正規乱数!M238","v":37.336608975710703},{"$f":"+正規乱数!N238","v":18.999728181756854},{"$f":"+正規乱数!O238","v":0.15251172359693016},28.499592272635283,14.24979613631764,24.68137090560084,16.991418422250685,5.8659426310196254,1.1547005383792515,11.330668777384407,1.206797012665747,null,1.1883010430039616,1.1698050733421756,1.1513091036803902,1.1328131340186045,1.114317164356819,1.0958211946950334,1.0773252250332477,1.0588292553714622,1.0403332857096765,1.0218373160478911,1.0033413463861054,0.98484537672431982,0.96634940706253414,0.94785343740074857,0.92935746773896288,0.91086149807717731,0.89236552841539163,0.87386955875360606,0.85537358909182037,0.8368776194300348,0.81838164976824923]
[231,{"$f":"+正規乱数!L239","v":10.321663252766927},{"$f":"+正規乱数!M239","v":32.904235398224429},{"$f":"+正規乱数!N239","v":16.038233213816497},{"$f":"+正規乱数!O239","v":0.12711595152181346},24.057349820724745,12.028674910362371,20.834276092476642,16.991418422250685,2.4864590962348623,1.1547005383792515,11.918430114939307,1.197545807706945,null,1.1820548718389987,1.1665639359710527,1.1510730001031064,1.1355820642351604,1.1200911283672141,1.1046001924992681,1.0891092566313219,1.0736183207633758,1.0581273848954296,1.0426364490274833,1.0271455131595373,1.0116545772915913,0.996163641423645,0.98067270555569885,0.9651817696877526,0.94969083381980646,0.93419989795186031,0.91870896208391406,0.90321802621596792,0.88772709034802189,0.87223615448007574]
[232,{"$f":"+正規乱数!L240","v":11.212481324325758},{"$f":"+正規乱数!M240","v":35.536877298839372},{"$f":"+正規乱数!N240","v":18.773665195344787},{"$f":"+正規乱数!O240","v":8.2103852350323817E-2},28.160497793017178,14.080248896508587,24.387706471968496,16.991418422250685,5.282906836788305,1.1547005383792515,12.947058221766255,1.2947189493983278,null,1.2852831063177004,1.275847263237073,1.2664114201564456,1.2569755770758182,1.2475397339951908,1.2381038909145632,1.2286680478339358,1.2192322047533084,1.209796361672681,1.2003605185920536,1.1909246755114262,1.1814888324307988,1.1720529893501714,1.162617146269544,1.1531813031889167,1.1437454601082893,1.1343096170276619,1.1248737739470343,1.1154379308664069,1.1060020877857797,1.0965662447051523]
[233,{"$f":"+正規乱数!L241","v":11.024188826077996},{"$f":"+正規乱数!M241","v":37.531549016579234},{"$f":"+正規乱数!N241","v":20.28666059908425},{"$f":"+正規乱数!O241","v":0.17897238091086815},30.429990898626375,15.214995449313186,26.3531451551397,16.991418422250685,7.1916990755866088,1.1547005383792515,12.72963677266679,1.3093224979671394,null,1.2888506000635216,1.2683787021599042,1.2479068042562866,1.2274349063526688,1.2069630084490512,1.1864911105454339,1.1660192126418161,1.1455473147381985,1.1250754168345809,1.1046035189309633,1.0841316210273457,1.0636597231237281,1.0431878252201106,1.022715927316493,1.0022440294128754,0.98177213150925768,{"$f":"+(($H243-$I243-AE$10*$G$6*$E243*$K243)*TAN($C243*PI()/180)+$L243)/$G243","v":0.96130023360563999},0.9408283357020224,0.9203564377984047,0.89988453989478723,0.87941264199116953]
[234,{"$f":"+正規乱数!L242","v":8.7255058388367992},{"$f":"+正規乱数!M242","v":40.227044873755744},{"$f":"+正規乱数!N242","v":18.028990306018073},{"$f":"+正規乱数!O242","v":0.11330252834246196},27.04348545902711,13.521742729513553,23.42034541439255,16.991418422250685,5.4380683132169976,1.1547005383792515,10.075346289736155,1.1472940221745551,null,1.1312363913486867,1.1151787605228183,1.0991211296969501,1.0830634988710817,1.0670058680452132,1.0509482372193448,1.0348906063934766,1.0188329755676082,1.0027753447417398,0.98671771391587138,0.97066008309000307,0.95460245226413476,0.93854482143826623,0.92248719061239792,0.90642955978652939,0.89037192896066109,0.87431429813479278,0.85825666730892425,0.84219903648305594,0.82614140565718763,0.8100837748313191]
[235,{"$f":"+正規乱数!L243","v":12.986900036290058},{"$f":"+正規乱数!M243","v":33.104531770332748},{"$f":"+正規乱数!N243","v":16.32868689920495},{"$f":"+正規乱数!O243","v":0.14258503359556579},24.493030348807423,12.24651517440371,21.211586497730462,16.991418422250685,2.7515686224476497,1.1547005383792515,14.995980463781649,1.4491917768838627,null,1.4319936800795472,1.4147955832752312,1.397597486470916,{"$f":"+(($H245-$I245-R$10*$G$6*$E245*$K245)*TAN($C245*PI()/180)+$L245)/$G245","v":1.3803993896666},1.3632012928622845,1.346003196057969,1.3288050992536533,1.3116070024493378,1.2944089056450223,1.2772108088407068,1.2600127120363911,1.2428146152320756,1.2256165184277599,1.2084184216234444,1.1912203248191287,1.1740222280148132,1.1568241312104974,1.1396260344061819,1.1224279376018662,1.1052298407975507,1.0880317439932352]
[236,{"$f":"+正規乱数!L244","v":8.6697510387456536},{"$f":"+正規乱数!M244","v":36.621816450331735},{"$f":"+正規乱数!N244","v":18.332773599899728},{"$f":"+正規乱数!O244","v":0.21434590646687204},27.499160399849593,13.749580199924795,23.814971489012791,16.991418422250685,5.071650111596921,1.1547005383792515,10.010966192053681,1.096951040274895,null,1.0707008269203346,1.0444506135657741,1.0182004002112135,0.99195018685665304,0.96569997350209258,0.93944976014753212,0.91319954679297177,0.8869493334384112,0.86069912008385074,0.83444890672929029,0.80819869337472972,0.78194848002016926,0.75569826666560869,0.72944805331104834,0.70319783995648777,0.67694762660192731,0.65069741324736685,0.62444719989280628,0.59819698653824582,0.57194677318368536,0.54569655982912479]
[237,{"$f":"+正規乱数!L245","v":11.669774624641127},{"$f":"+正規乱数!M245","v":33.55319820684273},{"$f":"+正規乱数!N245","v":18.240664676861417},{"$f":"+正規乱数!O245","v":0.16017601859744857},27.360997015292128,13.680498507646062,23.695318488113188,16.991418422250685,4.4461715179073318,1.1547005383792515,13.475095041837637,1.3099863685324573,null,1.2923940684956707,1.2748017684588839,1.2572094684220971,1.2396171683853103,1.2220248683485233,1.2044325683117365,1.1868402682749499,1.1692479682381629,1.1516556682013761,1.1340633681645893,1.1164710681278027,1.0988787680910157,1.0812864680542289,1.0636941680174421,1.0461018679806553,1.0285095679438685,1.0109172679070817,0.99332496787029489,0.97573266783350798,0.95814036779672129,0.94054806775993427]
[238,{"$f":"+正規乱数!L246","v":11.988663170783276},{"$f":"+正規乱数!M246","v":32.991649096343913},{"$f":"+正規乱数!N246","v":16.548404094217954},{"$f":"+正規乱数!O246","v":0.10183099344825627},24.822606141326929,12.411303070663463,21.497007506524742,16.991418422250685,2.9250302111513173,1.1547005383792515,13.843315817750954,1.3510544326757703,null,1.3389871427700271,1.3269198528642838,1.314852562958541,1.3027852730527978,1.2907179831470548,1.2786506932413115,1.2665834033355685,1.2545161134298253,1.2424488235240823,1.2303815336183392,1.218314243712596,1.2062469538068528,1.1941796639011097,1.1821123739953665,1.1700450840896235,1.1579777941838802,1.1459105042781372,1.133843214372394,1.1217759244666508,1.1097086345609077,1.0976413446551647]
[239,{"$f":"+正規乱数!L247","v":7.8996970398801656},{"$f":"+正規乱数!M247","v":38.500445359193321},{"$f":"+正規乱数!N247","v":17.751925073122248},{"$f":"+正規乱数!O247","v":0.13782319847338509},26.62788760968337,13.313943804841683,23.060427119102695,16.991418422250685,4.8275845188794992,1.1547005383792515,9.1217844249826054,1.0477262896955706,null,1.0290712532311517,1.010416216766733,0.99176118030231408,0.97310614383789529,0.95445110737347649,0.93579607090905759,0.91714103444463879,0.89848599798022,0.8798309615158012,0.8611759250513823,0.8425208885869635,0.8238658521225446,0.8052108156581258,0.78655577919370701,0.7679007427292881,0.74924570626486942,0.73059066980045051,0.7119356333360316,0.69328059687161281,0.67462556040719401,0.65597052394277511]
[240,{"$f":"+正規乱数!L248","v":9.3699231185182192},{"$f":"+正規乱数!M248","v":34.495029816823887},{"$f":"+正規乱数!N248","v":18.805797973051295},{"$f":"+正規乱数!O248","v":0.11460175292210602},28.20869695957694,14.104348479788468,24.429448174650489,16.991418422250685,5.1110662823221436,1.1547005383792515,10.819455269525182,1.1294758899835582,null,1.1168267731451178,1.1041776563066776,1.0915285394682375,1.0788794226297971,1.0662303057913569,1.0535811889529167,1.0409320721144764,1.0282829552760362,1.0156338384375958,1.0029847215991556,0.99033560476071547,0.97768648792227519,0.96503737108383492,0.95238825424539464,0.93973913740695436,0.92709002056851408,0.91444090373007392,0.90179178689163364,0.88914267005319325,0.87649355321475309,0.86384443637631281]
[241,{"$f":"+正規乱数!L249","v":9.1712393999221806},{"$f":"+正規乱数!M249","v":32.480765912125243},{"$f":"+正規乱数!N249","v":17.009046132956655},{"$f":"+正規乱数!O249","v":0.13131821863180798},25.513569199434983,12.75678459971749,22.095399067922898,16.991418422250685,3.2491860023909283,1.1547005383792515,10.590035072695144,1.0848518266423151,null,1.0700055452975281,1.0551592639527416,1.0403129826079547,1.025466701263168,1.010620419918381,0.99577413857359443,0.9809278572288076,0.96608157588402088,0.95123529453923394,0.93638901319444723,0.9215427318496604,0.90669645050487357,0.89185016916008686,0.87700388781530003,0.8621576064705132,0.84731132512572649,0.83246504378093966,0.81761876243615295,0.80277248109136601,0.78792619974657918,0.77307991840179235]
[242,{"$f":"+正規乱数!L250","v":7.6280964691480602},{"$f":"+正規乱数!M250","v":37.003378080143833},{"$f":"+正規乱数!N250","v":18.393950479052208},{"$f":"+正規乱数!O250","v":0.17057875585578117},27.590925718578312,13.795462859289154,23.894442586218236,16.991418422250685,5.2024399461432722,1.1547005383792515,8.808167099734133,1.0155952858401835,null,0.99448351225752096,0.97337173867485838,0.95225996509219568,0.9311481915095331,0.9100364179268704,0.88892464434420781,0.86781287076154512,0.84670109717888242,0.82558932359621984,0.80447755001355736,0.78336577643089467,0.76225400284823197,0.74114222926556927,0.72003045568290658,0.69891868210024399,0.6778069085175813,0.6566951349349186,0.63558336135225602,0.61447158776959332,0.59335981418693073,0.57224804060426804]
[243,{"$f":"+正規乱数!L251","v":7.0782400104867484},{"$f":"+正規乱数!M251","v":33.211632298742614},{"$f":"+正規乱数!N251","v":18.534753300622487},{"$f":"+正規乱数!O251","v":0.10014920095551244},27.802129950933733,13.901064975466864,24.077350816824822,16.991418422250685,4.6389591316076544,1.1547005383792515,8.1732475508866074,0.92167087234724376,null,0.91098545895418626,0.90030004556112897,0.88961463216807146,0.87892921877501407,0.86824380538195667,0.85755839198889927,0.84687297859584176,0.83618756520278437,0.82550215180972697,0.81481673841666946,0.80413132502361218,0.79344591163055456,0.78276049823749716,0.77207508484443976,0.76138967145138226,0.75070425805832497,0.74001884466526746,0.72933343127220995,0.71864801787915256,0.70796260448609516,0.69727719109303776]
[244,{"$f":"+正規乱数!L252","v":8.6857834667897791},{"$f":"+正規乱数!M252","v":32.062762197244552},{"$f":"+正規乱数!N252","v":17.992966310487226},{"$f":"+正規乱数!O252","v":0.14251867384853287},26.989449465730839,13.494724732865418,23.373548871479255,16.991418422250685,3.9977251396987867,1.1547005383792515,10.029478845347759,1.0394583263254207,null,1.0244710274476545,1.0094837285698885,0.99449642969212249,0.97950913081435642,0.96452183193659047,0.94953453305882429,0.93454723418105834,0.91955993530329228,0.90457263642552621,0.88958533754776015,0.87459803866999419,0.85961073979222802,0.84462344091446206,0.829636142036696,0.81464884315892983,0.79966154428116387,0.78467424540339792,0.76968694652563174,0.75469964764786568,0.73971234877009973,0.72472504989233366]
[245,{"$f":"+正規乱数!L253","v":11.005696125765215},{"$f":"+正規乱数!M253","v":33.024816672767813},{"$f":"+正規乱数!N253","v":18.008877351428023},{"$f":"+正規乱数!O253","v":0.11815567133383177},27.013316027142032,13.506658013571014,23.39421791996233,16.991418422250685,4.161970550832236,1.1547005383792515,12.708283241659537,1.2490324235307606,null,1.2361498051956543,1.223267186860548,1.2103845685254417,1.1975019501903355,1.1846193318552292,1.1717367135201229,1.1588540951850166,1.1459714768499101,1.1330888585148038,1.1202062401796975,1.1073236218445912,1.0944410035094849,1.0815583851743786,1.0686757668392723,1.0557931485041661,1.0429105301690598,1.0300279118339535,1.0171452934988472,1.0042626751637407,0.99138005682863439,0.9784974384935281]
[246,{"$f":"+正規乱数!L254","v":11.659988163476118},{"$f":"+正規乱数!M254","v":32.988529696179427},{"$f":"+正規乱数!N254","v":17.324055425698887},{"$f":"+正規乱数!O254","v":0.15847778668199627},25.986083138548331,12.993041569274164,22.504608142837313,16.991418422250685,3.5787382924811246,1.1547005383792515,13.463794609861573,1.3116661569562538,null,1.2937290274753008,1.2757918979943481,1.2578547685133952,1.239917639032442,1.2219805095514891,1.2040433800705361,1.186106250589583,1.16816912110863,1.1502319916276771,1.1322948621467241,1.1143577326657712,1.0964206031848183,1.0784834737038651,1.0605463442229122,1.0426092147419592,1.0246720852610063,1.0067349557800533,0.98879782629910018,0.97086069681814724,0.95292356733719419,0.93498643785624125]
[247,{"$f":"+正規乱数!L255","v":13.912519116569081},{"$f":"+正規乱数!M255","v":35.862873031802827},{"$f":"+正規乱数!N255","v":18.135730868003531},{"$f":"+正規乱数!O255","v":0.16939422436155804},27.203596302005295,13.601798151002646,23.559005471833,16.991418422250685,4.747657485507335,1.1547005383792515,16.064793314113945,1.5301249561689099,null,1.5097289945436423,1.4893330329183747,1.4689370712931071,1.4485411096678393,1.4281451480425718,1.4077491864173042,1.3873532247920368,1.3669572631667692,1.3465613015415017,1.3261653399162341,1.3057693782909665,1.2853734166656989,1.2649774550404314,1.2445814934151638,1.2241855317898962,1.2037895701646288,1.1833936085393613,1.1629976469140935,1.1426016852888259,1.1222057236635585,1.101809762038291]
[248,{"$f":"+正規乱数!L256","v":12.286758277609279},{"$f":"+正規乱数!M256","v":40.039900420438194},{"$f":"+正規乱数!N256","v":17.222625361305649},{"$f":"+正規乱数!O256","v":0.13658026705600931},25.833938041958476,12.916969020979236,22.372846624129259,16.991418422250685,4.5219443829185026,1.1547005383792515,14.187526398091158,1.4484412520168213,null,1.4283121974563409,1.4081831428958602,1.3880540883353796,1.3679250337748992,1.3477959792144185,1.3276669246539379,1.307537870093457,1.2874088155329766,1.2672797609724959,1.2471507064120153,1.2270216518515349,1.2068925972910542,1.1867635427305734,1.166634488170093,1.1465054336096123,1.1263763790491317,1.106247324488651,1.0861182699281704,1.0659892153676898,1.0458601608072091,1.0257311062467287]
[249,{"$f":"+正規乱数!L257","v":8.7758904799565318},{"$f":"+正規乱数!M257","v":31.177263432364175},{"$f":"+正規乱数!N257","v":18.458752774021217},{"$f":"+正規乱数!O257","v":0.18512220896262541},27.688129161031824,13.84406458051591,23.978623236718278,16.991418422250685,4.2278128707285827,1.1547005383792515,10.133525461963155,1.0373642978308435,null,1.0190337450709577,1.0007031923110721,0.98237263955118648,0.96404208679130088,0.94571153403141517,0.92738098127152946,0.90905042851164386,0.89071987575175826,0.87238932299187255,0.85405877023198695,0.83572821747210124,0.81739766471221553,0.79906711195232982,0.78073655919244433,0.76240600643255863,0.74407545367267292,0.72574490091278732,0.70741434815290161,0.6890837953930159,0.6707532426331303,0.65242268987324459]
[250,{"$f":"+正規乱数!L258","v":12.75008404998837},{"$f":"+正規乱数!M258","v":37.034527213830046},{"$f":"+正規乱数!N258","v":18.761529913403511},{"$f":"+正規乱数!O258","v":0.16416547328435158},28.142294870105268,14.071147435052632,24.371942278303653,16.991418422250685,5.5685999600020342,1.1547005383792515,14.722528916902277,1.4420379695800134,null,1.4220954736317784,1.4021529776835431,1.3822104817353078,1.3622679857870728,1.3423254898388375,1.3223829938906022,1.3024404979423672,1.2824980019941319,1.2625555060458968,1.2426130100976618,1.2226705141494265,1.2027280182011912,1.182785522252956,1.1628430263047209,1.1429005303564856,1.1229580344082504,1.1030155384600153,1.08307304251178,1.063130546563545,1.0431880506153097,1.0232455546670745]
[251,{"$f":"+正規乱数!L259","v":10.998942787241264},{"$f":"+正規乱数!M259","v":38.823452941667078},{"$f":"+正規乱数!N259","v":18.935106428860887},{"$f":"+正規乱数!O259","v":0.13891494219273026},28.402659643291329,14.201329821645663,24.597424786133356,16.991418422250685,6.1205138252228943,1.1547005383792515,12.700485158030071,1.3252983501985853,null,1.3074655510221378,1.2896327518456905,{"$f":"+(($H261-$I261-Q$10*$G$6*$E261*$K261)*TAN($C261*PI()/180)+$L261)/$G261","v":1.271799952669243},1.2539671534927954,1.2361343543163479,1.2183015551399003,1.200468755963453,1.1826359567870055,1.164803157610558,1.1469703584341107,1.1291375592576631,1.1113047600812156,1.0934719609047683,1.0756391617283207,1.0578063625518734,1.0399735633754259,1.0221407641989784,1.0043079650225308,0.98647516584608341,0.96864236666963599,0.95080956749318846]
[252,{"$f":"+正規乱数!L260","v":10.317450109214693},{"$f":"+正規乱数!M260","v":38.842010602100906},{"$f":"+正規乱数!N260","v":17.04808491784507},{"$f":"+正規乱数!O260","v":0.17800076977471352},25.572127376767604,12.7860636883838,22.146111937092265,16.991418422250685,4.1507064871002743,1.1547005383792515,11.913565195811273,1.2563891495007971,null,1.2309927258068503,1.2055963021129035,1.1801998784189565,1.1548034547250094,1.1294070310310627,1.1040106073371156,1.0786141836431689,1.0532177599492218,1.0278213362552751,1.002424912561328,0.97702848886738125,0.95163206517343424,0.92623564147948734,0.90083921778554055,0.87544279409159342,0.85004637039764663,0.82464994670369973,0.79925352300975272,0.77385709931580582,0.74846067562185903,0.72306425192791213]
[253,{"$f":"+正規乱数!L261","v":10.162177811941385},{"$f":"+正規乱数!M261","v":35.938748404964791},{"$f":"+正規乱数!N261","v":16.611342997723256},{"$f":"+正規乱数!O261","v":0.14041750206125586},24.917014496584883,12.45850724829244,21.578767540507638,16.991418422250685,3.3254172869596617,1.1547005383792515,11.734272190554401,1.2087876322083562,null,1.1902775664334739,1.1717675006585917,1.1532574348837092,1.134747369108827,1.1162373033339446,1.0977272375590623,1.0792171717841799,1.0607071060092979,1.0421970402344154,1.0236869744595332,1.0051769086846507,0.98666684290976847,0.96815677713488613,0.94964671136000378,0.93113664558512144,0.91262657981023909,0.89411651403535675,0.8756064482604744,0.85709638248559195,0.83858631671070982,0.82007625093582748]
[254,{"$f":"+正規乱数!L262","v":11.012445990596721},{"$f":"+正規乱数!M262","v":34.322653842903982},{"$f":"+正規乱数!N262","v":18.000403973352682},{"$f":"+正規乱数!O262","v":0.12485200078799213},27.000605960029024,13.50030298001451,23.383210678958658,16.991418422250685,4.3638892633195203,1.1547005383792515,12.716077314214463,1.2651543156341538,null,1.2508498567816517,1.2365453979291501,1.2222409390766482,1.2079364802241463,1.1936320213716447,1.1793275625191426,1.165023103666641,1.1507186448141391,1.1364141859616372,1.1221097271091356,1.1078052682566337,1.0935008094041319,1.07919635055163,1.0648918916991281,1.0505874328466263,1.0362829739941244,1.0219785151416225,1.0076740562891209,0.9933695974366189,0.97906513858411715,0.96476067973161528]
[255,{"$f":"+正規乱数!L263","v":5.1106326055276048},{"$f":"+正規乱数!M263","v":29.705178276208301},{"$f":"+正規乱数!N263","v":17.662309717136797},{"$f":"+正規乱数!O263","v":0.13284663064893051},26.493464575705197,13.246732287852597,22.944013356823817,16.991418422250685,3.3960132563545811,1.1547005383792515,5.9012502210612823,0.70185335336938603,null,0.68889131799648029,0.67592928262357455,0.6629672472506688,0.65000521187776306,0.63704317650485731,0.62408114113195179,0.61111910575904604,0.5981570703861403,0.58519503501323467,0.57223299964032892,0.55927096426742318,0.54630892889451743,0.53334689352161169,0.52038485814870605,0.50742282277580031,0.49446078740289456,0.48149875202998887,0.46853671665708319,0.45557468128417744,0.44261264591127175,0.42965061053836601]
[256,{"$f":"+正規乱数!L264","v":9.754071701870199},{"$f":"+正規乱数!M264","v":36.869661917774728},{"$f":"+正規乱数!N264","v":18.189241163686859},{"$f":"+正規乱数!O264","v":0.16885515699784734},27.283861745530288,13.641930872765142,23.628517384971669,16.991418422250685,4.9777815556755778,1.1547005383792515,11.26303184553934,1.1905069416264384,null,1.1694757250026384,1.1484445083788386,1.1274132917550386,1.1063820751312388,1.0853508585074387,1.0643196418836389,1.0432884252598391,1.0222572086360393,1.0012259920122395,0.98019477538843958,0.95916355876463977,0.93813234214083985,0.91710112551703993,0.89606990889324001,0.87503869226944009,0.85400747564564017,0.83297625902184047,0.81194504239804055,0.79091382577424063,0.76988260915044071,0.7488513925266409]
[257,{"$f":"+正規乱数!L265","v":12.414078820368241},{"$f":"+正規乱数!M265","v":36.413763748226742},{"$f":"+正規乱数!N265","v":16.930170969133968},{"$f":"+正規乱数!O265","v":0.15625550720201398},25.395256453700952,12.697628226850474,21.99293722452574,16.991418422250685,3.6892925625055133,1.1547005383792515,14.33454349736167,1.4194647801826392,null,1.3989000844812434,1.3783353887798477,1.3577706930784519,1.3372059973770563,1.3166413016756604,1.2960766059742646,1.2755119102728687,1.2549472145714728,1.2343825188700772,1.2138178231686814,1.1932531274672857,1.1726884317658899,1.152123736064494,1.1315590403630982,1.1109943446617023,1.0904296489603065,1.0698649532589108,1.049300257557515,1.0287355618561191,1.0081708661547235,0.98760617045332766]
[258,{"$f":"+正規乱数!L266","v":8.4154251909633739},{"$f":"+正規乱数!M266","v":36.446752368441935},{"$f":"+正規乱数!N266","v":17.196530192225765},{"$f":"+正規乱数!O266","v":0.12736361190992804},25.794795288338648,{"$f":"+F268*SIN($G$2*PI()/180)","v":12.897397644169322},22.338948005120415,{"$f":"+$G$5*$G$4*$G$6/COS($G$2*PI()/180)","v":16.991418422250685},3.9492781883055432,{"$f":"+$G$4/COS($G$2*PI()/180)","v":1.1547005383792515},9.7172959986957235,1.0596381195690028,null,1.0431156036485159,1.0265930877280292,1.0100705718075424,0.99354805588705564,0.97702553996656882,0.96050302404608223,0.94398050812559531,0.92745799220510861,0.91093547628462179,0.89441296036413498,0.87789044444364817,0.86136792852316135,0.84484541260267465,0.82832289668218784,0.81180038076170091,0.79527786484121432,0.77875534892072751,0.76223283300024069,0.74571031707975388,0.72918780115926707,0.71266528523878037]
[259,{"$f":"+正規乱数!L267","v":8.3948720231080998},{"$f":"+正規乱数!M267","v":31.881228358962595},{"$f":"+正規乱数!N267","v":18.574998413737106},{"$f":"+正規乱数!O267","v":0.1607291096148446},27.862497620605659,13.931248810302828,24.12963075232798,16.991418422250685,4.4399017578813424,1.1547005383792515,9.693563244707839,1.014515295436889,null,0.99825768323831265,0.98200007103973619,0.96574245884115983,0.94948484664258348,0.93322723444400713,0.91696962224543066,0.90071201004685431,0.88445439784827773,0.86819678564970137,0.85193917345112502,0.83568156125254855,0.8194239490539722,0.80316633685539573,0.78690872465681938,0.77065111245824292,0.75439350025966656,0.7381358880610901,0.72187827586251374,0.70562066366393739,0.68936305146536092,0.67310543926678457]
[260,{"$f":"+正規乱数!L268","v":8.5763072982496276},{"$f":"+正規乱数!M268","v":36.097233651754536},{"$f":"+正規乱数!N268","v":19.13802684234151},{"$f":"+正規乱数!O268","v":0.12868602009809071},28.707040263512265,14.353520131756131,24.86102613566435,16.991418422250685,5.738034664423628,1.1547005383792515,9.903066654594749,1.0897049069108535,null,1.0748950316142629,1.0600851563176723,1.0452752810210817,1.0304654057244911,1.0156555304279005,1.0008456551313099,0.98603577983471913,0.97122590453812851,0.9564160292415379,0.94160615394494718,0.92679627864835656,0.91198640335176595,0.89717652805517523,0.88236665275858461,0.86755677746199389,0.85274690216540328,0.83793702686881266,0.82312715157222205,0.80831727627563144,0.79350740097904082,0.7786975256824501]
[261,{"$f":"+正規乱数!L269","v":11.436149642657986},{"$f":"+正規乱数!M269","v":34.764468068375635},{"$f":"+正規乱数!N269","v":18.977031647590156},{"$f":"+正規乱数!O269","v":0.13977075194417146},28.465547471385236,14.232773735692616,24.651887242851508,16.991418422250685,5.317122133662278,1.1547005383792515,13.20532814936286,1.3013942768284843,null,1.2859518193356816,1.2705093618428791,1.2550669043500766,1.2396244468572739,1.2241819893644714,1.2087395318716689,1.1932970743788662,1.1778546168860635,1.162412159393261,1.1469697019004583,1.1315272444076558,1.1160847869148534,1.1006423294220506,1.0851998719292482,1.0697574144364455,1.0543149569436427,1.0388724994508403,1.0234300419580376,1.0079875844652351,0.99254512697243247,0.97710266947962987]
[262,{"$f":"+正規乱数!L270","v":8.1624537867586682},{"$f":"+正規乱数!M270","v":38.638160293392957},{"$f":"+正規乱数!N270","v":16.864173023110677},{"$f":"+正規乱数!O270","v":0.25692164007299995},25.296259534666014,12.648129767333005,21.907203377745091,16.991418422250685,3.929582876365866,1.1547005383792515,9.4251897820659938,1.0558693580867535,null,1.0190821930362381,0.98229502798572255,0.94550786293520717,0.90872069788469167,0.87193353283417618,0.83514636778366069,0.79835920273314531,0.76157203768262982,0.72478487263211433,0.68799770758159895,0.65121054253108346,0.61442337748056786,0.57763621243005236,0.54084904737953687,0.50406188232902138,0.467274717278506,0.43048755222799046,0.3937003871774748,0.35691322212695942,0.32012605707644387,0.28333889202592843]
[263,{"$f":"+正規乱数!L271","v":11.400870494265204},{"$f":"+正規乱数!M271","v":33.063686045152316},{"$f":"+正規乱数!N271","v":18.78526161582765},{"$f":"+正規乱数!O271","v":8.5213763113657623E-2},28.177892423741476,14.088946211870736,24.402770664065187,16.991418422250685,4.8247090280473834,1.1547005383792515,13.164591297720154,1.27683788803243,null,1.2679177150397838,1.2589975420471375,1.2500773690544913,1.241157196061845,1.2322370230691988,1.2233168500765526,1.2143966770839063,1.2054765040912601,1.1965563310986136,1.1876361581059673,1.1787159851133211,1.1697958121206748,1.1608756391280286,1.1519554661353821,1.1430352931427359,1.1341151201500896,1.1251949471574436,1.1162747741647974,1.1073546011721509,1.0984344281795047,1.0895142551868584]
[264,{"$f":"+正規乱数!L272","v":9.4198178352779731},{"$f":"+正規乱数!M272","v":33.725696332667589},{"$f":"+正規乱数!N272","v":17.382726287215736},{"$f":"+正規乱数!O272","v":0.1398265953250023},26.074089430823605,13.037044715411801,22.580823827640579,16.991418422250685,3.7312928314017211,1.1547005383792515,10.87706872582995,1.1205270731304873,null,1.1043062562148891,1.0880854392992909,1.071864622383693,1.0556438054680946,1.0394229885524964,1.0232021716368984,1.0069813547213002,0.99076053780570206,0.97453972089010388,0.9583189039745057,0.94209808705890763,0.92587727014330945,0.90965645322771116,0.89343563631211309,0.87721481939651491,0.86099400248091673,0.84477318556531866,0.82855236864972037,0.8123315517341223,0.79611073481852412,0.77988991790292594]
[265,{"$f":"+正規乱数!L273","v":9.6213280190271231},{"$f":"+正規乱数!M273","v":36.228622896653334},{"$f":"+正規乱数!N273","v":16.61395192165423},{"$f":"+正規乱数!O273","v":0.16559850788116862},24.920927882481344,12.46046394124067,21.582156632108784,16.991418422250685,3.3634355816954891,1.1547005383792515,11.109752643493996,1.1615288398120762,null,1.1394695683774305,1.117410296942785,1.0953510255081396,1.0732917540734941,1.0512324826388486,1.0291732112042031,1.0071139397695574,0.98505466833491195,0.96299539690026648,0.94093612546562111,0.91887685403097541,0.89681758259632993,0.87475831116168434,0.85269903972703875,0.83063976829239328,0.80858049685774769,0.78652122542310221,0.76446195398845673,0.74240268255381103,0.72034341111916567,0.69828413968452008]
[266,{"$f":"+正規乱数!L274","v":7.3278345748074987},{"$f":"+正規乱数!M274","v":32.62880096937765},{"$f":"+正規乱数!N274","v":18.575007076107351},{"$f":"+正規乱数!O274","v":0.14216438371893497},27.862510614161025,13.931255307080511,24.12964200507701,16.991418422250685,4.5701417894831735,1.1547005383792515,8.4614545286843121,0.93542154177191938,null,0.92061994890307375,0.90581835603422789,0.89101676316538203,0.87621517029653639,0.86141357742769065,0.84661198455884479,0.83181039168999904,0.81700879882115329,0.80220720595230766,0.7874056130834618,0.77260402021461616,0.7578024273457703,0.74300083447692444,0.72819924160807881,0.71339764873923295,0.6985960558703872,0.68379446300154145,0.66899287013269559,0.65419127726384985,0.6393896843950041,0.62458809152615835]
[267,{"$f":"+正規乱数!L275","v":8.9306561584166992},{"$f":"+正規乱数!M275","v":30.191682568205295},{"$f":"+正規乱数!N275","v":17.660276221139423},{"$f":"+正規乱数!O275","v":0.18684072831584914},26.490414331709133,13.245207165854564,22.941371768035484,16.991418422250685,3.4617993229318329,1.1547005383792515,10.31223347420374,1.0399258104957614,null,1.0213319531053093,{"$f":"+(($H277-$I277-P$10*$G$6*$E277*$K277)*TAN($C277*PI()/180)+$L277)/$G277","v":1.0027380957148573},0.98414423832440534,0.9655503809339534,0.94695652354350146,0.92836266615304952,0.90976880876259758,0.89117495137214564,0.87258109398169359,0.85398723659124165,0.83539337920078971,0.81679952181033777,0.79820566441988572,0.77961180702943378,0.76101794963898184,0.7424240922485299,0.72383023485807785,0.70523637746762591,0.68664252007717397,0.66804866268672203,0.64945480529626998]
[268,{"$f":"+正規乱数!L276","v":10.190544486016867},{"$f":"+正規乱数!M276","v":34.590222767012087},{"$f":"+正規乱数!N276","v":19.639260222116093},{"$f":"+正規乱数!O276","v":0.12110146842747083},29.458890333174139,14.729445166587068,25.512147395828631,16.991418422250685,5.8759114603138354,1.1547005383792515,11.767027204381389,1.1978006275971109,null,1.1849557525412742,1.172110877485437,1.1592660024295998,1.1464211273737628,1.1335762523179258,1.1207313772620888,1.1078865022062516,1.0950416271504146,1.0821967520945777,1.0693518770387407,1.0565070019829035,1.0436621269270665,1.0308172518712295,1.0179723768153923,1.0051275017595553,0.99228262670371825,0.97943775164788116,0.96659287659204407,0.95374800153620698,0.94090312648037,0.92805825142453291]
[269,{"$f":"+正規乱数!L277","v":8.2157950660123493},{"$f":"+正規乱数!M277","v":37.316468450267244},{"$f":"+正規乱数!N277","v":18.622255433415784},{"$f":"+正規乱数!O277","v":0.16845041081820761},27.933383150123674,13.966691575061835,24.191019421651291,16.991418422250685,5.48789720980146,1.1547005383792515,9.4867829859380581,1.0721708942493935,null,1.0513430441776408,1.0305151941058883,1.0096873440341356,0.98885949396238293,0.96803164389063034,0.94720379381887765,0.92637594374712506,0.90554809367537248,0.88472024360361978,0.8638923935318672,0.8430645434601145,0.82223669338836192,0.80140884331660922,0.78058099324485664,0.75975314317310383,0.73892529310135124,0.71809744302959855,0.69726959295784596,0.67644174288609338,0.65561389281434068,0.63478604274258799]
[270,{"$f":"+正規乱数!L278","v":9.7225179895306386},{"$f":"+正規乱数!M278","v":36.919702508418951},{"$f":"+正規乱数!N278","v":18.408007717356515},{"$f":"+正規乱数!O278","v":0.1238995092589216},27.612011576034774,13.806005788017385,23.91270347443611,16.991418422250685,5.2003705307160537,1.1547005383792515,11.226596756912986,1.1898421266697179,null,1.1745658519786053,1.1592895772874929,1.1440133025963801,1.1287370279052678,1.1134607532141552,1.0981844785230426,1.0829082038319302,1.0676319291408176,1.052355654449705,1.0370793797585927,1.0218031050674801,1.0065268303763675,0.99125055568525489,0.97597428099414241,0.96069800630302971,0.94542173161191734,0.93014545692080475,0.91486918222969216,0.89959290753857957,0.88431663284746709,0.8690403581563545]
[271,{"$f":"+正規乱数!L279","v":10.353291540432423},{"$f":"+正規乱数!M279","v":32.431785456548809},{"$f":"+正規乱数!N279","v":16.640125887624531},{"$f":"+正規乱数!O279","v":0.1191737093854196},24.960188831436795,12.480094415718396,21.616157611280887,16.991418422250685,2.9385489114498449,1.1547005383792515,11.954951315734668,1.193380412925922,null,1.1796344035509951,1.165888394176068,1.1521423848011412,1.1383963754262143,1.1246503660512872,1.1109043566763603,1.0971583473014335,1.0834123379265064,1.0696663285515795,1.0559203191766526,1.0421743098017255,1.0284283004267987,1.0146822910518718,1.0009362816769449,0.98719027230201783,0.97344426292709085,0.95969825355216398,0.945952244177237,0.93220623480231013,0.91846022542738326,0.90471421605245617]
[272,{"$f":"+正規乱数!L280","v":8.2255567257990769},{"$f":"+正規乱数!M280","v":33.034639096722081},{"$f":"+正規乱数!N280","v":18.256406796273648},{"$f":"+正規乱数!O280","v":0.1675409939499525},27.38461019441047,13.692305097205233,23.715768101093783,16.991418422250685,4.3726257929237802,1.1547005383792515,9.4980547797492676,1.0130274248347142,null,0.99500119458572989,0.97697496433674547,0.95894873408776116,0.94092250383877685,0.92289627358979243,0.90487004334080823,0.88684381309182392,0.86881758284283961,0.8507913525938553,0.83276512234487099,0.81473889209588668,0.79671266184690226,0.77868643159791795,0.76066020134893353,0.74263397109994922,0.72460774085096502,0.7065815106019806,0.68855528035299629,0.67052905010401198,0.65250281985502767,0.63447658960604325]
[273,{"$f":"+正規乱数!L281","v":11.374002129977264},{"$f":"+正規乱数!M281","v":32.45087712873508},{"$f":"+正規乱数!N281","v":18.839882710592597},{"$f":"+正規乱数!O281","v":0.14765282333521484},28.259824065888896,14.129912032944446,24.473725547538631,16.991418422250685,4.7577416907673626,1.1547005383792515,13.1335663830115,1.2662009524238065,null,1.2511475040410138,1.2360940556582212,1.2210406072754285,1.2059871588926363,1.1909337105098436,1.175880262127051,1.1608268137442583,1.1457733653614657,1.1307199169786732,1.1156664685958806,1.1006130202130879,1.0855595718302953,1.0705061234475026,1.05545267506471,1.0403992266819173,1.0253457782991247,1.0102923299163322,0.99523888153353945,0.9801854331507468,0.96513198476795425,0.95007853638516171]
[274,{"$f":"+正規乱数!L282","v":12.52880626556801},{"$f":"+正規乱数!M282","v":42.170077426312432},{"$f":"+正規乱数!N282","v":16.829855421812134},{"$f":"+正規乱数!O282","v":0.15511029552369474},25.244783132718201,12.622391566359099,21.862623505962869,16.991418422250685,4.4123056494297801,1.1547005383792515,14.46701934010072,1.4957011030973901,null,1.4704839228281426,1.4452667425588952,1.4200495622896474,1.3948323820203998,1.3696152017511523,1.3443980214819045,1.3191808412126569,1.2939636609434093,1.2687464806741615,1.2435293004049139,1.2183121201356661,1.1930949398664186,1.167877759597171,1.1426605793279232,1.1174433990586754,1.0922262187894278,1.0670090385201803,1.0417918582509327,1.0165746779816849,0.99135749771243731,0.96614031744318962]
[275,{"$f":"+正規乱数!L283","v":8.3470004255569883},{"$f":"+正規乱数!M283","v":32.05075249069278},{"$f":"+正規乱数!N283","v":19.238939037180394},{"$f":"+正規乱数!O283","v":0.11610841873818606},28.858408555770591,14.429204277885294,24.992114922087527,16.991418422250685,5.0092497008443253,1.1547005383792515,9.638285885242496,1.0151312091780522,null,1.0037172954712035,0.99230338176435462,0.98088946805750565,0.96947555435065691,0.95806164064380817,0.9466477269369592,0.93523381323011057,0.9238198995232616,0.91240598581641286,0.90099207210956411,0.88957815840271515,0.8781642446958664,0.86675033098901755,0.8553364172821688,0.84392250357531995,0.83250858986847109,0.82109467616162235,0.80968076245477338,0.79826684874792464,0.7868529350410759,0.77543902133422693]
[276,{"$f":"+正規乱数!L284","v":7.4169360191195812},{"$f":"+正規乱数!M284","v":36.676560976220564},{"$f":"+正規乱数!N284","v":18.979255947199213},{"$f":"+正規乱数!O284","v":0.19182433015110642},28.46888392079882,14.234441960399408,24.654776692802113,16.991418422250685,5.7072159521022083,1.1547005383792515,8.5643400144018429,1.002607338328253,null,0.97987014828178676,0.95713295823532052,0.93439576818885417,0.91165857814238782,0.88892138809592169,0.86618419804945535,0.843447008002989,0.82070981795652287,0.79797262791005652,0.77523543786359017,0.75249824781712393,0.72976105777065758,0.70702386772419135,0.68428667767772511,0.66154948763125876,0.63881229758479241,0.61607510753832617,0.59333791749185982,0.57060072744539359,0.54786353739892735,0.52512634735246111]
[277,{"$f":"+正規乱数!L285","v":12.12323149317155},{"$f":"+正規乱数!M285","v":38.20569102886644},{"$f":"+正規乱数!N285","v":18.144011670226885},{"$f":"+正規乱数!O285","v":0.15331285027775918},27.216017505340325,13.608008752670161,23.569762549466706,16.991418422250685,5.1777044853775438,1.1547005383792515,13.998701932061486,1.4092000355067553,null,1.3891103554527833,1.369020675398811,1.348930995344839,1.3288413152908669,1.3087516352368949,1.2886619551829226,1.2685722751289503,1.2484825950749781,1.228392915021006,1.208303234967034,1.1882135549130617,1.1681238748590896,1.1480341948051174,1.1279445147511451,1.1078548346971731,1.087765154643201,1.0676754745892287,1.0475857945352565,1.0274961144812844,1.0074064344273121,0.9873167543733401]
[278,{"$f":"+正規乱数!L286","v":11.429909373459735},{"$f":"+正規乱数!M286","v":39.008787789245204},{"$f":"+正規乱数!N286","v":17.385257850424544},{"$f":"+正規乱数!O286","v":0.10545733902889473},26.077886775636816,13.038943387818406,22.584112424715748,16.991418422250685,4.530294758571257,1.1547005383792515,13.198122507160008,1.3596513719274206,null,1.3448088334966819,1.3299662950659432,1.3151237566352045,1.3002812182044658,1.2854386797737272,1.2705961413429885,1.2557536029122498,1.2409110644815111,1.2260685260507727,1.211225987620034,1.1963834491892953,1.1815409107585566,1.1666983723278179,1.1518558338970792,1.1370132954663406,1.1221707570356021,1.1073282186048634,1.0924856801741247,1.077643141743386,1.0628006033126474,1.0479580648819087]
[279,{"$f":"+正規乱数!L287","v":7.2406590690019428},{"$f":"+正規乱数!M287","v":36.396245243736182},{"$f":"+正規乱数!N287","v":18.82307475961062},{"$f":"+正規乱数!O287","v":0.1466098180800606},28.23461213941593,14.117306069707963,24.451891378734697,16.991418422250685,5.499580419581652,1.1547005383792515,8.3607929251971527,0.98180015906289164,null,0.96445641754898181,0.94711267603507199,0.92976893452116216,0.91242519300725222,0.89508145149334239,0.87773770997943257,0.86039396846552263,0.8430502269516128,0.82570648543770298,0.80836274392379315,0.79101900240988332,0.77367526089597338,0.75633151938206356,0.73898777786815373,0.72164403635424379,0.70430029484033396,0.68695655332642402,0.6696128118125142,0.65226907029860437,0.63492532878469443,0.6175815872707846]
[280,{"$f":"+正規乱数!L288","v":7.2449676460729462},{"$f":"+正規乱数!M288","v":34.828966221005288},{"$f":"+正規乱数!N288","v":17.942234336275739},{"$f":"+正規乱数!O288","v":0.17630001509361801},26.913351504413608,13.456675752206802,23.307646103802327,16.991418422250685,4.3946299474674797,1.1547005383792515,8.3657680414606883,0.94825781819373567,null,0.92760651479573941,0.90695521139774316,0.88630390799974712,0.86565260460175086,0.84500130120375472,0.82434999780575857,0.80369869440776243,0.78304739100976639,0.76239608761177013,0.74174478421377399,0.72109348081577784,0.7004421774177817,0.67979087401978544,0.65913957062178929,0.63848826722379315,0.61783696382579689,0.59718566042780086,0.57653435702980449,0.55588305363180834,0.53523175023381231,0.51458044683581605]
[281,{"$f":"+正規乱数!L289","v":8.7706859749777948},{"$f":"+正規乱数!M289","v":40.158163241830415},{"$f":"+正規乱数!N289","v":17.511834396479099},{"$f":"+正規乱数!O289","v":0.15301558572489396},26.267751594718646,13.133875797359321,22.748540181325549,16.991418422250685,4.8579436692886553,1.1547005383792515,10.127515817262209,1.1409777066388749,null,1.1187057590760121,1.0964338115131493,1.0741618639502866,1.0518899163874236,1.0296179688245608,1.0073460212616978,0.98507407369883504,0.96280212613597216,0.94053017857310939,0.91825823101024651,0.89598628344738362,0.87371433588452085,0.85144238832165797,0.82917044075879509,0.80689849319593221,0.78462654563306933,0.76235459807020645,0.74008265050734356,0.71781070294448079,0.69553875538161791,0.67326680781875514]
[282,{"$f":"+正規乱数!L290","v":10.495008442166524},{"$f":"+正規乱数!M290","v":30.672013801759178},{"$f":"+正規乱数!N290","v":17.510606890034687},{"$f":"+正規乱数!O290","v":0.17086574654318229},26.26591033505203,13.132955167526013,22.746945603679297,16.991418422250685,3.4135806544364855,1.1547005383792515,12.118591898464475,1.1826867871526368,null,1.1652049939954108,1.147723200838185,1.1302414076809588,1.1127596145237331,1.0952778213665071,1.0777960282092811,1.0603142350520551,1.0428324418948292,1.0253506487376034,1.0078688555803772,0.99038706242315133,0.97290526926592535,0.95542347610869938,0.93794168295147351,0.92045988979424742,0.90297809663702155,0.88549630347979569,0.8680145103225696,0.85053271716534351,0.83305092400811764,0.81556913085089178]
[283,{"$f":"+正規乱数!L291","v":13.784886403031409},{"$f":"+正規乱数!M291","v":32.338094735545781},{"$f":"+正規乱数!N291","v":17.297168658955702},{"$f":"+正規乱数!O291","v":0.1584219857035514},{"$f":"+$G$3*$G$4*D293","v":25.945752988433554},12.972876494216775,{"$f":"+F293*COS($G$2*PI()/180)","v":22.469681208299477},16.991418422250685,{"$f":"+(H293-I293)*TAN(C293*PI()/180)","v":3.4683141492045939},1.1547005383792515,{"$f":"+K293*B293","v":15.917415751077192},{"$f":"+(J293+L293)/G293","v":1.4943277929859131},null,{"$f":"+(($H293-$I293-O$10*$G$6*$E293*$K293)*TAN($C293*PI()/180)+$L293)/$G293","v":1.4768122700877946},1.4592967471896758,1.4417812242915571,1.4242657013934381,1.4067501784953194,1.3892346555972006,1.3717191326990821,1.3542036098009631,1.3366880869028444,1.3191725640047256,1.3016570411066071,1.2841415182084881,1.2666259953103693,1.2491104724122506,1.2315949495141316,1.2140794266160131,1.1965639037178941,1.1790483808197754,1.1615328579216566,1.1440173350235379,1.1265018121254191]
[284,{"$f":"+正規乱数!L292","v":10.422344785547864},{"$f":"+正規乱数!M292","v":35.638514176179754},{"$f":"+正規乱数!N292","v":18.86642733510444},{"$f":"+正規乱数!O292","v":0.1697956698498026},28.29964100265666,14.149820501328328,24.508208026280393,16.991418422250685,5.3891390887656554,1.1547005383792515,12.034687135046303,1.2313814314588851,null,1.2118905693335744,1.1923997072082637,1.1729088450829528,1.1534179829576421,1.1339271208323314,1.1144362587070205,1.0949453965817095,1.0754545344563986,1.0559636723310879,1.0364728102057772,1.0169819480804663,0.99749108595515534,0.97800022382984464,0.95850936170453382,0.9390184995792229,0.91952763745391208,{"$f":"+(($H294-$I294-AE$10*$G$6*$E294*$K294)*TAN($C294*PI()/180)+$L294)/$G294","v":0.90003677532860127},0.88054591320329034,0.86105505107797953,0.84156418895266871,0.82207332682735801]
[285,{"$f":"+正規乱数!L293","v":9.8775793640145633},{"$f":"+正規乱数!M293","v":40.30073967181751},{"$f":"+正規乱数!N293","v":18.941962594103007},{"$f":"+正規乱数!O293","v":0.11703019207538609},28.412943891154512,14.206471945577254,24.606331206041688,16.991418422250685,6.4580846849144029,1.1547005383792515,11.405646209511401,1.2574361152338827,null,1.2416083772159792,1.2257806391980755,1.2099529011801717,1.1941251631622682,1.1782974251443648,1.162469687126461,1.1466419491085573,1.1308142110906536,1.1149864730727501,1.0991587350548464,1.0833309970369427,1.0675032590190392,1.0516755210011355,1.0358477829832318,1.0200200449653281,1.0041923069474243,0.98836456892952074,0.97253683091161713,0.95670909289371353,0.94088135487580982,0.92505361685790621]
[286,{"$f":"+正規乱数!L294","v":10.645945610013232},{"$f":"+正規乱数!M294","v":34.358773777169695},{"$f":"+正規乱数!N294","v":17.83339794264306},{"$f":"+正規乱数!O294","v":0.16768014868950293},26.75009691396459,13.375048456982293,23.166263481189052,16.991418422250685,4.2214818270604733,1.1547005383792515,12.292879127438507,1.2347141027274442,null,1.2152965936411584,1.1958790845548726,1.1764615754685865,1.1570440663823007,1.1376265572960147,1.1182090482097289,1.0987915391234429,1.079374030037157,1.059956520950871,1.0405390118645854,1.0211215027782992,1.0017039936920136,0.98228648460572743,0.96286897551944151,0.94345146643315558,0.92403395734686966,0.90461644826058396,0.88519893917429782,0.86578143008801201,0.84636392100172619,0.82694641191544016]
[287,{"$f":"+正規乱数!L295","v":7.8372403204305687},{"$f":"+正規乱数!M295","v":33.160322998006336},{"$f":"+正規乱数!N295","v":18.815339844829463},{"$f":"+正規乱数!O295","v":0.17786428580821323},28.223009767244193,14.111504883622095,24.441843429689811,16.991418422250685,4.8680561459550908,1.1547005383792515,9.0496656174087544,0.98626772113559946,null,0.96761001172865146,0.94895230232170347,0.93029459291475558,0.91163688350780758,0.89297917410085959,0.87432146469391159,0.8556637552869637,0.83700604588001559,0.81834833647306782,0.79969062706611982,0.78103291765917193,0.76237520825222382,0.74371749884527583,0.72505978943832783,0.70640208003137994,0.68774437062443194,0.66908666121748406,0.65042895181053595,0.63177124240358795,0.61311353299664006,0.59445582358969207]
[288,{"$f":"+正規乱数!L296","v":9.7474643587679815},{"$f":"+正規乱数!M296","v":36.381572166512086},{"$f":"+正規乱数!N296","v":18.442068953213003},{"$f":"+正規乱数!O296","v":9.3120225783630287E-2},27.663103429819504,13.83155171490975,23.956950317740127,16.991418422250685,5.1319758064338856,1.1547005383792515,11.255402342901954,1.1847823358583136,null,1.1735447815935536,1.1623072273287938,1.1510696730640335,1.1398321187992735,1.1285945645345132,1.1173570102697532,1.106119456004993,1.0948819017402329,1.0836443474754729,1.0724067932107129,1.0611692389459526,1.0499316846811926,1.0386941304164323,1.0274565761516723,1.0162190218869123,1.004981467622152,0.99374391335739187,0.98250635909263195,0.9712688048278717,0.96003125056311167,0.94879369629835153]
[289,{"$f":"+正規乱数!L297","v":10.67814964703097},{"$f":"+正規乱数!M297","v":33.411868575988507},{"$f":"+正規乱数!N297","v":15.892249761087129},{"$f":"+正規乱数!O297","v":0.16540330467053835},23.838374641630693,11.919187320815345,20.644638024582946,16.991418422250685,2.4099404142285548,1.1547005383792515,12.330065146320875,1.2366619605690636,null,1.2159225488199066,1.1951831370707495,1.1744437253215927,1.1537043135724356,1.1329649018232788,1.1122254900741217,1.0914860783249647,1.0707466665758076,1.0500072548266506,1.0292678430774937,1.0085284313283367,0.98778901957917964,0.96704960783002269,0.94631019608086564,0.92557078433170858,0.90483137258255164,0.88409196083339459,0.86335254908423764,0.84261313733508059,0.82187372558592364,0.80113431383676659]
[290,{"$f":"+正規乱数!L298","v":9.6589223304468561},{"$f":"+正規乱数!M298","v":29.657325091692556},{"$f":"+正規乱数!N298","v":18.174290230993893},{"$f":"+正規乱数!O298","v":0.17210365938170777},27.261435346490842,13.630717673245419,23.6090955536881,16.991418422250685,3.7681265919305766,1.1547005383792515,11.15316281513036,1.094681128664903,null,1.0783934323405935,1.062105736016284,1.0458180396919743,1.0295303433676648,1.0132426470433553,0.99695495071904561,0.98066725439473612,0.96437955807042652,0.94809186174611693,0.93180416542180733,0.91551646909749784,0.89922877277318825,0.88294107644887865,0.86665338012456916,0.85036568380025945,0.83407798747594997,0.81779029115164048,0.80150259482733077,0.78521489850302117,0.76892720217871158,0.75263950585440209]
[291,{"$f":"+正規乱数!L299","v":7.790663672905298},{"$f":"+正規乱数!M299","v":33.943196021481398},{"$f":"+正規乱数!N299","v":17.801037290784897},{"$f":"+正規乱数!O299","v":0.11905057452603117},26.701555936177346,13.350777968088671,23.124225761300764,16.991418422250685,4.1277902822095456,1.1547005383792515,8.9958835374354251,0.98298944458618587,null,0.96939217850448789,0.95579491242278991,0.94219764634109182,0.92860038025939384,0.91500311417769575,0.90140584809599777,0.88780858201429969,0.87421131593260171,0.86061404985090373,0.84701678376920564,0.83341951768750766,0.81982225160580957,0.80622498552411148,0.7926277194424135,0.77903045336071541,0.76543318727901732,0.75183592119731946,0.73823865511562137,0.72464138903392328,0.71104412295222519,0.69744685687052721]
[292,{"$f":"+正規乱数!L300","v":7.7423595494829272},{"$f":"+正規乱数!M300","v":38.64163088451663},{"$f":"+正規乱数!N300","v":18.161781769070025},{"$f":"+正規乱数!O300","v":0.11385375894031867},27.242672653605037,13.621336326802517,23.592846585005589,16.991418422250685,5.2777086909787396,1.1547005383792515,8.9401067401136753,1.0437900577431756,null,1.0286508362741742,1.0135116148051728,0.99837239333617145,0.98323317186716996,0.96809395039816848,0.95295472892916722,0.93781550746016584,0.92267628599116436,0.90753706452216298,0.89239784305316161,0.87725862158416024,0.86211940011515875,0.84698017864615738,0.831840957177156,0.81670173570815441,0.80156251423915315,0.78642329277015166,0.77128407130115018,0.7561448498321488,0.74100562836314754,0.72586640689414605]
[293,{"$f":"+正規乱数!L301","v":8.3804427509520476},{"$f":"+正規乱数!M301","v":35.793695694616055},{"$f":"+正規乱数!N301","v":17.751762213106314},{"$f":"+正規乱数!O301","v":9.836517485959953E-2},26.62764331965947,13.313821659829733,23.060215557736104,16.991418422250685,4.3759395214355035,1.1547005383792515,9.6769017563808237,1.0555076999578832,null,1.0434385774625481,1.0313694549672132,1.0193003324718783,1.0072312099765435,0.99516208748120849,0.98309296498587373,0.97102384249053875,0.95895471999520387,0.946885597499869,0.93481647500453413,0.92274735250919926,0.91067823001386428,0.8986091075185294,0.88653998502319442,0.87447086252785955,0.86240174003252468,0.85033261753718969,0.83826349504185482,0.82619437254651984,0.81412525005118497,0.80205612755584998]
[294,{"$f":"+正規乱数!L302","v":11.042585142561411},{"$f":"+正規乱数!M302","v":36.285741240108095},{"$f":"+正規乱数!N302","v":18.702201342680329},{"$f":"+正規乱数!O302","v":7.0754245108091821E-2},28.053302014020495,14.026651007010246,24.294872204178908,16.991418422250685,5.3621223700621536,1.1547005383792515,12.750879009214383,1.2913275856242528,null,1.2829373275942761,1.2745470695642995,1.2661568115343229,1.2577665535043459,1.2493762954743692,1.2409860374443926,1.232595779414416,1.2242055213844394,1.2158152633544625,1.2074250053244859,1.1990347472945093,1.1906444892645325,1.1822542312345556,1.173863973204579,1.1654737151746024,1.1570834571446256,1.1486931991146487,1.1403029410846721,1.1319126830546955,1.1235224250247189,1.115132166994742]
[295,{"$f":"+正規乱数!L303","v":4.4823310254402919},{"$f":"+正規乱数!M303","v":36.452940629287497},{"$f":"+正規乱数!N303","v":17.766725753489506},{"$f":"+正規乱数!O303","v":0.13279683608401738},26.650088630234258,13.325044315117127,23.079653766889702,16.991418422250685,4.497323357045599,1.1547005383792515,5.1757500482699275,0.72593180004223501,null,0.70925356385757432,0.69257532767291363,0.67589709148825283,0.65921885530359203,0.64254061911893134,0.62586238293427066,0.60918414674960997,0.59250591056494928,0.57582767438028859,0.55914943819562779,0.54247120201096721,0.52579296582630641,0.50911472964164572,0.49243649345698498,0.47575825727232429,0.45908002108766355,0.44240178490300286,0.42572354871834206,0.40904531253368137,0.39236707634902068,0.37568884016435994]
[296,{"$f":"+正規乱数!L304","v":10.437731278136539},{"$f":"+正規乱数!M304","v":37.568001433005499},{"$f":"+正規乱数!N304","v":18.519568194507873},{"$f":"+正規乱数!O304","v":0.14995944219475457},27.779352291761811,13.889676145880903,24.057624785343194,16.991418422250685,5.4354274207925597,1.1547005383792515,12.052453926322213,1.2590560905410992,null,1.2402413838496327,1.2214266771581659,1.2026119704666991,1.1837972637752325,1.1649825570837657,1.146167850392299,1.1273531437008324,1.1085384370093658,1.089723730317899,1.0709090236264325,1.0520943169349657,1.0332796102434991,1.0144649035520323,0.99565019686056566,0.97683549016909887,0.9580207834776322,0.93920607678616563,0.92039137009469885,0.90157666340323217,0.88276195671176538,0.86394725002029882]
[297,{"$f":"+正規乱数!L305","v":10.767743730901993},{"$f":"+正規乱数!M305","v":36.317823153652483},{"$f":"+正規乱数!N305","v":18.06107468990508},{"$f":"+正規乱数!O305","v":0.197239529298398},27.091612034857619,13.545806017428808,23.462024251658928,16.991418422250685,4.756232173191699,1.1547005383792515,12.433519483202341,1.2690091408570834,null,1.2447611601139341,1.2205131793707846,1.1962651986276354,1.1720172178844861,1.1477692371413368,1.1235212563981876,1.0992732756550383,1.075025294911889,1.0507773141687398,1.0265293334255905,1.0022813526824412,0.97803337193929174,0.95378539119614258,0.92953741045299321,0.90528942970984383,0.88104144896669456,0.85679346822354541,0.83254548748039603,0.80829750673724665,0.78404952599409738,0.75980154525094812]
[298,{"$f":"+正規乱数!L306","v":10.982746236091289},{"$f":"+正規乱数!M306","v":29.167038277942513},{"$f":"+正規乱数!N306","v":18.010937287035912},{"$f":"+正規乱数!O306","v":0.15816942710734661},27.016405930553866,13.508202965276931,23.396893854812216,16.991418422250685,3.5750647556992901,1.1547005383792515,12.681782991697309,1.2034796774363774,null,1.1886740819920176,1.1738684865476579,1.1590628911032981,1.1442572956589383,1.1294517002145785,1.1146461047702187,1.0998405093258588,1.085034913881499,1.0702293184371392,1.0554237229927794,1.0406181275484196,1.0258125321040599,1.0110069366596999,0.99620134121534021,0.98139574577098032,{"$f":"+(($H308-$I308-AD$10*$G$6*$E308*$K308)*TAN($C308*PI()/180)+$L308)/$G308","v":0.96659015032662055},0.95178455488226066,0.93697895943790077,0.92217336399354088,0.90736776854918111,0.89256217310482144]
[299,{"$f":"+正規乱数!L307","v":8.146434689498296},{"$f":"+正規乱数!M307","v":34.20110809904962},{"$f":"+正規乱数!N307","v":17.163022425447828},{"$f":"+正規乱数!O307","v":0.19318901104674097},25.744533638171742,12.872266819085869,22.295420139239749,16.991418422250685,3.6047458026589694,1.1547005383792515,9.4066925218350921,1.0108117324915795,null,0.98770349905186239,0.96459526561214526,0.94148703217242802,0.91837879873271089,0.89527056529299365,0.87216233185327652,0.84905409841355928,0.82594586497384215,0.80283763153412513,0.77972939809440789,0.75662116465469076,0.73351293121497352,0.71040469777525639,0.68729646433553915,0.66418823089582191,0.64107999745610478,0.61797176401638765,0.59486353057667041,0.57175529713695317,0.54864706369723604,0.5255388302575188]
[300,{"$f":"+正規乱数!L308","v":10.639877971251121},{"$f":"+正規乱数!M308","v":37.437396503675927},{"$f":"+正規乱数!N308","v":17.197815369476192},{"$f":"+正規乱数!O308","v":0.10448967227186187},25.79672305421429,12.898361527107143,22.340617499341271,16.991418422250685,4.0953065328912066,1.1547005383792515,12.285872821693207,1.2700201742801049,null,1.2559692515342671,1.2419183287884292,1.2278674060425914,1.2138164832967535,1.1997655605509157,1.1857146378050778,1.1716637150592399,1.1576127923134021,1.1435618695675644,1.1295109468217266,1.1154600240758887,1.1014091013300509,1.087358178584213,1.0733072558383752,1.0592563330925373,1.0452054103466994,1.0311544876008616,1.0171035648550235,1.0030526421091859,0.98900171936334791,0.97495079661751005]
[301,{"$f":"+正規乱数!L309","v":10.285393014370904},{"$f":"+正規乱数!M309","v":28.13845295585929},{"$f":"+正規乱数!N309","v":16.539629713935984},{"$f":"+正規乱数!O309","v":0.10888768381979277},24.809444570903977,12.404722285451987,21.485609252184769,16.991418422250685,2.4035519258156723,1.1547005383792515,11.876548851136274,1.1511826261277422,null,1.1405470239285482,1.129911421729354,1.11927581953016,1.1086402173309657,1.0980046151317717,1.0873690129325775,1.0767334107333835,1.0660978085341895,1.0554622063349954,1.0448266041358012,1.0341910019366072,1.0235553997374129,1.0129197975382189,1.0022841953390247,0.99164859313983067,0.98101299094063654,0.97037738874144253,0.9597417865422484,0.94910618434305427,0.93847058214386014,0.92783497994466613]
[302,{"$f":"+正規乱数!L310","v":11.821954979988092},{"$f":"+正規乱数!M310","v":35.210636828866527},{"$f":"+正規乱数!N310","v":17.427508207456508},{"$f":"+正規乱数!O310","v":0.12056745281062209},26.141262311184761,13.070631155592379,22.638997248478713,16.991418422250685,3.9854990166342597,1.1547005383792515,13.650817780087523,1.349308735498663,null,1.3345611031327245,1.3198134707667859,1.3050658384008473,1.2903182060349088,1.2755705736689702,1.2608229413030316,1.2460753089370928,1.2313276765711543,1.2165800442052157,1.2018324118392771,1.1870847794733386,1.1723371471074,1.1575895147414612,1.1428418823755226,1.1280942500095841,1.1133466176436453,1.0985989852777067,1.0838513529117682,1.0691037205458294,1.0543560881798908,1.0396084558139524]
[303,{"$f":"+正規乱数!L311","v":8.4301766973019578},{"$f":"+正規乱数!M311","v":32.508472058258278},{"$f":"+正規乱数!N311","v":17.881083325481473},{"$f":"+正規乱数!O311","v":8.6363721403686811E-2},26.821624988222212,13.410812494111104,23.22820861057993,16.991418422250685,3.9745701636743882,1.1547005383792515,9.734329571006791,1.0222273811300373,null,1.0129297210900023,1.0036320610499674,0.99433440100993231,0.98503674096989735,0.97573908092986206,0.9664414208898271,0.95714376084979202,0.94784610080975695,0.93854844076972199,0.92925078072968692,0.91995312068965185,0.91065546064961689,0.90135780060958182,0.89206014056954674,0.88276248052951167,0.87346482048947649,0.86416716044944153,0.85486950040940646,0.84557184036937139,0.83627418032933631,0.82697652028930135]
[304,{"$f":"+正規乱数!L312","v":9.2319840672618287},{"$f":"+正規乱数!M312","v":35.570610713458066},{"$f":"+正規乱数!N312","v":18.5656390158317},{"$f":"+正規乱数!O312","v":0.10146181464739122},27.848458523747549,13.924229261873773,24.117472537802666,16.991418422250685,5.096226945590228,1.1547005383792515,10.660176972775906,1.1315817645655317,null,1.1197758543743688,1.1079699441832058,1.0961640339920431,1.0843581238008801,1.0725522136097174,1.0607463034185545,1.0489403932273915,1.0371344830362288,1.0253285728450658,1.0135226626539029,1.0017167524627402,0.98991084227157722,0.97810493208041438,0.96629902188925154,0.9544931116980887,0.94268720150692575,0.93088129131576292,0.91907538112460008,0.90726947093343724,0.8954635607422744,0.88365765055111145]
[305,{"$f":"+正規乱数!L313","v":9.15512910142753},{"$f":"+正規乱数!M313","v":32.94079484917679},{"$f":"+正規乱数!N313","v":17.089690571435135},{"$f":"+正規乱数!O313","v":0.17515219569562776},25.634535857152702,12.817267928576349,22.200159266517343,16.991418422250685,3.3749487754292899,1.1547005383792515,10.571432502349921,1.0880931377493859,null,1.0680335072036982,1.0479738766580105,1.0279142461123227,1.007854615566635,0.98779498502094731,0.96773535447525971,0.947675723929572,0.92761609338388418,0.90755646283819658,0.88749683229250875,0.86743720174682115,0.84737757120113344,0.82731794065544562,0.80725831010975801,0.78719867956407019,0.76713904901838259,0.74707941847269488,0.72701978792700706,0.70696015738131934,0.68690052683563163,0.66684089628994392]
[306,{"$f":"+正規乱数!L314","v":8.1421828133892333},{"$f":"+正規乱数!M314","v":32.943767150897322},{"$f":"+正規乱数!N314","v":18.315922950237596},{"$f":"+正規乱数!O314","v":0.10299604293874705},27.473884425356395,13.736942212678196,23.793081852996274,16.991418422250685,4.4075671866922246,1.1547005383792515,9.4017828782028356,1.0052710312889019,null,0.99426368465580095,0.98325633802269985,0.97224899138959886,0.96124164475649787,0.95023429812339688,0.93922695149029589,0.92821960485719479,0.9172122582240938,0.90620491159099281,0.89519756495789182,0.88419021832479072,0.87318287169168984,0.86217552505858874,0.85116817842548775,0.84016083179238665,0.82915348515928566,0.81814613852618467,0.80713879189308368,0.79613144525998258,0.78512409862688171,0.77411675199378061]
[307,{"$f":"+正規乱数!L315","v":10.790665707694115},{"$f":"+正規乱数!M315","v":35.0133670429937},{"$f":"+正規乱数!N315","v":18.588194037072007},{"$f":"+正規乱数!O315","v":0.13859010567162233},27.882291055608011,13.941145527804004,24.14677236986817,16.991418422250685,5.0127209753640063,1.1547005383792515,12.459987502144921,1.2533194236199334,null,1.237541692666176,1.221763961712419,1.2059862307586615,1.1902084998049041,1.1744307688511468,1.1586530378973894,1.1428753069436322,1.1270975759898749,1.1113198450361175,1.0955421140823602,1.0797643831286028,1.0639866521748456,1.0482089212210881,1.0324311902673307,1.0166534593135734,1.000875728359816,0.98509799740605875,0.9693202664523014,0.95354253549854406,0.93776480454478661,0.92198707359102927]
[308,{"$f":"+正規乱数!L316","v":7.5322477076973229},{"$f":"+正規乱数!M316","v":40.251541698107658},{"$f":"+正規乱数!N316","v":15.721125459573342},{"$f":"+正規乱数!O316","v":0.10783833301425917},23.581688189360012,11.790844094680004,20.422341036109234,16.991418422250685,2.9046488724993029,1.1547005383792515,8.6974904832839819,0.98399565481644669,null,0.96645364465734995,0.94891163449825311,0.93136962433915627,0.91382761418005942,0.89628560402096258,0.87874359386186573,0.86120158370276889,0.84365957354367194,0.82611756338457532,0.80857555322547825,0.79103354306638163,0.77349153290728467,0.75594952274818783,0.73840751258909099,0.72086550242999414,0.7033234922708973,0.68578148211180046,0.66823947195270361,0.65069746179360666,0.63315545163450981,0.61561344147541297]
[309,{"$f":"+正規乱数!L317","v":9.2525447644620407},{"$f":"+正規乱数!M317","v":29.781224559638517},{"$f":"+正規乱数!N317","v":17.715665749875026},{"$f":"+正規乱数!O317","v":0.13552250442846719},26.573498624812537,13.286749312406267,23.013324876518503,16.991418422250685,3.446158259733894,1.1547005383792515,10.683918420902442,1.063471308775475,null,1.0502473263876151,1.0370233439997549,1.023799361611895,1.0105753792240348,0.99735139683617458,0.98412741444831464,0.97090343206045449,0.95767944967259444,0.94445546728473428,0.93123148489687424,0.91800750250901419,0.90478352012115415,0.89155953773329399,0.87833555534543384,0.86511157295757368,0.85188759056971364,0.83866360818185359,0.82543962579399355,0.81221564340613339,0.79899166101827324,0.78576767863041319]
[310,{"$f":"+正規乱数!L318","v":9.5352186116256874},{"$f":"+正規乱数!M318","v":34.259036471772191},{"$f":"+正規乱数!N318","v":17.348915650380704},{"$f":"+正規乱数!O318","v":0.13904973169811136},26.023373475571056,13.011686737785526,22.536902522014675,16.991418422250685,3.7770659414831758,1.1547005383792515,11.01032206440804,1.1364697217117217,null,1.1199797454583935,1.1034897692050654,1.0869997929517374,1.0705098166984093,1.0540198404450811,1.0375298641917532,1.021039887938425,1.0045499116850971,0.98805993543176895,0.97156995917844091,0.95507998292511276,0.93859000667178472,0.92210003041845667,0.90561005416512841,0.88912007791180037,0.87263010165847221,0.85614012540514417,0.83965014915181602,0.82316017289848797,0.80667019664515993,0.79018022039183178]
[311,{"$f":"+正規乱数!L319","v":12.121558738590981},{"$f":"+正規乱数!M319","v":31.103960771428866},{"$f":"+正規乱数!N319","v":17.500924892389126},{"$f":"+正規乱数!O319","v":0.11167895463117772},26.25138733858369,13.125693669291843,22.734368319798641,16.991418422250685,3.4649103567739821,1.1547005383792515,13.996770401446726,1.3303434620810255,null,1.3187136037936598,1.307083745506294,1.2954538872189285,1.2838240289315626,1.272194170644197,1.2605643123568313,1.2489344540694656,1.2373045957821001,1.2256747374947343,1.2140448792073686,1.2024150209200029,1.1907851626326373,1.1791553043452716,1.1675254460579059,1.1558955877705401,1.1442657294831744,1.1326358711958089,1.1210060129084429,1.1093761546210774,1.0977462963337117,1.0861164380463459]
[312,{"$f":"+正規乱数!L320","v":10.051193977669147},{"$f":"+正規乱数!M320","v":36.410596851183747},{"$f":"+正規乱数!N320","v":17.920522964958188},{"$f":"+正規乱数!O320","v":0.15996273940371986},26.880784447437282,13.440392223718639,23.279442205134334,16.991418422250685,4.6377263123505781,1.1547005383792515,11.606119097368854,1.2085841796382595,null,1.1886973203042506,1.1688104609702419,1.1489236016362332,1.1290367423022245,1.1091498829682158,1.0892630236342071,1.0693761643001984,1.0494893049661895,1.0296024456321808,1.0097155862981722,0.98982872696416346,0.96994186763015466,0.95005500829614609,0.93016814896213729,0.91028128962812849,0.8903944302941198,0.870507570960111,0.85062071162610231,0.83073385229209362,0.81084699295808493,0.79096013362407613]
[313,{"$f":"+正規乱数!L321","v":10.124523997132851},{"$f":"+正規乱数!M321","v":33.9781875072796},{"$f":"+正規乱数!N321","v":17.919468416059402},{"$f":"+正規乱数!O321","v":9.7915810157936892E-2},26.879202624089103,13.43960131204455,23.278072305930511,16.991418422250685,4.236920280126558,1.1547005383792515,11.690793310322954,1.1851328935014702,null,1.1740087764634133,1.1628846594253561,1.151760542387299,1.140636425349242,1.1295123083111851,1.1183881912731282,1.1072640742350712,1.0961399571970141,1.0850158401589571,1.0738917231209002,1.062767606082843,1.0516434890447861,1.0405193720067289,1.029395254968672,1.0182711379306151,1.0071470208925581,0.99602290385450098,0.98489878681644405,0.97377466977838711,0.96265055274033007,0.95152643570227302]
[314,{"$f":"+正規乱数!L322","v":12.780204011855311},{"$f":"+正規乱数!M322","v":32.600074016655803},{"$f":"+正規乱数!N322","v":16.617054275980152},{"$f":"+正規乱数!O322","v":0.20188497838206637},24.925581413970228,12.462790706985112,21.586186708595466,16.991418422250685,2.9384852735583373,1.1547005383792515,14.757308453085997,1.4198901468132852,null,1.396419936625763,1.3729497264382415,1.3494795162507198,1.3260093060631981,1.3025390958756764,1.2790688856881549,1.2555986755006332,1.2321284653131115,1.2086582551255898,1.1851880449380681,1.1617178347505464,1.1382476245630246,1.1147774143755029,1.0913072041879812,{"$f":"+(($H324-$I324-AC$10*$G$6*$E324*$K324)*TAN($C324*PI()/180)+$L324)/$G324","v":1.0678369940004595},1.0443667838129378,1.0208965736254161,0.99742636343789437,0.97395615325037277,0.95048594306285106,0.92701573287532923]
[315,{"$f":"+正規乱数!L323","v":11.31056113298105},{"$f":"+正規乱数!M323","v":34.988581031999765},{"$f":"+正規乱数!N323","v":18.51030418623878},{"$f":"+正規乱数!O323","v":0.13473510543184203},27.765456279358169,13.882728139679083,24.045590485590338,16.991418422250685,4.9372895674069994,1.1547005383792515,13.060311029624655,1.2964022932633539,null,1.2810130640215796,1.265623834779805,1.2502346055380307,1.2348453762962563,1.2194561470544822,1.2040669178127079,1.1886776885709336,1.1732884593291593,1.1578992300873852,1.1425100008456108,1.1271207716038363,1.111731542362062,1.0963423131202878,1.0809530838785135,1.065563854636739,1.0501746253949649,1.0347853961531905,1.0193961669114162,1.0040069376696419,0.98861770842786767,0.97322847918609334]
[316,{"$f":"+正規乱数!L324","v":9.0600778802965944},{"$f":"+正規乱数!M324","v":27.539676906949449},{"$f":"+正規乱数!N324","v":15.351990377786624},{"$f":"+正規乱数!O324","v":0.19600503641559219},23.027985566679938,11.513992783339967,19.942820498726221,16.991418422250685,1.5390012914689912,1.1547005383792515,10.461676806136426,1.042269030684964,null,1.022158651700068,1.0020482727151723,0.9819378937302764,0.96182751474538053,0.94171713576048466,0.92160675677558879,0.90149637779069292,0.88138599880579704,0.86127561982090117,0.84116524083600541,0.82105486185110954,0.80094448286621367,0.7808341038813178,0.76072372489642193,0.74061334591152594,0.72050296692663007,0.7003925879417342,0.68028220895683833,0.66017182997194246,0.64006145098704659,0.61995107200215072]
[317,{"$f":"+正規乱数!L325","v":10.805028529591439},{"$f":"+正規乱数!M325","v":35.436599551327141},{"$f":"+正規乱数!N325","v":18.218876009709483},{"$f":"+正規乱数!O325","v":0.18116835524808531},27.328314014564224,13.66415700728211,23.667014179210916,16.991418422250685,4.7505197680854634,1.1547005383792515,12.476572260322406,1.2607504450678477,null,1.2393748128272486,1.2179991805866497,1.196623548346051,1.1752479161054521,1.153872283864853,1.1324966516242541,1.1111210193836552,1.0897453871430565,1.0683697549024573,1.0469941226618584,1.0256184904212595,1.0042428581806606,0.9828672259400616,0.9614915936994628,0.94011596145886389,0.91874032921826487,0.89736469697766608,0.87598906473706706,0.85461343249646815,0.83323780025586924,0.81186216801527034]
[318,{"$f":"+正規乱数!L326","v":11.188333512588096},{"$f":"+正規乱数!M326","v":34.921236375366433},{"$f":"+正規乱数!N326","v":19.08774575331136},{"$f":"+正規乱数!O326","v":0.19754236973815925},28.63161862996704,14.315809314983518,24.795709085019265,16.991418422250685,5.4486500272292879,1.1547005383792515,12.919174730552097,1.2830448040794216,null,1.2612191029763526,1.2393934018732837,1.2175677007702153,1.1957419996671466,1.1739162985640779,1.1520905974610092,1.1302648963579403,1.1084391952548718,1.0866134941518031,1.0647877930487344,1.0429620919456655,1.0211363908425968,0.99931068973952808,0.97748498863645927,0.95565928753339058,0.93383358643032188,0.91200788532725319,0.89018218422418438,0.86835648312111557,0.84653078201804699,0.82470508091497807]
[319,{"$f":"+正規乱数!L327","v":10.376969772412579},{"$f":"+正規乱数!M327","v":33.10435952085497},{"$f":"+正規乱数!N327","v":18.146080456127901},{"$f":"+正規乱数!O327","v":0.12975322599557276},27.21912068419185,13.609560342095923,23.572449981184615,16.991418422250685,4.290834068244318,1.1547005383792515,11.982292582950024,1.195712884336146,null,1.1816300462253935,1.1675472081146412,1.1534643700038889,1.1393815318931366,1.1252986937823841,1.1112158556716318,1.0971330175608796,1.0830501794501273,1.0689673413393748,1.0548845032286225,1.0408016651178702,1.0267188270071179,1.0126359888963654,0.99855315078561313,0.98447031267486063,0.97038747456410834,0.95630463645335606,0.94222179834260356,0.92813896023185127,0.91405612212109899,0.8999732840103466]
[320,{"$f":"+正規乱数!L328","v":7.0903405526778798},{"$f":"+正規乱数!M328","v":36.743106270299386},{"$f":"+正規乱数!N328","v":19.441025929907862},{"$f":"+正規乱数!O328","v":0.17613656839917247},29.161538894861792,14.580769447430894,25.254633496398299,16.991418422250685,6.1688868954596181,1.1547005383792515,8.1872200534693871,0.98459186263716181,null,0.96416059982202518,0.94372933700688844,0.92329807419175181,0.90286681137661517,0.88243554856147854,0.8620042857463418,0.84157302293120528,0.82114176011606854,0.8007104973009318,0.78027923448579528,0.75984797167065854,0.7394167088555218,0.71898544604038506,0.69855418322524843,0.67812292041011191,0.65769165759497517,0.63726039477983842,0.61682913196470179,0.59639786914956516,0.57596660633442842,0.55553534351929168]
[321,{"$f":"+正規乱数!L329","v":5.3073847683324811},{"$f":"+正規乱数!M329","v":36.959708084417414},{"$f":"+正規乱数!N329","v":19.526906187299758},{"$f":"+正規乱数!O329","v":0.18399715484480156},29.290359280949637,14.645179640474817,25.366195223275692,16.991418422250685,6.3016182610898932,1.1547005383792515,6.1284400493793543,0.84874741147703991,null,0.82733016546173721,0.80591291944643439,0.78449567343113158,0.76307842741582887,0.74166118140052606,0.72024393538522336,0.69882668936992054,0.67740944335461784,0.65599219733931513,0.63457495132401232,0.61315770530870961,0.59174045929340657,0.57032321327810387,0.54890596726280105,0.52748872124749835,0.50607147523219553,0.48465422921689277,0.46323698320158996,0.44181973718628714,0.42040249117098444,0.39898524515568162]
[322,{"$f":"+正規乱数!L330","v":10.304610158740308},{"$f":"+正規乱数!M330","v":39.091930012523122},{"$f":"+正規乱数!N330","v":17.303686144024745},{"$f":"+正規乱数!O330","v":0.19457851656039199},25.955529216037117,{"$f":"+F332*SIN($G$2*PI()/180)","v":12.977764608018557},22.478147669757341,{"$f":"+$G$5*$G$4*$G$6/COS($G$2*PI()/180)","v":16.991418422250685},4.4576608715022408,{"$f":"+$G$4/COS($G$2*PI()/180)","v":1.1547005383792515},11.898738898085737,1.2603403023261699,null,1.2327436207569287,1.2051469391876874,1.1775502576184462,1.149953576049205,1.1223568944799636,1.0947602129107226,1.0671635313414811,1.0395668497722399,1.0119701682029987,0.98437348663375723,0.95677680506451601,0.92918012349527468,0.90158344192603335,0.87398676035679224,0.84639007878755079,0.81879339721830957,0.79119671564906835,0.76360003407982702,0.73600335251058557,0.70840667094134435,0.68080998937210313]
[323,{"$f":"+正規乱数!L331","v":9.6645216411219117},{"$f":"+正規乱数!M331","v":32.496327872607836},{"$f":"+正規乱数!N331","v":15.402449512766214},{"$f":"+正規乱数!O331","v":0.10097077882651112},23.103674269149323,11.55183713457466,20.008368837844188,16.991418422250685,1.9217375645027481,1.1547005383792515,11.159628342181398,1.1324056731661847,null,1.1197920768678473,1.10717848056951,1.0945648842711726,1.0819512879728355,1.0693376916744981,1.056724095376161,1.0441104990778236,1.0314969027794865,1.0188833064811491,1.006269710182812,0.99365611388447461,0.98104251758613736,0.9684289212878,0.95581532498946287,0.94320172869112551,0.93058813239278837,0.91797453609445101,0.90536093979611376,0.8927473434977764,0.88013374719943926,0.86752015090110191]
[324,{"$f":"+正規乱数!L332","v":12.171414927966387},{"$f":"+正規乱数!M332","v":33.067834730409395},{"$f":"+正規乱数!N332","v":18.039214445952005},{"$f":"+正規乱数!O332","v":0.12049520231820759},27.058821668928008,13.529410834464002,23.433626961764499,16.991418422250685,4.194471290032534,1.1547005383792515,14.054339370160045,1.3488252284945523,null,1.3356880624616549,1.322550896428758,1.3094137303958606,1.2962765643629635,1.2831393983300661,1.2700022322971689,1.2568650662642715,1.2437279002313746,1.2305907341984774,1.21745356816558,1.2043164021326829,1.1911792360997855,1.1780420700668883,1.1649049040339912,1.1517677380010938,1.1386305719681966,1.1254934059352992,1.1123562399024023,1.0992190738695049,1.0860819078366077,1.0729447418037104]
[325,{"$f":"+正規乱数!L333","v":9.8041613420144866},{"$f":"+正規乱数!M333","v":36.258859249569227},{"$f":"+正規乱数!N333","v":17.859100641380159},{"$f":"+正規乱数!O333","v":0.16723641208994261},26.788650962070239,13.394325481035118,23.199652266267272,16.991418422250685,4.5535415799745769,1.1547005383792515,11.320870379981173,1.1851594902955107,null,1.1644122849941088,1.143665079692707,1.1229178743913053,1.1021706690899034,1.0814234637885016,1.0606762584870999,1.0399290531856979,1.0191818478842962,0.99843464258289449,0.97768743728149266,0.95694023198009093,0.93619302667868898,0.91544582137728725,0.89469861607588541,0.87395141077448368,0.85320420547308184,0.83245700017168001,0.81170979487027828,0.79096258956887644,0.7702153842674746,0.74946817896607287]
[326,{"$f":"+正規乱数!L334","v":8.8281063013507239},{"$f":"+正規乱数!M334","v":30.606099411279789},{"$f":"+正規乱数!N334","v":18.186594185616833},{"$f":"+正規乱数!O334","v":0.15972865379086904},27.27989127842525,13.639945639212623,23.625078859593817,16.991418422250685,3.9240890811048015,1.1547005383792515,10.193819099038944,1.0350413816574942,null,1.0193477236663342,1.0036540656751742,0.9879604076840145,0.97226674969285454,0.95657309170169469,0.94087943371053484,0.92518577571937488,0.90949211772821503,0.89379845973705518,0.87810480174589522,0.86241114375473538,0.84671748576357542,0.83102382777241557,0.81533016978125561,0.79963651179009554,0.7839428537989358,0.76824919580777595,0.75255553781661599,0.73686187982545592,0.72116822183429619,0.70547456384313612]
[327,{"$f":"+正規乱数!L335","v":8.5711541219578464},{"$f":"+正規乱数!M335","v":34.821805219494124},{"$f":"+正規乱数!N335","v":19.087555569825884},{"$f":"+正規乱数!O335","v":0.11929730900992136},28.631333354738828,14.315666677369412,24.795462029424563,16.991418422250685,5.428357438693272,1.1547005383792515,9.8971162791562648,1.0705385968560204,null,1.0574064361083744,1.0442742753607284,1.0311421146130826,1.0180099538654366,1.0048777931177906,0.99174563237014468,0.97861347162249879,0.96548131087485289,0.952349150127207,0.93921698937956111,0.9260848286319151,0.91295266788426921,0.89982050713662332,0.88668834638897731,0.87355618564133131,0.86042402489368552,0.84729186414603952,0.83415970339839363,0.82102754265074762,0.80789538190310173,0.79476322115545583]
[328,{"$f":"+正規乱数!L336","v":10.42366499722333},{"$f":"+正規乱数!M336","v":38.621448186668729},{"$f":"+正規乱数!N336","v":18.755328075499623},{"$f":"+正規乱数!O336","v":0.17808295005132782},28.132992113249436,14.066496056624716,24.363885854541273,16.991418422250685,5.8898833416267662,1.1547005383792515,12.036211584178739,1.2743823944245931,null,1.2514685154882736,1.2285546365519537,1.2056407576156338,1.1827268786793141,1.1598129997429942,1.1368991208066743,1.1139852418703546,1.0910713629340347,1.068157483997715,1.0452436050613951,1.0223297261250754,0.99941584718875554,0.97650196825243563,0.95358808931611594,0.93067421037979592,0.90776033144347623,0.88484645250715654,0.86193257357083652,0.83901869463451673,0.81610481569819693,0.79319093676187713]
[329,{"$f":"+正規乱数!L337","v":12.558701116777094},{"$f":"+正規乱数!M337","v":31.771528042989154},{"$f":"+正規乱数!N337","v":17.268138571606965},{"$f":"+正規乱数!O337","v":0.20207207099630495},25.902207857410446,12.951103928705221,22.431970018622341,16.991418422250685,3.3695431498620421,1.1547005383792515,14.501538940886617,1.3798887098063237,null,1.3579961792645814,1.3361036487228386,1.314211118181096,1.2923185876393537,1.2704260570976109,1.2485335265558686,1.2266409960141258,1.2047484654723832,1.1828559349306409,1.1609634043888983,1.1390708738471558,1.117178343305413,1.0952858127636704,1.0733932822219281,1.0515007516801853,1.0296082211384427,1.0077156905967002,0.98582316005495763,0.96393062951321506,0.9420380989714725,0.92014556842972983]
[330,{"$f":"+正規乱数!L338","v":12.688520472351456},{"$f":"+正規乱数!M338","v":34.091844909897468},{"$f":"+正規乱数!N338","v":18.579514393236561},{"$f":"+正規乱数!O338","v":0.10919097124766491},27.86927158985484,13.934635794927418,24.135497181782224,16.991418422250685,4.8354221380980995,1.1547005383792515,14.651441420660381,1.39844800004405,null,1.3864323398207303,1.3744166795974109,1.3624010193740912,1.3503853591507715,1.3383696989274521,1.3263540387041324,1.3143383784808129,1.3023227182574932,1.2903070580341736,1.2782913978108541,1.2662757375875342,1.2542600773642145,1.2422444171408951,{"$f":"+(($H340-$I340-AB$10*$G$6*$E340*$K340)*TAN($C340*PI()/180)+$L340)/$G340","v":1.2302287569175754},1.2182130966942557,1.2061974364709362,1.1941817762476166,1.1821661160242969,1.1701504558009774,1.1581347955776577,1.1461191353543378]
[331,{"$f":"+正規乱数!L339","v":11.957300960657781},{"$f":"+正規乱数!M339","v":30.828282986655445},{"$f":"+正規乱数!N339","v":16.922502906469056},{"$f":"+正規乱数!O339","v":0.12412883021846238},25.383754359703584,12.69187717985179,21.982976118927304,16.991418422250685,2.9789061509147809,1.1547005383792515,13.807101856834281,1.3225788250138959,null,1.3093556453424722,1.2961324656710485,1.2829092859996247,1.269686106328201,1.2564629266567771,1.2432397469853533,1.2300165673139294,1.2167933876425057,1.2035702079710819,1.1903470282996582,1.1771238486282343,1.1639006689568105,1.1506774892853866,1.1374543096139629,1.1242311299425392,1.1110079502711152,1.0977847705996915,1.0845615909282675,1.0713384112568438,1.0581152315854201,1.0448920519139961]
[332,{"$f":"+正規乱数!L340","v":8.6228636681881472},{"$f":"+正規乱数!M340","v":37.787762960709479},{"$f":"+正規乱数!N340","v":18.347329056310134},{"$f":"+正規乱数!O340","v":0.11281308062322637},27.520993584465202,13.760496792232599,23.833879581535424,16.991418422250685,5.3052166372102878,1.1547005383792515,9.9568253200277415,1.1091199821980997,null,1.0947192524986644,1.0803185227992289,1.0659177930997936,1.0515170634003581,1.0371163337009228,1.0227156040014875,1.008314874302052,0.99391414460261662,0.97951341490318133,0.96511268520374605,0.95071195550431042,0.93631122580487514,0.92191049610543974,0.90750976640600434,0.89310903670656883,0.87870830700713354,0.86430757730769814,0.84990684760826274,0.83550611790882734,0.82110538820939205,0.80670465850995654]
[333,{"$f":"+正規乱数!L341","v":9.4940373832897667},{"$f":"+正規乱数!M341","v":39.016087977330272},{"$f":"+正規乱数!N341","v":18.49711501312137},{"$f":"+正規乱数!O341","v":0.13846885256234198},27.745672519682053,13.872836259841025,24.028457247128454,16.991418422250685,5.7017540509103215,1.1547005383792515,10.962770077877433,1.2012341107944944,null,1.1829120745875492,1.164590038380604,1.1462680021736587,1.1279459659667135,1.1096239297597683,1.0913018935528229,1.0729798573458778,1.0546578211389326,1.0363357849319872,1.018013748725042,0.99969171251809674,0.98136967631115146,0.96304764010420629,0.94472560389726101,0.92640356769031573,0.90808153148337045,0.88975949527642528,0.87143745906947989,0.85311542286253461,0.83479338665558933,0.81647135044864416]
[334,{"$f":"+正規乱数!L342","v":6.7324656348312857},{"$f":"+正規乱数!M342","v":31.101711576478703},{"$f":"+正規乱数!N342","v":20.820840403615833},{"$f":"+正規乱数!O342","v":0.17158250993738766},31.231260605423749,15.615630302711873,27.047065076509135,16.991418422250685,6.0663635820710056,1.1547005383792515,7.7739816931594943,0.88631358497434021,null,0.87129599298862803,0.85627840100291586,0.84126080901720368,0.82624321703149151,0.81122562504577933,0.79620803306006716,0.78119044107435498,0.7661728490886428,0.75115525710293074,0.73613766511721856,0.72112007313150639,0.70610248114579421,0.69108488916008204,0.67606729717436986,0.6610497051886578,0.64603211320294562,0.63101452121723345,0.61599692923152127,0.6009793372458091,0.58596174526009703,0.57094415327438486]
[335,{"$f":"+正規乱数!L343","v":9.0831641185096661},{"$f":"+正規乱数!M343","v":36.638247906884075},{"$f":"+正規乱数!N343","v":17.289347734658506},{"$f":"+正規乱数!O343","v":0.15914534852782258},25.934021601987759,12.967010800993878,22.459521529615806,16.991418422250685,4.0666381071154802,1.1547005383792515,10.488334497830211,1.1224616704900177,null,1.1017830634985288,1.08110445650704,1.060425849515551,1.0397472425240619,1.0190686355325729,0.99839002854108394,0.97771142154959512,0.95703281455810607,0.93635420756661714,0.91567560057512831,0.89499699358363927,0.87431838659215033,0.85363977960066129,0.83296117260917235,0.81228256561768331,0.79160395862619448,{"$f":"+(($H345-$I345-AE$10*$G$6*$E345*$K345)*TAN($C345*PI()/180)+$L345)/$G345","v":0.77092535163470544},0.7502467446432165,0.72956813765172746,0.70888953066023863,0.6882109236687497]
[336,{"$f":"+正規乱数!L344","v":10.219272125630798},{"$f":"+正規乱数!M344","v":36.634061520689841},{"$f":"+正規乱数!N344","v":16.957358086678063},{"$f":"+正規乱数!O344","v":0.21687981885696161},25.436037130017095,12.718018565008546,22.028254326199029,16.991418422250685,3.7453323709545896,1.1547005383792515,11.80019902530996,1.2223233766174411,null,1.1935956922403299,1.1648680078632188,1.1361403234861076,1.1074126391089962,1.0786849547318851,1.0499572703547739,1.0212295859776626,0.99250190160055152,0.96377421722344025,0.93504653284632899,0.90631884846921784,0.87759116409210658,0.84886347971499532,0.82013579533788405,0.7914081109607729,0.76268042658366164,0.73395274220655038,0.70522505782943912,0.67649737345232785,0.6477696890752167,0.61904200469810544]
[337,{"$f":"+正規乱数!L345","v":10.182916399701924},{"$f":"+正規乱数!M345","v":32.78327009356812},{"$f":"+正規乱数!N345","v":17.540867675598761},{"$f":"+正規乱数!O345","v":0.16105558403840828},26.311301513398142,13.155650756699069,22.786255517234739,16.991418422250685,3.732123325877196,1.1547005383792515,11.758219049006721,1.1774668286170475,null,1.1596041502913201,1.1417414719655923,1.1238787936398649,1.1060161153141372,1.0881534369884096,1.070290758662682,1.0524280803369543,1.0345654020112267,1.0167027236854991,0.99884004535977144,0.98097736703404381,0.96311468870831618,0.94525201038258855,0.92738933205686092,0.90952665373113317,0.89166397540540554,0.87380129707967791,0.85593861875395028,0.83807594042822264,0.82021326210249501,0.80235058377676749]
[338,{"$f":"+正規乱数!L346","v":9.9645722111433219},{"$f":"+正規乱数!M346","v":32.229215255391296},{"$f":"+正規乱数!N346","v":17.292486651005397},{"$f":"+正規乱数!O346","v":0.14270978741797621},25.938729976508096,12.969364988254046,22.463599101560948,16.991418422250685,3.4499141411031622,1.1547005383792515,11.506096896926122,1.1531799013733119,null,1.137463566406308,1.1217472314393042,1.1060308964723005,1.0903145615052967,1.074598226538293,1.058881891571289,1.0431655566042852,1.0274492216372815,1.0117328866702777,0.99601655170327386,0.98030021673627021,0.96458388176926635,0.94886754680226248,0.93315121183525884,0.91743487686825498,0.90171854190125111,0.88600220693424736,0.8702858719672435,0.85456953700023963,0.83885320203323599,0.82313686706623213]
[339,{"$f":"+正規乱数!L347","v":10.689048938405053},{"$f":"+正規乱数!M347","v":37.155512174798105},{"$f":"+正規乱数!N347","v":18.051660111459267},{"$f":"+正規乱数!O347","v":0.15787106248572733},27.077490167188898,13.538745083594447,23.449794355508935,16.991418422250685,4.8942749708655136,1.1547005383792515,12.342650563938481,1.2731553351787981,null,1.2531356365139981,1.233115937849198,1.213096239184398,1.193076540519598,1.1730568418547977,1.1530371431899977,1.1330174445251979,1.1129977458603979,1.0929780471955977,1.0729583485307976,1.0529386498659976,1.0329189512011976,1.0128992525363976,0.99287955387159743,0.97285985520679741,0.95284015654199727,0.93282045787719725,0.91280075921239723,0.89278106054759709,0.87276136188279707,0.85274166321799705]
[340,{"$f":"+正規乱数!L348","v":9.1110777215532224},{"$f":"+正規乱数!M348","v":38.079160964609969},{"$f":"+正規乱数!N348","v":18.834211108666},{"$f":"+正規乱数!O348","v":0.17971143468111256},28.251316662999002,14.125658331499499,24.466357920515751,16.991418422250685,5.856712287754072,1.1547005383792515,10.520566350292709,1.1593993181561162,null,1.1368163203103989,1.1142333224646821,1.0916503246189651,1.0690673267732482,1.0464843289275312,1.0239013310818141,1.0013183332360971,0.97873533539038016,0.956152337544663,0.93356933969894607,0.91098634185322913,0.88840334400751209,0.86582034616179493,0.84323734831607799,0.82065435047036106,0.7980713526246439,0.77548835477892697,0.75290535693320992,0.73032235908749277,0.70773936124177594,0.6851563633960589]
[341,{"$f":"+正規乱数!L349","v":10.167087404996312},{"$f":"+正規乱数!M349","v":34.84511902863445},{"$f":"+正規乱数!N349","v":18.794263447298761},{"$f":"+正規乱数!O349","v":0.13505988738170929},28.191395170948141,14.095697585474069,24.41446438616704,16.991418422250685,5.1678252138612999,1.1547005383792515,11.739941300298149,1.1994983867689726,null,1.1843859725843457,1.1692735583997187,1.1541611442150914,1.1390487300304644,1.1239363158458373,1.1088239016612103,1.0937114874765832,1.0785990732919561,1.0634866591073291,1.048374244922702,1.033261830738075,1.0181494165534479,1.0030370023688209,0.98792458818419382,0.97281217399956665,0.9576997598149396,0.94258734563031255,0.92747493144568549,0.91236251726105844,0.89725010307643127,0.88213768889180422]
[342,{"$f":"+正規乱数!L350","v":9.3380576927048793},{"$f":"+正規乱数!M350","v":36.079121621081526},{"$f":"+正規乱数!N350","v":18.356925944450207},{"$f":"+正規乱数!O350","v":0.13286537760690698},27.535388916675309,13.767694458337653,23.846346304925294,16.991418422250685,4.9948742264191974,1.1547005383792515,10.782660245182834,1.145982322555628,null,1.1300514103230839,1.1141204980905395,1.0981895858579955,1.0822586736254514,1.0663277613929072,1.050396849160363,1.0344659369278189,1.0185350246952747,1.0026041124627305,0.98667320023018623,0.97074228799764217,0.954811375765098,0.93888046353255383,0.92294955130000955,0.90701863906746538,0.89108772683492121,0.87515681460237704,0.85922590236983298,0.84329499013728859,0.82736407790474453,0.81143316567220036]
[343,{"$f":"+正規乱数!L351","v":11.035987430388188},{"$f":"+正規乱数!M351","v":33.079902885972196},{"$f":"+正規乱数!N351","v":19.115932579765499},{"$f":"+正規乱数!O351","v":0.1423580500931545},28.673898869648248,14.336949434824122,24.832324846661283,16.991418422250685,5.1075044376623744,1.1547005383792515,12.743260627415893,1.245088095360033,null,1.230434772105218,1.2157814488504031,1.2011281255955883,1.1864748023407732,1.1718214790859582,1.1571681558311433,1.1425148325763286,1.1278615093215136,1.1132081860666987,1.0985548628118837,1.0839015395570686,1.0692482163022539,1.0545948930474389,1.039941569792624,1.0252882465378088,1.0106349232829941,0.99598160002817915,0.98132827677336421,0.96667495351854915,0.95202163026373432,0.93736830700891927]
[344,{"$f":"+正規乱数!L352","v":9.0143186168512557},{"$f":"+正規乱数!M352","v":40.470300639488485},{"$f":"+正規乱数!N352","v":17.366836034797878},{"$f":"+正規乱数!O352","v":0.15393077868055219},26.050254052196816,13.025127026098406,22.56018178424096,16.991418422250685,4.7511832355284165,1.1547005383792515,10.408838560000254,1.1639058694132183,null,1.141062777528338,1.1182196856434576,1.0953765937585775,1.0725335018736974,1.0496904099888171,1.0268473181039368,1.0040042262190567,0.98116113433417651,0.95831804244929641,0.93547495056441621,0.912631858679536,0.88978876679465579,0.86694567490977548,0.84410258302489527,0.82125949114001517,0.79841639925513486,0.77557330737025476,0.75273021548537433,0.72988712360049424,0.70704403171561403,0.68420093983073393]
[345,{"$f":"+正規乱数!L353","v":9.9774820742056285},{"$f":"+正規乱数!M353","v":41.975537681510296},{"$f":"+正規乱数!N353","v":17.864545162573094},{"$f":"+正規乱数!O353","v":0.12342299232873653},26.796817743859641,13.398408871929819,23.206724906764059,16.991418422250685,5.5914839720650535,1.1547005383792515,11.52100392275457,1.2772029916679839,null,1.2584281729965439,1.2396533543251036,1.2208785356536636,1.2021037169822233,1.1833288983107833,1.164554079639343,1.1457792609679027,1.1270044422964627,1.1082296236250226,1.0894548049535824,1.0706799862821421,1.0519051676107021,1.0331303489392618,1.0143555302678215,0.9955807115963814,0.97680589292494124,0.95803107425350109,0.93925625558206083,0.92048143691062068,0.90170661823918052,0.88293179956774037]
[346,{"$f":"+正規乱数!L354","v":10.128365341818375},{"$f":"+正規乱数!M354","v":34.264654698543154},{"$f":"+正規乱数!N354","v":18.089914554408914},{"$f":"+正規乱数!O354","v":0.12163466977766124},27.134871831613371,13.567435915806684,23.499488334611961,16.991418422250685,4.4336237797166609,1.1547005383792515,11.695228913099429,1.1887915146903505,null,1.1749547485460421,1.1611179824017337,1.1472812162574251,1.1334444501131167,1.1196076839688081,1.1057709178244997,1.0919341516801913,1.0780973855358826,1.0642606193915742,1.0504238532472658,1.0365870871029572,1.0227503209586488,{"$f":"+(($H356-$I356-AA$10*$G$6*$E356*$K356)*TAN($C356*PI()/180)+$L356)/$G356","v":1.0089135548143402},0.99507678867003191,0.98124002252572329,0.96740325638141489,0.95356649023710638,0.93972972409279798,0.92589295794848936,0.91205619180418085,0.89821942565987245]
[347,{"$f":"+正規乱数!L355","v":11.939463727853193},{"$f":"+正規乱数!M355","v":36.397449322339355},{"$f":"+正規乱数!N355","v":18.421800280725908},{"$f":"+正規乱数!O355","v":0.13815362635759662},{"$f":"+$G$3*$G$4*D357","v":27.632700421088863},13.81635021054443,{"$f":"+F357*COS($G$2*PI()/180)","v":23.930620539827913},16.991418422250685,{"$f":"+(H357-I357)*TAN(C357*PI()/180)","v":5.1155442141512859},1.1547005383792515,{"$f":"+K357*B357","v":13.786505194511626},{"$f":"+(J357+L357)/G357","v":1.3680928118221232},null,1.3513926902474298,1.3346925686727364,1.3179924470980433,1.3012923255233497,1.2845922039486566,1.2678920823739632,1.2511919607992699,1.2344918392245765,1.2177917176498834,1.2010915960751898,1.1843914745004966,1.1676913529258033,1.1509912313511099,1.1342911097764166,1.1175909882017232,1.1008908666270298,1.0841907450523365,1.0674906234776433,1.0507905019029498,1.0340903803282566,1.017390258753563]
[348,{"$f":"+正規乱数!L356","v":10.152150190582695},{"$f":"+正規乱数!M356","v":32.516683921727108},{"$f":"+正規乱数!N356","v":18.151088113040856},{"$f":"+正規乱数!O356","v":0.17283693445595338},27.226632169561285,13.61331608478064,23.578955118334701,16.991418422250685,4.1994209683094423,1.1547005383792515,11.722693290772858,1.1695985136849087,null,1.1512623970580445,1.1329262804311799,1.1145901638043154,1.0962540471774509,1.0779179305505864,1.0595818139237219,1.0412456972968576,1.0229095806699928,1.0045734640431285,0.98623734741626401,0.96790123078939949,0.94956511416253508,0.93122899753567046,0.91289288090880605,0.89455676428194142,0.87622064765507701,0.85788453102821249,0.83954841440134786,0.82121229777448346,0.80287618114761883,0.78454006452075442]
[349,{"$f":"+正規乱数!L357","v":9.0389013028795908},{"$f":"+正規乱数!M357","v":35.440666705596705},{"$f":"+正規乱数!N357","v":18.487858221834159},{"$f":"+正規乱数!O357","v":0.14709246504994491},27.731787332751239,13.865893666375618,24.016432322510074,16.991418422250685,4.9999256414700026,1.1547005383792515,10.437224200791981,1.1133180603927908,null,1.0962128945282201,1.0791077286636495,1.0620025627990788,1.0448973969345079,1.0277922310699372,1.0106870652053666,0.99358189934079599,0.97647673347622521,0.95937156761165454,0.94226640174708398,0.92516123588251331,0.90805607001794264,0.89095090415337197,0.8738457382888013,0.85674057242423063,0.83963540655965996,0.82253024069508929,0.80542507483051851,0.78831990896594784,0.77121474310137716,0.75410957723680649]
[350,{"$f":"+正規乱数!L358","v":10.649295060066779},{"$f":"+正規乱数!M358","v":35.526508684436713},{"$f":"+正規乱数!N358","v":17.93476650530059},{"$f":"+正規乱数!O358","v":0.16339933585063229},26.902149757950887,13.451074878975442,23.297945106798856,16.991418422250685,4.5028055615800122,1.1547005383792515,12.296746739218612,1.2489375348773788,null,1.2292878936983225,1.2096382525192662,1.1899886113402096,1.1703389701611533,1.150689328982097,1.1310396878030406,1.1113900466239843,1.091740405444928,1.0720907642658717,1.0524411230868154,1.032791481907759,1.0131418407287025,0.99349219954964618,0.97384255837058997,0.95419291719153354,0.93454327601247711,0.9148936348334209,0.89524399365436447,0.87559435247530815,0.85594471129625171,0.83629507011719528]
[351,{"$f":"+正規乱数!L359","v":9.9048562868330681},{"$f":"+正規乱数!M359","v":31.942793261237888},{"$f":"+正規乱数!N359","v":18.893297565742529},{"$f":"+正規乱数!O359","v":0.12617224471941255},28.339946348613793,14.169973174306895,24.543113479787589,16.991418422250685,4.7083453051294919,1.1547005383792515,11.437142886975257,1.1394155792319971,null,1.1268382904004375,1.1142610015688781,1.1016837127373187,1.0891064239057595,1.0765291350742001,1.0639518462426407,1.0513745574110813,1.0387972685795219,1.0262199797479625,1.0136426909164031,1.0010654020848437,0.98848811325328456,0.97591082442172505,0.96333353559016566,0.95075624675860626,0.93817895792704686,0.92560166909548758,0.91302438026392818,0.90044709143236867,0.88786980260080939,0.87529251376924999]
[352,{"$f":"+正規乱数!L360","v":7.2597140421257027},{"$f":"+正規乱数!M360","v":39.439161313418992},{"$f":"+正規乱数!N360","v":19.226453740142254},{"$f":"+正規乱数!O360","v":0.17602316478585547},28.839680610213382,14.419840305106689,24.97589604547429,16.991418422250685,6.5676684773404403,1.1547005383792515,8.3827957129219612,1.036798180418669,null,1.0140502202089245,0.99130225999918009,0.96855429978943541,0.94580633957969096,0.9230583793699465,0.90031041916020205,0.87756245895045737,0.85481449874071291,0.83206653853096835,0.80931857832122389,0.78657061811147944,0.76382265790173476,0.74107469769199019,0.71832673748224574,0.69557877727250128,0.6728308170627566,0.65008285685301215,0.62733489664326758,0.60458693643352301,0.58183897622377845,0.55909101601403388]
[353,{"$f":"+正規乱数!L361","v":11.274357522101896},{"$f":"+正規乱数!M361","v":31.880085659358748},{"$f":"+正規乱数!N361","v":19.185537799644401},{"$f":"+正規乱数!O361","v":0.14914299810780277},28.778306699466601,14.389153349733299,24.922744679637979,16.991418422250685,4.9329918782999256,1.1547005383792515,13.018506700651223,1.2475715660702078,null,1.2329665989088661,1.2183616317475241,1.2037566645861824,1.1891516974248406,1.1745467302634987,1.1599417631021569,1.1453367959408152,1.130731828779473,1.1161268616181312,1.1015218944567895,1.0869169272954475,1.0723119601341058,1.0577069929727638,1.0431020258114221,1.0284970586500801,1.0138920914887384,0.99928712432739641,0.98468215716605456,0.97007719000471271,0.95547222284337097,0.940867255682029]
[354,{"$f":"+正規乱数!L362","v":11.589482957136614},{"$f":"+正規乱数!M362","v":34.490952616965153},{"$f":"+正規乱数!N362","v":19.139819226996835},{"$f":"+正規乱数!O362","v":0.12825397493328822},28.709728840495252,14.354864420247624,24.863354511631645,16.991418422250685,5.408401797327433,1.1547005383792515,13.382382210142808,1.3090185638371983,null,1.2951117545404118,1.2812049452436254,1.2672981359468392,1.2533913266500525,1.239484517353266,1.2255777080564798,1.2116708987596931,1.1977640894629067,1.1838572801661205,1.169950470869334,1.1560436615725476,1.1421368522757611,1.1282300429789747,1.1143232336821882,1.1004164243854018,1.0865096150886155,1.0726028057918289,1.0586959964950426,1.0447891871982562,1.0308823779014697,1.0169755686046833]
[355,{"$f":"+正規乱数!L363","v":9.250499997417764},{"$f":"+正規乱数!M363","v":34.084294895651688},{"$f":"+正規乱数!N363","v":18.400813950234639},{"$f":"+正規乱数!O363","v":0.20048358933429386},27.60122092535196,13.800610462675978,23.903358496821429,16.991418422250685,4.6769726741113873,1.1547005383792515,10.681557327295556,1.1128877264483619,null,1.0906180569861916,1.0683483875240218,1.0460787180618518,1.023809048599682,1.001539379137512,0.97926970967534199,0.95700004021317198,0.93473037075100207,0.91246070128883217,0.89019103182666215,0.86792136236449224,0.84565169290232223,0.82338202344015232,0.80111235397798219,0.77884268451581229,0.75657301505364227,0.73430334559147237,0.71203367612930235,0.68976400666713245,0.66749433720496243,0.64522466774279252]
[356,{"$f":"+正規乱数!L364","v":11.162656155402967},{"$f":"+正規乱数!M364","v":32.097895532765996},{"$f":"+正規乱数!N364","v":17.311996532092625},{"$f":"+正規乱数!O364","v":0.16536518791012239},25.967994798138939,12.983997399069468,22.48894318053048,16.991418422250685,3.4483094051700807,1.1547005383792515,12.889525072386272,1.2583054336353492,null,1.2402069131778835,1.2221083927204179,1.2040098722629522,1.1859113518054865,1.1678128313480207,1.1497143108905552,1.1316157904330895,1.1135172699756237,1.0954187495181582,1.0773202290606925,1.0592217086032267,1.041123188145761,1.0230246676882953,1.0049261472308297,0.986827626773364,0.96872910631589826,0.95063058585843252,0.93253206540096689,0.91443354494350104,0.89633502448603553,0.87823650402856979]
[357,{"$f":"+正規乱数!L365","v":9.6117405189740044},{"$f":"+正規乱数!M365","v":34.184557876916195},{"$f":"+正規乱数!N365","v":19.621990046403081},{"$f":"+正規乱数!O365","v":0.11478619171857929},29.432985069604619,14.716492534802308,25.489712779485696,16.991418422250685,5.772087224104034,1.1547005383792515,11.098681952020948,1.1463851958085889,null,1.1343831627176324,1.1223811296266757,1.1103790965357188,1.098377063444762,1.0863750303538053,1.0743729972628489,1.0623709641718919,1.0503689310809354,1.0383668979899787,1.026364864899022,1.0143628318080651,1.0023607987171084,0.99035876562615177,0.97835673253519506,0.96635469944423824,0.95435266635328153,0.94235063326232482,0.93034860017136811,0.91834656708041129,0.90634453398945469,0.89434250089849798]
[358,{"$f":"+正規乱数!L366","v":12.546060915199977},{"$f":"+正規乱数!M366","v":35.571883866955226},{"$f":"+正規乱数!N366","v":19.564804965132407},{"$f":"+正規乱数!O366","v":0.13367781775917514},29.347207447698608,14.673603723849302,25.415427179838876,16.991418422250685,6.0247474810261092,1.1547005383792515,14.486943293320298,1.3978632080003868,null,1.3831023714449566,1.3683415348895267,1.3535806983340968,1.3388198617786669,1.3240590252232367,1.3092981886678068,1.2945373521123769,1.2797765155569469,1.265015679001517,1.2502548424460869,1.2354940058906569,1.220733169335227,1.2059723327797969,1.1912114962243667,1.1764506596689368,1.1616898231135067,1.1469289865580767,1.1321681500026468,1.1174073134472169,1.102646476891787,1.0878856403363568]
[359,{"$f":"+正規乱数!L367","v":11.85631374522109},{"$f":"+正規乱数!M367","v":36.043961109119678},{"$f":"+正規乱数!N367","v":18.538455653454349},{"$f":"+正規乱数!O367","v":0.16525019150304765},27.807683480181524,13.90384174009076,24.08216031423407,16.991418422250685,5.1600425002957682,1.1547005383792515,13.690491864800112,1.3557788356250977,null,1.336184202854257,1.3165895700834163,1.2969949373125755,1.277400304541735,1.2578056717708945,1.2382110390000538,1.2186164062292133,1.1990217734583726,1.1794271406875321,1.1598325079166916,1.1402378751458508,1.1206432423750103,1.1010486096041696,1.0814539768333291,1.0618593440624884,1.0422647112916479,1.0226700785208072,1.0030754457499667,0.98348081297912593,0.96388618020828531,0.9442915474374447]
[360,{"$f":"+正規乱数!L368","v":11.317359096501381},{"$f":"+正規乱数!M368","v":34.970603726004924},{"$f":"+正規乱数!N368","v":18.466831482048438},{"$f":"+正規乱数!O368","v":0.1760338095638386},27.700247223072658,13.850123611536327,23.989117786290276,16.991418422250685,4.8944932470216953,1.1547005383792515,13.068160641761464,1.296930943910229,null,1.2767907678434591,1.2566505917766895,1.2365104157099196,1.2163702396431497,1.1962300635763798,1.1760898875096102,1.1559497114428401,1.1358095353760704,1.1156693593093006,1.0955291832425307,1.0753890071757608,1.0552488311089909,1.0351086550422213,1.0149684789754512,0.99482830290868141,0.97468812684191153,0.95454795077514187,0.93440777470837189,0.9142675986416019,0.89412742257483224,0.87398724650806237]
[361,{"$f":"+正規乱数!L369","v":11.39168549535696},{"$f":"+正規乱数!M369","v":34.452849229487221},{"$f":"+正規乱数!N369","v":17.844040151838342},{"$f":"+正規乱数!O369","v":0.16283488748029659},26.766060227757514,13.383030113878755,23.180088116462308,16.991418422250685,4.2458605485907706,1.1547005383792515,13.153985374535791,1.3001424770823913,null,1.2812308107521142,1.2623191444218376,1.2434074780915605,1.2244958117612836,1.2055841454310066,1.1866724791007297,1.1677608127704528,1.148849146440176,1.1299374801098991,1.1110258137796223,1.0921141474493454,1.0732024811190686,1.0542908147887915,1.0353791484585146,1.0164674821282378,0.99755581579796082,0.97864414946768374,0.959732483137407,0.94082081680713003,0.92190915047685318,0.90299748414657621]
[362,{"$f":"+正規乱数!L370","v":11.396660993315574},{"$f":"+正規乱数!M370","v":37.526425459932135},{"$f":"+正規乱数!N370","v":18.739896731559096},{"$f":"+正規乱数!O370","v":0.13046641559346675},28.109845097338642,14.054922548669319,24.343839950740723,16.991418422250685,5.6471009942239521,1.1547005383792515,13.159730584707308,1.3380957108662144,null,1.3219434320647852,1.3057911532633557,1.2896388744619265,1.273486595660497,1.2573343168590676,1.2411820380576384,1.2250297592562089,1.2088774804547797,1.1927252016533503,1.1765729228519211,1.1604206440504916,{"$f":"+(($H372-$I372-Z$10*$G$6*$E372*$K372)*TAN($C372*PI()/180)+$L372)/$G372","v":1.1442683652490622},1.1281160864476329,1.1119638076462035,1.0958115288447741,1.0796592500433446,1.0635069712419154,1.047354692440486,1.0312024136390565,1.0150501348376273,0.99889785603619785]
[363,{"$f":"+正規乱数!L371","v":12.06837222757582},{"$f":"+正規乱数!M371","v":34.375406336537019},{"$f":"+正規乱数!N371","v":18.412219120142399},{"$f":"+正規乱数!O371","v":0.1727614743294783},27.618328680213601,13.809164340106799,23.918174247133329,16.991418422250685,4.7384827818403457,1.1547005383792515,13.935355908543006,1.3522786919225649,null,1.3328896074315106,1.3135005229404566,1.2941114384494024,1.2747223539583481,1.2553332694672938,1.2359441849762398,1.2165551004851856,1.1971660159941313,1.1777769315030773,1.158387847012023,1.1389987625209688,1.1196096780299145,1.1002205935388603,1.080831509047806,1.0614424245567518,1.0420533400656977,1.0226642555746435,1.0032751710835892,0.98388608659253507,0.96449700210148082,0.94510791761042656]
[364,{"$f":"+正規乱数!L372","v":6.7063643558808543},{"$f":"+正規乱数!M372","v":35.344536758545054},{"$f":"+正規乱数!N372","v":19.510422767204513},{"$f":"+正規乱数!O372","v":0.14642300523186549},29.265634150806768,14.632817075403382,25.344782632460092,16.991418422250685,5.9242652533114653,1.1547005383792515,7.7438425323030442,0.934072210100236,null,0.91799455076843928,0.90191689143664222,0.88583923210484539,0.86976157277304844,0.85368391344125172,0.83760625410945466,0.82152859477765794,0.80545093544586088,0.78937327611406416,0.77329561678226721,0.75721795745047038,0.74114029811867344,0.72506263878687649,0.70898497945507966,0.69290732012328271,0.67682966079148577,0.66075200145968893,0.64467434212789199,0.62859668279609504,0.61251902346429832,0.59644136413250137]
[365,{"$f":"+正規乱数!L373","v":10.342642267377775},{"$f":"+正規乱数!M373","v":35.784255008737603},{"$f":"+正規乱数!N373","v":17.16860547600033},{"$f":"+正規乱数!O373","v":7.9120134151664495E-2},25.752908214000495,12.876454107000246,22.302672734653367,16.991418422250685,3.8283791191505889,1.1547005383792515,11.942654594405118,1.2247963284381087,null,1.2147622626510945,1.2047281968640806,1.1946941310770665,1.1846600652900525,1.1746259995030384,1.1645919337160244,1.1545578679290103,1.1445238021419961,1.1344897363549822,1.124455670567968,1.1144216047809541,1.1043875389939399,1.0943534732069258,1.0843194074199116,1.0742853416328977,1.0642512758458835,1.0542172100588696,1.0441831442718554,1.0341490784848413,1.0241150126978273,1.0140809469108132]
[366,{"$f":"+正規乱数!L374","v":9.3790099427212059},{"$f":"+正規乱数!M374","v":41.337474676951715},{"$f":"+正規乱数!N374","v":18.744136764599649},{"$f":"+正規乱数!O374","v":0.25592118360181126},28.116205146899475,14.058102573449736,24.349347915229732,16.991418422250685,6.4726306990397209,1.1547005383792515,10.829947830324528,1.2307904597340227,null,1.1945099729035784,1.1582294860731344,1.1219489992426901,1.0856685124122458,1.0493880255818016,1.0131075387513573,0.97682705192091301,0.94054656509046886,0.9042660782600247,0.86798559142958043,0.83170510459913616,0.795424617768692,0.75914413093824762,0.72286364410780346,0.68658315727735919,0.65030267044691481,0.61402218361647054,0.57774169678602638,0.541461209955582,0.50518072312513784,0.46890023629469346]
[367,{"$f":"+正規乱数!L375","v":11.181971702957247},{"$f":"+正規乱数!M375","v":34.815194676018344},{"$f":"+正規乱数!N375","v":19.200026414777138},{"$f":"+正規乱数!O375","v":0.16588396922358803},28.800039622165706,14.400019811082851,24.94156594279389,16.991418422250685,5.5286238429788055,1.1547005383792515,12.911828745546288,1.2805852235239676,null,1.2624362713889976,1.2442873192540278,1.2261383671190582,1.2079894149840882,1.1898404628491186,1.1716915107141486,1.1535425585791788,1.1353936064442092,1.1172446543092391,1.0990957021742696,1.0809467500392995,1.0627977979043297,1.0446488457693599,1.0264998936343901,1.0083509414994203,0.99020198936445047,0.97205303722948055,0.95390408509451086,0.93575513295954105,0.91760618082457124,0.89945722868960143]
[368,{"$f":"+正規乱数!L376","v":9.5522463649625404},{"$f":"+正規乱数!M376","v":33.339741264752092},{"$f":"+正規乱数!N376","v":17.495999267175954},{"$f":"+正規乱数!O376","v":0.10894070882496823},26.24399890076393,13.121999450381963,22.72796974495245,16.991418422250685,3.77390833324404,1.1547005383792515,11.029984020353494,1.1281735233700694,null,1.1157998394914967,1.1034261556129243,1.0910524717343517,1.0786787878557793,1.0663051039772067,1.0539314200986343,1.0415577362200616,1.029184052341489,1.0168103684629166,1.004436684584344,0.99206300070577147,0.97968931682719884,0.96731563294862632,0.95494194907005381,0.94256826519148118,0.93019458131290866,0.91782089743433615,0.90544721355576363,0.893073529677191,0.8806998457986186,0.86832616192004597]
[369,{"$f":"+正規乱数!L377","v":8.274213848828893},{"$f":"+正規乱数!M377","v":38.061740711295592},{"$f":"+正規乱数!N377","v":16.656690419693305},{"$f":"+正規乱数!O377","v":0.13083452309382787},24.985035629539958,12.492517814769977,21.63767556964093,16.991418422250685,3.6381235615316743,1.1547005383792515,9.5542391859077807,1.0560211274497482,null,1.0374424432638487,1.0188637590779492,1.0002850748920498,0.98170639070615018,0.96312770652025081,0.94454902233435123,0.92597033814845175,0.90739165396255239,0.88881296977665281,0.87023428559075344,0.85165560140485386,0.83307691721895438,0.8144982330330548,0.79591954884715543,0.77734086466125596,0.75876218047535637,0.74018349628945701,0.72160481210355742,0.70302612791765795,0.68444744373175836,0.665868759545859]
[370,{"$f":"+正規乱数!L378","v":9.8119601452136109},{"$f":"+正規乱数!M378","v":34.737474945704584},{"$f":"+正規乱数!N378","v":17.806837449245446},{"$f":"+正規乱数!O378","v":0.18292323168591904},26.710256173868167,13.355128086934082,23.131760388159975,16.991418422250685,4.2577188060450961,1.1547005383792515,11.329875662233915,1.1671617349390344,null,1.1456451374037795,1.1241285398685246,1.1026119423332699,1.0810953447980149,1.05957874726276,1.0380621497275053,1.0165455521922504,0.99502895465699559,0.97351235712174078,0.95199575958648586,0.93047916205123093,0.90896256451597601,0.8874459669807212,0.86592936944546639,0.84441277191021147,0.82289617437495655,0.80137957683970185,0.77986297930444681,0.758346381769192,0.73682978423393708,0.71531318669868227]
[371,{"$f":"+正規乱数!L379","v":8.0298808813245479},{"$f":"+正規乱数!M379","v":32.351691958132051},{"$f":"+正規乱数!N379","v":18.202432535501945},{"$f":"+正規乱数!O379","v":0.16763619893326062},27.303648803252919,13.651824401626458,23.645653479625615,16.991418422250685,4.2150402227139629,1.1547005383792515,9.2721077767867133,0.98793740695154542,null,0.97031565563657307,0.95269390432160084,0.93507215300662849,0.91745040169165626,0.89982865037668391,0.88220689906171157,0.86458514774673922,0.84696339643176699,0.82934164511679476,0.81171989380182241,0.79409814248685007,0.77647639117187761,0.75885463985690538,0.74123288854193314,0.7236111372269608,0.70598938591198845,0.68836763459701611,0.67074588328204388,0.65312413196707142,0.63550238065209919,0.61788062933712695]
[372,{"$f":"+正規乱数!L380","v":11.113418461697854},{"$f":"+正規乱数!M380","v":35.941271618596033},{"$f":"+正規乱数!N380","v":19.237291016378368},{"$f":"+正規乱数!O380","v":0.144985784734039},28.855936524567554,14.427968262283775,24.989974080266748,16.991418422250685,5.7987738977859298,1.1547005383792515,12.832670280956425,1.2913421931656801,null,1.2748372808780846,1.2583323685904888,1.2418274563028933,1.2253225440152977,1.2088176317277024,1.1923127194401069,1.1758078071525113,1.1593028948649156,1.1427979825773202,1.1262930702897247,1.1097881580021292,1.0932832457145336,1.0767783334269381,1.0602734211393425,1.043768508851747,1.0272635965641517,1.0107586842765559,0.99425377198896037,0.97774885970136483,0.96124394741376928,0.94473903512617385]
[373,{"$f":"+正規乱数!L381","v":6.633696420730133},{"$f":"+正規乱数!M381","v":37.277190223314129},{"$f":"+正規乱数!N381","v":16.718780103770843},{"$f":"+正規乱数!O381","v":8.866663148723973E-2},25.078170155656267,12.539085077828132,21.718332435227079,16.991418422250685,3.597970513676064,1.1547005383792515,7.6599328284615984,0.89782494274993951,null,0.88563104273719484,0.87343714272445017,0.8612432427117056,0.84904934269896093,0.83685544268621626,0.82466154267347169,0.81246764266072691,0.80027374264798223,0.78807984263523767,0.77588594262249311,0.76369204260974843,0.75149814259700387,0.73930424258425909,0.72711034257151441,0.71491644255876985,0.70272254254602518,0.69052864253328061,0.67833474252053594,0.66614084250779126,0.65394694249504659,0.64175304248230203]
[374,{"$f":"+正規乱数!L382","v":9.7451017287293809},{"$f":"+正規乱数!M382","v":36.066671828537345},{"$f":"+正規乱数!N382","v":16.529305677158341},{"$f":"+正規乱数!O382","v":0.15820148674810841},24.793958515737511,12.396979257868754,21.4721979350062,16.991418422250685,3.2634499439212719,1.1547005383792515,11.25267421272439,1.1709404246548061,null,1.1498839123168458,1.1288273999788854,1.1077708876409251,1.0867143753029649,1.0656578629650046,1.0446013506270442,1.0235448382890839,1.0024883259511235,0.98143181361316323,0.96037530127520299,0.93931878893724263,0.91826227659928228,0.89720576426132193,0.87614925192336157,0.85509273958540133,0.83403622724744098,0.81297971490948073,0.79192320257152027,0.77086669023355991,0.74981017789559967,0.72875366555763932]
[375,{"$f":"+正規乱数!L383","v":10.424627316805825},{"$f":"+正規乱数!M383","v":34.693604035944006},{"$f":"+正規乱数!N383","v":16.403783048864565},{"$f":"+正規乱数!O383","v":0.1186930444037422},24.605674573296845,12.302837286648421,21.309139257727896,16.991418422250685,2.9890186178021367,1.1547005383792515,12.037322775118739,1.2213720333624278,null,1.2062412148789299,1.1911103963954321,1.1759795779119344,1.1608487594284365,1.1457179409449387,1.130587122461441,1.1154563039779433,1.1003254854944455,1.0851946670109478,1.0700638485274501,1.0549330300439521,1.0398022115604544,1.0246713930769566,1.0095405745934589,0.99440975610996107,0.97927893762646312,0.96414811914296539,0.94901730065946754,0.9338864821759697,0.91875566369247219,0.90362484520897424]
[376,{"$f":"+正規乱数!L384","v":9.844726669374662},{"$f":"+正規乱数!M384","v":35.778318758946646},{"$f":"+正規乱数!N384","v":17.782406394954354},{"$f":"+正規乱数!O384","v":0.12410113787496924},26.673609592431532,13.336804796215764,23.100023517673996,16.991418422250685,4.4021519686188224,1.1547005383792515,11.367711185323497,1.1824318789172741,null,1.1672398659978294,1.1520478530783846,1.1368558401589399,1.1216638272394952,1.1064718143200505,1.0912798014006058,1.0760877884811608,1.0608957755617163,1.0457037626422716,1.0305117497228267,1.0153197368033822,1.0001277238839372,0.98493571096449262,0.96974369804504779,0.95455168512560307,0.93935967220615835,0.92416765928671352,0.9089756463672688,0.89378363344782397,0.87859162052837925,0.86339960760893453]
[377,{"$f":"+正規乱数!L385","v":9.3383649980287622},{"$f":"+正規乱数!M385","v":29.773624450664897},{"$f":"+正規乱数!N385","v":17.749392748432172},{"$f":"+正規乱数!O385","v":0.1727619409477377},26.624089122648257,13.312044561324127,23.057137532834339,16.991418422250685,3.4701629233427727,1.1547005383792515,10.783015090805769,1.0706978893053527,null,1.0538773756746176,1.0370568620438827,1.0202363484131478,1.0034158347824127,0.98659532115167781,0.96977480752094281,0.9529542938902078,0.93613378025947269,0.9193132666287378,0.9024927529980028,0.8856722393672678,0.86885172573653291,0.85203121210579791,0.83521069847506291,0.81839018484432779,0.80156967121359279,0.7847491575828579,0.7679286439521229,0.7511081303213879,0.73428761669065301,0.7174671030599179]
[378,{"$f":"+正規乱数!L386","v":10.280764058300157},{"$f":"+正規乱数!M386","v":33.580969465319249},{"$f":"+正規乱数!N386","v":17.039868787613035},{"$f":"+正規乱数!O386","v":0.18964592817925374},25.559803181419554,12.779901590709775,22.13543887083965,16.991418422250685,3.4152167919837804,1.1547005383792515,11.871203793069249,1.1961297570683442,null,1.1738094597630533,1.1514891624577623,1.1291688651524714,1.1068485678471804,1.0845282705418897,1.0622079732365988,1.0398876759313078,1.0175673786260169,0.99524708132072603,0.97292678401543509,{"$f":"+(($H388-$I388-Y$10*$G$6*$E388*$K388)*TAN($C388*PI()/180)+$L388)/$G388","v":0.95060648671014425},0.9282861894048533,0.90596589209956224,0.88364559479427141,0.86132529748898046,0.83900500018368951,0.81668470287839856,0.79436440557310761,0.77204410826781666,0.74972381096252583,0.72740351365723488]
[379,{"$f":"+正規乱数!L387","v":11.478120816861018},{"$f":"+正規乱数!M387","v":33.100042137249503},{"$f":"+正規乱数!N387","v":18.186402343376198},{"$f":"+正規乱数!O387","v":0.17907770629641012},27.279603515064295,13.639801757532146,23.624829649212948,16.991418422250685,4.3242733281066918,1.1547005383792515,13.253792286811512,1.2887332182237381,null,1.2693432073918638,1.249953196559989,1.2305631857281143,1.2111731748962395,1.191783164064365,1.1723931532324903,1.1530031424006155,1.1336131315687408,1.1142231207368662,1.0948331099049915,1.0754430990731167,1.0560530882412422,1.0366630774093675,1.0172730665774929,0.99788305574561809,0.97849304491374345,0.9591030340818687,0.93971302324999406,0.92032301241811942,0.90093300158624467,0.88154299075437004]
[380,{"$f":"+正規乱数!L388","v":6.114375685535931},{"$f":"+正規乱数!M388","v":35.881480101848361},{"$f":"+正規乱数!N388","v":18.607349076304942},{"$f":"+正規乱数!O388","v":0.16085987139742733},27.911023614457413,13.955511807228705,24.171655495747483,16.991418422250685,5.1940886054737607,1.1547005383792515,7.0602728959413446,0.87810190487371198,null,0.8592115163555597,0.84032112783740753,0.82143073931925503,0.80254035080110275,0.78364996228295047,0.76475957376479808,0.7458691852466458,0.72697879672849353,0.70808840821034114,0.68919801969218886,0.67030763117403658,0.6514172426558843,0.6325268541377318,0.61363646561957952,0.59474607710142713,0.57585568858327485,0.55696530006512257,0.53807491154697018,0.5191845230288179,0.50029413451066562,0.48140374599251323]
[381,{"$f":"+正規乱数!L389","v":9.6467845903382567},{"$f":"+正規乱数!M389","v":34.714898350056494},{"$f":"+正規乱数!N389","v":17.530240650031729},{"$f":"+正規乱数!O389","v":0.12924483846057833},26.295360975047593,13.147680487523795,22.772450606073164,16.991418422250685,4.0052008153137697,1.1547005383792515,11.139147360092252,1.1518646342050161,null,1.1364351521826805,1.1210056701603448,1.1055761881380093,1.0901467061156738,1.074717224093338,1.0592877420710025,1.043858260048667,1.0284287780263313,1.0129992960039957,0.99756981398166023,0.98214033195932471,0.96671084993698897,0.95128136791465345,0.93585188589231783,0.9204224038699822,0.90499292184764668,0.88956343982531105,0.87413395780297543,0.85870447578063991,0.84327499375830439,0.82784551173596876]
[382,{"$f":"+正規乱数!L390","v":8.4775624397671212},{"$f":"+正規乱数!M390","v":32.027306895388428},{"$f":"+正規乱数!N390","v":17.690208377586714},{"$f":"+正規乱数!O390","v":0.13315648126143814},26.535312566380071,13.267656283190034,22.980254779845591,16.991418422250685,3.7462102025616217,1.1547005383792515,9.7890459133428163,1.0201693371461131,null,1.0059465023533467,0.99172366756058028,0.97750083276781397,0.96327799797504754,0.94905516318228123,0.93483232838951491,0.9206094935967486,0.90638665880398217,0.89216382401121586,0.87794098921844954,0.863718154425683,0.84949531963291669,0.83527248484015026,0.82104965004738395,0.80682681525461752,0.79260398046185121,0.7783811456690849,0.76415831087631847,0.74993547608355215,0.73571264129078584,0.72148980649801941]
[383,{"$f":"+正規乱数!L391","v":6.9415909112830931},{"$f":"+正規乱数!M391","v":38.138560450288232},{"$f":"+正規乱数!N391","v":17.726887459485063},{"$f":"+正規乱数!O391","v":0.12230972665583874},26.590331189227594,13.295165594613795,23.027902304912782,16.991418422250685,4.7397717627037528,1.1547005383792515,8.015458762467107,0.95938861644102591,null,0.94302388057889752,0.92665914471676902,0.91029440885464064,0.89392967299251203,0.87756493713038342,0.86120020126825503,0.84483546540612664,0.82847072954399814,0.81210599368186953,0.79574125781974114,0.77937652195761253,0.76301178609548415,0.74664705023335554,0.73028231437122715,0.71391757850909854,0.69755284264697015,0.68118810678484154,0.66482337092271315,0.64845863506058454,0.63209389919845604,0.61572916333632755]
[384,{"$f":"+正規乱数!L392","v":9.5264977377400673},{"$f":"+正規乱数!M392","v":40.115484111998882},{"$f":"+正規乱数!N392","v":17.457082759292945},{"$f":"+正規乱数!O392","v":0.18017877373420493},26.185624138939417,13.092812069469707,22.677415718272552,16.991418422250685,4.7906811703681615,1.1547005383792515,11.000252066637177,1.2060765214699147,null,1.1798083596002469,1.1535401977305788,1.127272035860911,1.1010038739912429,1.074735712121575,1.0484675502519072,1.0221993883822391,0.99593122651257127,0.96966306464290342,0.94339490277323546,0.91712674090356761,0.89085857903389964,0.86459041716423168,0.83832225529456372,0.81205409342489587,0.7857859315552278,0.75951776968556006,0.73324960781589199,0.70698144594622414,0.68071328407655618,0.65444512220688811]
[385,{"$f":"+正規乱数!L393","v":9.1912100205161043},{"$f":"+正規乱数!M393","v":33.096397687874287},{"$f":"+正規乱数!N393","v":17.18713516983069},{"$f":"+正規乱数!O393","v":0.17373101627216897},25.780702754746034,12.890351377373015,22.326743513025527,16.991418422250685,3.4775766950848781,1.1547005383792515,10.613095159046717,1.0931177468804731,null,1.0732157430517679,1.0533137392230627,1.0334117353943575,1.0135097315656521,0.99360772773694683,0.97370572390824162,0.9538037200795364,0.93390171625083107,0.91399971242212585,0.89409770859342053,0.87419570476471542,0.85429370093601009,0.83439169710730487,0.81448969327859955,0.79458768944989422,0.774685685621189,0.75478368179248367,0.73488167796377846,0.71497967413507313,0.69507767030636802,0.67517566647766269]
[386,{"$f":"+正規乱数!L394","v":8.1826707652422961},{"$f":"+正規乱数!M394","v":35.672408783299545},{"$f":"+正規乱数!N394","v":17.5279228424052},{"$f":"+正規乱数!O394","v":0.15078495179923776},26.291884263607798,{"$f":"+F396*SIN($G$2*PI()/180)","v":13.145942131803897},22.769439685644674,{"$f":"+$G$5*$G$4*$G$6/COS($G$2*PI()/180)","v":16.991418422250685},4.1477117693962287,{"$f":"+$G$4/COS($G$2*PI()/180)","v":1.1547005383792515},9.448534338005441,1.0342542186085206,null,1.015600557177988,0.99694689574745543,0.97829323431692294,0.95963957288639035,0.94098591145585786,0.92233225002532526,0.90367858859479255,0.88502492716426007,0.86637126573372747,0.84771760430319487,0.82906394287266238,0.81041028144212968,0.79175662001159719,0.77310295858106459,0.75444929715053188,0.7357956357199994,{"$f":"+(($H396-$I396-AE$10*$G$6*$E396*$K396)*TAN($C396*PI()/180)+$L396)/$G396","v":0.7171419742894668},0.69848831285893431,0.6798346514284016,0.66118098999786912,0.64252732856733652]
[387,{"$f":"+正規乱数!L395","v":9.9961915423894379},{"$f":"+正規乱数!M395","v":27.920023834937115},{"$f":"+正規乱数!N395","v":18.606754080700441},{"$f":"+正規乱数!O395","v":8.6310296001091968E-2},27.910131121050661,13.955065560525329,24.170882573784528,16.991418422250685,3.8045436827827257,1.1547005383792515,11.542607755739205,1.0997548791124558,null,1.0923296537430931,1.0849044283737301,1.0774792030043672,1.0700539776350042,1.0626287522656412,1.0552035268962783,1.0477783015269153,1.0403530761575523,1.0329278507881894,1.0255026254188264,1.0180774000494637,1.0106521746801005,1.0032269493107377,0.99580172394137467,0.98837649857201182,0.98095127320264874,0.97352604783328589,0.96610082246392293,0.95867559709455985,0.951250371725197,0.94382514635583403]
[388,{"$f":"+正規乱数!L396","v":8.7265492051497517},{"$f":"+正規乱数!M396","v":34.087256817229338},{"$f":"+正規乱数!N396","v":17.989425896893461},{"$f":"+正規乱数!O396","v":0.15995217641132278},26.98413884534019,13.492069422670093,23.368949739311095,16.991418422250685,4.3158449922837132,1.1547005383792515,10.076551065379448,1.0667300624380343,null,1.0485542766262912,1.0303784908145479,1.0122027050028051,0.9940269191910619,0.97585113337931872,0.95767534756757555,0.93949956175583271,0.92132377594408954,0.90314799013234648,0.88497220432060342,0.86679641850886024,0.84862063269711729,0.83044484688537412,0.81226906107363106,0.79409327526188789,0.77591748945014483,0.75774170363840176,0.73956591782665859,0.72139013201491564,0.70321434620317258,0.68503856039142941]
[389,{"$f":"+正規乱数!L397","v":6.9471845546583761},{"$f":"+正規乱数!M397","v":35.975336199757344},{"$f":"+正規乱数!N397","v":17.929202222847273},{"$f":"+正規乱数!O397","v":0.16889693610275922},26.89380333427091,13.446901667135453,23.290716891861248,16.991418422250685,4.5725665362670469,1.1547005383792515,8.021917745484048,0.93660863993170362,null,0.91595313761492103,0.89529763529813855,0.87464213298135596,0.85398663066457337,0.83333112834779077,0.81267562603100818,0.7920201237142257,0.77136462139744322,0.75070911908066063,0.73005361676387792,0.70939811444709544,0.68874261213031296,0.66808710981353026,0.64743160749674766,0.62677610517996518,0.60612060286318248,0.5854651005464,0.5648095982296174,0.5441540959128347,0.52349859359605222,0.50284309127926963]
[390,{"$f":"+正規乱数!L398","v":10.892477592398306},{"$f":"+正規乱数!M398","v":37.105347262297109},{"$f":"+正規乱数!N398","v":18.32482055093806},{"$f":"+正規乱数!O398","v":0.15978024510962219},27.487230826407092,13.743615413203544,23.804640175355274,16.991418422250685,5.1537987714560378,1.1547005383792515,12.577549740226257,1.2901516797863626,null,1.2702281908091753,1.2503047018319882,1.2303812128548008,1.2104577238776137,1.1905342349004269,1.1706107459232395,1.1506872569460525,1.1307637679688651,1.1108402789916783,1.0909167900144909,1.0709933010373038,1.0510698120601167,1.0311463230829294,1.0112228341057423,0.99129934512855522,0.97137585615136801,0.95145236717418091,0.9315288781969937,0.91160538921980649,0.8916819002426194,0.87175841126543219]
[391,{"$f":"+正規乱数!L399","v":9.4848094905070681},{"$f":"+正規乱数!M399","v":32.97595690024469},{"$f":"+正規乱数!N399","v":17.04985260605951},{"$f":"+正規乱数!O399","v":0.13758089624474609},25.574778909089265,12.78738945454463,22.148408231441778,16.991418422250685,3.3459125054754817,1.1547005383792515,10.952114625113145,1.1181349548642328,null,1.1023201834069871,1.0865054119497417,1.0706906404924961,1.0548758690352504,1.039061097578005,1.0232463261207594,1.0074315546635138,0.99161678320626823,0.97580201174902259,0.95998724029177707,0.94417246883453143,0.9283576973772858,0.91254292592004038,0.89672815446279475,0.88091338300554911,0.86509861154830359,0.84928384009105795,0.83346906863381232,0.81765429717656668,0.80183952571932127,0.78602475426207563]
[392,{"$f":"+正規乱数!L400","v":9.8876879031082385},{"$f":"+正規乱数!M400","v":37.794876373590583},{"$f":"+正規乱数!N400","v":18.085110789466601},{"$f":"+正規乱数!O400","v":9.0654512058885167E-2},27.127666184199903,13.56383309209995,23.493248060901184,16.991418422250685,5.0424048506446777,1.1547005383792515,11.417318545045095,1.21350088016613,null,1.2017579227754851,1.19001496538484,1.1782720079941951,1.1665290506035499,1.1547860932129048,1.1430431358222599,1.1313001784316148,1.1195572210409699,1.1078142636503248,1.0960713062596799,1.0843283488690347,1.0725853914783896,1.0608424340877447,1.0490994766970996,1.0373565193064547,1.0256135619158095,1.0138706045251644,1.0021276471345193,0.99038468974387428,0.97864173235322927,0.96689877496258425]
[393,{"$f":"+正規乱数!L401","v":10.653933460409744},{"$f":"+正規乱数!M401","v":31.98147186297318},{"$f":"+正規乱数!N401","v":18.062730119976532},{"$f":"+正規乱数!O401","v":0.11598364315716787},27.094095179964796,13.547047589982396,23.464174718403026,16.991418422250685,4.0417171880409999,1.1547005383792515,12.302102702591853,1.2064488429728835,null,1.1943373654772707,1.1822258879816578,1.1701144104860448,1.158002932990432,1.145891455494819,1.1337799779992059,1.1216685005035931,1.1095570230079801,1.0974455455123673,1.0853340680167545,1.0732225905211414,1.0611111130255284,1.0489996355299156,1.0368881580343026,1.0247766805386898,1.0126652030430769,1.0005537255474639,0.98844224805185099,0.97633077055623796,0.96421929306062504,0.95210781556501212]
[394,{"$f":"+正規乱数!L402","v":8.2808667103253413},{"$f":"+正規乱数!M402","v":32.346403391788321},{"$f":"+正規乱数!N402","v":17.15308462567128},{"$f":"+正規乱数!O402","v":0.1473747152370273},25.729626938506918,12.864813469253457,22.282510558643427,16.991418422250685,3.3508904434202784,1.1547005383792515,9.5619212486594929,1.0037309692006828,null,0.98729471832977489,0.97085846745886706,0.95442221658795923,0.9379859657170514,0.92154971484614334,0.90511346397523562,0.88867721310432768,0.87224096223341974,0.85580471136251191,{"$f":"+(($H404-$I404-X$10*$G$6*$E404*$K404)*TAN($C404*PI()/180)+$L404)/$G404","v":0.83936846049160407},0.82293220962069624,0.8064959587497883,0.79005970787888036,0.77362345700797253,0.75718720613706458,0.74075095526615675,0.72431470439524892,0.70787845352434087,0.69144220265343304,0.6750059517825252,0.65856970091161737]
[395,{"$f":"+正規乱数!L403","v":11.924104304873547},{"$f":"+正規乱数!M403","v":34.288762605196879},{"$f":"+正規乱数!N403","v":17.706048410994885},{"$f":"+正規乱数!O403","v":0.14918416365704421},26.55907261649233,13.279536308246163,23.000831586838,16.991418422250685,4.0976168760652527,1.1547005383792515,13.768769660527834,1.3454074089543804,null,1.3280530941864617,1.310698779418543,1.2933444646506245,1.2759901498827055,1.258635835114787,1.2412815203468681,1.2239272055789496,1.2065728908110311,1.1892185760431124,1.1718642612751937,1.1545099465072752,1.1371556317393565,1.1198013169714378,1.1024470022035191,1.0850926874356004,1.0677383726676817,1.050384057899763,1.0330297431318445,1.0156754283639258,0.99832111359600717,0.98096679882808835]
[396,{"$f":"+正規乱数!L404","v":12.126020185250852},{"$f":"+正規乱数!M404","v":34.686758126963291},{"$f":"+正規乱数!N404","v":17.096441927206204},{"$f":"+正規乱数!O404","v":0.13961246748955172},25.644662890809307,12.822331445404652,22.208929534928942,16.991418422250685,3.6109922628590096,1.1547005383792515,14.001922036306828,1.3736124646409811,null,1.3565402937046385,1.3394681227682959,1.3223959518319535,1.3053237808956109,1.2882516099592682,1.2711794390229256,1.254107268086583,1.2370350971502404,1.2199629262138978,1.2028907552775552,1.1858185843412128,1.1687464134048702,1.1516742424685273,1.134602071532185,1.1175299005958423,1.1004577296594997,1.0833855587231571,1.0663133877868145,1.0492412168504719,1.0321690459141293,1.0150968749777867]
[397,{"$f":"+正規乱数!L405","v":7.8765126849601454},{"$f":"+正規乱数!M405","v":32.741609789668736},{"$f":"+正規乱数!N405","v":17.508502163305351},{"$f":"+正規乱数!O405","v":0.18666287124631634},26.262753244958027,13.131376622479012,22.744211483455853,16.991418422250685,3.699129991424722,1.1547005383792515,9.0950134378744831,0.97431851946105075,null,0.95361057951256201,0.93290263956407304,0.9121946996155843,0.89148675966709545,0.8707788197186066,0.85007087977011775,0.8293629398216289,0.80865499987314005,0.78794705992465119,0.76723911997616234,0.74653118002767349,0.72582324007918464,0.70511530013069579,0.68440736018220694,0.66369942023371808,0.64299148028522923,0.62228354033674038,0.60157560038825153,0.58086766043976268,0.56015972049127383,0.53945178054278498]
[398,{"$f":"+正規乱数!L406","v":12.778672655435852},{"$f":"+正規乱数!M406","v":36.46560604465521},{"$f":"+正規乱数!N406","v":18.267634802005507},{"$f":"+正規乱数!O406","v":0.13440929749489267},27.401452203008262,13.700726101504129,23.730353708390226,16.991418422250685,4.9802923037950357,1.1547005383792515,14.755540195003997,1.4404953688281048,null,1.4240699048683596,1.4076444409086144,1.3912189769488692,1.374793512989124,1.358368049029379,1.3419425850696336,1.3255171211098886,1.3090916571501434,1.292666193190398,1.276240729230653,1.2598152652709076,1.2433898013111626,1.2269643373514174,1.210538873391672,1.194113409431927,1.1776879454721818,1.1612624815124366,1.1448370175526914,1.1284115535929462,1.111986089633201,1.0955606256734558]
[399,{"$f":"+正規乱数!L407","v":10.490640593919123},{"$f":"+正規乱数!M407","v":37.591099201729016},{"$f":"+正規乱数!N407","v":18.829197339352731},{"$f":"+正規乱数!O407","v":0.15731685004232349},28.243796009029097,14.121898004514547,24.459844843124742,16.991418422250685,5.7496145555913056,1.1547005383792515,12.113548341741641,1.2649264915822489,null,1.2454970567718497,1.2260676219614508,1.2066381871510521,1.1872087523406529,1.167779317530254,1.1483498827198551,1.1289204479094559,1.109491013099057,1.090061578288658,1.0706321434782591,1.0512027086678601,1.031773273857461,1.012343839047062,0.99291440423666311,0.97348496942626406,0.95405553461586512,0.93462609980546607,0.91519666499506713,0.8957672301846682,0.87633779537426915,0.8569083605638701]
[400,{"$f":"+正規乱数!L408","v":11.123805229807783},{"$f":"+正規乱数!M408","v":37.799740308811735},{"$f":"+正規乱数!N408","v":18.054820863616921},{"$f":"+正規乱数!O408","v":9.4928334680817669E-2},27.08223129542538,13.541115647712688,23.453900293004327,16.991418422250685,5.0127678630974319,1.1547005383792515,12.84466388768498,1.318756313391269,null,1.3064369563605418,1.2941175993298142,1.2817982422990868,1.2694788852683596,1.2571595282376322,1.2448401712069048,1.2325208141761774,1.22020145714545,1.2078821001147226,1.195562743083995,1.1832433860532676,1.1709240290225402,1.1586046719918131,1.1462853149610857,1.1339659579303583,1.1216466008996309,1.1093272438689032,1.0970078868381761,1.0846885298074485,1.0723691727767211,1.0600498157459937]
[401,{"$f":"+正規乱数!L409","v":9.7641479063231014},{"$f":"+正規乱数!M409","v":36.191607313256611},{"$f":"+正規乱数!N409","v":17.864061259652129},{"$f":"+正規乱数!O409","v":0.11595763278198148},26.796091889478191,13.398045944739094,23.206096298430275,16.991418422250685,4.5470588193769261,1.1547005383792515,11.274666844245926,1.1808980002666318,null,1.1665517567386487,1.1522055132106657,1.1378592696826828,1.1235130261546999,1.1091667826267166,1.0948205390987336,1.0804742955707507,1.0661280520427678,1.0517818085147848,1.0374355649868017,1.0230893214588186,1.0087430779308357,0.99439683440285254,0.98005059087486956,0.96570434734688648,0.95135810381890351,0.93701186029092043,0.92266561676293746,0.90831937323495437,0.8939731297069714,0.87962688617898832]
[402,{"$f":"+正規乱数!L410","v":11.136524976009747},{"$f":"+正規乱数!M410","v":36.213802803845248},{"$f":"+正規乱数!N410","v":20.126962638273689},{"$f":"+正規乱数!O410","v":0.12448918859698027},30.190443957410533,15.095221978705265,26.145691418647925,16.991418422250685,6.7033022179588091,1.1547005383792515,12.859351385472436,1.2959500450558565,null,1.2822688056034537,1.2685875661510504,1.2549063266986473,1.2412250872462443,1.2275438477938412,1.2138626083414379,1.200181368889035,1.186500129436632,1.1728188899842287,1.1591376505318258,1.1454564110794225,1.1317751716270195,1.1180939321746162,1.1044126927222131,1.0907314532698102,1.077050213817407,1.0633689743650039,1.0496877349126008,1.0360064954601975,1.0223252560077944,1.0086440165553914]
[403,{"$f":"+正規乱数!L411","v":6.1539167481923975},{"$f":"+正規乱数!M411","v":29.638523414725327},{"$f":"+正規乱数!N411","v":18.925189629779808},{"$f":"+正規乱数!O411","v":0.16717784691010729},28.387784444669713,14.193892222334854,24.584542486240696,16.991418422250685,4.3202502722884812,1.1547005383792515,7.1059309822788537,0.80500690547640086,null,0.78982473001970188,0.77464255456300291,0.75946037910630382,0.74427820364960484,0.72909602819290587,0.71391385273620689,0.69873167727950791,0.68354950182280894,0.66836732636610996,0.65318515090941098,0.63800297545271201,0.62282079999601292,0.60763862453931394,0.59245644908261497,0.57727427362591588,0.56209209816921701,0.54690992271251804,0.53172774725581895,0.51654557179911997,0.501363396342421,0.48618122088572197]
[404,{"$f":"+正規乱数!L412","v":10.18149402189024},{"$f":"+正規乱数!M412","v":37.333978331420887},{"$f":"+正規乱数!N412","v":18.508023528135563},{"$f":"+正規乱数!O412","v":0.13017286236934023},27.762035292203343,13.88101764610167,24.042627823808239,16.991418422250685,5.378193408923603,1.1547005383792515,11.75657662858179,1.2344030152801877,null,1.2181983403427445,1.2019936654053018,1.1857889904678587,1.1695843155304155,1.1533796405929728,1.1371749656555297,1.1209702907180867,1.1047656157806438,1.0885609408432009,1.0723562659057577,1.0561515909683148,1.0399469160308719,1.0237422410934289,1.007537566155986,0.99133289121854284,0.97512821628109991,0.95892354134365698,0.94271886640621383,0.9265141914687709,0.91030951653132808,0.89410484159388504]
[405,{"$f":"+正規乱数!L413","v":12.673641001295556},{"$f":"+正規乱数!M413","v":30.781255272747238},{"$f":"+正規乱数!N413","v":18.734274004345551},{"$f":"+正規乱数!O413","v":0.20045883998420799},28.101411006518326,14.050705503259161,24.336535813832505,16.991418422250685,4.3753124353070501,1.1547005383792515,14.634260087421334,1.3529265500809891,null,1.3336732232741717,1.3144198964673548,1.2951665696605377,1.2759132428537208,1.2566599160469034,1.2374065892400863,1.2181532624332694,1.198899935626452,1.1796466088196349,1.160393282012818,1.1411399552060006,1.1218866283991837,1.1026333015923666,1.0833799747855495,1.0641266479787321,1.044873321171915,1.0256199943650981,1.006366667558281,0.98711334075146373,0.9678600139446466,0.94860668713782959]
[406,{"$f":"+正規乱数!L414","v":10.742753506828958},{"$f":"+正規乱数!M414","v":32.639456322897004},{"$f":"+正規乱数!N414","v":18.080824274361461},{"$f":"+正規乱数!O414","v":0.15200295954755016},27.121236411542192,13.560618205771094,23.487679714439047,16.991418422250685,4.1608384803705514,1.1547005383792515,12.40466325801099,1.2215889782467024,null,1.2053238197747045,1.189058661302707,1.1727935028307088,1.1565283443587111,1.1402631858867134,1.1239980274147157,1.1077328689427177,1.09146771047072,1.0752025519987223,1.0589373935267243,1.0426722350547266,1.0264070765827289,1.010141918110731,0.99387675963873323,0.9776116011667354,0.96134644269473757,0.94508128422273974,0.92881612575074202,0.91255096727874419,0.89628580880674635,0.88002065033474852]
[407,{"$f":"+正規乱数!L415","v":7.7883834982090905},{"$f":"+正規乱数!M415","v":33.380027714696993},{"$f":"+正規乱数!N415","v":17.676508901736995},{"$f":"+正規乱数!O415","v":0.15207394056580945},26.514763352605492,13.257381676302744,22.962458638689007,16.991418422250685,3.9341899384791383,1.1547005383792515,8.9932506184861154,0.9751126483800906,null,0.95799000788576216,0.94086736739143373,0.92374472689710529,0.90662208640277686,0.88949944590844854,0.8723768054141201,0.85525416491979167,0.83813152442546324,0.8210088839311348,0.80388624343680648,0.78676360294247805,0.76964096244814961,0.75251832195382118,0.73539568145949274,0.7182730409651642,0.70115040047083588,0.68402775997650755,0.66690511948217901,0.64978247898785058,0.63265983849352236,0.61553719799919382]
[408,{"$f":"+正規乱数!L416","v":10.901146834955682},{"$f":"+正規乱数!M416","v":34.305768371146947},{"$f":"+正規乱数!N416","v":15.550749374353032},{"$f":"+正規乱数!O416","v":0.14063103473782287},23.326124061529548,11.663062030764772,20.201016009112038,16.991418422250685,2.1899125578727663,1.1547005383792515,12.587560119274599,1.267031988526462,null,1.2483933945681092,1.2297548006097563,1.2111162066514034,1.1924776126930507,1.1738390187346979,1.155200424776345,1.1365618308179921,1.1179232368596395,1.0992846429012866,1.0806460489429337,1.0620074549845808,1.0433688610262282,1.0247302670678753,1.0060916731095222,0.98745307915116942,0.96881448519281665,0.95017589123446389,0.93153729727611101,0.91289870331775813,0.89426010935940536,0.87562151540105237]
[409,{"$f":"+正規乱数!L417","v":11.421296469652473},{"$f":"+正規乱数!M417","v":35.476864260060239},{"$f":"+正規乱数!N417","v":19.103030762459678},{"$f":"+正規乱数!O417","v":0.15327671769225848},28.654546143689515,14.327273071844756,24.815564894348544,16.991418422250685,5.5761440269207085,1.1547005383792515,13.188177182496755,1.3096924387022519,null,1.2924190305423016,1.2751456223823512,1.2578722142224008,1.2405988060624504,1.2233253979025001,1.2060519897425497,1.1887785815825991,1.1715051734226489,1.1542317652626986,1.1369583571027482,1.1196849489427978,1.1024115407828474,1.0851381326228968,1.0678647244629464,1.0505913163029961,1.0333179081430457,1.0160444999830953,0.99877109182314483,0.98149768366319445,0.96422427550324408,0.94695086734329359]
[410,{"$f":"+正規乱数!L418","v":8.942311482050755},{"$f":"+正規乱数!M418","v":39.826082458923892},{"$f":"+正規乱数!N418","v":18.042297368981817},{"$f":"+正規乱数!O418","v":0.10783001952718471},27.063446053472724,13.53172302673636,23.43763179625709,16.991418422250685,5.3757558904473202,1.1547005383792515,10.325691882678969,1.1603435676375378,null,1.1452882536317364,1.1302329396259347,1.1151776256201333,1.1001223116143317,1.0850669976085303,1.0700116836027289,1.0549563695969275,1.0399010555911259,{"$f":"+(($H420-$I420-W$10*$G$6*$E420*$K420)*TAN($C420*PI()/180)+$L420)/$G420","v":1.0248457415853245},1.0097904275795229,0.99473511357372157,0.97967979956791984,0.96462448556211844,0.94956917155631693,0.93451385755051553,0.91945854354471401,0.90440322953891261,0.88934791553311099,0.87429260152730948,0.85923728752150808,0.84418197351570656]
[411,{"$f":"+正規乱数!L419","v":9.787682637416653},{"$f":"+正規乱数!M419","v":34.513198642645399},{"$f":"+正規乱数!N419","v":18.428084875749629},{"$f":"+正規乱数!O419","v":0.10590921777216958},{"$f":"+$G$3*$G$4*D421","v":27.642127313624442},13.821063656812219,{"$f":"+F421*COS($G$2*PI()/180)","v":23.938784468242471},16.991418422250685,{"$f":"+(H421-I421)*TAN(C421*PI()/180)","v":4.7771491167876272},1.1547005383792515,{"$f":"+K421*B421","v":11.301842410910261},{"$f":"+(J421+L421)/G421","v":1.1633686036727546},null,1.151431216479992,1.1394938292872294,1.1275564420944668,1.115619054901704,1.1036816677089414,1.0917442805161788,1.0798068933234162,1.0678695061306533,1.055932118937891,1.0439947317451281,1.0320573445523655,1.0201199573596029,1.0081825701668401,0.99624518297407749,0.98430779578131489,0.97237040858855217,0.96043302139578945,0.94849563420302685,0.93655824701026413,0.92462085981750153,0.91268347262473892]
[412,{"$f":"+正規乱数!L420","v":9.2796397581056187},{"$f":"+正規乱数!M420","v":34.581672547869587},{"$f":"+正規乱数!N420","v":20.232646609295074},{"$f":"+正規乱数!O420","v":0.13157580852499995},30.348969913942611,15.174484956971304,26.282978924163931,16.991418422250685,6.4054326474642913,1.1547005383792515,10.715205024650064,1.1282516487815932,null,1.1147094161743281,1.1011671835670631,1.0876249509597977,1.0740827183525328,1.0605404857452676,1.0469982531380024,1.0334560205307373,1.0199137879234723,1.0063715553162074,0.99282932270894209,0.97928709010167703,0.96574485749441186,0.9522026248871468,0.93866039227988174,0.92511815967261657,0.91157592706535151,0.89803369445808634,0.88449146185082117,0.87094922924355611,0.85740699663629094,0.84386476402902588]
[413,{"$f":"+正規乱数!L421","v":9.7792057818760245},{"$f":"+正規乱数!M421","v":30.80972371753538},{"$f":"+正規乱数!N421","v":18.219686578344124},{"$f":"+正規乱数!O421","v":0.20957691712947349},27.329529867516186,13.664764933758091,23.668067138754584,16.991418422250685,3.9816173441363181,1.1547005383792515,11.292054181253734,1.1177412563941909,null,1.0970202594666503,1.0762992625391092,1.0555782656115686,1.0348572686840276,1.0141362717564868,0.99341527482894609,0.97269427790140539,0.95197328097386447,0.93125228404632376,0.91053128711878284,0.88981029019124203,0.86908929326370121,0.8483682963361604,0.8276472994086197,0.80692630248107877,0.78620530555353796,0.76548430862599715,0.74476331169845633,0.72404231477091541,0.7033213178433747,0.68260032091583378]
[414,{"$f":"+正規乱数!L422","v":12.418348045826889},{"$f":"+正規乱数!M422","v":34.240381970091597},{"$f":"+正規乱数!N422","v":16.520397340526241},{"$f":"+正規乱数!O422","v":0.11598419316639151},24.78059601078936,12.390298005394678,21.460625666262906,16.991418422250685,3.0418769968724382,1.1547005383792515,14.339473174297234,1.4028193804218358,null,1.3883850520908803,1.3739507237599247,1.3595163954289691,1.3450820670980137,1.3306477387670581,1.3162134104361025,1.3017790821051469,1.2873447537741913,1.2729104254432357,1.2584760971122801,1.2440417687813246,1.229607440450369,1.2151731121194134,1.2007387837884578,1.1863044554575022,1.1718701271265466,1.157435798795591,1.1430014704646356,1.1285671421336798,1.1141328138027244,1.0996984854717686]
[415,{"$f":"+正規乱数!L423","v":10.336982251025589},{"$f":"+正規乱数!M423","v":37.777905238262662},{"$f":"+正規乱数!N423","v":17.347385237220184},{"$f":"+正規乱数!O423","v":0.14610628229109432},26.021077855830278,13.010538927915137,22.534914457001733,16.991418422250685,4.296553379909688,1.1547005383792515,11.936118970476015,1.2476556459592325,null,1.2279369384252972,1.2082182308913618,1.1884995233574263,1.1687808158234909,1.1490621082895554,1.1293434007556198,1.1096246932216844,1.0899059856877489,1.0701872781538135,1.0504685706198782,1.0307498630859426,1.0110311555520071,0.99131244801807172,0.97159374048413627,0.95187503295020071,0.93215632541626525,0.91243761788232991,0.89271891034839435,0.87300020281445889,0.85328149528052344,0.83356278774658799]
[416,{"$f":"+正規乱数!L424","v":6.2993133530917893},{"$f":"+正規乱数!M424","v":35.9278584649526},{"$f":"+正規乱数!N424","v":19.172352412616291},{"$f":"+正規乱数!O424","v":0.12826993183705668},28.758528618924437,14.379264309462217,24.905616359450374,16.991418422250685,5.7347903862480587,1.1547005383792515,7.2738205202346968,0.90467847495664233,null,0.89003422243267027,0.87538996990869811,0.86074571738472594,0.84610146486075377,0.8314572123367816,0.81681295981280966,0.80216870728883738,0.78752445476486532,0.77288020224089327,0.75823594971692099,0.74359169719294893,0.72894744466897676,0.7143031921450046,0.69965893962103254,0.68501468709706037,0.67037043457308831,0.65572618204911604,0.64108192952514398,0.62643767700117181,0.61179342447719964,0.59714917195322748]
[417,{"$f":"+正規乱数!L425","v":11.059663938833094},{"$f":"+正規乱数!M425","v":28.168131260759957},{"$f":"+正規乱数!N425","v":18.645555733615168},{"$f":"+正規乱数!O425","v":0.16011509260997298},27.968333600422753,13.984166800211375,24.221287399483998,16.991418422250685,3.8714457561272395,1.1547005383792515,12.770599904464166,1.1900634409151827,null,1.1761732953049235,1.1622831496946648,1.1483930040844059,1.134502858474147,1.1206127128638883,1.1067225672536294,1.0928324216433705,1.0789422760331115,1.0650521304228526,1.0511619848125939,1.037271839202335,1.0233816935920761,1.0094915479818172,0.99560140237155836,0.98171125676129944,0.96782111115104053,0.95393096554078172,0.94004081993052291,0.92615067432026399,0.91226052871000507,0.89837038309974615]
[418,{"$f":"+正規乱数!L426","v":9.1275490645086954},{"$f":"+正規乱数!M426","v":40.447191524704856},{"$f":"+正規乱数!N426","v":17.076513155821957},{"$f":"+正規乱数!O426","v":0.12625693639220356},25.614769733732935,12.807384866866466,22.183041301501483,16.991418422250685,4.425795856014429,1.1547005383792515,10.539585818871224,1.1684962879191727,null,1.1494569694618935,1.1304176510046144,1.1113783325473352,1.0923390140900562,1.0732996956327769,1.0542603771754977,1.0352210587182185,1.0161817402609394,0.99714242180366031,0.97810310334638106,0.95906378488910182,0.94002446643182269,0.92098514797454356,0.90194582951726443,0.88290651105998519,0.86386719260270606,0.84482787414542693,0.82578855568814757,0.80674923723086844,0.78770991877358931,0.76867060031631018]
[419,{"$f":"+正規乱数!L427","v":9.9136549113533494},{"$f":"+正規乱数!M427","v":34.599328167344417},{"$f":"+正規乱数!N427","v":18.469842998198402},{"$f":"+正規乱数!O427","v":0.12324527476814535},27.704764497297603,13.8523822486488,23.993029860524938,16.991418422250685,4.8299670314343492,1.1547005383792515,11.447302663445823,1.1750520165199674,null,1.1611473575255908,1.1472426985312145,1.133338039536838,1.1194333805424617,1.1055287215480851,1.0916240625537086,1.0777194035593323,1.0638147445649557,1.0499100855705794,1.0360054265762029,1.0221007675818263,1.00819610858745,0.99429144959307358,0.98038679059869716,0.96648213160432062,0.95257747260994419,0.93867281361556765,0.92476815462119122,0.91086349562681479,0.89695883663243836,0.88305417763806193]
[420,{"$f":"+正規乱数!L428","v":11.773058203805832},{"$f":"+正規乱数!M428","v":32.695510845139246},{"$f":"+正規乱数!N428","v":18.063632324815771},{"$f":"+正規乱数!O428","v":0.20342256349194518},27.095448487223656,13.547724243611826,23.465346716868325,16.991418422250685,4.1554718418611758,1.1547005383792515,13.594356646304856,1.3101704883412892,null,1.2883354677917191,1.2665004472421488,1.2446654266925783,1.222830406143008,1.2009953855934377,1.1791603650438671,1.1573253444942968,1.1354903239447265,1.1136553033951559,1.0918202828455856,1.0699852622960153,1.0481502417464448,1.0263152211968745,1.0044802006473039,0.98264518009773361,0.96081015954816318,0.93897513899859286,0.91714011844902232,0.89530509789945201,0.87347007734988169,0.85163505680031126]
[421,{"$f":"+正規乱数!L429","v":11.419843491431475},{"$f":"+正規乱数!M429","v":29.813196222157728},{"$f":"+正規乱数!N429","v":17.230960911816847},{"$f":"+正規乱数!O429","v":0.12420018772138008},25.846441367725269,12.923220683862633,22.383674821875097,16.991418422250685,3.0898238495217036,1.1547005383792515,13.186499427762715,1.2594633857494086,null,1.2469871650263245,1.2345109443032403,1.2220347235801561,1.2095585028570719,1.1970822821339877,1.1846060614109035,1.1721298406878193,1.1596536199647351,1.1471773992416512,1.1347011785185668,1.1222249577954828,1.1097487370723986,1.0972725163493144,1.0847962956262303,1.0723200749031461,1.0598438541800619,1.0473676334569777,1.0348914127338935,1.0224151920108093,1.0099389712877251,0.99746275056464095]
[422,{"$f":"+正規乱数!L430","v":11.214847602527113},{"$f":"+正規乱数!M430","v":37.300644199541715},{"$f":"+正規乱数!N430","v":17.912617212632256},{"$f":"+正規乱数!O430","v":0.20179352848330429},26.868925818948384,13.43446290947419,23.269172331608903,16.991418422250685,4.7824784512821159,1.1547005383792515,12.949790564479315,1.3199090380648089,null,1.2939849175500309,1.2680607970352531,1.2421366765204751,1.2162125560056971,1.1902884354909193,1.1643643149761413,1.1384401944613634,1.1125160739465856,1.0865919534318076,1.0606678329170298,1.0347437124022518,1.0088195918874738,0.98289547137269584,0.95697135085791796,0.93104723034313996,0.90512310982836208,0.87919898931358409,0.85327486879880621,0.82735074828402821,0.80142662776925044,0.77550250725447245]
[423,{"$f":"+正規乱数!L431","v":13.366363579948162},{"$f":"+正規乱数!M431","v":38.047070160847341},{"$f":"+正規乱数!N431","v":17.536718942238714},{"$f":"+正規乱数!O431","v":0.11325859364463213},26.305078413358071,13.152539206679034,22.780866154509745,16.991418422250685,4.5308766399583842,1.1547005383792515,15.434147221938963,1.5179596538863647,null,1.5026919041876752,1.4874241544889859,1.4721564047902962,1.4568886550916069,1.4416209053929174,1.4263531556942282,1.4110854059955387,1.3958176562968494,1.3805499065981599,1.3652821568994706,1.3500144072007809,1.3347466575020916,1.3194789078034022,1.3042111581047129,1.2889434084060234,1.2736756587073339,1.2584079090086444,1.2431401593099551,1.2278724096112656,1.2126046599125764,1.1973369102138869]
[424,{"$f":"+正規乱数!L432","v":11.896992799338566},{"$f":"+正規乱数!M432","v":33.503293637558372},{"$f":"+正規乱数!N432","v":16.788884936920539},{"$f":"+正規乱数!O432","v":0.1908215955894623},25.183327405380808,12.591663702690402,21.809401284880636,16.991418422250685,3.1893516013767234,1.1547005383792515,13.737463990490321,1.344287458078345,null,1.3215600491145831,1.2988326401508208,1.2761052311870587,1.2533778222232965,1.2306504132595344,1.207923004295772,1.1851955953320101,1.162468186368248,1.1397407774044859,1.1170133684407235,1.0942859594769614,1.0715585505131993,1.0488311415494371,1.026103732585675,1.0033763236219126,0.98064891465815052,0.95792150569438839,0.93519409673062626,0.91246668776686402,0.88973927880310189,0.86701186983933964]
[425,{"$f":"+正規乱数!L433","v":10.704291705450238},{"$f":"+正規乱数!M433","v":38.118660301436854},{"$f":"+正規乱数!N433","v":18.414897647804349},{"$f":"+正規乱数!O433","v":0.15176687148898257},27.622346471706521,13.811173235853259,23.921653756633305,16.991418422250685,5.4376442900558057,1.1547005383792515,12.360251395251947,1.2886592168075279,null,1.2691258281141939,1.2495924394208597,1.2300590507275257,1.2105256620341915,1.1909922733408573,1.1714588846475233,1.1519254959541894,1.1323921072608552,1.1128587185675209,1.093325329874187,1.073791941180853,1.0542585524875188,1.0347251637941846,1.0151917751008506,0.99565838640751647,0.97612499771418237,0.95659160902084817,0.93705822032751407,0.91752483163417997,0.89799144294084587,0.87845805424751167]
[426,{"$f":"+正規乱数!L434","v":6.644905348363114},{"$f":"+正規乱数!M434","v":32.182066574576496},{"$f":"+正規乱数!N434","v":18.264034837561205},{"$f":"+正規乱数!O434","v":0.10608905916790709},27.396052256341807,13.698026128170902,23.725677217397998,16.991418422250685,4.2378459868616556,1.1547005383792515,7.6728757832340548,0.86952102869774195,null,0.85847931845204994,0.84743760820635783,0.83639589796066571,0.8253541877149736,0.81431247746928159,0.80327076722358959,0.79222905697789747,{"$f":"+(($H436-$I436-V$10*$G$6*$E436*$K436)*TAN($C436*PI()/180)+$L436)/$G436","v":0.78118734673220536},0.77014563648651324,0.75910392624082113,0.74806221599512912,0.737020505749437,0.72597879550374489,0.71493708525805277,0.70389537501236066,0.69285366476666865,0.68181195452097654,0.67077024427528442,0.65972853402959231,0.64868682378390019,0.63764511353820819]
[427,{"$f":"+正規乱数!L435","v":12.345175959330138},{"$f":"+正規乱数!M435","v":33.053221402779918},{"$f":"+正規乱数!N435","v":18.118160398387264},{"$f":"+正規乱数!O435","v":0.10476587311928778},27.177240597580898,13.588620298790447,23.536180762266838,16.991418422250685,4.2588667826814497,1.1547005383792515,14.254981326625103,1.3624523831131339,null,1.3510862426301546,1.3397201021471752,1.3283539616641957,1.3169878211812165,1.305621680698237,1.2942555402152573,1.2828893997322779,1.2715232592492987,1.2601571187663192,1.2487909782833397,1.2374248378003603,1.226058697317381,1.2146925568344016,1.2033264163514219,1.1919602758684424,1.1805941353854632,1.1692279949024837,1.1578618544195043,1.1464957139365248,1.1351295734535454,1.1237634329705659]
[428,{"$f":"+正規乱数!L436","v":8.7936464432113475},{"$f":"+正規乱数!M436","v":40.707698692974105},{"$f":"+正規乱数!N436","v":18.802018814225658},{"$f":"+正規乱数!O436","v":0.15899561570467799},28.203028221338485,14.101514110669241,24.424538903328582,16.991418422250685,6.3952301421818341,1.1547005383792515,10.154028282292932,1.1735802478085353,null,1.1516030266004433,1.1296258053923511,1.1076485841842592,1.0856713629761672,1.063694141768075,1.041716920559983,1.019739699351891,0.9977624781437987,0.97578525693570684,0.95380803572761463,0.93183081451952265,0.90985359331143056,0.88787637210333847,0.86589915089524627,0.84392192968715429,0.8219447084790622,0.79996748727097011,0.77799026606287791,0.75601304485478582,0.73403582364669384,0.71205860243860164]
[429,{"$f":"+正規乱数!L437","v":10.910846566889207},{"$f":"+正規乱数!M437","v":31.80403259836153},{"$f":"+正規乱数!N437","v":15.748942570087756},{"$f":"+正規乱数!O437","v":9.0619842356027047E-2},23.623413855131634,11.811706927565815,20.458476522657278,16.991418422250685,2.1500049409078952,1.1547005383792515,12.598760404960375,1.2486565605050726,null,1.2378780847442696,1.2270996089834667,1.2163211332226638,1.2055426574618611,1.1947641817010579,1.183985705940255,1.1732072301794523,1.1624287544186491,1.1516502786578462,1.1408718028970435,1.1300933271362403,1.1193148513754376,1.1085363756146345,1.0977578998538315,1.0869794240930286,1.0762009483322257,1.0654224725714228,1.0546439968106198,1.0438655210498169,1.0330870452890142,1.022308569528211]
[430,{"$f":"+正規乱数!L438","v":11.167313943695737},{"$f":"+正規乱数!M438","v":34.997573333174081},{"$f":"+正規乱数!N438","v":16.44482751755864},{"$f":"+正規乱数!O438","v":0.13286699816709732},24.667241276337961,12.333620638168979,21.362457586588757,16.991418422250685,3.0603586862740593,1.1547005383792515,12.89490342303559,1.2936397654337397,null,1.2765521075159678,1.2594644495981959,1.2423767916804243,1.2252891337626524,1.2082014758448805,1.1911138179271086,1.1740261600093367,1.1569385020915648,1.1398508441737929,1.122763186256021,1.1056755283382493,1.0885878704204774,1.0715002125027056,1.0544125545849337,1.0373248966671618,1.0202372387493899,1.003149580831618,0.98606192291384598,0.96897426499607409,0.95188660707830219,0.9347989491605303]
[431,{"$f":"+正規乱数!L439","v":10.62170992603523},{"$f":"+正規乱数!M439","v":38.517087198669302},{"$f":"+正規乱数!N439","v":18.540181811214051},{"$f":"+正規乱数!O439","v":0.17137852561403621},27.810272716821075,13.905136358410536,24.084402658940331,16.991418422250685,5.6454689686755053,1.1547005383792515,12.264894170101119,1.2880393745972525,null,1.2658154604127385,1.2435915462282245,1.2213676320437106,1.1991437178591966,1.1769198036746826,1.1546958894901687,1.1324719753056547,1.1102480611211407,1.0880241469366267,1.0658002327521128,1.0435763185675988,1.0213524043830848,0.99912849019857075,0.97690457601405667,0.9546806618295427,0.93245674764502884,0.91023283346051476,0.8880089192760009,0.86578500509148681,0.84356109090697284,0.82133717672245876]
[432,{"$f":"+正規乱数!L440","v":11.101947145808866},{"$f":"+正規乱数!M440","v":35.946156843348518},{"$f":"+正規乱数!N440","v":18.607515828179409},{"$f":"+正規乱数!O440","v":0.13581089592312787},27.911273742269113,13.955636871134555,24.171872112786609,16.991418422250685,5.2066023445659404,1.1547005383792515,12.819424346323492,1.2916663608648313,null,1.2756797704202676,1.2596931799757041,1.2437065895311401,1.2277199990865764,1.2117334086420128,1.1957468181974489,1.1797602277528854,1.1637736373083214,1.1477870468637579,1.1318004564191939,1.1158138659746304,1.0998272755300664,1.0838406850855027,1.0678540946409389,1.0518675041963752,1.0358809137518115,1.0198943233072477,1.003907732862684,0.98792114241812035,0.9719345519735566,0.95594796152899286]
[433,{"$f":"+正規乱数!L441","v":8.5594572996793428},{"$f":"+正規乱数!M441","v":32.809291053950595},{"$f":"+正規乱数!N441","v":18.935348690777364},{"$f":"+正規乱数!O441","v":0.20277408012709239},28.403023036166047,14.201511518083022,24.597739493594414,16.991418422250685,4.9036853216880374,1.1547005383792515,9.8836099521739502,1.0412479865282704,null,1.0203937555059008,0.99953952448353134,0.97868529346116195,0.95783106243879246,0.93697683141642296,0.91612260039405335,0.89526836937168386,0.87441413834931447,0.85355990732694498,0.83270567630457537,0.81185144528220599,0.79099721425983638,0.77014298323746688,0.74928875221509739,0.72843452119272789,0.70758029017035839,0.68672605914798879,0.66587182812561929,0.6450175971032498,0.62416336608088041,0.60330913505851069]
[434,{"$f":"+正規乱数!L442","v":9.016821441639026},{"$f":"+正規乱数!M442","v":32.640514184249653},{"$f":"+正規乱数!N442","v":18.866535377220661},{"$f":"+正規乱数!O442","v":0.16891655037946157},28.299803065830993,14.149901532915495,24.508348377106383,16.991418422250685,4.8147698310035514,1.1547005383792515,10.411728573130162,1.0760851139998282,null,1.0587621507290275,1.0414391874582267,1.0241162241874262,1.0067932609166255,0.98947029764582484,0.9721473343750241,0.95482437110422358,0.93750140783342284,0.92017844456262232,0.90285548129182147,0.88553251802102084,0.86820955475022021,0.85088659147941959,0.83356362820861896,0.81624066493781822,0.79891770166701748,0.78159473839621685,0.76427177512541611,0.74694881185461548,0.72962584858381485,0.71230288531301411]
[435,{"$f":"+正規乱数!L443","v":8.0607338603776189},{"$f":"+正規乱数!M443","v":39.702712785049528},{"$f":"+正規乱数!N443","v":18.056637998639598},{"$f":"+正規乱数!O443","v":0.16968251600751616},27.084956997959395,13.542478498979696,23.456260820641944,16.991418422250685,5.3677326547437278,1.1547005383792515,9.3077337283098984,1.0836617820112686,null,1.0600928313643798,1.0365238807174912,1.0129549300706027,0.9893859794237142,0.96581702877682551,0.94224807812993694,0.91867912748304825,0.89511017683615968,0.8715412261892711,0.84797227554238253,0.82440332489549395,0.80083437424860526,0.77726542360171658,0.75369647295482789,0.73012752230793931,0.70655857166105074,0.68298962101416216,0.65942067036727348,0.63585171972038479,0.61228276907349621,0.58871381842660775]
[436,{"$f":"+正規乱数!L444","v":9.9005446105623758},{"$f":"+正規乱数!M444","v":33.115166294509535},{"$f":"+正規乱数!N444","v":19.854679963667316},{"$f":"+正規乱数!O444","v":0.19827714982216144},29.782019945500974,14.891009972750485,25.791985848818687,16.991418422250685,5.7403377905006048,1.1547005383792515,11.432164192064171,1.1532127111585622,null,1.1335364010412541,1.113860090923946,1.0941837808066379,1.0745074706893298,1.0548311605720218,1.0351548504547134,1.0154785403374054,0.99580223022009728,0.97612592010278909,0.95644960998548101,0.93677329986817293,0.91709698975086473,0.89742067963355643,0.87774436951624846,0.85806805939894026,0.83839174928163207,0.81871543916432399,0.79903912904701579,0.7793628189297076,0.75968650881239963,0.74001019869509133]
[437,{"$f":"+正規乱数!L445","v":9.6906201182688534},{"$f":"+正規乱数!M445","v":35.369054295577378},{"$f":"+正規乱数!N445","v":18.029867137894026},{"$f":"+正規乱数!O445","v":0.14631832184475502},27.044800706841038,13.522400353420517,23.421484452411683,16.991418422250685,4.5643852096454181,1.1547005383792515,11.189764267793851,1.1650408999652364,null,1.147639661855036,1.1302384237448355,1.1128371856346353,1.0954359475244348,1.0780347094142346,1.0606334713040342,1.043232233193834,1.0258309950836335,1.0084297569734333,0.99102851886323284,0.97362728075303262,0.95622604264283217,0.93882480453263173,0.92142356642243151,0.90402232831223106,0.88662109020203062,{"$f":"+(($H447-$I447-AE$10*$G$6*$E447*$K447)*TAN($C447*PI()/180)+$L447)/$G447","v":0.86921985209183039},0.85181861398162995,0.8344173758714295,0.81701613776122928,0.79961489965102883]
[438,{"$f":"+正規乱数!L446","v":10.801357786895181},{"$f":"+正規乱数!M446","v":40.424600072423893},{"$f":"+正規乱数!N446","v":17.440503875478839},{"$f":"+正規乱数!O446","v":0.23277328925141733},26.160755813218259,13.080377906609128,22.655879116448446,16.991418422250685,4.8250290711138586,1.1547005383792515,12.472333651754786,1.3223901363070558,null,1.2880483730310344,1.2537066097550125,1.219364846478991,1.1850230832029696,1.1506813199269483,1.1163395566509269,1.0819977933749052,1.0476560300988838,1.0133142668228621,0.97897250354684073,0.94463074027081928,0.91028897699479772,0.87594721371877615,0.8416054504427547,0.80726368716673313,0.77292192389071146,0.73858016061469001,0.70423839733866866,0.66989663406264688,0.63555487078662543,0.60121310751060408]
[439,{"$f":"+正規乱数!L447","v":11.54948289903871},{"$f":"+正規乱数!M447","v":35.577225204656052},{"$f":"+正規乱数!N447","v":18.244197175678359},{"$f":"+正規乱数!O447","v":0.16037183833276197},27.366295763517538,13.683147881758767,23.69990733868465,16.991418422250685,4.7987741233106513,1.1547005383792515,13.336194121521956,1.3253505992585695,null,1.3063566156033728,1.2873626319481759,1.2683686482929792,1.2493746646377826,1.2303806809825861,1.2113866973273892,1.1923927136721926,1.1733987300169959,1.1544047463617992,1.1354107627066026,1.1164167790514059,1.097422795396209,1.0784288117410123,1.0594348280858157,1.040440844430619,1.0214468607754223,1.0024528771202257,0.9834588934650289,0.96446490980983224,0.94547092615463546,0.92647694249943879]
[440,{"$f":"+正規乱数!L448","v":9.5593462393831512},{"$f":"+正規乱数!M448","v":33.647981024281066},{"$f":"+正規乱数!N448","v":18.662236702091807},{"$f":"+正規乱数!O448","v":0.19955135892131096},27.993355053137712,13.996677526568854,24.242956613174744,16.991418422250685,4.8266685762601984,1.1547005383792515,11.038182249169397,1.1334726255795011,null,1.1119737649415686,1.0904749043036361,1.0689760436657036,1.0474771830277712,1.0259783223898387,1.0044794617519062,0.98298060111397367,0.9614817404760414,0.93998287983810891,0.91848401920017653,0.89698515856224403,0.87548629792431143,0.85398743728637905,0.83248857664844655,0.81098971601051406,0.78949085537258168,0.76799199473464907,0.74649313409671669,0.72499427345878409,0.70349541282085171,0.68199655218291921]
[441,{"$f":"+正規乱数!L449","v":11.192003088912545},{"$f":"+正規乱数!M449","v":34.138993373362744},{"$f":"+正規乱数!N449","v":16.186702445902739},{"$f":"+正規乱数!O449","v":0.20045743804686711},24.280053668854109,12.140026834427053,21.027143282477223,16.991418422250685,2.7363985779586706,1.1547005383792515,12.923411992309561,1.2899321215550916,null,1.2645674813572609,1.23920284115943,1.2138382009615993,1.1884735607637684,1.1631089205659377,1.1377442803681068,1.1123796401702761,1.0870149999724454,1.0616503597746145,1.0362857195767838,1.0109210793789529,0.98555643918112212,0.96019179898329132,0.93482715878546052,0.90946251858762961,0.88409787838979892,0.85873323819196812,0.83336859799413721,0.8080039577963064,0.7826393175984756,0.75727467740064469]
[442,{"$f":"+正規乱数!L450","v":12.471803918828225},{"$f":"+正規乱数!M450","v":33.845388612541541},{"$f":"+正規乱数!N450","v":17.523863463949844},{"$f":"+正規乱数!O450","v":0.10703001030852782},26.285795195924766,13.142897597962381,22.764166398345804,16.991418422250685,3.8711439403620749,1.1547005383792515,14.40119869963141,1.3902826605623368,null,1.3779106712338514,1.3655386819053661,1.3531666925768806,1.3407947032483951,1.3284227139199098,1.3160507245914244,{"$f":"+(($H452-$I452-U$10*$G$6*$E452*$K452)*TAN($C452*PI()/180)+$L452)/$G452","v":1.3036787352629391},1.2913067459344534,1.2789347566059683,1.2665627672774826,1.2541907779489974,1.2418187886205119,1.2294467992920264,1.2170748099635411,1.2047028206350556,1.1923308313065701,1.1799588419780849,1.1675868526495994,1.1552148633211141,1.1428428739926286,1.1304708846641434]
[443,{"$f":"+正規乱数!L451","v":16.252487013969404},{"$f":"+正規乱数!M451","v":36.660799434244396},{"$f":"+正規乱数!N451","v":17.732690831890249},{"$f":"+正規乱数!O451","v":9.9252529944823698E-2},26.599036247835372,13.299518123917684,23.035441106808548,16.991418422250685,4.498646292495609,1.1547005383792515,18.766755505032265,1.7493417115382301,null,1.736757389784052,1.7241730680298741,1.711588746275696,1.6990044245215181,1.68642010276734,1.6738357810131621,1.661251459258984,1.6486671375048061,1.636082815750628,1.6234984939964501,1.610914172242272,1.5983298504880941,1.5857455287339159,1.573161206979738,1.5605768852255599,1.547992563471382,1.5354082417172039,1.522823919963026,1.5102395982088477,1.4976552764546698,1.4850709547004917]
[444,{"$f":"+正規乱数!L452","v":8.921285729161502},{"$f":"+正規乱数!M452","v":35.76412472116737},{"$f":"+正規乱数!N452","v":17.042803697273481},{"$f":"+正規乱数!O452","v":0.17051462943741455},25.56420554591022,12.782102772955108,22.139251430325285,16.991418422250685,3.7078365727905509,1.1547005383792515,10.301413434497919,1.0960051140356819,null,1.0742368475510418,1.0524685810664014,1.0307003145817613,1.0089320480971209,0.98716378161248064,0.96539551512784028,0.94362724864320013,0.92185898215855977,0.90009071567391963,0.87832244918927926,0.85655418270463912,0.83478591621999876,0.81301764973535851,0.79124938325071814,0.76948111676607789,0.74771285028143775,0.72594458379679738,0.70417631731215713,0.68240805082751677,0.66063978434287662,0.63887151785823626]
[445,{"$f":"+正規乱数!L453","v":9.7541959741145163},{"$f":"+正規乱数!M453","v":29.954318387014851},{"$f":"+正規乱数!N453","v":18.156191057162133},{"$f":"+正規乱数!O453","v":0.21403724672607011},27.234286585743199,13.617143292871598,23.585584037199375,16.991418422250685,3.8001365269498049,1.1547005383792515,11.263175342766759,1.1062020532310928,null,1.0856804602882173,1.0651588673453418,1.0446372744024663,1.0241156814595909,1.0035940885167154,0.98307249557384002,0.96255090263096454,0.94202930968808907,0.9215077167452137,0.90098612380233822,0.88046453085946275,0.85994293791658716,0.83942134497371168,0.8188997520308362,0.79837815908796084,0.77785656614508536,0.75733497320220988,0.73681338025933441,0.71629178731645893,0.69577019437358356,0.67524860143070808]
[446,{"$f":"+正規乱数!L454","v":11.28943990105353},{"$f":"+正規乱数!M454","v":35.014058706997808},{"$f":"+正規乱数!N454","v":20.307467561121989},{"$f":"+正規乱数!O454","v":0.18727510908729117},30.461201341682983,15.23060067084149,26.380174191690092,16.991418422250685,6.5775113751261163,1.1547005383792515,13.035922331746715,1.2877649497056369,null,1.2682492123609646,1.2487334750162919,1.2292177376716196,1.2097020003269472,1.1901862629822744,1.170670525637602,1.1511547882929296,1.1316390509482572,1.1121233136035846,1.092607576258912,1.0730918389142396,1.0535761015695673,1.0340603642248947,1.0145446268802223,0.99502888953554969,0.9755131521908772,0.95599741484620471,0.93648167750153222,0.91696594015685962,0.89745020281218735,0.87793446546751486]
[447,{"$f":"+正規乱数!L455","v":6.3314415012628942},{"$f":"+正規乱数!M455","v":31.071270929847174},{"$f":"+正規乱数!N455","v":18.51036964989186},{"$f":"+正規乱数!O455","v":0.16298520899929769},27.765554474837792,13.882777237418894,24.045675525370228,16.991418422250685,4.2505771314316467,1.1547005383792515,7.3109189102250003,0.83279417683764378,null,0.81676774550002063,0.80074131416239758,0.78471488282477431,0.76868845148715115,0.7526620201495281,0.73663558881190494,0.72060915747428167,0.70458272613665862,0.68855629479903546,0.6725298634614123,0.65650343212378925,0.64047700078616598,0.62445056944854294,0.60842413811091978,0.59239770677329651,0.57637127543567346,0.56034484409805019,0.54431841276042703,0.52829198142280398,0.51226555008518082,0.49623911874755766]
[448,{"$f":"+正規乱数!L456","v":10.89608110307903},{"$f":"+正規乱数!M456","v":36.540327305214625},{"$f":"+正規乱数!N456","v":17.005431936044793},{"$f":"+正規乱数!O456","v":0.20559308959808403},25.50814790406719,12.754073952033593,22.090704088412974,16.991418422250685,3.7788300875231431,1.1547005383792515,12.581710715949345,1.2827697930090689,null,1.2557067906131578,1.2286437882172467,1.2015807858213357,1.1745177834254248,1.1474547810295137,1.1203917786336026,1.0933287762376918,1.0662657738417807,1.0392027714458698,1.0121397690499587,0.98507676665404786,0.95801376425813667,0.9309507618622257,0.90388775946631472,0.87682475707040364,0.84976175467449266,0.82269875227858169,0.79563574988267061,0.76857274748675952,0.74150974509084844,0.71444674269493746]
[449,{"$f":"+正規乱数!L457","v":9.9689582815800968},{"$f":"+正規乱数!M457","v":38.773728070728843},{"$f":"+正規乱数!N457","v":17.607735370416862},{"$f":"+正規乱数!O457","v":0.10307079891204701},26.411603055625292,13.205801527812644,22.873119200842208,16.991418422250685,4.7245700910170862,1.1547005383792515,11.511161494820835,1.2294393151104053,null,1.2152357090901005,1.2010321030697957,1.1868284970494909,1.1726248910291859,1.1584212850088811,1.1442176789885763,1.1300140729682715,1.1158104669479665,1.1016068609276617,1.0874032549073569,1.0731996488870521,1.0589960428667473,1.0447924368464425,1.0305888308261375,1.0163852248058327,1.0021816187855279,0.98797801276522301,0.97377440674491811,0.95957080072461332,0.94536719470430852,0.93116358868400362]
[450,{"$f":"+正規乱数!L458","v":7.6070356227043296},{"$f":"+正規乱数!M458","v":34.887735910669697},{"$f":"+正規乱数!N458","v":17.758686184532557},{"$f":"+正規乱数!O458","v":0.21625753306980822},26.638029276798836,{"$f":"+F460*SIN($G$2*PI()/180)","v":13.319014638399416},23.069210060461412,{"$f":"+$G$5*$G$4*$G$6/COS($G$2*PI()/180)","v":16.991418422250685},4.2379924032061496,{"$f":"+$G$4/COS($G$2*PI()/180)","v":1.1547005383792515},8.7838481290068344,0.97768798111163091,null,0.95203830495658825,0.92638862880154571,0.90073895264650305,0.87508927649146051,0.84943960033641797,0.8237899241813752,0.79814024802633277,0.77249057187129011,0.74684089571624757,0.72119121956120491,0.69554154340616248,0.66989186725111971,0.64424219109607705,0.61859251494103451,0.59294283878599185,0.56729316263094931,0.54164348647590665,0.51599381032086411,0.4903441341658214,0.4646944580107788,0.43904478185573625]
[451,{"$f":"+正規乱数!L459","v":11.601897582795576},{"$f":"+正規乱数!M459","v":30.396071977614028},{"$f":"+正規乱数!N459","v":17.502755162504837},{"$f":"+正規乱数!O459","v":0.18195169420860957},26.254132743757253,13.127066371878625,22.736745910422631,16.991418422250685,3.3702341766556763,1.1547005383792515,13.396717385074988,1.2772809313777496,null,1.2588604029948161,1.240439874611883,1.2220193462289497,1.2035988178460164,1.1851782894630833,1.1667577610801501,1.148337232697217,1.1299167043142837,1.1114961759313504,1.0930756475484174,1.0746551191654841,1.0562345907825508,1.0378140623996175,1.0193935340166844,1.0009730056337511,0.98255247725081785,0.96413194886788478,0.94571142048495149,0.9272908921020182,0.90887036371908503,0.89044983533615174]
[452,{"$f":"+正規乱数!L460","v":13.576862705551918},{"$f":"+正規乱数!M460","v":37.805618835457715},{"$f":"+正規乱数!N460","v":17.78589804791098},{"$f":"+正規乱数!O460","v":0.12481045282898272},26.678847071866471,13.339423535933234,23.10455930791645,16.991418422250685,4.7427984101701934,1.1547005383792515,15.67721067560198,1.5308014646034385,null,1.5143557583386675,1.4979100520738968,1.4814643458091257,1.4650186395443545,1.4485729332795836,1.4321272270148127,1.4156815207500417,1.3992358144852706,1.3827901082204994,1.3663444019557287,1.3498986956909578,1.3334529894261866,1.3170072831614155,1.3005615768966448,1.2841158706318736,1.2676701643671024,1.2512244581023315,1.2347787518375606,1.2183330455727894,1.2018873393080185,1.1854416330432476]
[453,{"$f":"+正規乱数!L461","v":8.5898350154862477},{"$f":"+正規乱数!M461","v":33.017094983839087},{"$f":"+正規乱数!N461","v":18.223581174261479},{"$f":"+正規乱数!O461","v":0.1382192059857261},27.335371761392217,13.667685880696107,23.673126367257439,16.991418422250685,4.3419867565577022,1.1547005383792515,9.9186871169709168,1.0433861297375904,null,1.0284979095970828,1.0136096894565751,0.99872146931606753,0.98383324917555992,0.96894502903505231,0.95405680889454469,0.93916858875403708,0.92428036861352947,0.90939214847302186,0.89450392833251435,0.87961570819200674,0.86472748805149913,0.84983926791099151,0.8349510477704839,0.82006282762997629,0.80517460748946867,0.79028638734896106,0.77539816720845345,0.76050994706794584,0.74562172692743833,0.73073350678693072]
[454,{"$f":"+正規乱数!L462","v":11.312687927124104},{"$f":"+正規乱数!M462","v":32.039270859367768},{"$f":"+正規乱数!N462","v":16.441019946101964},{"$f":"+正規乱数!O462","v":0.18627872790543501},24.661529919152947,12.330764959576472,21.357511406176446,16.991418422250685,2.7324004966135176,1.1547005383792515,13.062766839966661,1.2809559981364449,null,1.259537303941717,1.2381186097469892,1.2166999155522615,1.1952812213575335,1.1738625271628056,1.152443832968078,1.1310251387733501,1.1096064445786222,1.0881877503838944,1.0667690561891667,1.0453503619944386,1.023931667799711,1.0025129736049831,0.98109427941025518,0.95967558521552732,0.93825689102079957,0.91683819682607171,0.89541950263134396,0.87400080843661609,0.85258211424188834,0.83116342004716048]
[455,{"$f":"+正規乱数!L463","v":6.7588051939855838},{"$f":"+正規乱数!M463","v":39.803130573484431},{"$f":"+正規乱数!N463","v":18.302053040648509},{"$f":"+正規乱数!O463","v":0.16631469342882416},27.453079560972764,13.72653978048638,23.77506431191776,16.991418422250685,5.6525486490539443,1.1547005383792515,7.8043959962956349,0.98035957062390511,null,0.95748678511734153,0.93461399961077807,0.9117412141042146,0.88886842859765114,0.86599564309108779,0.84312285758452432,0.82025007207796086,0.79737728657139739,0.77450450106483404,0.75163171555827057,0.72875893005170722,0.70588614454514365,0.68301335903858018,0.66014057353201683,0.63726778802545325,0.61439500251888979,0.59152221701232632,0.56864943150576286,0.54577664599919939,0.52290386049263593,0.50003107498607247]
[456,{"$f":"+正規乱数!L464","v":8.8563009493024669},{"$f":"+正規乱数!M464","v":35.198866957387992},{"$f":"+正規乱数!N464","v":18.030264957504016},{"$f":"+正規乱数!O464","v":0.14779945429884855},27.045397436256025,13.52269871812801,23.422001235244249,16.991418422250685,4.5360867228663908,1.1547005383792515,10.226375474208234,1.0916801819510062,null,1.0742135631032019,1.0567469442553974,1.0392803254075931,1.0218137065597885,1.0043470877119842,0.98688046886417968,0.96941385001637537,0.95194723116857094,0.93448061232076651,0.9170139934729622,0.89954737462515766,0.88208075577735323,0.8646141369295488,0.84714751808174438,0.82968089923393995,0.81221428038613552,0.7947476615383311,0.77728104269052667,0.75981442384272224,0.74234780499491793,0.7248811861471135]
[457,{"$f":"+正規乱数!L465","v":8.8240076060753108},{"$f":"+正規乱数!M465","v":37.418452678607224},{"$f":"+正規乱数!N465","v":15.33793995159891},{"$f":"+正規乱数!O465","v":0.1626705232332023},23.006909927398365,11.503454963699181,19.92456845970738,16.991418422250685,2.2440597501669548,1.1547005383792515,10.189086333397771,1.0808184256642304,null,1.0563081003269612,1.0317977749896918,1.0072874496524222,0.98277712431515285,0.95826679897788336,0.93375647364061409,0.90924614830334471,0.88473582296607534,0.86022549762880585,0.83571517229153647,0.81120484695426698,0.7866945216169976,0.76218419627972811,0.73767387094245884,0.71316354560518924,0.68865322026791997,0.6641428949306506,0.63963256959338111,0.61512224425611162,0.59061191891884235,0.56610159358157286]
[458,{"$f":"+正規乱数!L466","v":10.078934947234407},{"$f":"+正規乱数!M466","v":36.50956687759767},{"$f":"+正規乱数!N466","v":15.397204244064572},{"$f":"+正規乱数!O466","v":0.12568764787542638},23.095806366096859,11.547903183048428,20.001555033926241,16.991418422250685,2.2281618343358098,1.1547005383792515,11.638151609861023,1.2007646084660357,null,1.1825122764075127,1.1642599443489896,1.1460076122904665,1.1277552802319435,1.1095029481734204,{"$f":"+(($H468-$I468-T$10*$G$6*$E468*$K468)*TAN($C468*PI()/180)+$L468)/$G468","v":1.0912506161148974},1.0729982840563743,1.0547459519978513,1.0364936199393282,1.0182412878808051,0.9999889558222822,0.98173662376375903,0.96348429170523597,0.94523195964671292,0.92697962758818975,0.90872729552966669,0.89047496347114374,0.87222263141262069,0.85397029935409752,0.83571796729557446,0.8174656352370514]
[459,{"$f":"+正規乱数!L467","v":12.258953801058704},{"$f":"+正規乱数!M467","v":35.341230065837372},{"$f":"+正規乱数!N467","v":17.975578578244725},{"$f":"+正規乱数!O467","v":0.16219335314322531},26.96336786736709,13.481683933683543,23.350961544724946,16.991418422250685,4.5096815620584145,1.1547005383792515,14.155420554048856,1.3844785419923047,null,1.3651509725429061,1.3458234030935075,1.3264958336441086,1.3071682641947098,1.2878406947453114,1.2685131252959125,1.2491855558465137,1.2298579863971153,1.2105304169477165,1.1912028474983178,1.171875278048919,1.1525477085995204,1.1332201391501218,1.1138925697007231,1.0945650002513243,1.0752374308019257,1.0559098613525268,1.0365822919031282,1.0172547224537294,0.99792715300433077,0.97859958355493204]
[460,{"$f":"+正規乱数!L468","v":11.979997000390632},{"$f":"+正規乱数!M468","v":33.791119965379991},{"$f":"+正規乱数!N468","v":18.339429897661834},{"$f":"+正規乱数!O468","v":0.20716767457502466},27.509144846492752,13.754572423246374,23.823618273448496,16.991418422250685,4.572225871035962,1.1547005383792515,13.833308986132881,1.3381393685536858,null,1.3153038760192237,1.2924683834847617,1.2696328909502996,1.2467973984158378,1.2239619058813755,1.2011264133469137,1.1782909208124519,1.1554554282779899,1.1326199357435278,1.1097844432090658,1.0869489506746037,1.0641134581401417,1.0412779656056799,1.0184424730712178,0.99560698053675578,0.97277148800229374,0.94993599546783192,0.92710050293336987,0.90426501039890783,0.8814295178644459,0.85859402532998375]
[461,{"$f":"+正規乱数!L469","v":9.0298413698062738},{"$f":"+正規乱数!M469","v":33.968861880251453},{"$f":"+正規乱数!N469","v":17.211853323866112},{"$f":"+正規乱数!O469","v":0.18354818583350974},25.81777998579917,12.908889992899583,22.358853337019525,16.991418422250685,3.6161379939238962,1.1547005383792515,10.426762691194542,1.0878472659417353,null,1.0661448653303651,1.0444424647189949,1.0227400641076247,1.0010376634962546,0.97933526288488448,0.9576328622735143,0.93593046166214411,0.91422806105077403,0.89252566043940385,0.87082325982803366,0.84912085921666347,0.82741845860529339,0.8057160579939231,0.78401365738255291,0.76231125677118272,0.74060885615981265,0.71890645554844246,0.69720405493707227,0.67550165432570197,0.65379925371433201,0.63209685310296171]
[462,{"$f":"+正規乱数!L470","v":11.402266690229011},{"$f":"+正規乱数!M470","v":35.681357352604969},{"$f":"+正規乱数!N470","v":18.09100560737248},{"$f":"+正規乱数!O470","v":0.14447664634665025},27.13650841105872,13.568254205529358,23.500905653986944,16.991418422250685,4.6743301736661227,1.1547005383792515,13.166203485951245,1.3148731877640503,null,1.2975505247054686,1.2802278616468867,1.2629051985883053,1.2455825355297239,1.228259872471142,1.2109372094125603,1.1936145463539789,1.1762918832953972,1.1589692202368156,1.1416465571782339,1.1243238941196523,1.1070012310610706,1.089678568002489,1.0723559049439073,1.0550332418853257,1.0377105788267442,1.0203879157681623,1.0030652527095807,0.98574258965099915,0.9684199265924176,0.95109726353383595]
[463,{"$f":"+正規乱数!L471","v":12.752078056691733},{"$f":"+正規乱数!M471","v":38.179128442877754},{"$f":"+正規乱数!N471","v":17.378102722094081},{"$f":"+正規乱数!O471","v":0.1688142320836174},26.067154083141119,13.033577041570558,22.574817640363467,16.991418422250685,4.3904094812156433,1.1547005383792515,14.724831397516184,1.4666150986612361,null,1.4435412440587916,1.4204673894563467,1.3973935348539019,1.374319680251457,1.3512458256490125,1.3281719710465676,1.3050981164441229,1.2820242618416779,1.2589504072392335,1.2358765526367885,1.2128026980343438,1.1897288434318991,1.1666549888294542,1.1435811342270097,1.1205072796245648,1.0974334250221198,1.0743595704196753,1.0512857158172304,1.0282118612147855,1.005138006612341,0.98206415200989605]
[464,{"$f":"+正規乱数!L472","v":8.1289929471411853},{"$f":"+正規乱数!M472","v":36.355647840416168},{"$f":"+正規乱数!N472","v":16.597710563079012},{"$f":"+正規乱数!O472","v":0.1523120746807263},24.896565844618518,12.448282922309257,21.561058488431616,16.991418422250685,3.3635722762894575,1.1547005383792515,9.3865525325450641,1.0242476724227014,null,1.0038438269667906,0.98343998151087941,0.96303613605496852,0.94263229059905751,0.9222284451431465,0.9018245996872355,0.88142075423132449,0.86101690877541348,0.84061306331950247,0.82020921786359147,0.79980537240768057,0.77940152695176956,0.75899768149585845,0.73859383603994744,0.71818999058403643,0.69778614512812542,0.67738229967221442,0.65697845421630341,0.6365746087603924,0.61617076330448151,0.5957669178485705]
[465,{"$f":"+正規乱数!L473","v":11.141511022461787},{"$f":"+正規乱数!M473","v":34.002778631097868},{"$f":"+正規乱数!N473","v":18.894687451236894},{"$f":"+正規乱数!O473","v":0.15017885238155221},28.342031176855343,14.17101558842767,24.5449189940073,16.991418422250685,5.0954334616063228,1.1547005383792515,12.86510877599499,1.2674139073185584,null,1.2512178596925905,1.2350218120666225,1.2188257644406542,1.2026297168146862,1.1864336691887183,1.1702376215627504,1.1540415739367824,1.1378455263108145,1.1216494786848463,1.1054534310588782,1.0892573834329102,1.0730613358069421,1.0568652881809741,1.0406692405550062,1.024473192929038,1.0082771453030701,0.99208109767710206,0.97588505005113402,0.95968900242516597,0.94349295479919804,0.92729690717322999]
[466,{"$f":"+正規乱数!L474","v":13.451008500997618},{"$f":"+正規乱数!M474","v":35.711680698228143},{"$f":"+正規乱数!N474","v":19.544181539545132},{"$f":"+正規乱数!O474","v":0.17138697683466569},29.316272309317696,14.658136154658846,25.388636564131417,16.991418422250685,6.0366095888926425,1.1547005383792515,15.531886757845838,1.4714351210254852,null,1.4523925715792847,1.4333500221330839,1.4143074726868834,1.3952649232406829,1.3762223737944823,1.3571798243482815,1.3381372749020812,1.3190947254558807,1.3000521760096799,1.2810096265634796,1.2619670771172788,1.2429245276710783,1.2238819782248775,1.2048394287786772,1.1857968793324765,1.1667543298862759,1.1477117804400756,1.1286692309938748,1.1096266815476743,1.0905841321014735,1.071541582655273]
[467,{"$f":"+正規乱数!L475","v":10.632437296933507},{"$f":"+正規乱数!M475","v":39.221775692898078},{"$f":"+正規乱数!N475","v":16.889622200675593},{"$f":"+正規乱数!O475","v":0.13867189329598906},25.334433301013391,12.667216650506694,21.940262829160051,16.991418422250685,4.0393119109908824,1.1547005383792515,12.277281071052753,1.2880961486824312,null,1.2678529466998618,1.2476097447172927,1.2273665427347236,1.2071233407521542,1.1868801387695851,1.1666369367870157,1.1463937348044468,1.1261505328218777,1.1059073308393084,1.0856641288567392,1.0654209268741701,1.0451777248916008,1.0249345229090316,1.0046913209264625,0.98444811894389328,0.96420491696132404,0.94396171497875492,0.92371851299618557,0.90347531101361644,0.88323210903104721,0.86298890704847808]
[468,{"$f":"+正規乱数!L476","v":11.520321026573733},{"$f":"+正規乱数!M476","v":37.439052520072423},{"$f":"+正規乱数!N476","v":18.477528516673232},{"$f":"+正規乱数!O476","v":0.14782785035946325},27.716292775009848,13.858146387504922,24.003013641885623,16.991418422250685,5.3683459472295141,1.1547005383792515,13.3025208916865,1.3472845730472611,null,1.3287815305190951,1.3102784879909288,1.2917754454627626,1.2732724029345965,1.2547693604064305,1.2362663178782642,1.2177632753500982,1.1992602328219319,1.1807571902937659,1.1622541477655997,1.1437511052374334,1.1252480627092674,1.1067450201811013,1.0882419776529351,1.0697389351247688,1.0512358925966028,1.0327328500684365,1.0142298075402703,0.99572676501210422,0.97722372248393807,0.95872067995577182]
[469,{"$f":"+正規乱数!L477","v":9.0420019305375767},{"$f":"+正規乱数!M477","v":36.554289063498395},{"$f":"+正規乱数!N477","v":18.460085388827878},{"$f":"+正規乱数!O477","v":0.18857276899012809},27.690128083241817,13.845064041620907,23.98035435413232,16.991418422250685,5.1817958382812268,1.1547005383792515,10.440804497217972,1.1283877263792119,null,1.1055095386535296,1.0826313509278471,1.0597531632021646,1.0368749754764823,1.0139967877507998,0.99111860002511754,0.96824041229943492,0.94536222457375263,0.92248403684807023,0.89960584912238784,0.87672766139670533,0.85384947367102293,0.83097128594534053,0.80809309821965802,0.78521491049397563,0.76233672276829323,0.73945853504261072,0.71658034731692832,0.69370215959124593,0.67082397186556342,0.64794578413988102]
[470,{"$f":"+正規乱数!L478","v":6.9559671943093679},{"$f":"+正規乱数!M478","v":35.695669788484494},{"$f":"+正規乱数!N478","v":19.304418543622166},{"$f":"+正規乱数!O478","v":0.11845995150952811},28.956627815433251,14.478313907716624,25.077175296096289,16.991418422250685,5.8092791512438948,1.1547005383792515,8.0320590642174388,0.95600484308357236,null,0.9426873186949829,0.92936979430639344,0.9160522699178042,0.90273474552921473,0.88941722114062538,0.87609969675203592,0.86278217236344656,0.84946464797485721,0.83614712358626775,0.82282959919767851,0.80951207480908904,0.79619455042049958,0.78287702603191012,0.76955950164332076,0.7562419772547313,0.74292445286614195,0.72960692847755249,0.71628940408896302,0.70297187970037378,0.68965435531178432,0.67633683092319496]
[471,{"$f":"+正規乱数!L479","v":12.1162710269853},{"$f":"+正規乱数!M479","v":34.729633088618868},{"$f":"+正規乱数!N479","v":18.594539353250511},{"$f":"+正規乱数!O479","v":0.1513895479509523},27.891809029875766,13.945904514937881,24.155015177376615,16.991418422250685,4.9657929006416159,1.1547005383792515,13.990664678008853,1.359284911089534,null,1.3422368478240345,1.3251887845585351,1.3081407212930356,1.2910926580275361,1.2740445947620367,1.2569965314965372,1.2399484682310378,1.2229004049655385,1.2058523417000389,1.1888042784345394,1.1717562151690399,1.1547081519035407,1.137660088638041,1.1206120253725416,1.1035639621070421,1.0865158988415424,1.0694678355760432,1.0524197723105435,1.0353717090450441,1.0183236457795448,1.0012755825140451]
[472,{"$f":"+正規乱数!L480","v":11.436708803931433},{"$f":"+正規乱数!M480","v":37.729778987087947},{"$f":"+正規乱数!N480","v":18.951034659612755},{"$f":"+正規乱数!O480","v":6.5907199493762308E-2},28.426551989419131,14.213275994709564,24.618116164836042,16.991418422250685,5.9009161949952373,1.1547005383792515,13.20597381318635,1.3442988101612545,null,1.3361706930564807,1.3280425759517072,1.3199144588469331,1.3117863417421591,1.3036582246373856,1.2955301075326118,1.287401990427838,1.279273873323064,1.2711457562182904,1.2630176391135164,1.2548895220087426,1.2467614049039688,1.238633287799195,1.2305051706944212,1.2223770535896474,1.2142489364848736,1.2061208193800999,1.1979927022753258,1.1898645851705523,1.1817364680657783,1.1736083509610047]
[473,{"$f":"+正規乱数!L481","v":8.7284142223991719},{"$f":"+正規乱数!M481","v":36.149170911901216},{"$f":"+正規乱数!N481","v":17.921319708992456},{"$f":"+正規乱数!O481","v":0.14902453488318809},26.881979563488684,13.44098978174434,23.280477205995318,16.991418422250685,4.5943329419387462,1.1547005383792515,10.078704601801439,1.0916634698784775,null,1.0733136542160016,1.0549638385535258,1.0366140228910499,1.0182642072285739,0.99991439156609807,0.98156457590362223,0.96321476024114638,0.94486494457867054,0.9265151289161947,0.90816531325371885,0.88981549759124301,0.87146568192876717,0.85311586626629121,0.83476605060381537,0.81641623494133952,0.79806641927886368,0.77971660361638795,0.76136678795391188,0.74301697229143604,0.7246671566289602,0.70631734096648424]
[474,{"$f":"+正規乱数!L482","v":11.03494963574604},{"$f":"+正規乱数!M482","v":29.429412247091669},{"$f":"+正規乱数!N482","v":16.214743476038691},{"$f":"+正規乱数!O482","v":0.17331227255083032},24.322115214058037,12.161057607029017,21.063569649146253,16.991418422250685,2.2972941921754559,1.1547005383792515,12.742062285383877,1.2366816245378756,null,1.2184670488274862,1.2002524731170972,1.1820378974067081,1.163823321696319,{"$f":"+(($H484-$I484-S$10*$G$6*$E484*$K484)*TAN($C484*PI()/180)+$L484)/$G484","v":1.1456087459859299},1.1273941702755408,1.1091795945651517,1.0909650188547624,1.0727504431443733,1.0545358674339842,1.0363212917235951,1.018106716013206,0.9998921403028167,0.98167756459242761,0.96346298888203852,0.94524841317164943,0.92703383746126033,0.90881926175087102,0.89060468604048193,0.87239011033009284,0.85417553461970375]
[475,{"$f":"+正規乱数!L483","v":7.6716218870168893},{"$f":"+正規乱数!M483","v":36.218369834990078},{"$f":"+正規乱数!N483","v":18.011954341780505},{"$f":"+正規乱数!O483","v":0.12674024605612291},{"$f":"+$G$3*$G$4*D485","v":27.017931512670756},13.508965756335376,{"$f":"+F485*COS($G$2*PI()/180)","v":23.398215047681003},16.991418422250685,{"$f":"+(H485-I485)*TAN(C485*PI()/180)","v":4.6922214497586943},1.1547005383792515,{"$f":"+K485*B485","v":8.8584259231804516},{"$f":"+(J485+L485)/G485","v":1.0030854779970273},null,0.98751871265354085,0.97195194731005419,0.95638518196656752,0.94081841662308097,0.92525165127959419,0.90968488593610763,0.89411812059262108,0.87855135524913441,0.86298458990564764,0.84741782456216119,0.83185105921867442,0.81628429387518775,0.80071752853170119,0.78515076318821453,0.76958399784472786,0.7540172325012412,0.73845046715775464,0.72288370181426798,0.70731693647078131,0.69175017112729476,0.67618340578380809]
[476,{"$f":"+正規乱数!L484","v":13.025515203407489},{"$f":"+正規乱数!M484","v":29.474844055501826},{"$f":"+正規乱数!N484","v":19.096381586257586},{"$f":"+正規乱数!O484","v":0.21634368036647039},28.644572379386378,14.322286189693187,24.806927361090668,16.991418422250685,4.417273501981775,1.1547005383792515,15.040569418041752,1.358571017385902,null,1.3392292006873217,1.3198873839887415,1.3005455672901614,1.2812037505915812,1.2618619338930011,1.2425201171944209,1.2231783004958405,1.2038364837972604,1.1844946670986805,1.1651528504001003,1.1458110337015199,1.1264692170029398,1.1071274003043594,1.0877855836057793,1.0684437669071991,1.0491019502086187,1.0297601335100388,1.0104183168114584,0.99107650011287829,0.97173468341429814,0.95239286671571788]
[477,{"$f":"+正規乱数!L485","v":9.8119722576167412},{"$f":"+正規乱数!M485","v":41.088528112034012},{"$f":"+正規乱数!N485","v":17.676397942412137},{"$f":"+正規乱数!O485","v":0.1120232117486103},26.514596913618206,13.257298456809101,22.96231449829784,16.991418422250685,5.2066397097796067,1.1547005383792515,11.32988964843233,1.2473528760091075,null,1.2306596846547957,1.2139664933004839,1.1972733019461723,1.1805801105918605,1.1638869192375487,1.1471937278832369,1.1305005365289251,1.1138073451746133,1.0971141538203018,1.08042096246599,1.0637277711116782,1.0470345797573664,1.0303413884030546,1.0136481970487428,0.99695500569443107,0.98026181434011916,0.96356862298580748,0.94687543163149568,0.93018224027718388,0.91348904892287219,0.89679585756856028]
[478,{"$f":"+正規乱数!L486","v":10.722281700269953},{"$f":"+正規乱数!M486","v":37.811165758192139},{"$f":"+正規乱数!N486","v":19.50132309861511},{"$f":"+正規乱数!O486","v":0.14005969021082088},29.251984647922665,14.625992323961331,25.332961816213427,16.991418422250685,6.4729683736648438,1.1547005383792515,12.38102445195571,1.2890744373448506,null,1.2722394318177404,1.2554044262906305,1.2385694207635205,1.2217344152364105,1.2048994097093004,1.1880644041821906,1.1712293986550806,1.1543943931279705,1.1375593876008607,1.1207243820737507,1.1038893765466407,1.0870543710195306,1.0702193654924208,1.0533843599653108,1.0365493544382007,1.0197143489110907,1.0028793433839809,0.98604433785687073,0.96920933232976081,0.95237432680265088,0.93553932127554085]
[479,{"$f":"+正規乱数!L487","v":10.199620143614506},{"$f":"+正規乱数!M487","v":35.514814302004204},{"$f":"+正規乱数!N487","v":17.358794726297724},{"$f":"+正規乱数!O487","v":0.14526080506032976},26.038192089446586,13.019096044723291,22.549735818079757,16.991418422250685,3.966878019906916,1.1547005383792515,11.777506871095529,1.2093301130060967,null,1.1912899070695677,1.1732497011330387,1.1552094951965097,1.1371692892599807,1.1191290833234517,1.1010888773869227,1.0830486714503937,1.0650084655138647,1.0469682595773357,1.0289280536408068,1.0108878477042778,0.99284764176774865,0.97480743583121965,0.95676722989469065,0.93872702395816154,0.92068681802163244,0.90264661208510344,0.88460640614857444,0.86656620021204545,0.84852599427551645,0.83048578833898745]
[480,{"$f":"+正規乱数!L488","v":10.830215646256638},{"$f":"+正規乱数!M488","v":34.27060795307488},{"$f":"+正規乱数!N488","v":17.790844512185611},{"$f":"+正規乱数!O488","v":0.15882564688919573},26.686266768278415,13.343133384139206,23.110984953497564,16.991418422250685,4.1698867928967758,1.1547005383792515,12.505655837495933,1.2497471283780084,null,1.2313718138912861,1.2129964994045641,1.1946211849178419,1.1762458704311196,1.1578705559443976,1.1394952414576753,1.1211199269709533,1.1027446124842311,1.0843692979975088,1.0659939835107868,1.0476186690240645,1.0292433545373423,1.0108680400506203,0.99249272556389789,0.97411741107717575,0.95574209659045362,0.93736678210373148,0.91899146761700923,0.90061615313028709,0.88224083864356495,0.86386552415684281]
[481,{"$f":"+正規乱数!L489","v":8.8196794914543535},{"$f":"+正規乱数!M489","v":36.818559229222522},{"$f":"+正規乱数!N489","v":17.481048944859868},{"$f":"+正規乱数!O489","v":0.10459232660806486},26.221573417289804,13.1107867086449,22.708548706571708,16.991418422250685,4.2798488860696713,1.1547005383792515,10.184088657114785,1.1032089732378398,null,1.0896792227084435,1.0761494721790472,1.0626197216496509,1.0490899711202548,1.0355602205908585,1.0220304700614624,1.0085007195320663,0.99497096900267001,0.9814412184732737,0.96791146794387761,0.9543817174144813,0.9408519668850851,0.92732221635568879,0.9137924658262927,0.90026271529689639,0.88673296476750019,0.87320321423810388,0.85967346370870779,0.84614371317931147,0.83261396264991538,0.81908421212051896]
[482,{"$f":"+正規乱数!L490","v":14.651154166253708},{"$f":"+正規乱数!M490","v":27.11117758731119},{"$f":"+正規乱数!N490","v":18.424365059395434},{"$f":"+正規乱数!O490","v":0.17806915016503333},27.636547589093151,13.818273794546574,23.933952285052253,16.991418422250685,3.5543832909749997,1.1547005383792515,16.917695603650568,1.4815221639844001,null,1.4665753195045612,1.4516284750247224,1.4366816305448835,1.4217347860650447,1.4067879415852056,1.3918410971053667,1.3768942526255279,1.3619474081456893,1.3470005636658504,1.3320537191860116,1.3171068747061725,1.3021600302263336,1.2872131857464948,1.2722663412666559,1.2573194967868171,1.242372652306978,1.2274258078271392,1.2124789633473003,1.1975321188674615,1.1825852743876226,1.1676384299077838]
[483,{"$f":"+正規乱数!L491","v":10.012908287558338},{"$f":"+正規乱数!M491","v":33.104626042101884},{"$f":"+正規乱数!N491","v":17.422556960363945},{"$f":"+正規乱数!O491","v":0.17974324738237046},26.133835440545916,13.066917720272956,22.632565389834852,16.991418422250685,3.6780664975780204,1.1547005383792515,11.561910590385681,1.16630236863888,null,1.1459834794914678,1.1256645903440554,1.1053457011966434,1.0850268120492312,1.064707922901819,1.0443890337544068,1.0240701446069946,1.0037512554595824,0.98343236631217035,0.96311347716475815,0.94279458801734595,0.92247569886993375,0.90215680972252166,0.88183792057510935,0.86151903142769715,0.84120014228028506,0.82088125313287275,0.80056236398546055,0.78024347483804846,0.75992458569063615,0.73960569654322406]
[484,{"$f":"+正規乱数!L492","v":9.8882125695477949},{"$f":"+正規乱数!M492","v":36.459486078911461},{"$f":"+正規乱数!N492","v":18.384189807042123},{"$f":"+正規乱数!O492","v":0.14755703722112373},27.576284710563186,13.788142355281591,23.881763101340127,16.991418422250685,5.0910509054280153,1.1547005383792515,11.417924377665321,1.1973313632615288,null,1.1794175092170429,1.1615036551725568,1.143589801128071,1.1256759470835851,1.107762093039099,1.0898482389946129,1.0719343849501271,1.0540205309056412,1.0361066768611551,1.0181928228166692,1.0002789687721831,0.98236511472769716,0.96445126068321119,0.94653740663872521,0.92862355259423912,0.91070969854975325,0.89279584450526728,0.87488199046078119,0.85696813641629521,0.83905428237180923,0.82114042832732326]
[485,{"$f":"+正規乱数!L493","v":11.208195240765903},{"$f":"+正規乱数!M493","v":33.783370348559501},{"$f":"+正規乱数!N493","v":17.399017744858767},{"$f":"+正規乱数!O493","v":0.14148353953880188},26.098526617288151,13.049263308644074,22.601987051915891,16.991418422250685,3.7535905823406481,1.1547005383792515,12.942109078772152,1.2794361847272451,null,1.2630027511120794,1.2465693174969141,1.2301358838817487,1.2137024502665834,1.1972690166514179,1.1808355830362522,1.164402149421087,1.1479687158059215,1.1315352821907563,1.1151018485755906,1.0986684149604253,1.0822349813452599,1.0658015477300942,1.0493681141149289,1.0329346804997634,1.016501246884598,1.0000678132694325,0.98363437965426703,0.96720094603910156,0.9507675124239362,0.93433407880877073]
[486,{"$f":"+正規乱数!L494","v":8.0338806370111175},{"$f":"+正規乱数!M494","v":32.086461192798239},{"$f":"+正規乱数!N494","v":17.754500483791148},{"$f":"+正規乱数!O494","v":0.13834312167157287},26.631750725686722,13.315875362843359,23.063772675699362,16.991418422250685,3.8071814311547576,1.1547005383792515,9.2767262968313808,0.98257961804715421,null,0.96782246114557391,0.95306530424399349,0.93830814734241319,0.92355099044083289,0.90879383353925247,0.89403667663767228,0.87927951973609186,0.86452236283451156,0.84976520593293126,0.83500804903135095,0.82025089212977065,0.80549373522819023,0.79073657832660993,0.77597942142502963,0.76122226452344921,0.74646510762186891,0.7317079507202886,0.71695079381870819,0.70219363691712788,0.68743648001554758,0.67267932311396728]
[487,{"$f":"+正規乱数!L495","v":10.690390127401239},{"$f":"+正規乱数!M495","v":35.157218740874377},{"$f":"+正規乱数!N495","v":17.87141973071126},{"$f":"+正規乱数!O495","v":0.14036928756155284},26.80712959606689,13.403564798033443,23.215655232735607,16.991418422250685,4.3837595835746379,1.1547005383792515,12.344199235594445,1.2480231245364957,null,1.2313129583363216,1.2146027921361475,1.1978926259359735,1.1811824597357994,1.1644722935356253,1.147762127335451,1.131051961135277,1.1143417949351029,1.0976316287349288,1.0809214625347545,1.0642112963345804,1.0475011301344064,1.0307909639342321,1.014080797734058,0.99737063153388394,0.98066046533370987,0.96395029913353558,0.94724013293336151,0.93052996673318733,0.91381980053301326,0.89710963433283908]
[488,{"$f":"+正規乱数!L496","v":12.376698772885439},{"$f":"+正規乱数!M496","v":38.001646391160314},{"$f":"+正規乱数!N496","v":17.551851830837432},{"$f":"+正規乱数!O496","v":0.15210661286149851},26.327777746256146,13.163888873128071,22.800524353448438,16.991418422250685,4.5388397891122763,1.1547005383792515,14.291380736408637,1.4304451144342105,null,1.4099916058798834,1.3895380973255562,1.3690845887712293,1.3486310802169021,1.3281775716625752,1.3077240631082481,1.2872705545539211,1.266817045999594,1.2463635374452673,1.2259100288909399,1.205456520336613,1.1850030117822861,1.1645495032279589,1.1440959946736318,1.1236424861193046,1.1031889775649777,{"$f":"+(($H498-$I498-AE$10*$G$6*$E498*$K498)*TAN($C498*PI()/180)+$L498)/$G498","v":1.0827354690106505},1.0622819604563236,1.0418284519019965,1.0213749433476695,1.0009214347933424]
[489,{"$f":"+正規乱数!L497","v":13.773451215523643},{"$f":"+正規乱数!M497","v":37.972937322726274},{"$f":"+正規乱数!N497","v":20.630046300893124},{"$f":"+正規乱数!O497","v":0.1740972102585813},30.945069451339684,15.47253472566984,26.79921626673395,16.991418422250685,7.6552339513462044,1.1547005383792515,15.904211533905507,1.5226623111832616,null,1.5027653991774819,1.4828684871717022,1.4629715751659225,1.443074663160143,1.4231777511543633,1.4032808391485836,1.3833839271428039,1.3634870151370242,1.3435901031312445,1.3236931911254648,1.3037962791196853,1.2838993671139056,1.2640024551081259,1.2441055431023462,1.2242086310965665,1.2043117190907868,1.1844148070850069,1.1645178950792274,1.1446209830734477,1.124724071067668,1.1048271590618883]
[490,{"$f":"+正規乱数!L498","v":12.759545710740076},{"$f":"+正規乱数!M498","v":33.449566646181381},{"$f":"+正規乱数!N498","v":17.83806068671505},{"$f":"+正規乱数!O498","v":0.16344676123881857},26.757091030072573,13.378545515036285,23.172320563415582,16.991418422250685,4.0832303449042309,1.1547005383792515,14.733454301666235,1.406482089209339,null,1.3881973907474698,1.3699126922856006,1.3516279938237317,{"$f":"+(($H500-$I500-R$10*$G$6*$E500*$K500)*TAN($C500*PI()/180)+$L500)/$G500","v":1.3333432953618622},1.3150585968999933,1.2967738984381241,1.2784891999762551,1.2602045015143859,1.2419198030525167,1.2236351045906475,1.2053504061287783,1.1870657076669093,1.1687810092050401,1.1504963107431709,1.1322116122813017,1.1139269138194325,1.0956422153575633,1.0773575168956944,1.0590728184338249,1.040788119971956,1.0225034215100868]
[491,{"$f":"+正規乱数!L499","v":10.522240814974539},{"$f":"+正規乱数!M499","v":34.294274727245295},{"$f":"+正規乱数!N499","v":17.464209870515127},{"$f":"+正規乱数!O499","v":0.13011459191440242},26.19631480577269,13.098157402886343,22.686674107333566,16.991418422250685,3.8842061580765539,1.1547005383792515,12.150037134007235,1.2241602233723687,null,1.2088114661615632,1.1934627089507577,1.1781139517399524,1.1627651945291468,1.1474164373183418,1.1320676801075362,1.1167189228967307,1.1013701656859254,1.0860214084751201,1.0706726512643148,1.0553238940535092,1.0399751368427039,1.0246263796318986,1.0092776224210931,0.99392886521028767,0.97858010799948236,0.96323135078867694,0.94788259357787141,0.9325338363670661,0.9171850791562608,0.90183632194545538]
[492,{"$f":"+正規乱数!L500","v":12.980871572626736},{"$f":"+正規乱数!M500","v":33.592530077534782},{"$f":"+正規乱数!N500","v":18.155254528211469},{"$f":"+正規乱数!O500","v":0.15151158686791627},27.232881792317201,13.616440896158599,23.584367450405392,16.991418422250685,4.3791059859196606,1.1547005383792515,14.989019393544012,1.4224073329564197,null,1.4056634433821367,1.3889195538078538,1.3721756642335712,1.3554317746592883,1.3386878850850055,1.3219439955107226,1.3052001059364398,1.2884562163621569,1.271712326787874,1.2549684372135912,1.2382245476393086,1.2214806580650255,1.2047367684907426,1.18799287891646,1.1712489893421769,1.1545050997678943,1.1377612101936112,1.1210173206193284,1.1042734310450457,1.0875295414707626,1.0707856518964798]
[493,{"$f":"+正規乱数!L501","v":8.8738534842748003},{"$f":"+正規乱数!M501","v":30.265535063148334},{"$f":"+正規乱数!N501","v":17.658797895403531},{"$f":"+正規乱数!O501","v":0.12788628265255439},26.488196843105296,13.244098421552646,22.939451366571959,16.991418422250685,3.4709518644162736,1.1547005383792515,10.246643395790707,1.0357515342746015,null,1.0229858187836172,1.010220103292633,0.99745438780164863,0.98468867231066448,0.97192295681968022,0.95915724132869584,0.94639152583771169,0.93362581034672742,0.92086009485574316,0.9080943793647589,0.89532866387377452,0.88256294838279026,0.8697972328918061,0.85703151740082173,0.84426580190983758,0.83150008641885331,0.81873437092786894,0.80596865543688467,0.79320293994590052,0.78043722445491615,0.76767150896393188]
[494,{"$f":"+正規乱数!L502","v":8.9103822743131751},{"$f":"+正規乱数!M502","v":31.0349713636876},{"$f":"+正規乱数!N502","v":17.20921105545003},{"$f":"+正規乱数!O502","v":8.5882367219573638E-2},25.813816583175047,12.906908291587522,22.355420929661609,16.991418422250685,3.2274755284544216,1.1547005383792515,10.288823209314362,1.0472142849715955,null,1.0381439330099496,1.0290735810483034,1.0200032290866572,1.0109328771250112,1.001862525163365,0.99279217320171909,0.98372182124007301,0.97465146927842694,0.96558111731678087,0.9565107653551348,0.94744041339348872,0.93837006143184265,0.92929970947019647,0.92022935750855051,0.91115900554690432,0.90208865358525825,0.89301830162361229,0.8839479496619661,0.87487759770032003,0.86580724573867407,0.85673689377702789]
[495,{"$f":"+正規乱数!L503","v":13.850891721251049},{"$f":"+正規乱数!M503","v":30.490082194048533},{"$f":"+正規乱数!N503","v":19.149455563149573},{"$f":"+正規乱数!O503","v":0.16467195665767512},28.724183344724359,14.362091672362178,24.875872479493161,16.991418422250685,4.64246022553945,1.1547005383792515,15.993632127561304,1.4368444947898507,null,1.4215495861398733,1.4062546774898959,1.3909597688399187,1.3756648601899413,1.3603699515399641,1.3450750428899867,1.3297801342400091,1.3144852255900319,1.2991903169400545,1.2838954082900771,1.2686004996400999,1.2533055909901225,1.2380106823401451,1.2227157736901679,1.2074208650401905,1.1921259563902133,1.1768310477402357,1.1615361390902583,1.1462412304402811,1.1309463217903037,1.1156514131403263]
[496,{"$f":"+正規乱数!L504","v":12.456030726240533},{"$f":"+正規乱数!M504","v":33.151771393049692},{"$f":"+正規乱数!N504","v":19.588033173046078},{"$f":"+正規乱数!O504","v":0.15550112635451402},29.382049759569117,14.691024879784557,25.445601507045314,16.991418422250685,5.5221043874406162,1.1547005383792515,14.382985385658442,1.3549149862573076,null,1.3392517038018907,1.3235884213464739,1.3079251388910571,1.2922618564356401,1.2765985739802233,1.2609352915248064,1.2452720090693896,1.2296087266139728,1.2139454441585558,1.1982821617031389,1.1826188792477221,1.1669555967923051,1.1512923143368883,1.1356290318814712,1.1199657494260544,1.1043024669706376,1.0886391845152208,1.0729759020598038,1.0573126196043869,1.0416493371489701,1.0259860546935531]
[497,{"$f":"+正規乱数!L505","v":12.17551497054038},{"$f":"+正規乱数!M505","v":34.023800652613403},{"$f":"+正規乱数!N505","v":16.839129260462041},{"$f":"+正規乱数!O505","v":0.1355226510995611},25.25869389069306,12.629346945346528,21.874670575754994,16.991418422250685,3.2967473871939972,1.1547005383792515,14.059073691527614,1.3742453314354961,null,1.3578327880762764,1.3414202447170571,1.3250077013578374,1.3085951579986179,1.2921826146393982,1.2757700712801787,1.259357527920959,1.2429449845617395,1.2265324412025198,1.2101198978433003,1.1937073544840806,1.1772948111248611,1.1608822677656416,1.1444697244064219,1.1280571810472024,1.1116446376879827,1.0952320943287632,1.0788195509695437,1.062407007610324,1.0459944642511043,1.0295819208918848]
[498,{"$f":"+正規乱数!L506","v":9.7620347235651117},{"$f":"+正規乱数!M506","v":32.071181571874355},{"$f":"+正規乱数!N506","v":17.993357326746342},{"$f":"+正規乱数!O506","v":0.10095251564584405},26.990035990119512,13.495017995059754,23.374056816499785,16.991418422250685,3.9993493388497843,1.1547005383792515,11.272226750977582,1.1316454780140326,null,1.1210260494066464,1.1104066207992602,1.099787192191874,1.0891677635844881,1.0785483349771019,1.0679289063697157,1.0573094777623298,1.0466900491549433,1.0360706205475574,1.0254511919401712,1.0148317633327852,1.0042123347253991,0.99359290611801288,0.9829734775106268,0.97235404890324062,0.96173462029585444,0.95111519168846836,0.94049576308108207,0.92987633447369611,0.91925690586630993,0.90863747725892385]
[499,{"$f":"+正規乱数!L507","v":11.964521403998102},{"$f":"+正規乱数!M507","v":32.375067170474324},{"$f":"+正規乱数!N507","v":17.642571854561005},{"$f":"+正規乱数!O507","v":0.13312220470169353},26.463857781841508,13.231928890920752,22.918373121213254,16.991418422250685,3.757742912279701,1.1547005383792515,13.815439306646686,1.3280892274885514,null,1.3136384514229262,1.2991876753573011,1.2847368992916759,1.2702861232260509,1.2558353471604258,1.2413845710948006,1.2269337950291754,1.21248301896355,1.1980322428979251,1.1835814668322999,1.1691306907666748,1.1546799147010496,1.1402291386354244,1.1257783625697992,1.1113275865041741,1.0968768104385489,1.0824260343729237,1.0679752583072986,1.0535244822416734,1.0390737061760482,1.024622930110423]
[500,{"$f":"+正規乱数!L508","v":7.538921300102519},{"$f":"+正規乱数!M508","v":34.766116644032252},{"$f":"+正規乱数!N508","v":17.853457181869604},{"$f":"+正規乱数!O508","v":0.11133574297480495},26.780185772804408,13.390092886402202,23.19232119731522,16.991418422250685,4.3043034903913213,1.1547005383792515,8.7051964840271854,0.97157652936297456,null,0.95850075684418623,0.94542498432539779,0.93234921180660935,0.91927343928782101,0.90619766676903257,0.89312189425024413,0.8800461217314558,0.86697034921266736,0.85389457669387914,0.84081880417509069,0.82774303165630225,0.81466725913751392,0.80159148661872548,0.78851571409993704,0.77543994158114871,0.76236416906236015,0.74928839654357182,0.73621262402478338,0.72313685150599494,0.71006107898720661,0.69698530646841828]
[501,{"$f":"+正規乱数!L509","v":9.1032180310150217},{"$f":"+正規乱数!M509","v":36.800948190883986},{"$f":"+正規乱数!N509","v":18.391243714073795},{"$f":"+正規乱数!O509","v":0.17968345993607099},27.586865571110692,13.793432785555344,23.890926395368169,16.991418422250685,5.1616694946677866,1.1547005383792515,10.511490761396756,1.1362769877327181,null,1.1141981512981605,1.0921193148636033,1.0700404784290456,1.0479616419944882,1.0258828055599307,1.0038039691253733,0.98172513269081585,0.9596462962562583,0.93756745982170087,0.91548862338714343,0.89340978695258588,0.87133095051802845,0.8492521140834709,0.82717327764891335,0.80509444121435592,0.78301560477979837,0.76093676834524104,0.73885793191068339,0.71677909547612584,0.69470025904156851,0.67262142260701085]
[502,{"$f":"+正規乱数!L510","v":10.18748176129826},{"$f":"+正規乱数!M510","v":36.119036075631378},{"$f":"+正規乱数!N510","v":19.928235892400682},{"$f":"+正規乱数!O510","v":0.19609231763219764},29.892353838601025,14.946176919300511,25.887537803141768,16.991418422250685,6.4916902717577392,1.1547005383792515,11.763490674499906,1.2213946780386431,null,1.1997048544038655,1.178015030769088,1.1563252071343102,1.1346353834995326,1.1129455598647549,1.0912557362299775,1.0695659125951997,1.0478760889604222,1.0261862653256444,1.0044964416908668,0.98280661805608915,0.96111679442131159,0.93942697078653381,0.91773714715175625,0.89604732351697858,0.87435749988220091,0.85266767624742323,0.83097785261264567,0.80928802897786811,0.78759820534309044,0.76590838170831277]
[503,{"$f":"+正規乱数!L511","v":11.574309401447488},{"$f":"+正規乱数!M511","v":37.724762974406943},{"$f":"+正規乱数!N511","v":16.54689087914808},{"$f":"+正規乱数!O511","v":0.15417234561721541},24.82033631872212,12.410168159361058,21.495041782486894,16.991418422250685,3.4839058949533928,1.1547005383792515,13.364861297219447,1.3576582505422155,null,1.3358860895279279,1.3141139285136403,1.2923417674993527,1.2705696064850653,1.2487974454707778,1.2270252844564902,1.2052531234422026,1.1834809624279152,1.1617088014136279,1.1399366403993403,1.1181644793850527,1.0963923183707651,1.0746201573564775,1.05284799634219,1.0310758353279024,1.009303674313615,0.98753151329932742,0.96575935228503984,0.94398719127075226,0.9222150302564649,0.90044286924217731]
[504,{"$f":"+正規乱数!L512","v":8.1132812531874148},{"$f":"+正規乱数!M512","v":34.229204372260675},{"$f":"+正規乱数!N512","v":18.471920534930771},{"$f":"+正規乱数!O512","v":0.16841552945938867},27.707880802396154,13.853940401198075,23.995728659906227,16.991418422250685,4.7653452233107805,1.1547005383792515,9.3684102310777959,1.0201975066361844,null,1.0014602422024383,0.98272297776869222,0.96398571333494598,0.94524844890119986,0.92651118446745384,0.90777392003370772,0.8890366555999617,0.87029939116621546,0.85156212673246934,0.83282486229872332,0.81408759786497709,0.79535033343123107,0.77661306899748495,0.75787580456373871,0.73913854012999269,0.72040127569624646,0.70166401126250033,0.68292674682875432,0.66418948239500808,0.64545221796126206,0.62671495352751594]
[505,{"$f":"+正規乱数!L513","v":9.3912054278722277},{"$f":"+正規乱数!M513","v":30.847106231602993},{"$f":"+正規乱数!N513","v":16.650517958788484},{"$f":"+正規乱数!O513","v":0.13265419902301362},24.975776938182726,12.487888469091361,21.629657307719768,16.991418422250685,2.7701163146740257,1.1547005383792515,10.84402996359421,1.0901880099237322,null,1.0758150817858292,1.0614421536479264,1.0470692255100231,1.0326962973721203,1.0183233692342173,1.0039504410963143,0.98957751295841123,0.97520458482050809,0.96083165668260517,0.94645872854470214,0.93208580040679911,0.9177128722688962,0.90333994413099306,0.88896701599309003,0.87459408785518711,0.86022115971728397,0.84584823157938094,0.8314753034414778,0.81710237530357488,0.80272944716567185,0.78835651902776882]
[506,{"$f":"+正規乱数!L514","v":12.430348099552157},{"$f":"+正規乱数!M514","v":39.757161211046849},{"$f":"+正規乱数!N514","v":16.874032175136261},{"$f":"+正規乱数!O514","v":0.17825784355680491},25.311048262704389,12.655524131352193,21.920010791915985,16.991418422250685,4.1001092214923789,1.1547005383792515,14.353329642794382,1.4581331182144475,null,1.431586487463621,1.4050398567127944,{"$f":"+(($H516-$I516-Q$10*$G$6*$E516*$K516)*TAN($C516*PI()/180)+$L516)/$G516","v":1.378493225961968},1.3519465952111416,1.3253999644603152,1.2988533337094885,1.2723067029586621,1.2457600722078355,1.2192134414570091,1.1926668107061824,1.1661201799553558,1.1395735492045294,1.1130269184537029,1.0864802877028763,1.0599336569520499,1.0333870262012232,1.0068403954503966,0.98029376469957019,0.95374713394874355,0.92720050319791714,0.9006538724470905]
[507,{"$f":"+正規乱数!L515","v":13.992903613489199},{"$f":"+正規乱数!M515","v":36.4379138601251},{"$f":"+正規乱数!N515","v":17.321704814383704},{"$f":"+正規乱数!O515","v":0.15321576290951405},25.982557221575554,12.991278610787775,22.501554609167254,16.991418422250685,4.0680535906812461,1.1547005383792515,16.157613335984951,1.5568649963269272,null,1.5371387589366334,1.5174125215463397,1.4976862841560459,1.4779600467657521,1.4582338093754585,1.4385075719851645,1.418781334594871,1.399055097204577,1.3793288598142834,1.3596026224239897,1.3398763850336959,1.3201501476434023,1.3004239102531083,1.2806976728628146,1.260971435472521,1.241245198082227,1.2215189606919334,1.2017927233016397,1.1820664859113457,1.1623402485210521,1.1426140111307583]
[508,{"$f":"+正規乱数!L516","v":6.9392247388727117},{"$f":"+正規乱数!M516","v":33.801375189658664},{"$f":"+正規乱数!N516","v":17.468344566512386},{"$f":"+正規乱数!O516","v":0.17677512086813796},26.202516849768578,13.101258424884287,22.692045234989394,16.991418422250685,3.8164351735157012,1.1547005383792515,8.0127265419109417,0.90290270841147235,null,0.88243770697039303,0.86197270552931382,0.8415077040882345,0.82104270264715529,0.80057770120607608,0.78011269976499675,0.75964769832391754,0.73918269688283822,0.71871769544175901,0.69825269400067991,0.67778769255960047,0.65732269111852137,0.63685768967744194,0.61639268823636284,0.59592768679528352,0.5754626853542042,0.55499768391312498,0.53453268247204566,0.51406768103096645,0.49360267958988724,0.47313767814880786]
[509,{"$f":"+正規乱数!L517","v":9.5425587515511427},{"$f":"+正規乱数!M517","v":36.60367399277834},{"$f":"+正規乱数!N517","v":18.045331266362002},{"$f":"+正規乱数!O517","v":0.13720403458956831},27.067996899543004,13.5339984497715,23.441572944562665,16.991418422250685,4.7909492615682403,1.1547005383792515,11.018797727931743,1.1681504950790729,null,1.1510912195414853,1.1340319440038973,1.1169726684663097,1.0999133929287219,1.0828541173911344,1.0657948418535466,1.048735566315959,1.0316762907783712,1.0146170152407834,0.99755773970319572,0.98049846416560793,0.96343918862802014,0.94637991309043246,0.92932063755284477,0.91226136201525698,0.8952020864776693,0.87814281094008162,0.86108353540249383,0.84402425986490603,0.82696498432731835,0.80990570878973078]
[510,{"$f":"+正規乱数!L518","v":12.645978960650815},{"$f":"+正規乱数!M518","v":35.999733590759405},{"$f":"+正規乱数!N518","v":17.477003737325845},{"$f":"+正規乱数!O518","v":0.17427415102433957},26.215505605988767,13.107752802994382,22.703293827839637,16.991418422250685,4.1498798190166477,1.1547005383792515,14.602318714196183,1.4306188722851876,null,1.4087347114070037,1.3868505505288198,1.3649663896506357,1.343082228772452,1.3211980678942681,1.299313907016084,1.2774297461379001,1.2555455852597162,1.233661424381532,1.2117772635033481,1.1898931026251642,1.1680089417469801,1.1461247808687962,1.1242406199906123,1.1023564591124282,1.0804722982342443,1.0585881373560602,1.0367039764778765,1.0148198155996924,0.99293565472150846,0.97105149384332445]
[511,{"$f":"+正規乱数!L519","v":8.0363018707226654},{"$f":"+正規乱数!M519","v":36.511921465530904},{"$f":"+正規乱数!N519","v":18.165609013331544},{"$f":"+正規乱数!O519","v":0.17380064276766169},27.248413519997314,13.624206759998655,23.597818321141034,16.991418422250685,4.8906063287457204,1.1547005383792515,9.2795220967016476,1.0400699780226152,null,1.01867526968151,0.99728056134040455,0.9758858529992992,0.95449114465819374,0.93309643631708838,0.91170172797598314,0.89030701963487768,0.86891231129377222,0.84751760295266698,0.82612289461156163,0.80472818627045628,0.78333347792935082,0.76193876958824536,0.74054406124714012,0.71914935290603466,0.69775464456492919,0.67635993622382395,0.65496522788271849,0.63357051954161314,0.61217581120050779,0.59078110285940233]
[512,{"$f":"+正規乱数!L520","v":12.771929745431105},{"$f":"+正規乱数!M520","v":28.393000737888247},{"$f":"+正規乱数!N520","v":19.160922257567755},{"$f":"+正規乱数!O520","v":0.1143564290449664},28.741383386351632,14.370691693175814,24.89076815248853,16.991418422250685,4.2699154445818346,1.1547005383792515,14.747754153191273,1.3233649433035986,null,1.3136200022242543,1.3038750611449099,1.2941301200655653,1.2843851789862211,1.2746402379068766,1.264895296827532,1.2551503557481878,1.2454054146688434,1.2356604735894989,1.2259155325101543,1.2161705914308101,1.2064256503514657,1.196680709272121,1.1869357681927768,1.1771908271134324,1.1674458860340882,1.1577009449547435,1.1479560038753991,1.1382110627960544,1.1284661217167102,1.1187211806373658]
[513,{"$f":"+正規乱数!L521","v":7.2637841308471156},{"$f":"+正規乱数!M521","v":37.042748901378232},{"$f":"+正規乱数!N521","v":17.133898566571389},{"$f":"+正規乱数!O521","v":0.12233536537363636},25.700847849857084,12.85042392492854,22.257587136774905,16.991418422250685,3.974506501575144,1.1547005383792515,8.3874954465598268,0.96199176154445154,null,0.9457141236581319,0.92943648577181226,0.91315884788549262,0.89688120999917298,0.88060357211285334,0.86432593422653359,0.84804829634021395,0.83177065845389431,0.81549302056757467,0.79921538268125503,0.78293774479493539,0.76666010690861564,0.75038246902229599,0.73410483113597635,0.71782719324965671,0.70154955536333707,0.68527191747701743,0.66899427959069779,0.65271664170437815,0.63643900381805851,0.62016136593173876]
[514,{"$f":"+正規乱数!L522","v":10.366170377155075},{"$f":"+正規乱数!M522","v":41.711238323851319},{"$f":"+正規乱数!N522","v":19.059189195464285},{"$f":"+正規乱数!O522","v":0.17114922235751942},28.588783793196427,{"$f":"+F524*SIN($G$2*PI()/180)","v":14.294391896598212},24.758613028208952,{"$f":"+$G$5*$G$4*$G$6/COS($G$2*PI()/180)","v":16.991418422250685},6.923051331071961,{"$f":"+$G$4/COS($G$2*PI()/180)","v":1.1547005383792515},11.969822515432014,1.3216983263905135,null,1.297520849203371,1.2733433720162284,1.2491658948290858,1.2249884176419432,1.2008109404548004,1.1766334632676581,1.1524559860805152,1.1282785088933727,1.1041010317062301,1.0799235545190875,1.0557460773319449,1.0315686001448021,1.0073911229576595,0.98321364577051684,0.95903616858337426,0.93485869139623168,0.9106812142090891,0.8865037370219464,0.86232625983480371,0.83814878264766113,0.81397130546051855]
[515,{"$f":"+正規乱数!L523","v":6.4569513111621859},{"$f":"+正規乱数!M523","v":33.289466598235776},{"$f":"+正規乱数!N523","v":20.999453684423788},{"$f":"+正規乱数!O523","v":0.12287024710775774},31.499180526635683,15.74959026331784,27.279090534458597,16.991418422250685,6.7550304193788646,1.1547005383792515,7.45584515528759,0.90230128765729323,null,0.89069599656198084,0.87909070546666868,0.86748541437135618,0.85588012327604401,0.84427483218073163,0.83266954108541935,0.82106424999010696,0.80945895889479469,0.79785366779948241,0.78624837670417003,0.77464308560885775,0.76303779451354548,0.75143250341823309,0.73982721232292081,0.72822192122760854,0.71661663013229615,0.70501133903698399,0.69340604794167149,0.68180075684635932,0.67019546575104694,0.65859017465573466]
[516,{"$f":"+正規乱数!L524","v":10.156528612556237},{"$f":"+正規乱数!M524","v":35.908241264906273},{"$f":"+正規乱数!N524","v":16.380004685214217},{"$f":"+正規乱数!O524","v":0.16255190841043232},24.570007027821326,12.285003513910661,21.278250257255461,16.991418422250685,3.1040885338332447,1.1547005383792515,11.727749056982958,1.2073124418744927,null,1.1856062913044685,1.1639001407344445,1.1421939901644202,1.120487839594396,1.098781689024372,1.0770755384543478,1.0553693878843236,1.0336632373142995,1.0119570867442753,0.99025093617425131,0.96854478560422708,0.94683863503420285,0.92513248446417884,0.90342633389415461,0.88172018332413038,0.86001403275410637,0.83830788218408225,0.81660173161405802,0.79489558104403391,0.77318943047400979,0.75148327990398556]
[517,{"$f":"+正規乱数!L525","v":9.6390194420635389},{"$f":"+正規乱数!M525","v":37.340767973900611},{"$f":"+正規乱数!N525","v":17.437346295064106},{"$f":"+正規乱数!O525","v":0.16283999922120021},26.156019442596161,13.078009721298079,22.651777299167971,16.991418422250685,4.3184062445947662,1.1547005383792515,11.130180939198841,1.1812643906079183,null,1.1597431483997913,1.1382219061916641,1.1167006639835371,1.0951794217754098,1.0736581795672826,1.0521369373591556,1.0306156951510286,1.0090944529429016,0.98757321073477433,0.96605196852664721,0.94453072631852009,0.92300948411039285,0.90148824190226573,0.87996699969413872,0.8584457574860116,0.83692451527788436,0.81540327306975735,0.79388203086163023,0.77236078865350299,0.75083954644537598,0.72931830423724886]
[518,{"$f":"+正規乱数!L526","v":8.8939832255979692},{"$f":"+正規乱数!M526","v":32.31793612896589},{"$f":"+正規乱数!N526","v":18.874027795794646},{"$f":"+正規乱数!O526","v":0.11377185609816984},28.311041693691969,14.155520846845983,24.518081314337667,16.991418422250685,4.7614572297184248,1.1547005383792515,10.269887218934006,1.0618715207502656,null,1.0503525206120141,1.0388335204737629,1.0273145203355116,1.0157955201972604,1.0042765200590091,0.99275751992075789,0.98123851978250665,0.9697195196442554,0.95820051950600416,0.9466815193677528,0.93516251922950155,0.92364351909125031,0.91212451895299895,0.90060551881474771,0.88908651867649646,0.87756751853824511,0.86604851839999386,0.85452951826174262,0.84301051812349137,0.83149151798524013,0.81997251784698888]
[519,{"$f":"+正規乱数!L527","v":7.9846297945063771},{"$f":"+正規乱数!M527","v":34.077764037535459},{"$f":"+正規乱数!N527","v":18.917711952369384},{"$f":"+正規乱数!O527","v":0.2606796776336473},28.376567928554074,14.188283964277035,24.574828698342596,16.991418422250685,5.1300637374152425,1.1547005383792515,9.2198563224755254,1.0113922230497145,null,0.98323408829577541,0.95507595354183639,0.92691781878789736,0.89875968403395823,0.8706015492800192,0.84244341452608007,0.81428527977214116,0.78612714501820202,0.757969010264263,0.72981087551032386,0.70165274075638473,0.67349460600244571,0.64533647124850657,0.61717833649456744,0.58902020174062841,0.56086206698668928,0.53270393223275025,0.50454579747881101,0.47638766272487193,0.44822952797093296,0.42007139321699372]
[520,{"$f":"+正規乱数!L528","v":10.755301438397522},{"$f":"+正規乱数!M528","v":35.820547433267329},{"$f":"+正規乱数!N528","v":18.450294735487343},{"$f":"+正規乱数!O528","v":0.20343080762979185},27.675442103231013,13.837721051615505,23.967635922363495,16.991418422250685,5.0352108912467868,1.1547005383792515,12.419152361348756,1.2613611148461332,null,1.2373220164187773,1.2132829179914211,1.1892438195640651,1.1652047211367089,1.141165622709353,1.1171265242819968,1.0930874258546408,1.0690483274272848,1.0450092289999287,1.0209701305725727,0.9969310321452165,0.97289193371786042,0.94885283529050435,0.92481373686314827,0.90077463843579231,0.87673554000843601,0.85269644158107993,0.82865734315372386,0.80461824472636789,0.78057914629901182,0.75654004787165574]
[521,{"$f":"+正規乱数!L529","v":8.3907219814258038},{"$f":"+正規乱数!M529","v":36.91490810449536},{"$f":"+正規乱数!N529","v":15.309363263986715},{"$f":"+正規乱数!O529","v":0.15307835833166178},22.964044895980074,11.482022447990035,19.887446253565123,16.991418422250685,2.1755777567171162,1.1547005383792515,9.6887711893429955,1.0332978357952092,null,1.0106077752622049,0.98791771472920076,0.96522765419619672,0.94253759366319245,0.91984753313018841,0.89715747259718437,0.87446741206418022,0.85177735153117606,0.82908729099817191,0.80639723046516787,0.78370716993216361,0.76101710939915956,0.73832704886615541,0.71563698833315126,0.69294692780014711,0.67025686726714306,0.64756680673413891,0.62487674620113465,0.60218668566813049,0.57949662513512656,0.5568065646021223]
[522,{"$f":"+正規乱数!L530","v":9.7597814039221173},{"$f":"+正規乱数!M530","v":39.387521592458008},{"$f":"+正規乱数!N530","v":18.590161439418956},{"$f":"+正規乱数!O530","v":0.13622142687616698},27.885242159128435,13.942621079564216,24.149328100486056,16.991418422250685,5.8769630253879432,1.1547005383792515,11.269624841572675,1.229796590548708,null,1.2116231934533734,{"$f":"+(($H532-$I532-P$10*$G$6*$E532*$K532)*TAN($C532*PI()/180)+$L532)/$G532","v":1.1934497963580386},1.175276399262704,1.1571030021673696,1.1389296050720348,1.1207562079767002,1.1025828108813656,1.084409413786031,1.0662360166906963,1.0480626195953617,1.0298892225000271,1.0117158254046925,0.99354242830935779,0.97536903121402319,0.95719563411868847,0.93902223702335386,0.92084883992801925,0.90267544283268464,0.88450204573734992,0.86632864864201531,0.8481552515466807]
[523,{"$f":"+正規乱数!L531","v":9.6167620246955696},{"$f":"+正規乱数!M531","v":31.617752818392336},{"$f":"+正規乱数!N531","v":18.360490360629885},{"$f":"+正規乱数!O531","v":0.14051024939795018},27.54073554094483,13.770367770472413,23.850976617367188,16.991418422250685,4.2229587308254342,1.1547005383792515,11.104480287381115,1.1130740495597322,null,1.0988425216430331,1.084610993726334,1.0703794658096348,1.0561479378929357,1.0419164099762366,1.0276848820595375,1.0134533541428383,0.99922182622613931,0.98499029830944018,0.97075877039274117,0.95652724247604204,0.94229571455934291,0.92806418664264367,0.91383265872594466,0.89960113080924542,0.8853696028925464,0.87113807497584728,0.85690654705914804,0.84267501914244902,0.82844349122575001,0.81421196330905077]
[524,{"$f":"+正規乱数!L532","v":9.2458987937647912},{"$f":"+正規乱数!M532","v":36.374441873101965},{"$f":"+正規乱数!N532","v":19.588743846564039},{"$f":"+正規乱数!O532","v":0.17442808297886597},29.383115769846057,14.691557884923027,25.44652469902584,16.991418422250685,6.2278221993833096,1.1547005383792515,10.676244314960275,1.1505972781614335,null,1.1307850161431332,1.1109727541248327,1.0911604921065321,1.0713482300882315,1.0515359680699312,1.0317237060516304,1.0119114440333301,0.99209918201502945,0.972286919996729,0.95247465797842834,0.93266239596012801,0.91285013394182735,0.89303787192352679,0.87322560990522624,0.85341334788692569,0.83360108586862514,0.81378882385032458,0.79397656183202403,0.77416429981372348,0.75435203779542304,0.73453977577712248]
[525,{"$f":"+正規乱数!L533","v":11.730676175748567},{"$f":"+正規乱数!M533","v":32.653718623900673},{"$f":"+正規乱数!N533","v":19.597626198868291},{"$f":"+正規乱数!O533","v":0.1532388173926838},29.396439298302436,14.698219649151216,25.458063213137109,16.991418422250685,5.425836613925199,1.1547005383792515,13.545418095689529,1.2907178666846406,null,1.2755812852414918,1.2604447037983428,1.2453081223551938,1.2301715409120448,1.2150349594688956,1.1998983780257468,1.1847617965825976,1.1696252151394486,1.1544886336962998,1.1393520522531508,1.1242154708100018,1.1090788893668526,1.0939423079237036,1.0788057264805546,1.0636691450374056,1.0485325635942566,1.0333959821511074,1.0182594007079584,1.0031228192648094,0.98798623782166028,0.9728496563785114]
[526,{"$f":"+正規乱数!L534","v":10.836970318507881},{"$f":"+正規乱数!M534","v":39.154115377747466},{"$f":"+正規乱数!N534","v":17.176726362138893},{"$f":"+正規乱数!O534","v":0.14623241540433263},25.76508954320834,12.882544771604168,22.313222075199221,16.991418422250685,4.3332649859842949,1.1547005383792515,12.513455461181017,1.3077168172781373,null,1.2867772952185097,1.2658377731588819,1.2448982510992546,1.2239587290396268,1.2030192069799992,1.1820796849203716,1.1611401628607441,1.1402006408011163,1.1192611187414887,1.0983215966818611,1.0773820746222333,1.0564425525626058,1.0355030305029782,1.0145635084433506,0.99362398638372296,0.97268446432409528,0.9517449422644676,0.93080542020484003,0.90986589814521224,0.88892637608558478,0.8679868540259571]
[527,{"$f":"+正規乱数!L535","v":13.6401560251406},{"$f":"+正規乱数!M535","v":37.405971913694785},{"$f":"+正規乱数!N535","v":16.677382224707241},{"$f":"+正規乱数!O535","v":0.12468896573948247},25.01607333706086,12.508036668530428,21.664555012829261,16.991418422250685,3.5736545699410156,1.1547005383792515,15.750295505806841,1.5449227235131084,null,1.5276519676829869,1.5103812118528659,1.4931104560227444,1.4758397001926229,1.4585689443625014,1.4412981885323799,1.4240274327022588,1.4067566768721373,1.3894859210420158,1.3722151652118946,1.3549444093817733,1.3376736535516518,1.3204028977215303,1.303132141891409,1.2858613860612875,1.2685906302311662,1.2513198744010448,1.2340491185709235,1.216778362740802,1.1995076069106807,1.1822368510805592]
[528,{"$f":"+正規乱数!L536","v":9.929812321934957},{"$f":"+正規乱数!M536","v":33.368574862885701},{"$f":"+正規乱数!N536","v":16.624894699413694},{"$f":"+正規乱数!O536","v":0.10493359787028485},24.937342049120542,12.468671024560269,21.596371717400277,16.991418422250685,3.0327847443761065,1.1547005383792515,11.46595963414322,1.1628139318103994,null,1.1502571275150073,1.1377003232196155,1.1251435189242236,1.1125867146288317,1.1000299103334397,1.0874731060380478,1.074916301742656,1.0623594974472641,1.0498026931518722,1.0372458888564804,1.0246890845610883,1.0121322802656965,0.99957547597030461,0.98701867167491253,0.97446186737952079,0.96190506308412882,0.94934825878873697,0.936791454493345,0.92423465019795314,0.91167784590256118,0.89912104160716932]
[529,{"$f":"+正規乱数!L537","v":10.317500266596197},{"$f":"+正規乱数!M537","v":39.231941846174891},{"$f":"+正規乱数!N537","v":18.80295135769153},{"$f":"+正規乱数!O537","v":0.12683355055166512},28.204427036537297,14.102213518268647,24.425750312825951,16.991418422250685,6.070197692848847,1.1547005383792515,11.913623112566698,1.2752480865587867,null,1.258611044079045,1.241974001599303,1.2253369591195613,1.2086999166398196,1.1920628741600781,1.1754258316803363,1.1587887892005948,1.1421517467208528,1.1255147042411111,1.1088776617613694,1.0922406192816279,1.0756035768018861,1.0589665343221442,1.0423294918424026,1.0256924493626607,1.0090554068829192,0.99241836440317732,0.9757813219234357,0.95914427944369385,0.94250723696395222,0.92587019448421037]
[530,{"$f":"+正規乱数!L538","v":10.262424806001269},{"$f":"+正規乱数!M538","v":38.498213790525909},{"$f":"+正規乱数!N538","v":18.231178417906786},{"$f":"+正規乱数!O538","v":0.21092532549287735},27.346767626860178,13.673383813430087,23.682995476250802,16.991418422250685,5.3223801325398625,1.1547005383792515,11.85002744856625,1.2559003546904945,null,1.2281033179763707,1.2003062812622467,1.1725092445481231,1.1447122078339991,1.1169151711198753,1.0891181344057514,1.0613210976916274,1.0335240609775038,1.0057270242633798,0.97792998754925597,0.95013295083513216,0.92233591412100824,0.89453887740688443,0.86674184069276061,0.83894480397863669,0.81114776726451276,0.78335073055038895,0.75555369383626503,0.72775665712214122,0.6999596204080174,0.67216258369389348]
[531,{"$f":"+正規乱数!L539","v":11.67646739143699},{"$f":"+正規乱数!M539","v":34.599081502076046},{"$f":"+正規乱数!N539","v":17.042959865277084},{"$f":"+正規乱数!O539","v":0.11635583485650747},25.564439797915625,12.782219898957811,22.139454298512852,16.991418422250685,3.5512702694780138,1.1547005383792515,13.482823183260066,1.3326396813222516,null,1.3184133665395492,1.304187051756847,1.2899607369741448,1.2757344221914424,1.26150810740874,1.2472817926260378,1.2330554778433354,1.2188291630606329,1.2046028482779307,1.1903765334952283,1.1761502187125261,1.1619239039298237,1.1476975891471213,1.1334712743644191,1.1192449595817167,1.1050186447990145,1.090792330016312,1.0765660152336098,1.0623397004509074,1.0481133856682052,1.0338870708855028]
[532,{"$f":"+正規乱数!L540","v":9.6207241582564773},{"$f":"+正規乱数!M540","v":40.610672447600543},{"$f":"+正規乱数!N540","v":18.513744869097959},{"$f":"+正規乱数!O540","v":0.20539808592898143},27.770617303646937,13.885308651823467,24.050060063733959,16.991418422250685,6.0522686594007613,1.1547005383792515,11.109055365137026,1.2359339251910761,null,1.2071992501738869,1.1784645751566978,1.1497299001395085,1.1209952251223192,1.0922605501051299,1.0635258750879408,1.0347912000707515,1.0060565250535622,0.97732185003637317,0.94858717501918388,0.9198525000019947,0.8911178249848053,0.862383149967616,0.83364847495042682,0.80491379993323753,0.77617912491604835,0.74744444989885905,0.71870977488166976,0.68997509986448058,0.66124042484729129,0.6325057498301021]
[533,{"$f":"+正規乱数!L541","v":6.7714726930900486},{"$f":"+正規乱数!M541","v":33.078257315245054},{"$f":"+正規乱数!N541","v":17.634735897641409},{"$f":"+正規乱数!O541","v":0.17645739016181503},26.452103846462116,13.226051923231056,22.908193914580259,16.991418422250685,3.8538987311118174,1.1547005383792515,7.8190231643314787,0.88257039691037753,null,0.86288277739521646,0.84319515788005528,0.8235075383648941,0.80381991884973303,0.78413229933457185,0.76444467981941067,0.7447570603042496,0.7250694407890883,0.70538182127392712,0.68569420175876605,0.66600658224360487,0.64631896272844369,0.62663134321328251,0.60694372369812133,0.58725610418296015,0.56756848466779897,0.5478808651526379,0.5281932456374766,0.50850562612231542,0.4888180066071543,0.46913038709199312]
[534,{"$f":"+正規乱数!L542","v":11.135172365104479},{"$f":"+正規乱数!M542","v":33.987089618299144},{"$f":"+正規乱数!N542","v":17.296630490418934},{"$f":"+正規乱数!O542","v":0.12661681618194925},25.944945735628401,12.972472867814199,22.468982106862939,16.991418422250685,3.692867840053772,1.1547005383792515,12.857789524931905,1.2758290214697041,null,1.2609212296620766,1.2460134378544494,1.2311056460468217,1.2161978542391942,1.2012900624315668,1.1863822706239393,1.1714744788163118,1.1565666870086844,1.1416588952010569,1.1267511033934294,1.111843311585802,1.0969355197781743,1.0820277279705468,1.0671199361629193,1.0522121443552919,1.0373043525476644,1.0223965607400369,1.0074887689324095,0.99258097712478188,0.97767318531715453,0.96276539350952695]
[535,{"$f":"+正規乱数!L543","v":7.6008780543706171},{"$f":"+正規乱数!M543","v":36.349183850270151},{"$f":"+正規乱数!N543","v":18.455162245613195},{"$f":"+正規乱数!O543","v":0.19528910225530674},27.682743368419793,13.841371684209895,23.973959003496745,16.991418422250685,5.1384200801151811,1.1547005383792515,8.7767379815367885,1.0053308573113637,null,0.98180836219229517,0.95828586707322616,0.93476337195415748,0.9112408768350887,0.88771838171601991,0.86419588659695112,0.84067339147788234,0.81715089635881355,0.79362840123974476,0.77010590612067609,0.74658341100160719,0.7230609158825384,0.6995384207634695,0.67601592564440072,0.65249343052533193,0.62897093540626314,0.60544844028719436,0.58192594516812546,0.55840345004905667,0.534880954929988,0.51135845981091921]
[536,{"$f":"+正規乱数!L544","v":10.61984475869151},{"$f":"+正規乱数!M544","v":38.226834157721427},{"$f":"+正規乱数!N544","v":16.87107608193709},{"$f":"+正規乱数!O544","v":0.14939137311139733},25.306614122905636,12.653307061452816,21.916170714206331,16.991418422250685,3.8791340493490694,1.1547005383792515,12.262740460365158,1.2757040061794616,null,1.2546351848762771,1.2335663635730929,1.2124975422699087,1.1914287209667243,1.17035989966354,1.1492910783603558,1.1282222570571714,1.1071534357539872,1.086084614450803,1.0650157931476187,1.0439469718444343,1.0228781505412501,1.0018093292380656,0.98074050793488143,0.95967168663169711,0.93860286532851278,0.91753404402532845,0.89646522272214402,0.87539640141895991,0.85432758011577548,0.83325875881259115]
[537,{"$f":"+正規乱数!L545","v":4.2419004278609673},{"$f":"+正規乱数!M545","v":37.475025382839043},{"$f":"+正規乱数!N545","v":18.30252331027792},{"$f":"+正規乱数!O545","v":0.15114430885659408},27.45378496541688,13.726892482708438,23.775675210086305,16.991418422250685,5.2010465493760041,1.1547005383792515,4.8981247078022365,0.73572159685085436,null,0.71659769961884967,0.69747380238684498,0.67834990515484039,0.65922600792283559,0.64010211069083112,0.62097821345882642,0.60185431622682173,0.58273041899481715,0.56360652176281245,0.54448262453080776,0.52535872729880306,0.50623483006679848,0.48711093283479368,0.46798703560278915,0.4488631383707844,0.42973924113877976,0.41061534390677512,0.39149144667477043,0.37236754944276568,0.35324365221076109,0.3341197549787564]
[538,{"$f":"+正規乱数!L546","v":8.1756750186030125},{"$f":"+正規乱数!M546","v":35.020257736802613},{"$f":"+正規乱数!N546","v":17.512095515885687},{"$f":"+正規乱数!O546","v":0.13068597396745152},26.268143273828528,13.134071636914262,22.748879385384839,16.991418422250685,4.0344520020903909,1.1547005383792515,9.4404563455946953,1.0259505749772888,null,{"$f":"+(($H548-$I548-O$10*$G$6*$E548*$K548)*TAN($C548*PI()/180)+$L548)/$G548","v":1.0101544151067812},0.99435825523627352,0.97856209536576588,0.96276593549525824,0.94696977562475071,0.93117361575424318,0.91537745588373565,0.899581296013228,0.88378513614272036,0.86798897627221283,0.8521928164017053,0.83639665653119766,0.82060049666069002,0.8048043367901826,0.78900817691967495,0.77321201704916731,0.75741585717865967,0.74161969730815214,0.72582353743764449,0.71002737756713696,0.69423121769662932]
[539,{"$f":"+正規乱数!L547","v":9.7340676449507892},{"$f":"+正規乱数!M547","v":33.657473894309454},{"$f":"+正規乱数!N547","v":17.226118797923046},{"$f":"+正規乱数!O547","v":0.18899210880878897},{"$f":"+$G$3*$G$4*D549","v":25.839178196884568},12.919589098442282,{"$f":"+F549*COS($G$2*PI()/180)","v":22.377384731415024},16.991418422250685,{"$f":"+(H549-I549)*TAN(C549*PI()/180)","v":3.5862202585454788},1.1547005383792515,{"$f":"+K549*B549","v":11.239933150244729},{"$f":"+(J549+L549)/G549","v":1.1475715903826849},null,1.1255049271009379,1.1034382638191909,1.0813716005374436,1.0593049372556966,1.0372382739739496,1.0151716106922026,0.99310494741045552,0.97103828412870852,0.94897162084696152,0.9269049575652144,0.9048382942834674,0.88277163100172029,0.86070496771997307,0.83863830443822607,0.81657164115647896,0.79450497787473195,{"$f":"+(($H549-$I549-AE$10*$G$6*$E549*$K549)*TAN($C549*PI()/180)+$L549)/$G549","v":0.77243831459298506},0.75037165131123773,0.72830498802949073,0.70623832474774373,0.68417166146599662]
[540,{"$f":"+正規乱数!L548","v":13.338366853652342},{"$f":"+正規乱数!M548","v":32.34062623849956},{"$f":"+正規乱数!N548","v":16.941318062401169},{"$f":"+正規乱数!O548","v":0.14864620146280419},25.411977093601756,12.705988546800876,22.007417723447368,16.991418422250685,3.1759634066311739,1.1547005383792515,15.401819387012322,1.4621280922153062,null,1.4453465546286632,1.4285650170420201,1.4117834794553772,1.3950019418687343,1.3782204042820914,1.3614388666954484,1.3446573291088055,1.3278757915221626,1.3110942539355197,1.2943127163488763,1.2775311787622334,1.2607496411755905,1.2439681035889476,1.2271865660023045,1.2104050284156616,1.1936234908290184,1.1768419532423755,1.1600604156557326,1.1432788780690897,1.1264973404824468,1.1097158028958036]
[541,{"$f":"+正規乱数!L549","v":11.009732905271541},{"$f":"+正規乱数!M549","v":37.121688994066758},{"$f":"+正規乱数!N549","v":18.721251077878257},{"$f":"+正規乱数!O549","v":0.1770366564861576},28.081876616817386,14.040938308408691,24.319618536104063,16.991418422250685,5.5466362170213772,1.1547005383792515,12.712944513128809,1.3004530273603638,null,1.2788324243807079,1.2572118214010519,1.2355912184213962,1.2139706154417402,1.1923500124620847,1.1707294094824288,1.1491088065027728,1.1274882035231168,1.1058676005434611,1.0842469975638052,1.0626263945841494,1.0410057916044935,1.0193851886248375,0.99776458564518178,0.97614398266552582,0.95452337968587009,0.93290277670621424,0.9112821737265584,0.88966157074690244,0.86804096776724671,0.84642036478759075]
[542,{"$f":"+正規乱数!L550","v":11.556395751541226},{"$f":"+正規乱数!M550","v":31.853554845460085},{"$f":"+正規乱数!N550","v":17.813608076587162},{"$f":"+正規乱数!O550","v":0.15759946578387338},26.720412114880745,13.36020605744037,23.140555691076205,16.991418422250685,3.8205884891207558,1.1547005383792515,13.344176396028347,1.284767975235678,null,1.2681634665068937,1.2515589577781097,1.2349544490493258,1.2183499403205416,1.2017454315917575,1.1851409228629737,1.1685364141341894,1.1519319054054056,1.1353273966766213,1.1187228879478375,1.1021183792190534,1.0855138704902694,1.0689093617614853,1.052304853032701,1.035700344303917,1.0190958355751332,1.0024913268463491,0.98588681811756507,0.9692823093887809,0.95267780065999697,0.9360732919312128]
[543,{"$f":"+正規乱数!L551","v":11.863374843632606},{"$f":"+正規乱数!M551","v":34.34590191750015},{"$f":"+正規乱数!N551","v":19.650172153943117},{"$f":"+正規乱数!O551","v":0.16871584052886046},29.475258230914676,14.737629115457336,25.526322411078482,16.991418422250685,5.8321416757652047,1.1547005383792515,13.698645318937437,1.325232630139815,null,1.307510087344977,1.2897875445501394,1.2720650017553017,1.2543424589604637,1.2366199161656257,1.218897373370788,1.20117483057595,1.1834522877811122,1.1657297449862742,1.1480072021914367,1.1302846593965987,1.112562116601761,1.094839573806923,1.0771170310120852,1.0593944882172472,1.0416719454224093,1.0239494026275715,1.0062268598327337,0.98850431703789587,0.970781774243058,0.95305923144822002]
[544,{"$f":"+正規乱数!L552","v":13.239330688465298},{"$f":"+正規乱数!M552","v":33.901993639735473},{"$f":"+正規乱数!N552","v":16.793948910839635},{"$f":"+正規乱数!O552","v":0.14982432093981227},25.190923366259454,12.595461683129725,21.815979579967696,16.991418422250685,3.2422142368829459,1.1547005383792515,15.287462273751826,1.4711391274726588,null,1.4530290423880088,1.4349189573033587,1.4168088722187089,1.3986987871340588,1.3805887020494088,1.3624786169647587,1.3443685318801086,1.3262584467954583,1.3081483617108083,1.2900382766261584,1.2719281915415084,1.2538181064568583,1.2357080213722083,1.2175979362875582,1.1994878512029081,1.1813777661182578,1.163267681033608,1.1451575959489579,1.1270475108643079,1.1089374257796578,1.0908273406950078]
[545,{"$f":"+正規乱数!L553","v":11.559181714494585},{"$f":"+正規乱数!M553","v":37.57605731495871},{"$f":"+正規乱数!N553","v":19.585466374840877},{"$f":"+正規乱数!O553","v":0.16798843452373322},29.378199562261315,14.689099781130656,25.442267138367175,16.991418422250685,6.5024056621673472,1.1547005383792515,13.347393348950495,1.3513284889395689,null,1.3313930268726601,1.3114575648057512,1.2915221027388422,1.2715866406719332,1.2516511786050242,1.2317157165381152,1.2117802544712064,1.1918447924042974,1.1719093303373884,1.1519738682704794,1.1320384062035707,1.1121029441366617,1.0921674820697527,1.0722320200028437,1.0522965579359347,1.0323610958690257,1.0124256338021167,0.99249017173520782,0.97255470966829871,0.95261924760138994,0.93268378553448095]
[546,{"$f":"+正規乱数!L554","v":12.194988350779095},{"$f":"+正規乱数!M554","v":42.33343293341705},{"$f":"+正規乱数!N554","v":18.828955457067632},{"$f":"+正規乱数!O554","v":0.15740323770961581},28.243433185601447,14.121716592800722,24.459530628819309,16.991418422250685,6.8034293388997638,1.1547005383792515,14.081559614173321,1.4789270706452424,null,1.4559226349019845,1.4329181991587261,1.4099137634154684,1.38690932767221,1.3639048919289523,1.3409004561856939,1.3178960204424361,1.294891584699178,1.27188714895592,1.2488827132126619,1.2258782774694039,1.2028738417261458,1.1798694059828874,1.1568649702396294,1.1338605344963713,1.1108560987531133,1.0878516630098554,1.0648472272665972,1.041842791523339,1.0188383557800811,0.99583392003682292]
[547,{"$f":"+正規乱数!L555","v":10.310144543085816},{"$f":"+正規乱数!M555","v":41.73282705689298},{"$f":"+正規乱数!N555","v":17.031508304552819},{"$f":"+正規乱数!O555","v":0.14229627675921461},25.54726245682923,12.773631228414613,22.124578284762567,16.991418422250685,4.5787569271927344,1.1547005383792515,11.905129454669092,1.290462053201743,null,1.2679502474329363,1.2454384416641293,1.2229266358953224,1.2004148301265154,1.1779030243577087,1.1553912185889015,1.1328794128200947,1.1103676070512878,1.0878558012824808,1.0653439955136741,1.0428321897448671,1.0203203839760602,0.99780857820725311,0.97529677243844626,0.95278496666963919,0.93027316090083223,0.90776135513202538,0.88524954936321842,0.86273774359441147,0.84022593782560462,0.81771413205679755]
[548,{"$f":"+正規乱数!L556","v":10.003022453890875},{"$f":"+正規乱数!M556","v":36.289551288804809},{"$f":"+正規乱数!N556","v":16.221603998902371},{"$f":"+正規乱数!O556","v":0.19156813151440072},24.332405998353558,12.166202999176777,21.072481729771038,16.991418422250685,2.996693354354437,1.1547005383792515,11.550495412927534,1.1957049186394721,null,1.1695106939219935,1.1433164692045144,1.1171222444870357,1.0909280197695568,1.0647337950520781,1.0385395703345992,1.0123453456171203,0.98615112089964152,0.95995689618216273,0.93376267146468384,0.90756844674720505,0.88137422202972626,0.85517999731224725,0.82898577259476858,0.80279154787728957,0.77659732315981078,0.75040309844233199,0.7242088737248531,0.69801464900737431,0.67182042428989552,0.64562619957241663]
[549,{"$f":"+正規乱数!L557","v":12.334456531423264},{"$f":"+正規乱数!M557","v":36.657136873677786},{"$f":"+正規乱数!N557","v":17.651379882931515},{"$f":"+正規乱数!O557","v":8.6387749609787443E-2},26.477069824397272,13.238534912198634,22.929815085702426,16.991418422250685,4.4194375650291562,1.1547005383792515,14.242603597449918,1.4096757145900605,null,1.3986735431903015,1.3876713717905422,1.3766692003907832,1.365667028991024,1.3546648575912648,1.3436626861915055,1.3326605147917465,1.3216583433919871,1.3106561719922281,1.2996540005924688,1.2886518291927098,1.2776496577929506,1.2666474863931916,1.2556453149934323,1.2446431435936733,1.2336409721939141,1.2226388007941549,1.2116366293943959,1.2006344579946366,1.1896322865948774,1.1786301151951182]
[550,{"$f":"+正規乱数!L558","v":10.849979725057992},{"$f":"+正規乱数!M558","v":37.198667713085229},{"$f":"+正規乱数!N558","v":18.00764506817972},{"$f":"+正規乱数!O558","v":0.11333308624276639},27.01146760226958,13.505733801134788,23.392617137065798,16.991418422250685,4.8585396794475963,1.1547005383792515,12.528477429928426,1.2873804093425207,null,1.2729509072368785,1.2585214051312368,1.2440919030255948,1.2296624009199526,1.2152328988143106,1.2008033967086684,1.1863738946030267,1.1719443924973845,1.1575148903917425,1.1430853882861005,1.1286558861804585,1.1142263840748166,1.0997968819691744,1.0853673798635324,1.0709378777578904,1.0565083756522482,1.0420788735466062,1.0276493714409642,1.013219869335322,0.99879036722968018,0.98436086512403809]
[551,{"$f":"+正規乱数!L559","v":11.589005590333924},{"$f":"+正規乱数!M559","v":27.805651969108006},{"$f":"+正規乱数!N559","v":17.441904230491001},{"$f":"+正規乱数!O559","v":0.15179662868963867},26.1628563457365,13.081428172868248,22.657698230970716,16.991418422250685,2.9882048048185874,1.1547005383792515,13.381830994438737,1.251395152190635,null,1.2375311799666551,1.2236672077426753,1.2098032355186954,1.1959392632947157,1.1820752910707357,1.168211318846756,1.154347346622776,1.1404833743987961,1.1266194021748162,1.1127554299508362,1.0988914577268565,1.0850274855028765,1.0711635132788968,1.0572995410549169,1.0434355688309367,1.029571596606957,1.015707624382977,1.0018436521589971,0.98797967993501723,0.97411570771103739,0.96025173548705745]
[552,{"$f":"+正規乱数!L560","v":7.3269038815246113},{"$f":"+正規乱数!M560","v":36.000932127691115},{"$f":"+正規乱数!N560","v":18.656201038015503},{"$f":"+正規乱数!O560","v":0.14243386295838623},27.984301557023255,13.992150778511625,24.235116055546563,16.991418422250685,5.2630344446681994,1.1547005383792515,8.4603798566494959,0.98079376920332795,null,0.96403766522975154,0.94728156125617535,0.93052545728259894,0.91376935330902265,0.89701324933544635,0.88025714536187016,0.86350104138829376,0.84674493741471746,0.82998883344114116,0.81323272946756486,0.79647662549398857,0.77972052152041227,0.76296441754683597,0.74620831357325967,0.72945220959968327,0.71269610562610697,0.69594000165253067,0.67918389767895437,0.66242779370537797,0.64567168973180189,0.62891558575822559]
[553,{"$f":"+正規乱数!L561","v":12.285054706258764},{"$f":"+正規乱数!M561","v":42.084069375565385},{"$f":"+正規乱数!N561","v":19.300075317544575},{"$f":"+正規乱数!O561","v":0.11126511815236514},28.950112976316863,14.47505648815843,25.07153327991993,16.991418422250685,7.296864225622044,1.1547005383792515,14.185559283335552,1.4840994594067154,null,1.4683731843023662,1.4526469091980168,1.4369206340936673,1.4211943589893181,1.4054680838849687,1.3897418087806193,1.3740155336762696,1.3582892585719202,1.342562983467571,1.3268367083632215,1.3111104332588721,1.2953841581545229,1.2796578830501733,1.2639316079458238,1.2482053328414744,{"$f":"+(($H563-$I563-AD$10*$G$6*$E563*$K563)*TAN($C563*PI()/180)+$L563)/$G563","v":1.232479057737125},1.2167527826327758,1.2010265075284263,1.1853002324240767,1.1695739573197275,1.153847682215378]
[554,{"$f":"+正規乱数!L562","v":9.2311641895739633},{"$f":"+正規乱数!M562","v":35.615228704899259},{"$f":"+正規乱数!N562","v":16.762104160033449},{"$f":"+正規乱数!O562","v":0.18749491745165608},25.143156240050175,12.571578120025086,21.774612035204683,16.991418422250685,3.4263536103569798,1.1547005383792515,10.659230259568321,1.1204308429256449,null,1.0962271132700108,1.0720233836143764,1.0478196539587421,1.023615924303108,0.99941219464747377,0.97520846499183955,0.95100473533620533,0.926801005680571,0.90259727602493678,0.87839354636930267,0.85418981671366845,0.82998608705803412,0.8057823574023999,0.78157862774676568,0.75737489809113134,0.73317116843549712,0.7089674387798629,0.68476370912422868,0.66055997946859435,0.63635624981296013,0.61215252015732602]
[555,{"$f":"+正規乱数!L563","v":10.24674153136028},{"$f":"+正規乱数!M563","v":33.446146773722447},{"$f":"+正規乱数!N563","v":17.322869484362453},{"$f":"+正規乱数!O563","v":0.12567312882793821},25.984304226543678,12.992152113271837,22.503067559850187,16.991418422250685,3.6406355915980089,1.1547005383792515,11.831917962894751,1.1909153633359268,null,1.1764401374531894,1.161964911570452,1.1474896856877146,1.1330144598049772,1.1185392339222398,1.1040640080395026,1.0895887821567651,1.0751135562740277,1.0606383303912903,1.0461631045085529,1.0316878786258157,1.017212652743078,1.0027374268603408,0.98826220097760342,0.973786975094866,0.95931174921212858,0.94483652332939116,0.93036129744665375,0.91588607156391633,0.90141084568117891,0.88693561979844149]
[556,{"$f":"+正規乱数!L564","v":11.112626808683313},{"$f":"+正規乱数!M564","v":35.50236778867643},{"$f":"+正規乱数!N564","v":18.377478793634143},{"$f":"+正規乱数!O564","v":0.13331493351009496},27.566218190451217,13.783109095225607,23.873045239195456,16.991418422250685,4.9090457981027722,1.1547005383792515,12.831756158794324,1.2871407919888271,null,1.2715091016098492,1.2558774112308715,1.2402457208518936,1.2246140304729158,1.2089823400939379,1.19335064971496,1.1777189593359823,1.1620872689570043,1.1464555785780264,1.1308238881990484,1.1151921978200705,1.0995605074410928,1.0839288170621149,1.0682971266831371,1.052665436304159,1.0370337459251813,1.0214020555462033,1.0057703651672254,0.99013867478824757,0.97450698440926975,0.95887529403029181]
[557,{"$f":"+正規乱数!L565","v":9.9430207484864113},{"$f":"+正規乱数!M565","v":38.587790771387887},{"$f":"+正規乱数!N565","v":19.236601778372187},{"$f":"+正規乱数!O565","v":0.18663906114614892},28.854902667558278,14.427451333779137,24.989078733832834,16.991418422250685,6.3816585432049902,1.1547005383792515,11.481211411393327,1.2381168053414811,null,1.2147310229918957,1.1913452406423102,1.1679594582927249,1.1445736759431395,1.121187893593554,1.0978021112439686,1.0744163288943833,1.051030546544798,1.0276447641952124,1.0042589818456271,0.98087319949604168,0.95748741714645624,0.93410163479687081,0.91071585244728537,0.88733007009769993,0.86394428774811449,0.84055850539852917,0.81717272304894373,0.79378694069935829,0.77040115834977285,0.74701537600018741]
[558,{"$f":"+正規乱数!L566","v":11.746066976071003},{"$f":"+正規乱数!M566","v":32.712761014420614},{"$f":"+正規乱数!N566","v":18.4935102059369},{"$f":"+正規乱数!O566","v":0.12341839125428024},27.74026530890535,13.870132654452673,24.023774465232215,16.991418422250685,4.5169044484425429,1.1547005383792515,13.563189861107933,1.3035271370491395,null,1.2905789879813419,1.2776308389135442,1.2646826898457464,1.2517345407779488,1.2387863917101511,1.2258382426423535,1.2128900935745557,1.1999419445067581,1.1869937954389604,1.1740456463711628,1.1610974973033652,1.1481493482355674,1.1352011991677697,1.1222530500999721,1.1093049010321743,1.0963567519643767,1.083408602896579,1.0704604538287814,1.0575123047609836,1.0445641556931859,1.0316160066253883]
[559,{"$f":"+正規乱数!L567","v":12.30503364586761},{"$f":"+正規乱数!M567","v":37.873049420537846},{"$f":"+正規乱数!N567","v":17.236999213254624},{"$f":"+正規乱数!O567","v":0.10713940017868206},25.855498819881937,12.927749409940967,22.391518805536332,16.991418422250685,4.1997855028032376,1.1547005383792515,14.208628975658133,1.4239458002106671,null,1.4093435450247276,1.3947412898387881,1.3801390346528486,1.3655367794669093,1.3509345242809698,1.3363322690950303,1.3217300139090908,1.3071277587231513,1.2925255035372119,1.2779232483512724,1.2633209931653331,1.2487187379793936,1.2341164827934539,1.2195142276075144,1.2049119724215751,1.1903097172356354,1.1757074620496959,1.1611052068637564,1.1465029516778169,1.1319006964918776,1.1172984413059381]
[560,{"$f":"+正規乱数!L568","v":10.527235573986699},{"$f":"+正規乱数!M568","v":34.456434460393197},{"$f":"+正規乱数!N568","v":17.331706889629352},{"$f":"+正規乱数!O568","v":0.12536922470840695},25.997560334444028,12.998780167222012,22.514547686047198,16.991418422250685,3.7897615328422618,1.1547005383792515,12.155804584927649,1.2266971140860259,null,1.2117042919782728,1.1967114698705195,1.1817186477627664,1.166725825655013,1.1517330035472599,1.1367401814395068,1.1217473593317537,1.1067545372240004,1.0917617151162473,1.076768893008494,1.0617760709007409,1.0467832487929878,1.0317904266852345,1.0167976045774814,1.0018047824697283,0.98681196036197505,0.97181913825422195,0.95682631614646863,0.94183349403871552,0.92684067193096242,0.9118478498232091]
[561,{"$f":"+正規乱数!L569","v":11.725011029948378},{"$f":"+正規乱数!M569","v":36.751759631831526},{"$f":"+正規乱数!N569","v":20.034507562673102},{"$f":"+正規乱数!O569","v":0.11141354718057153},30.051761344009655,15.025880672004826,26.025588752379548,16.991418422250685,6.7465671283630249,1.1547005383792515,13.538876548784055,1.3500335933681082,null,1.3374888723136624,1.3249441512592166,1.312399430204771,1.2998547091503252,1.2873099880958798,1.2747652670414338,1.262220545986988,1.2496758249325426,1.2371311038780968,1.2245863828236512,1.2120416617692051,1.1994969407147595,1.1869522196603137,1.1744074986058681,1.1618627775514223,1.1493180564969765,1.1367733354425309,1.1242286143880853,1.1116838933336395,1.0991391722791937,1.0865944512247478]
[562,{"$f":"+正規乱数!L570","v":10.715157925580103},{"$f":"+正規乱数!M570","v":36.644702497728616},{"$f":"+正規乱数!N570","v":19.021209470887733},{"$f":"+正規乱数!O570","v":0.16266790102391529},28.5318142063316,14.265907103165798,24.709275918740907,16.991418422250685,5.7411349329059673,1.1547005383792515,12.372798625486048,1.2697358413593125,null,1.2505194497234178,1.2313030580875228,1.2120866664516283,1.1928702748157334,1.1736538831798387,1.1544374915439439,1.1352210999080492,1.1160047082721547,1.09678831663626,1.0775719250003652,1.0583555333644705,1.0391391417285758,1.0199227500926811,1.0007063584567863,0.98148996682089151,0.96227357518499679,0.94305718354910206,0.92384079191320734,0.9046244002773125,0.88540800864141789,0.86619161700552316]
[563,{"$f":"+正規乱数!L571","v":10.022511981377335},{"$f":"+正規乱数!M571","v":33.062118027678174},{"$f":"+正規乱数!N571","v":17.758820331495436},{"$f":"+正規乱数!O571","v":0.10134203031312852},26.638230497243153,13.319115248621575,23.069384322477951,16.991418422250685,3.9564523201983364,1.1547005383792515,11.572999980808907,1.1659522431577745,null,1.1547312764847517,1.1435103098117292,1.1322893431387064,1.1210683764656839,1.1098474097926612,1.0986264431196384,1.0874054764466159,1.0761845097735931,1.0649635431005704,1.0537425764275479,1.0425216097545251,1.0313006430815026,1.0200796764084799,1.0088587097354571,0.99763774306243447,0.98641677638941183,0.97519580971638919,0.96397484304336645,0.9527538763703437,0.94153290969732117,0.93031194302429843]
[564,{"$f":"+正規乱数!L572","v":14.393789299592591},{"$f":"+正規乱数!M572","v":36.816833489468614},{"$f":"+正規乱数!N572","v":17.97660850320462},{"$f":"+正規乱数!O572","v":0.13471447928793567},26.964912754806932,13.482456377403464,23.352299456493835,16.991418422250685,4.7614623290035176,1.1547005383792515,16.620516253557074,1.5859112007509768,null,1.5689663907378455,1.5520215807247144,1.5350767707115831,1.518131960698452,1.5011871506853212,1.4842423406721899,1.4672975306590588,1.4503527206459275,1.4334079106327964,1.4164631006196653,1.399518290606534,1.3825734805934029,1.3656286705802716,1.3486838605671405,1.3317390505540092,1.3147942405408781,1.2978494305277468,1.2809046205146157,1.2639598105014846,1.2470150004883536,1.2300701904752225]
[565,{"$f":"+正規乱数!L573","v":6.5287508909964318},{"$f":"+正規乱数!M573","v":34.149774507454261},{"$f":"+正規乱数!N573","v":18.629575753179068},{"$f":"+正規乱数!O573","v":0.15281390450350771},27.944363629768603,13.9721818148843,24.200528795969536,16.991418422250685,4.8900736434824941,1.1547005383792515,7.5387521687775978,0.88954080163914706,null,0.87273339373496894,0.85592598583079094,0.83911857792661282,0.82231117002243492,0.80550376211825692,0.7886963542140788,0.77188894630990079,0.75508153840572267,0.73827413050154467,0.72146672259736655,0.70465931469318865,0.68785190678901065,0.67104449888483242,0.65423709098065452,0.63742968307647641,0.6206222751722984,0.60381486726812028,0.58700745936394227,0.57020005145976416,0.55339264355558626,0.53658523565140814]
[566,{"$f":"+正規乱数!L574","v":8.8385870728166438},{"$f":"+正規乱数!M574","v":34.884493514952794},{"$f":"+正規乱数!N574","v":17.963680178665115},{"$f":"+正規乱数!O574","v":0.17557982092094038},26.945520267997672,13.472760133998834,23.335505070274461,16.991418422250685,4.4231440956240782,1.1547005383792515,10.205921251493271,1.0858254137695624,null,1.0652405319864038,1.0446556502032451,1.0240707684200867,1.0034858866369281,0.98290100485376952,0.96231612307061098,0.94173124128745234,0.9211463595042938,0.90056147772113526,0.87997659593797661,0.85939171415481819,0.83880683237165954,0.81822195058850078,0.79763706880534235,0.7770521870221837,0.75646730523902517,0.73588242345586652,0.71529754167270798,0.69471265988954933,0.6741277781063908,0.65354289632323215]
[567,{"$f":"+正規乱数!L575","v":4.4134402451533017},{"$f":"+正規乱数!M575","v":32.469711521105289},{"$f":"+正規乱数!N575","v":18.826737559672452},{"$f":"+正規乱数!O575","v":0.16065705769664346},28.240106339508678,14.120053169754337,24.45664949558849,16.991418422250685,4.7503305326675695,1.1547005383792515,5.0962018271831733,0.69734385851622505,null,0.68094126877881678,0.66453867904140862,0.64813608930400035,0.63173349956659219,0.61533090982918393,0.59892832009177577,0.58252573035436761,0.56612314061695923,0.54972055087955118,0.53331796114214292,0.51691537140473465,0.50051278166732638,0.48411019192991817,0.46770760219250995,0.45130501245510168,0.43490242271769347,0.41849983298028526,0.40209724324287699,0.38569465350546878,0.36929206376806062,0.35288947403065241]
[568,{"$f":"+正規乱数!L576","v":12.435914307358072},{"$f":"+正規乱数!M576","v":35.682527915691431},{"$f":"+正規乱数!N576","v":16.204509656346193},{"$f":"+正規乱数!O576","v":0.22599571464379439},24.306764484519292,12.153382242259644,21.050275527399073,16.991418422250685,2.9147082859558289,1.1547005383792515,14.359756945944602,1.4213710132339783,null,1.3911184099911382,1.3608658067482984,1.3306132035054583,1.3003606002626185,1.2701079970197784,1.2398553937769383,1.2096027905340985,1.1793501872912584,1.1490975840484186,1.1188449808055785,1.0885923775627384,1.0583397743198983,1.0280871710770585,0.99783456783421842,0.96758196459137835,0.93732936134853839,0.90707675810569843,0.87682415486285847,0.84657155162001829,0.81631894837717833,0.78606634513433826]
[569,{"$f":"+正規乱数!L577","v":10.65142102830108},{"$f":"+正規乱数!M577","v":31.689275897459641},{"$f":"+正規乱数!N577","v":18.475569875611583},{"$f":"+正規乱数!O577","v":0.13609251717711254},27.713354813417375,13.856677406708686,24.000469292511202,16.991418422250685,4.3270659511167304,1.1547005383792515,12.299201595883337,1.1998740433222823,null,1.1861374887961353,1.1724009342699881,1.1586643797438407,1.1449278252176935,1.1311912706915466,1.1174547161653994,1.1037181616392524,1.0899816071131052,1.076245052586958,1.062508498060811,1.0487719435346639,1.0350353890085167,1.0212988344823695,1.0075622799562223,{"$f":"+(($H579-$I579-AC$10*$G$6*$E579*$K579)*TAN($C579*PI()/180)+$L579)/$G579","v":0.99382572543007519},0.980089170903928,0.96635261637778092,0.95261606185163383,0.93887950732548653,0.92514295279933956,0.91140639827319236]
[570,{"$f":"+正規乱数!L578","v":8.4521223614883301},{"$f":"+正規乱数!M578","v":31.850167942717288},{"$f":"+正規乱数!N578","v":16.745839495921128},{"$f":"+正規乱数!O578","v":0.1247578009453154},25.118759243881691,12.559379621940844,21.753483616746742,16.991418422250685,2.9583812436630312,1.1547005383792515,9.7596702412578846,1.012633734129899,null,0.99865310554327424,0.98467247695664928,0.97069184837002453,0.95671121978339979,0.94273059119677494,0.92874996261014997,0.91476933402352523,0.90078870543690048,0.88680807685027563,0.87282744826365088,0.85884681967702592,0.84486619109040106,0.83088556250377632,0.81690493391715147,0.80292430533052661,0.78894367674390176,0.77496304815727701,0.76098241957065216,0.74700179098402719,0.73302116239740245,0.71904053381077759]
[571,{"$f":"+正規乱数!L579","v":10.477817453520837},{"$f":"+正規乱数!M579","v":39.135586238855289},{"$f":"+正規乱数!N579","v":17.763439016300939},{"$f":"+正規乱数!O579","v":0.1204601762639502},26.645158524451411,13.322579262225704,23.075384170038411,16.991418422250685,4.9505823945792864,1.1547005383792515,12.098741454620027,1.2797314629262722,null,1.2630630947153971,1.2463947265045217,1.2297263582936468,1.2130579900827716,1.1963896218718966,1.1797212536610213,1.1630528854501463,1.1463845172392713,1.1297161490283962,1.1130477808175212,1.0963794126066462,1.0797110443957709,1.0630426761848959,1.0463743079740206,1.0297059397631456,1.0130375715522704,0.99636920334139534,0.97970083513052031,0.96303246691964506,0.94636409870877014,0.929695730497895]
[572,{"$f":"+正規乱数!L580","v":12.363812895392604},{"$f":"+正規乱数!M580","v":37.125992966801469},{"$f":"+正規乱数!N580","v":18.855349991227346},{"$f":"+正規乱数!O580","v":0.14284585166820554},28.283024986841021,14.141512493420509,24.493818134474363,16.991418422250685,5.6793725057694813,1.1547005383792515,14.276501406730171,1.4111555550924513,null,1.3938318692870302,1.3765081834816089,1.3591844976761875,1.3418608118707664,1.3245371260653453,1.3072134402599243,1.2898897544545029,1.2725660686490818,1.2552423828436603,1.2379186970382392,1.2205950112328181,1.203271325427397,1.1859476396219757,1.1686239538165546,1.1513002680111333,1.133976582205712,1.1166528964002909,1.0993292105948698,1.0820055247894484,1.0646818389840274,1.047358153178606]
[573,{"$f":"+正規乱数!L581","v":9.5476900821418642},{"$f":"+正規乱数!M581","v":30.60909930508187},{"$f":"+正規乱数!N581","v":16.92625785749463},{"$f":"+正規乱数!O581","v":0.11525694926288971},25.389386786241943,12.69469339312097,21.98785394339447,16.991418422250685,2.9559548563197708,1.1547005383792515,11.02472287812745,1.1013009374470677,null,1.0891320524929888,1.07696316753891,1.0647942825848313,1.0526253976307525,1.0404565126766736,1.0282876277225945,1.0161187427685159,1.003949857814437,0.99178097286035816,0.97961208790627929,0.96744320295220054,0.95527431799812168,0.94310543304404271,0.93093654808996384,0.91876766313588498,0.90659877818180612,0.89442989322772737,0.88226100827364851,0.87009212331956964,0.85792323836549078,0.84575435341141181]
[574,{"$f":"+正規乱数!L582","v":12.204322013344038},{"$f":"+正規乱数!M582","v":34.211648668459674},{"$f":"+正規乱数!N582","v":16.203145344696246},{"$f":"+正規乱数!O582","v":0.15748620239089881},24.304718017044369,12.152359008522183,21.048503234577773,16.991418422250685,2.7583979491016226,1.1547005383792515,14.092337199362111,1.3866225591793893,null,1.3666610613684211,1.346699563557453,1.3267380657464849,1.306776567935517,1.2868150701245489,1.2668535723135808,1.2468920745026126,1.2269305766916445,1.2069690788806766,1.1870075810697083,1.1670460832587404,1.1470845854477723,1.1271230876368041,1.107161589825836,1.0872000920148679,1.0672385942038998,1.0472770963929319,1.0273155985819638,1.0073541007709954,0.98739260296002751,0.96743110514905939]
[575,{"$f":"+正規乱数!L583","v":9.9944136392293856},{"$f":"+正規乱数!M583","v":34.295007925159005},{"$f":"+正規乱数!N583","v":17.025293826305383},{"$f":"+正規乱数!O583","v":0.14731037134221681},25.537940739458072,12.768970369729034,22.116505440712245,16.991418422250685,3.4954430352524972,1.1547005383792515,11.540554810003105,1.1775419168409171,null,1.1597162082847114,1.1418904997285058,1.1240647911723001,1.1062390826160944,1.0884133740598885,1.0705876655036828,1.0527619569474771,1.0349362483912714,1.0171105398350657,0.99928483127886014,0.98145912272265434,0.96363341416644865,0.94580770561024285,0.92798199705403717,0.91015628849783148,0.89233057994162579,0.8745048713854201,0.85667916282921419,0.8388534542730085,0.82102774571680281,0.80320203716059713]
[576,{"$f":"+正規乱数!L584","v":8.4019186659357139},{"$f":"+正規乱数!M584","v":29.634972949760595},{"$f":"+正規乱数!N584","v":18.110506659940011},{"$f":"+正規乱数!O584","v":0.16308073099064208},27.165759989910015,13.582879994955006,23.526238264372971,16.991418422250685,3.7175722296138227,1.1547005383792515,9.7017000069746508,0.98795485505082126,null,0.97248077093437668,0.957006686817932,0.94153260270148731,0.92605851858504251,0.91058443446859783,0.89511035035215325,0.87963626623570845,0.86416218211926377,0.84868809800281908,0.8332140138863745,0.81773992976992971,0.80226584565348491,0.78679176153704034,0.77131767742059565,0.75584359330415074,0.74036950918770617,0.72489542507126148,0.70942134095481679,0.693947256838372,0.67847317272192742,0.66299908860548262]
[577,{"$f":"+正規乱数!L585","v":11.994513472826753},{"$f":"+正規乱数!M585","v":32.755278469774382},{"$f":"+正規乱数!N585","v":17.810571058602296},{"$f":"+正規乱数!O585","v":0.11261350835897919},26.715856587903446,13.357928293951721,23.136610488986239,16.991418422250685,3.9535207729404989,1.1547005383792515,13.850071164670236,1.3328108630192264,null,1.3205232276307382,1.3082355922422497,1.2959479568537613,1.2836603214652731,1.2713726860767847,1.2590850506882962,1.2467974152998078,1.2345097799113198,1.2222221445228314,1.209934509134343,1.1976468737458548,1.1853592383573666,1.1730716029688781,1.1607839675803897,1.1484963321919013,1.1362086968034131,1.1239210614149249,1.1116334260264364,1.099345790637948,1.0870581552494596,1.0747705198609714]
[578,{"$f":"+正規乱数!L586","v":9.2967622753646495},{"$f":"+正規乱数!M586","v":29.260459869761306},{"$f":"+正規乱数!N586","v":17.01140608657434},{"$f":"+正規乱数!O586","v":0.1691762832786716},25.51710912986151,{"$f":"+F588*SIN($G$2*PI()/180)","v":12.758554564930753},22.098464737599901,{"$f":"+$G$5*$G$4*$G$6/COS($G$2*PI()/180)","v":16.991418422250685},2.8613082321138577,{"$f":"+$G$4/COS($G$2*PI()/180)","v":1.1547005383792515},10.734976404547476,1.065660264841696,null,1.0488296018727241,1.0319989389037523,1.0151682759347807,0.99833761296580881,0.98150694999683696,0.96467628702786512,0.9478456240588935,0.93101496108992166,0.91418429812094981,0.89735363515197819,0.88052297218300635,0.86369230921403461,0.84686164624506277,0.83003098327609093,0.81320032030711931,0.79636965733814746,0.77953899436917562,0.76270833140020389,0.74587766843123204,0.72904700546226031,0.71221634249328858]
[579,{"$f":"+正規乱数!L587","v":10.0767858147395},{"$f":"+正規乱数!M587","v":34.309715956311614},{"$f":"+正規乱数!N587","v":17.703518966288229},{"$f":"+正規乱数!O587","v":0.10415726240776002},26.555278449432343,13.27763922471617,22.997545741777849,16.991418422250685,4.0985948729916943,1.1547005383792515,11.635670005412104,1.1850197623320453,null,1.1728920881099927,1.1607644138879398,1.1486367396658872,1.1365090654438346,1.1243813912217819,1.1122537169997293,1.1001260427776764,1.0879983685556238,1.0758706943335712,1.0637430201115183,1.0516153458894657,1.0394876716674133,1.0273599974453604,1.0152323232233076,1.0031046490012552,0.99097697477920232,0.97884930055714969,0.96672162633509695,0.95459395211304421,0.94246627789099158,0.93033860366893883]
[580,{"$f":"+正規乱数!L588","v":8.0701988244044305},{"$f":"+正規乱数!M588","v":30.87448698474655},{"$f":"+正規乱数!N588","v":17.276497769578469},{"$f":"+正規乱数!O588","v":0.17420070492255749},25.914746654367704,12.95737332718385,22.442828935320222,16.991418422250685,3.2593058498159833,1.1547005383792515,9.3186629273673987,0.97071902302880342,null,0.95250870475290128,0.93429838647699937,0.91608806820109734,0.89787774992519553,0.87966743164929351,0.8614571133733917,0.84324679509748968,0.82503647682158776,0.80682615854568585,0.78861584026978382,0.7704055219938819,0.75219520371797999,0.73398488544207796,0.71577456716617605,0.69756424889027391,0.6793539306143721,0.66114361233847019,0.64293329406256805,0.62472297578666613,0.60651265751076411,0.5883023392348623]
[581,{"$f":"+正規乱数!L589","v":8.6760595807410859},{"$f":"+正規乱数!M589","v":35.736581598291764},{"$f":"+正規乱数!N589","v":17.480411328128902},{"$f":"+正規乱数!O589","v":0.19027498815389393},26.220616992193353,13.110308496096675,22.707720418141363,16.991418422250685,4.1131164047262105,1.1547005383792515,10.018250668892195,1.0778821167957817,null,1.054223301179517,1.0305644855632525,1.006905669946988,0.98324685433072334,0.95958803871445875,0.93592922309819415,0.91227040748192967,0.88861159186566507,0.86495277624940048,0.84129396063313577,0.81763514501687129,0.7939763294006067,0.77031751378434199,0.74665869816807739,0.72299988255181269,0.69934106693554821,0.67568225131928361,0.65202343570301902,0.6283646200867542,0.60470580447048983,0.58104698885422512]
[582,{"$f":"+正規乱数!L590","v":13.454857532508484},{"$f":"+正規乱数!M590","v":35.872453182781285},{"$f":"+正規乱数!N590","v":17.03574924004873},{"$f":"+正規乱数!O590","v":0.11902873679954779},25.553623860073095,12.776811930036546,22.130087421575471,16.991418422250685,3.7160121363851699,1.1547005383792515,15.536331236603674,1.5068190311018983,null,1.4915565839397222,1.4762941367775464,1.4610316896153703,1.4457692424531945,1.4305067952910182,1.4152443481288426,1.3999819009666665,1.3847194538044907,1.3694570066423146,1.3541945594801386,1.3389321123179625,1.3236696651557867,1.3084072179936106,1.2931447708314345,1.2778823236692587,1.2626198765070826,1.2473574293449066,1.2320949821827305,1.2168325350205544,1.2015700878583786,1.1863076406962025]
[583,{"$f":"+正規乱数!L591","v":13.344059003346249},{"$f":"+正規乱数!M591","v":37.780078755456721},{"$f":"+正規乱数!N591","v":17.694474084572775},{"$f":"+正規乱数!O591","v":0.14714972692244593},26.541711126859163,13.27085556342958,22.985796095768137,16.991418422250685,4.6463786351994063,1.1547005383792515,15.408392115328411,1.5111889851165763,null,1.4917174852912047,1.4722459854658332,1.4527744856404614,1.4333029858150899,1.4138314859897183,1.3943599861643465,1.374888486338975,1.3554169865136034,1.3359454866882319,1.3164739868628601,1.2970024870374885,1.2775309872121168,1.2580594873867452,1.2385879875613737,1.2191164877360019,1.1996449879106303,1.1801734880852586,1.160701988259887,1.1412304884345155,1.1217589886091437,1.1022874887837721]
[584,{"$f":"+正規乱数!L592","v":7.8657002507823943},{"$f":"+正規乱数!M592","v":32.945033045743543},{"$f":"+正規乱数!N592","v":18.209390629160758},{"$f":"+正規乱数!O592","v":0.12153462880709902},27.314085943741137,13.657042971870567,23.654692308431279,16.991418422250685,4.3180979869797511,1.1547005383792515,9.0825283143082434,0.98122458345406727,null,0.96815936839758088,0.9550941533410946,0.94202893828460821,0.92896372322812182,0.91589850817163543,0.90283329311514904,0.88976807805866265,0.87670286300217637,0.86363764794569009,0.8505724328892037,0.8375072178327172,0.82444200277623092,0.81137678771974453,0.79831157266325814,0.78524635760677164,0.77218114255028525,0.75911592749379897,0.74605071243731258,0.73298549738082619,0.71992028232433991,0.70685506726785341]
[585,{"$f":"+正規乱数!L593","v":12.851422016515805},{"$f":"+正規乱数!M593","v":34.165878211430297},{"$f":"+正規乱数!N593","v":17.000530406621543},{"$f":"+正規乱数!O593","v":0.13383265738204619},25.500795609932315,12.750397804966155,22.084336814916075,16.991418422250685,3.4567117166297545,1.1547005383792515,14.839543921409765,1.4349556710233233,null,1.4188156839522157,1.4026756968811083,1.3865357098100004,1.3703957227388928,1.3542557356677851,1.3381157485966773,1.3219757615255698,1.3058357744544622,1.2896957873833546,1.2735558003122467,1.2574158132411393,1.2412758261700314,1.2251358390989238,{"$f":"+(($H595-$I595-AB$10*$G$6*$E595*$K595)*TAN($C595*PI()/180)+$L595)/$G595","v":1.2089958520278161},1.1928558649567083,1.1767158778856008,1.1605758908144932,1.1444359037433853,1.1282959166722777,1.11215592960117,1.0960159425300624]
[586,{"$f":"+正規乱数!L594","v":8.3147400455647933},{"$f":"+正規乱数!M594","v":33.213668888813572},{"$f":"+正規乱数!N594","v":17.37085855478276},{"$f":"+正規乱数!O594","v":0.17970657308284127},26.056287832174142,13.028143916087069,22.565407190982167,16.991418422250685,3.6494155385514939,1.1547005383792515,9.6010348070971894,1.0170635534112509,null,0.99660348817939437,0.97614342294753786,0.95568335771568114,0.93522329248382463,0.91476322725196813,0.89430316202011162,0.87384309678825511,0.8533830315563985,0.83292296632454199,0.81246290109268549,0.79200283586082898,0.77154277062897236,0.75108270539711575,0.73062264016525924,0.71016257493340273,0.68970250970154623,0.66924244446968961,0.64878237923783311,0.6283223140059766,0.6078622487741201,0.58740218354226337]
[587,{"$f":"+正規乱数!L595","v":7.8188574094255197},{"$f":"+正規乱数!M595","v":32.280591759863938},{"$f":"+正規乱数!N595","v":18.546347102786143},{"$f":"+正規乱数!O595","v":0.17354053670166678},27.819520654179215,13.909760327089606,24.092411607625088,16.991418422250685,4.4856955998756334,1.1547005383792515,9.0284388601742478,0.97155767908745105,null,0.95370265815221245,0.93584763721697395,0.91799261628173545,0.90013759534649684,0.88228257441125835,0.86442755347601985,0.84657253254078135,0.82871751160554274,0.81086249067030425,0.79300746973506575,0.77515244879982714,0.75729742786458865,0.73944240692934993,0.72158738599411154,0.70373236505887282,0.68587734412363432,0.66802232318839583,0.65016730225315722,0.63231228131791861,0.61445726038268011,0.59660223944744162]
[588,{"$f":"+正規乱数!L596","v":10.795289974080978},{"$f":"+正規乱数!M596","v":38.545081651496609},{"$f":"+正規乱数!N596","v":17.461707302745491},{"$f":"+正規乱数!O596","v":0.17260515591207573},26.192560954118235,13.096280477059116,22.683423176438769,16.991418422250685,4.5349418951474636,1.1547005383792515,12.465327145031441,1.2980990342989711,null,1.2743097902873617,1.2505205462757523,1.2267313022641428,1.2029420582525336,1.1791528142409244,1.155363570229315,1.1315743262177058,1.1077850822060964,1.0839958381944872,1.0602065941828778,1.0364173501712686,1.0126281061596594,0.98883886214804995,0.96504961813644052,0.94126037412483121,0.9174711301132219,0.89368188610161259,0.86989264209000339,0.84610339807839396,0.82231415406678465,0.79852491005517523]
[589,{"$f":"+正規乱数!L597","v":9.585922004046326},{"$f":"+正規乱数!M597","v":35.426958077121256},{"$f":"+正規乱数!N597","v":17.119884149490158},{"$f":"+正規乱数!O597","v":0.17726091101155578},25.679826224235235,12.839913112117616,22.239381874957537,16.991418422250685,3.7332510001701733,1.1547005383792515,11.068869298933805,1.1528209085102405,null,1.1305716443838689,1.1083223802574973,1.0860731161311257,1.0638238520047543,1.0415745878783829,1.0193253237520112,0.99707605962563972,0.97482679549926821,0.95257753137289669,0.93032826724652518,0.90807900312015366,0.88582973899378203,0.86358047486741052,0.841331210741039,0.81908194661466749,0.79683268248829586,0.77458341836192446,0.75233415423555283,0.73008489010918121,0.7078356259828098,0.68558636185643806]
[590,{"$f":"+正規乱数!L598","v":12.537620662580265},{"$f":"+正規乱数!M598","v":38.259642800731484},{"$f":"+正規乱数!N598","v":18.807100151435904},{"$f":"+正規乱数!O598","v":0.20579078853872673},28.210650227153856,14.105325113576926,24.431139753992486,16.991418422250685,5.8670338980495815,1.1547005383792515,14.47719732907626,1.4423085652626131,null,1.4162426408904116,1.3901767165182102,1.3641107921460085,1.338044867773807,1.3119789434016056,1.2859130190294041,1.2598470946572025,1.233781170285001,1.2077152459127996,1.1816493215405979,1.1555833971683964,1.129517472796195,1.1034515484239933,1.0773856240517921,1.0513196996795904,1.0252537753073889,{"$f":"+(($H600-$I600-AE$10*$G$6*$E600*$K600)*TAN($C600*PI()/180)+$L600)/$G600","v":0.99918785093518747},0.9731219265629858,0.94705600219078445,0.92099007781858278,0.89492415344638121]
[591,{"$f":"+正規乱数!L599","v":7.0742145191226697},{"$f":"+正規乱数!M599","v":33.052841327197157},{"$f":"+正規乱数!N599","v":17.209438551197298},{"$f":"+正規乱数!O599","v":0.13336465437491588},25.814157826795949,12.907078913397973,22.35571645530619,16.991418422250685,3.4906537488407565,1.1547005383792515,8.1685993138412645,0.90332236603739458,null,0.88808973149235926,0.87285709694732394,0.85762446240228851,0.84239182785725319,0.82715919331221777,0.81192655876718245,0.79669392422214713,0.7814612896771117,0.76622865513207639,0.75099602058704096,0.73576338604200564,0.7205307514969701,0.70529811695193478,0.69006548240689947,0.67483284786186404,0.65960021331682872,0.64436757877179329,0.62913494422675798,0.61390230968172244,0.59866967513668723,0.5834370405916518]
[592,{"$f":"+正規乱数!L600","v":8.4854454685272351},{"$f":"+正規乱数!M600","v":29.327896549360368},{"$f":"+正規乱数!N600","v":19.286620893139862},{"$f":"+正規乱数!O600","v":0.18223733098816786},28.929931339709793,14.464965669854895,25.054055469928262,16.991418422250685,4.5297041273056253,1.1547005383792515,9.7981484508961785,0.99052102197941361,null,0.97448557625970511,0.95845013053999639,0.9424146848202879,0.92637923910057929,0.91034379338087079,0.89430834766116218,0.87827290194145358,0.86223745622174497,0.84620201050203658,0.83016656478232786,0.81413111906261937,0.79809567334291065,0.78206022762320215,0.76602478190349355,0.74998933618378494,0.73395389046407633,0.71791844474436783,0.70188299902465923,0.68584755330495051,0.66981210758524201,0.6537766618655334]
[593,{"$f":"+正規乱数!L601","v":8.890490565410337},{"$f":"+正規乱数!M601","v":36.240745436286431},{"$f":"+正規乱数!N601","v":19.574536309437086},{"$f":"+正規乱数!O601","v":0.15142499137249485},29.361804464155629,14.680902232077813,25.428068566910113,16.991418422250685,6.1839127316999463,1.1547005383792515,10.265854242334973,1.1204874682764476,null,1.1033594745721813,1.086231480867915,1.0691034871636484,1.0519754934593821,1.0348474997551158,1.0177195060508497,1.0005915123465832,0.98346351864231685,0.96633552493805042,0.9492075312337841,0.93207953752951767,0.91495154382525135,0.89782355012098503,0.88069555641671859,0.86356756271245216,0.84643956900818584,0.82931157530391952,0.8121835815996532,0.79505558789538677,0.77792759419112034,0.76079960048685402]
[594,{"$f":"+正規乱数!L602","v":9.4179411486289641},{"$f":"+正規乱数!M602","v":35.598305548714912},{"$f":"+正規乱数!N602","v":16.258674066534358},{"$f":"+正規乱数!O602","v":0.17574965904404077},24.388011099801538,12.194005549900767,21.120637160205,16.991418422250685,2.9560455583262946,1.1547005383792515,10.87490171474597,1.1342415104268031,null,1.110866075089872,1.0874906397529409,1.0641152044160098,1.0407397690790789,1.0173643337421479,0.99398889840521676,0.97061346306828578,0.94723802773135468,0.9238625923944237,0.90048715705749272,0.87711172172056173,0.85373628638363053,0.83036085104669954,0.80698541570976845,0.78360998037283736,0.76023454503590637,0.73685910969897528,0.7134836743620443,0.6901082390251132,0.66673280368818222,0.64335736835125112]
[595,{"$f":"+正規乱数!L603","v":11.804213204056065},{"$f":"+正規乱数!M603","v":33.68092420841802},{"$f":"+正規乱数!N603","v":19.986534218492729},{"$f":"+正規乱数!O603","v":0.1607492029176536},29.979801327739093,14.989900663869545,25.9632695502325,16.991418422250685,5.9791662408286079,1.1547005383792515,13.630331341867008,1.308180622568152,null,1.2919894979868112,1.2757983734054701,1.2596072488241294,1.2434161242427886,1.2272249996614477,1.2110338750801066,1.1948427504987658,1.1786516259174249,1.162460501336084,1.1462693767547432,1.1300782521734023,1.1138871275920614,1.0976960030107203,1.0815048784293797,1.0653137538480386,1.0491226292666977,1.0329315046853569,1.016740380104016,1.0005492555226752,0.98435813094133429,0.96816700635999342]
[596,{"$f":"+正規乱数!L604","v":8.9413179485296563},{"$f":"+正規乱数!M604","v":33.892611808089413},{"$f":"+正規乱数!N604","v":17.285490850045537},{"$f":"+正規乱数!O604","v":9.4413738853102128E-2},25.928236275068308,12.964118137534152,22.454511289534363,16.991418422250685,3.6700235945579962,1.1547005383792515,10.324544648987258,1.0794847821563511,null,1.0684009265118271,1.057317070867303,1.0462332152227789,1.0351493595782548,1.0240655039337307,1.0129816482892067,1.0018977926446824,0.99081393700015852,0.97973008135563433,0.96864622571111025,0.95756237006658618,0.9464785144220621,0.93539465877753791,0.92431080313301384,0.91322694748848965,0.90214309184396568,0.89105923619944161,0.87997538055491742,0.86889152491039345,0.85780766926586938,0.84672381362134519]
[597,{"$f":"+正規乱数!L605","v":8.4092765427959257},{"$f":"+正規乱数!M605","v":31.277121053960922},{"$f":"+正規乱数!N605","v":17.797864169753481},{"$f":"+正規乱数!O605","v":0.18144734496965698},26.696796254630222,13.348398127315109,23.12010375616703,16.991418422250685,3.7229479471531564,1.1547005383792515,9.7101961513464659,1.0063487746152173,null,0.98764154495206069,0.96893431528890406,0.95022708562574731,0.93151985596259068,0.91281262629943405,0.89410539663627731,0.87539816697312078,0.85669093730996415,0.83798370764680752,0.81927647798365077,0.80056924832049414,0.7818620186573374,0.76315478899418077,0.74444755933102402,0.72574032966786739,0.70703310000471087,0.68832587034155412,0.66961864067839749,0.65091141101524075,0.63220418135208412,0.61349695168892737]
[598,{"$f":"+正規乱数!L606","v":9.6476586260649029},{"$f":"+正規乱数!M606","v":37.595626857960362},{"$f":"+正規乱数!N606","v":19.409287314969689},{"$f":"+正規乱数!O606","v":0.23689396998785045},29.113930972454533,14.556965486227265,25.213403826172215,16.991418422250685,6.3307814891814926,1.1547005383792515,11.140156609616373,1.2001772014454242,null,1.171789374600539,1.1434015477556541,1.1150137209107687,1.0866258940658837,1.0582380672209986,1.0298502403761136,1.0014624135312287,0.9730745866863435,0.94468675984145845,0.91629893299657339,0.88791110615168822,0.85952327930680317,0.83113545246191811,0.80274762561703306,0.77435979877214789,0.74597197192726283,0.71758414508237767,0.6891963182374925,0.66080849139260744,0.63242066454772239,0.60403283770283733]
[599,{"$f":"+正規乱数!L607","v":4.3748744687012149},{"$f":"+正規乱数!M607","v":31.984917898562756},{"$f":"+正規乱数!N607","v":16.51783997732565},{"$f":"+正規乱数!O607","v":0.12772418485766709},24.776759965988475,12.388379982994236,21.457303554015287,16.991418422250685,2.7889604381800028,1.1547005383792515,5.0516699043509341,0.63290198987227697,null,0.61831513041072506,0.60372827094917314,0.58914141148762134,0.57455455202606931,0.55996769256451751,0.54538083310296559,0.53079397364141367,0.51620711417986176,0.50162025471830984,0.48703339525675798,0.47244653579520612,0.45785967633365421,0.44327281687210224,0.42868595741055038,0.41409909794899846,0.39951223848744655,0.38492537902589469,0.37033851956434272,0.3557516601027908,0.34116480064123894,0.32657794117968697]
[600,{"$f":"+正規乱数!L608","v":6.7060462073032685},{"$f":"+正規乱数!M608","v":32.810565567890045},{"$f":"+正規乱数!N608","v":17.423708736941297},{"$f":"+正規乱数!O608","v":0.17341322944610582},26.135563105411947,13.067781552705972,22.63406159149806,16.991418422250685,3.6379082311285407,1.1547005383792515,7.7434751659692216,0.87094992759050183,null,0.85156706647936686,0.83218420536823168,0.8128013442570966,0.79341848314596164,0.77403562203482656,0.7546527609236916,0.73526989981255653,0.71588703870142145,0.69650417759028649,0.67712131647915141,0.65773845536801645,0.63835559425688126,0.61897273314574619,0.59958987203461123,0.58020701092347604,0.56082414981234097,0.54144128870120589,0.52205842759007093,0.50267556647893585,0.48329270536780083,0.4639098442566657]
[601,{"$f":"+正規乱数!L609","v":11.564735415131651},{"$f":"+正規乱数!M609","v":34.539672979722035},{"$f":"+正規乱数!N609","v":16.580967813399685},{"$f":"+正規乱数!O609","v":0.14746190717447696},24.871451720099529,12.435725860049763,21.539309018604367,16.991418422250685,3.1303173650224805,1.1547005383792515,13.353806210066113,1.3255457510561937,null,1.307054962186075,1.2885641733159561,1.2700733844458376,1.2515825955757187,1.2330918067056,1.2146010178354814,1.1961102289653625,1.177619440095244,1.1591286512251251,1.1406378623550064,1.1221470734848877,1.1036562846147688,{"$f":"+(($H611-$I611-AA$10*$G$6*$E611*$K611)*TAN($C611*PI()/180)+$L611)/$G611","v":1.0851654957446502},1.0666747068745315,1.0481839180044126,1.0296931291342939,1.0112023402641752,0.99271155139405654,0.97422076252393763,0.95572997365381884,0.93723918478370005]
[602,{"$f":"+正規乱数!L610","v":8.5827229845739126},{"$f":"+正規乱数!M610","v":36.275004218317115},{"$f":"+正規乱数!N610","v":17.811547162272792},{"$f":"+正規乱数!O610","v":0.1832659512686336},26.717320743409189,13.358660371704593,23.137878484849303,16.991418422250685,4.510896754572709,1.1547005383792515,9.9104748510474732,1.0795522308633994,null,1.0567422421041892,1.0339322533449791,1.0111222645857687,0.98831227582655834,0.9655022870673482,0.94269229830813783,0.91988230954892758,0.89707232078971744,0.87426233203050707,0.85145234327129693,0.82864235451208657,0.80583236575287631,0.78302237699366595,0.76021238823445569,0.73740239947524533,0.71459241071603519,0.69178242195682493,0.66897243319761457,0.64616244443840409,0.62335245567919406,0.6005424669199837]
[603,{"$f":"+正規乱数!L611","v":12.639517710760096},{"$f":"+正規乱数!M611","v":35.714158205182763},{"$f":"+正規乱数!N611","v":19.395406695026612},{"$f":"+正規乱数!O611","v":0.13444003970386226},{"$f":"+$G$3*$G$4*D613","v":29.093110042539919},14.546555021269958,{"$f":"+F613*COS($G$2*PI()/180)","v":25.195372371935743},16.991418422250685,{"$f":"+(H613-I613)*TAN(C613*PI()/180)","v":5.8982135155766295},1.1547005383792515,{"$f":"+K613*B613","v":14.594857905468766},{"$f":"+(J613+L613)/G613","v":1.4087920742114162},null,1.3937386907247442,1.3786853072380725,1.3636319237514005,1.3485785402647288,1.3335251567780568,1.3184717732913849,1.3034183898047129,1.288365006318041,1.273311622831369,1.258258239344697,1.2432048558580251,1.2281514723713531,1.2130980888846814,1.1980447053980094,1.1829913219113377,1.1679379384246658,1.1528845549379938,1.1378311714513218,1.1227777879646499,1.1077244044779782,1.092671020991306]
[604,{"$f":"+正規乱数!L612","v":10.002775584828443},{"$f":"+正規乱数!M612","v":38.585405058342012},{"$f":"+正規乱数!N612","v":18.092251003915983},{"$f":"+正規乱数!O612","v":0.10507491185465631},27.138376505873975,13.569188252936986,23.502523471553634,16.991418422250685,5.1950319013482806,1.1547005383792515,11.550210353088236,1.2340636700070904,null,1.2200662802876514,1.2060688905682126,1.1920715008487737,1.1780741111293347,1.1640767214098957,1.1500793316904567,1.1360819419710178,1.1220845522515788,1.1080871625321398,1.0940897728127008,1.0800923830932621,1.0660949933738229,1.0520976036543839,1.0381002139349449,1.0241028242155059,1.0101054344960672,0.99610804477662807,0.98211065505718909,0.96811326533775011,0.95411587561831113,0.94011848589887226]
[605,{"$f":"+正規乱数!L613","v":10.320612986296306},{"$f":"+正規乱数!M613","v":35.457370600651302},{"$f":"+正規乱数!N613","v":19.351165898521923},{"$f":"+正規乱数!O613","v":0.1105570676404263},29.026748847782883,14.51337442389144,25.137901891450664,16.991418422250685,5.8016900146308714,1.1547005383792515,11.917217371680238,1.2208675163194871,null,1.2085769803251611,1.1962864443308352,1.1839959083365095,1.1717053723421833,1.1594148363478578,1.1471243003535319,1.1348337643592059,1.12254322836488,1.110252692370554,1.0979621563762283,1.0856716203819023,1.0733810843875764,1.0610905483932505,1.0488000123989245,1.0365094764045988,1.0242189404102728,1.0119284044159469,0.99963786842162106,0.98734733242729522,0.97505679643296927,0.96276626043864333]
[606,{"$f":"+正規乱数!L614","v":5.9370194667549523},{"$f":"+正規乱数!M614","v":35.155553215970009},{"$f":"+正規乱数!N614","v":17.084784928429631},{"$f":"+正規乱数!O614","v":0.20065801351943013},25.627177392644448,12.813588696322222,22.193786649320348,16.991418422250685,3.6638264430860494,1.1547005383792515,6.8554795746300394,0.82094924903710675,null,0.79596375710456846,0.77097826517202994,0.74599277323949142,0.72100728130695291,0.6960217893744145,0.6710362974418761,0.64605080550933769,0.62106531357679917,0.59607982164426065,0.57109432971172225,0.54610883777918384,0.52112334584664532,0.49613785391410686,0.4711523619815684,0.44616687004902988,0.42118137811649142,0.39619588618395296,0.3712103942514145,0.34622490231887598,0.32123941038633763,0.29625391845379911]
[607,{"$f":"+正規乱数!L615","v":8.6772535884268684},{"$f":"+正規乱数!M615","v":37.266445853130733},{"$f":"+正規乱数!N615","v":18.167994820563383},{"$f":"+正規乱数!O615","v":0.11457514586249273},27.251992230845076,13.625996115422536,23.600917575647994,16.991418422250685,5.0289747526258415,1.1547005383792515,10.019629390209797,1.104403965432144,null,1.0899095256810372,1.0754150859299303,1.0609206461788236,1.0464262064277168,1.0319317666766101,1.0174373269255033,1.0029428871743966,0.98844844742328974,0.97395400767218299,0.95945956792107623,0.94496512816996936,0.9304706884188626,0.91597624866775584,0.9014818089166492,0.88698736916554222,0.87249292941443557,0.8579984896633287,0.84350404991222194,0.82900961016111507,0.81451517041000843,0.80002073065890156]
[608,{"$f":"+正規乱数!L616","v":8.836836796509246},{"$f":"+正規乱数!M616","v":34.787223878920145},{"$f":"+正規乱数!N616","v":18.366252376862239},{"$f":"+正規乱数!O616","v":0.16068276947026544},27.54937856529336,13.774689282646678,23.858461696018541,16.991418422250685,4.770448837607117,1.1547005383792515,10.203900206498806,1.0870916023471089,null,1.0687327585431792,1.0503739147392497,1.0320150709353202,1.0136562271313905,0.99529738332746098,0.97693853952353138,0.95857969571960189,0.94022085191567228,0.92186200811174279,0.90350316430781319,0.88514432050388359,0.86678547669995409,0.84842663289602449,0.83006778909209489,0.8117089452881654,0.79335010148423579,0.77499125768030619,0.75663241387637659,0.73827357007244709,0.7199147262685176,0.70155588246458789]
[609,{"$f":"+正規乱数!L617","v":9.3316028417635533},{"$f":"+正規乱数!M617","v":35.131365760498824},{"$f":"+正規乱数!N617","v":17.205366835198724},{"$f":"+正規乱数!O617","v":0.14696432853672142},25.808050252798086,12.904025126399041,22.350427141068547,16.991418422250685,3.7707589014581981,1.1547005383792515,10.775206825325728,1.127242514200147,null,1.1090873823456817,1.0909322504912164,1.072777118636751,1.0546219867822857,1.0364668549278204,1.0183117230733549,1.0001565912188894,0.98200145936442418,0.9638463275099588,0.94569119565549353,0.92753606380102804,0.90938093194656278,0.8912258000920974,0.87307066823763191,0.85491553638316653,0.83676040452870126,0.818605272674236,0.80045014081977051,0.78229500896530513,0.76413987711083964,0.74598474525637437]
[610,{"$f":"+正規乱数!L618","v":7.5347419949208643},{"$f":"+正規乱数!M618","v":32.436385168535502},{"$f":"+正規乱数!N618","v":18.487612877402189},{"$f":"+正規乱数!O618","v":0.15346196168279386},27.731419316103285,13.865709658051641,24.016113610743929,16.991418422250685,4.4642672372771282,1.1547005383792515,8.7003706380838768,0.94943844924060328,null,0.9335035355834258,0.91756862192624844,0.90163370826907097,0.88569879461189349,0.86976388095471624,0.85382896729753865,0.83789405364036118,0.82195913998318393,0.80602422632600634,0.79008931266882898,0.77415439901165162,0.75821948535447403,0.74228457169729667,0.72634965804011931,0.71041474438294172,0.69447983072576436,0.67854491706858688,0.66261000341140941,0.64667508975423205,0.63074017609705457,0.6148052624398771]
[611,{"$f":"+正規乱数!L619","v":10.638803814730544},{"$f":"+正規乱数!M619","v":37.505575291387544},{"$f":"+正規乱数!N619","v":18.406233095631762},{"$f":"+正規乱数!O619","v":0.12841010171973488},27.609349643447644,13.80467482172382,23.910398173192494,16.991418422250685,5.3101896515942695,1.1547005383792515,12.284632492580593,1.2745553496476898,null,1.2583816507835361,1.2422079519193827,1.2260342530552293,1.2098605541910759,1.1936868553269224,1.1775131564627688,1.1613394575986153,1.1451657587344619,1.1289920598703085,1.1128183610061551,1.0966446621420014,1.080470963277848,1.0642972644136943,1.0481235655495409,1.0319498666853872,1.015776167821234,0.99960246895708049,0.98342877009292695,0.96725507122877341,0.95108137236461998,0.93490767350046644]
[612,{"$f":"+正規乱数!L620","v":11.099908615350291},{"$f":"+正規乱数!M620","v":32.878409270204877},{"$f":"+正規乱数!N620","v":17.348414702097429},{"$f":"+正規乱数!O620","v":0.12857383907004252},26.022622053146144,13.01131102657307,22.536251771105729,16.991418422250685,3.5841503569519824,1.1547005383792515,12.817070454105473,1.260535604564456,null,1.2460646344417514,1.2315936643190473,1.2171226941963431,1.2026517240736387,1.1881807539509344,1.1737097838282302,1.1592388137055258,1.1447678435828217,1.1302968734601175,1.1158259033374132,1.1013549332147088,1.0868839630920046,1.0724129929693003,1.0579420228465961,1.0434710527238917,1.0290000826011876,1.0145291124784832,1.0000581423557791,0.98558717223307457,0.97111620211037042,0.95664523198766604]
[613,{"$f":"+正規乱数!L621","v":10.026633665170174},{"$f":"+正規乱数!M621","v":41.363506627356088},{"$f":"+正規乱数!N621","v":17.954243742626275},{"$f":"+正規乱数!O621","v":0.18157783284492091},26.931365613939413,13.465682806969705,23.323246780278229,16.991418422250685,5.5750940983666757,1.1547005383792515,11.577759291303527,1.2738198007153454,null,1.24692143537442,1.2200230700334949,1.1931247046925695,1.1662263393516445,1.1393279740107192,1.1124296086697938,1.0855312433288686,1.0586328779879433,1.0317345126470181,1.0048361473060929,0.97793778196516756,0.95103941662424218,0.92414105128331692,0.89724268594239176,0.87034432060146638,0.84344595526054111,0.81654758991961585,0.78964922457869058,0.7627508592377652,0.73585249389683993,0.70895412855591478]
[614,{"$f":"+正規乱数!L622","v":10.190965960490546},{"$f":"+正規乱数!M622","v":33.833592650435733},{"$f":"+正規乱数!N622","v":16.293225968765395},{"$f":"+正規乱数!O622","v":8.1714779886394515E-2},24.43983895314809,12.219919476574043,21.16552139782673,16.991418422250685,2.79786382457009,1.1547005383792515,11.767513881183058,1.1919372900676981,null,1.1817826611743236,1.1716280322809489,1.1614734033875747,1.1513187744942002,1.1411641456008257,1.1310095167074512,1.1208548878140767,1.1107002589207022,1.1005456300273277,1.0903910011339535,1.080236372240579,1.0700817433472043,1.0599271144538298,1.0497724855604553,1.0396178566670808,1.0294632277737064,1.0193085988803321,1.0091539699869576,0.99899934109358302,0.98884471220020853,0.97869008330683405]
[615,{"$f":"+正規乱数!L623","v":7.7681655125072453},{"$f":"+正規乱数!M623","v":32.833461492037991},{"$f":"+正規乱数!N623","v":16.099963509714339},{"$f":"+正規乱数!O623","v":0.21062582607617175},24.149945264571507,12.074972632285752,20.914466099122631,16.991418422250685,2.5314755891354834,1.1547005383792515,8.9699048995112491,0.95249743737676373,null,0.92699721337144625,0.90149698936612888,0.8759967653608115,0.85049654135549424,0.82499631735017687,0.79949609334485938,0.77399586933954201,0.74849564533422475,0.72299542132890737,0.69749519732358989,0.67199497331827274,0.64649474931295525,0.62099452530763777,0.59549430130232051,0.56999407729700302,0.54449385329168565,0.51899362928636827,0.49349340528105085,0.46799318127573353,0.44249295727041621,0.41699273326509878]
[616,{"$f":"+正規乱数!L624","v":10.135636381731377},{"$f":"+正規乱数!M624","v":32.201984954199766},{"$f":"+正規乱数!N624","v":19.310251258817203},{"$f":"+正規乱数!O624","v":0.13337474153315601},28.965376888225805,14.482688444112901,25.0847522153942,16.991418422250685,5.0970358798286117,1.1547005383792515,11.70362478680155,1.1600512385156982,null,1.146911612255594,1.1337719859954893,1.1206323597353851,1.1074927334752804,1.0943531072151762,1.0812134809550717,1.0680738546949673,1.0549342284348628,1.0417946021747584,1.0286549759146539,1.0155153496545495,1.002375723394445,0.98923609713434046,0.97609647087423612,0.96295684461413167,0.94981721835402722,0.93667759209392276,0.92353796583381842,0.91039833957371397,0.89725871331360951,0.88411908705350506]
[617,{"$f":"+正規乱数!L625","v":8.8875510548333825},{"$f":"+正規乱数!M625","v":34.770464098293047},{"$f":"+正規乱数!N625","v":17.234641045909925},{"$f":"+正規乱数!O625","v":0.14558357350266621},25.851961568864887,12.925980784432442,22.388455456296004,16.991418422250685,3.7469138408696736,1.1547005383792515,10.262459987889191,1.0838151520100681,null,1.0661003807332463,1.0483856094564248,1.0306708381796033,1.0129560669027817,0.99524129562596009,0.97752652434913856,0.95981175307231692,0.94209698179549539,0.92438221051867375,0.90666743924185234,0.8889526679650307,{"$f":"+(($H627-$I627-Z$10*$G$6*$E627*$K627)*TAN($C627*PI()/180)+$L627)/$G627","v":0.87123789668820906},0.85352312541138764,0.835808354134566,0.81809358285774436,0.80037881158092272,0.78266404030410119,0.76494926902727967,0.74723449775045803,0.7295197264736365,0.71180495519681486]
[618,{"$f":"+正規乱数!L626","v":8.2312812930407162},{"$f":"+正規乱数!M626","v":34.422548125459706},{"$f":"+正規乱数!N626","v":17.692108018747174},{"$f":"+正規乱数!O626","v":0.10626641163438322},26.538162028120759,13.269081014060378,22.98272248610014,16.991418422250685,4.1057956775472553,1.1547005383792515,9.504664940625176,1.0257274489280996,null,1.0132937738618943,1.0008600987956895,0.98842642372948453,0.97599274866327945,0.9635590735970746,0.95112539853086941,0.93869172346466456,0.92625804839845949,0.91382437333225452,0.90139069826604967,0.8889570231998446,0.87652334813363952,0.86408967306743456,0.85165599800122949,0.83922232293502452,0.82678864786881945,0.8143549728026146,0.80192129773640952,0.78948762267020456,0.77705394760399948,0.76462027253779452]
[619,{"$f":"+正規乱数!L627","v":11.780136567581026},{"$f":"+正規乱数!M627","v":33.070522258709381},{"$f":"+正規乱数!N627","v":17.170328431763004},{"$f":"+正規乱数!O627","v":0.12922365091716287},25.755492647644505,12.877746323822251,22.304910919843476,16.991418422250685,3.4599280593267916,1.1547005383792515,13.602530036766918,1.3249568415965964,null,1.3101535767384507,1.2953503118803049,1.2805470470221594,1.2657437821640136,1.2509405173058679,1.2361372524477221,1.2213339875895763,1.2065307227314306,1.1917274578732848,1.1769241930151393,1.1621209281569935,1.1473176632988478,1.132514398440702,1.1177111335825562,1.1029078687244105,1.0881046038662647,1.0733013390081192,1.0584980741499732,1.0436948092918277,1.0288915444336819,1.0140882795755362]
[620,{"$f":"+正規乱数!L628","v":11.602625487137722},{"$f":"+正規乱数!M628","v":37.733430363762437},{"$f":"+正規乱数!N628","v":18.767390546238733},{"$f":"+正規乱数!O628","v":0.13880447945422397},28.151085819358102,14.075542909679049,24.379555463679985,16.991418422250685,5.7170901298150891,1.1547005383792515,13.397557896610753,1.3580043163579609,null,1.3407162351289659,1.3234281538999708,1.3061400726709755,1.2888519914419807,1.2715639102129856,1.2542758289839904,1.2369877477549953,1.2196996665260005,1.2024115852970052,1.1851235040680101,1.1678354228390151,1.15054734161002,1.1332592603810248,1.1159711791520297,1.0986830979230346,1.0813950166940396,1.0641069354650445,1.0468188542360495,1.0295307730070542,1.0122426917780594,0.99495461054906409]
[621,{"$f":"+正規乱数!L629","v":9.6144624749559924},{"$f":"+正規乱数!M629","v":35.031585490198125},{"$f":"+正規乱数!N629","v":18.781642185162099},{"$f":"+正規乱数!O629","v":0.15654056256708862},28.172463277743148,14.086231638871572,24.398068885709783,16.991418422250685,5.1922797987537948,1.1547005383792515,11.101824996058795,1.1567398018536268,null,1.1390901284508639,1.121440455048101,1.1037907816453381,1.0861411082425751,1.0684914348398122,1.0508417614370493,1.0331920880342866,1.0155424146315237,0.99789274122876082,0.9802430678259979,0.9625933944232351,0.94494372102047219,0.92729404761770928,0.90964437421494648,0.89199470081218357,0.87434502740942055,0.85669535400665775,0.83904568060389484,0.82139600720113193,0.80374633379836913,0.78609666039560622]
[622,{"$f":"+正規乱数!L630","v":12.950392160009207},{"$f":"+正規乱数!M630","v":37.655784176105669},{"$f":"+正規乱数!N630","v":17.767385981909424},{"$f":"+正規乱数!O630","v":0.13391651358750814},26.651078972864134,13.325539486432065,23.080511428765625,16.991418422250685,4.6986843461074335,1.1547005383792515,14.953824799385067,1.4748002634716963,null,1.4572314930448658,1.4396627226180352,1.4220939521912044,1.4045251817643738,1.3869564113375432,1.3693876409107126,1.3518188704838823,1.3342501000570515,1.3166813296302209,1.2991125592033903,1.2815437887765597,1.2639750183497291,1.2464062479228986,1.2288374774960678,1.2112687070692374,1.1936999366424068,1.1761311662155762,1.1585623957887456,1.1409936253619148,1.1234248549350843,1.1058560845082539]
[623,{"$f":"+正規乱数!L631","v":11.114606586060908},{"$f":"+正規乱数!M631","v":36.679155340126549},{"$f":"+正規乱数!N631","v":21.285412545428958},{"$f":"+正規乱数!O631","v":0.16480932385710734},31.928118818143439,15.964059409071718,27.650561991560206,16.991418422250685,7.9390500106369677,1.1547005383792515,12.834042208798104,1.3012412248748322,null,1.2838210287738621,1.2664008326728917,1.2489806365719216,1.2315604404709513,1.2141402443699811,1.1967200482690108,1.1792998521680407,1.1618796560670706,1.1444594599661002,1.1270392638651301,1.1096190677641597,1.0921988716631894,1.0747786755622195,1.0573584794612489,1.0399382833602788,1.0225180872593087,1.0050978911583384,0.98767769505736813,0.9702574989563979,0.95283730285542767,0.93541710675445744]
[624,{"$f":"+正規乱数!L632","v":9.2752450790538035},{"$f":"+正規乱数!M632","v":26.299202027965443},{"$f":"+正規乱数!N632","v":20.022050567974361},{"$f":"+正規乱数!O632","v":0.12103995799208164},30.033075851961542,15.016537925980769,26.00940664158367,16.991418422250685,4.4568111095012517,1.1547005383792515,10.71013048638293,1.010015868547383,null,1.0009909792636815,0.99196608997998015,0.98294120069627888,0.97391631141257751,0.96489142212887613,0.95586653284517487,0.94684164356147338,0.937816754277772,0.92879186499407074,0.91976697571036936,0.91074208642666798,0.90171719714296672,0.89269230785926534,0.88366741857556397,0.87464252929186259,0.8656176400081611,0.85659275072445984,0.84756786144075846,0.83854297215705709,0.82951808287335582,0.82049319358965445]
[625,{"$f":"+正規乱数!L633","v":4.336651056111771},{"$f":"+正規乱数!M633","v":38.986926408028943},{"$f":"+正規乱数!N633","v":19.367953160949824},{"$f":"+正規乱数!O633","v":0.1073901620885481},29.051929741424736,14.525964870712366,25.159709185034501,16.991418422250685,6.6114659913987657,1.1547005383792515,5.0075333092552112,0.79987797052163534,null,0.78632125573350464,0.77276454094537395,0.75920782615724336,0.74565111136911266,0.73209439658098185,0.71853768179285127,0.70498096700472068,0.6914242522165901,0.6778675374284594,0.66431082264032881,0.650754107852198,0.63719739306406731,0.62364067827593672,0.61008396348780602,0.59652724869967533,0.58297053391154463,0.56941381912341404,0.55585710433528324,0.54230038954715265,0.52874367475902195,0.51518695997089126]
[626,{"$f":"+正規乱数!L634","v":9.0126262415744627},{"$f":"+正規乱数!M634","v":32.179375401681902},{"$f":"+正規乱数!N634","v":16.984998274914563},{"$f":"+正規乱数!O634","v":0.1357468852811643},25.477497412371847,12.738748706185921,22.06415998396632,16.991418422250685,3.1919262719550665,1.1547005383792515,10.406884373357002,1.0675154176413342,null,1.052324584669581,1.0371337516978276,1.0219429187260742,1.0067520857543211,0.99156125278256779,0.97637041981081441,0.96117958683906113,0.94598875386730796,0.93079792089555458,0.91560708792380152,0.90041625495204813,0.88522542198029475,0.87003458900854147,0.85484375603678819,0.83965292306503492,0.82446209009328153,0.80927125712152836,0.79408042414977509,0.77888959117802181,0.76369875820626854,0.74850792523451526]
[627,{"$f":"+正規乱数!L635","v":11.855802635871701},{"$f":"+正規乱数!M635","v":36.690619188009336},{"$f":"+正規乱数!N635","v":18.507262552920704},{"$f":"+正規乱数!O635","v":0.16770524397399111},27.760893829381054,13.880446914690525,24.04163928800666,16.991418422250685,5.2532772745115057,1.1547005383792515,13.689901686559201,1.3647384034171106,null,1.3443426775525769,1.3239469516880431,1.3035512258235091,1.2831554999589754,1.2627597740944416,1.2423640482299076,1.2219683223653741,1.2015725965008404,1.1811768706363064,1.1607811447717726,1.1403854189072389,1.1199896930427049,1.0995939671781711,1.0791982413136374,1.0588025154491034,1.0384067895845697,1.0180110637200359,0.99761533785550216,0.97721961199096818,0.95682388612643454,0.93642816026190068]
[628,{"$f":"+正規乱数!L636","v":12.946074506324866},{"$f":"+正規乱数!M636","v":33.193424814530466},{"$f":"+正規乱数!N636","v":16.534064947834995},{"$f":"+正規乱数!O636","v":0.10806071619091219},24.801097421752495,12.400548710876246,21.478380408970406,16.991418422250685,2.9354502913776086,1.1547005383792515,14.948839202351225,1.4422175913911712,null,1.4293019002639262,1.4163862091366808,1.4034705180094356,1.3905548268821906,1.3776391357549453,1.3647234446277001,1.3518077535004549,1.3388920623732099,1.3259763712459645,1.3130606801187192,1.3001449889914742,1.2872292978642288,1.2743136067369836,1.2613979156097386,1.2484822244824931,1.2355665333552479,1.2226508422280029,1.2097351511007577,1.1968194599735125,1.1839037688462672,1.170988077719022]
[629,{"$f":"+正規乱数!L637","v":10.772933054759907},{"$f":"+正規乱数!M637","v":32.159322660080555},{"$f":"+正規乱数!N637","v":17.67198699117003},{"$f":"+正規乱数!O637","v":0.15717362642733834},26.507980486755045,13.253990243377521,22.956584504552058,16.991418422250685,3.7505537677151581,1.1547005383792515,12.439511598254899,1.2215238632803109,null,1.2046321284764079,1.1877403936725046,1.1708486588686018,1.1539569240646985,1.1370651892607955,1.1201734544568924,1.1032817196529894,1.0863899848490863,1.0694982500451833,1.0526065152412802,1.035714780437377,1.0188230456334739,1.0019313108295709,0.98503957602566783,0.96814784122176467,0.95125610641786151,0.93436437161395847,0.91747263681005542,0.90058090200615226,0.88368916720224922,0.86679743239834606]
[630,{"$f":"+正規乱数!L638","v":13.520972182992974},{"$f":"+正規乱数!M638","v":35.064396385070879},{"$f":"+正規乱数!N638","v":16.92315576274347},{"$f":"+正規乱数!O638","v":0.11951169817239596},25.384733644115204,12.6923668220576,21.983824204105296,16.991418422250685,3.5040889353937996,1.1547005383792515,15.612673859112871,1.5061621731011072,null,1.4911894285086778,1.4762166839162487,1.4612439393238192,1.44627119473139,1.4312984501389607,1.4163257055465313,1.401352960954102,1.3863802163616727,1.3714074717692435,1.356434727176814,1.3414619825843848,1.3264892379919555,1.311516493399526,1.2965437488070968,1.2815710042146675,1.266598259622238,1.2516255150298088,1.2366527704373793,1.2216800258449501,1.2067072812525208,1.1917345366600913]
[631,{"$f":"+正規乱数!L639","v":9.5397495765078197},{"$f":"+正規乱数!M639","v":32.679056496551347},{"$f":"+正規乱数!N639","v":17.657190054982504},{"$f":"+正規乱数!O639","v":8.2695016074623817E-2},26.485785082473754,13.242892541236875,22.937362720597196,16.991418422250685,3.8141598959688339,1.1547005383792515,11.015553971996816,1.1198243753611676,null,1.1107494531435482,1.1016745309259288,1.0925996087083094,1.08352468649069,1.0744497642730706,1.0653748420554512,1.056299919837832,1.0472249976202124,1.038150075402593,1.0290751531849736,1.0200002309673544,1.0109253087497347,1.0018503865321153,0.99277546431449604,0.98370054209687663,0.97462561987925722,0.96555069766163781,0.95647577544401841,0.94740085322639889,0.93832593100877959,0.92925100879116018]
[632,{"$f":"+正規乱数!L640","v":11.845313895507058},{"$f":"+正規乱数!M640","v":35.878264238798991},{"$f":"+正規乱数!N640","v":18.736925428066325},{"$f":"+正規乱数!O640","v":0.14138216120995625},28.105388142099486,14.052694071049741,24.339980114280081,16.991418422250685,5.3152241465380374,1.1547005383792515,13.677790332413228,1.3515568177122126,null,1.3350705390990751,1.3185842604859381,1.3020979818728009,1.2856117032596637,1.2691254246465264,1.2526391460333892,1.2361528674202522,1.2196665888071148,1.2031803101939775,1.1866940315808403,1.1702077529677031,1.1537214743545658,1.1372351957414288,1.1207489171282916,1.1042626385151544,1.0877763599020172,1.0712900812888797,1.0548038026757427,1.0383175240626052,1.0218312454494682,1.005344966836331]
[633,{"$f":"+正規乱数!L641","v":15.710358080080946},{"$f":"+正規乱数!M641","v":32.780957053921902},{"$f":"+正規乱数!N641","v":18.616449931992143},{"$f":"+正規乱数!O641","v":0.11816650847680221},27.924674897988215,13.962337448994106,24.183477854079424,16.991418422250685,4.6315835981475804,1.1547005383792515,18.140758933200292,1.6309835380026911,null,1.6186359854158121,1.6062884328289333,1.5939408802420545,1.5815933276551757,1.5692457750682969,1.5568982224814181,1.5445506698945393,1.5322031173076605,1.5198555647207816,1.5075080121339028,{"$f":"+(($H643-$I643-Y$10*$G$6*$E643*$K643)*TAN($C643*PI()/180)+$L643)/$G643","v":1.495160459547024},1.4828129069601452,1.4704653543732666,1.4581178017863874,1.4457702491995088,1.43342269661263,1.4210751440257512,1.4087275914388724,1.3963800388519936,1.3840324862651148,1.371684933678236]
[634,{"$f":"+正規乱数!L642","v":8.3761288638413927},{"$f":"+正規乱数!M642","v":34.248265760699809},{"$f":"+正規乱数!N642","v":17.452550139353786},{"$f":"+正規乱数!O642","v":0.1388114362720439},26.178825209030677,13.089412604515337,22.671527672253035,16.991418422250685,3.8671971051273757,1.1547005383792515,9.6719205086116435,1.034356393431173,null,1.0179990383815523,1.0016416833319317,0.98528432828231116,0.9689269732326905,0.95256961818306995,0.93621226313344941,0.91985490808382875,0.9034975530342082,0.88714019798458765,0.87078284293496699,0.85442548788534656,0.8380681328357259,0.82171077778610524,0.80535342273648458,0.78899606768686414,0.77263871263724349,0.75628135758762283,0.73992400253800239,0.72356664748838173,0.70720929243876107,0.69085193738914052]
[635,{"$f":"+正規乱数!L643","v":8.8516713058294947},{"$f":"+正規乱数!M643","v":31.486884395180649},{"$f":"+正規乱数!N643","v":19.785298312758215},{"$f":"+正規乱数!O643","v":0.17687437795280239},29.677947469137322,14.838973734568659,25.70185644045301,16.991418422250685,5.3350209937202795,1.1547005383792515,10.22102962239749,1.0483238864341824,null,1.0317842648581481,1.0152446432821141,0.99870502170608011,0.98216540013004594,0.96562577855401188,0.94908615697797782,0.93254653540194388,0.91600691382590971,0.89946729224987565,0.88292767067384159,0.86638804909780753,0.84984842752177336,0.83330880594573931,0.81676918436970525,0.80022956279367108,0.78368994121763713,0.76715031964160296,0.7506106980655689,0.73407107648953485,0.71753145491350068,0.70099183333746662]
[636,{"$f":"+正規乱数!L644","v":4},{"$f":"+正規乱数!M644","v":34.61610362595632},{"$f":"+正規乱数!N644","v":18.800058417780722},{"$f":"+正規乱数!O644","v":0.17651713108680395},28.200087626671085,14.100043813335541,24.421992273644381,16.991418422250685,5.1290924797761877,1.1547005383792515,4.6188021535170058,0.69133789670028034,null,0.67176059001639254,0.65218328333250475,0.63260597664861695,0.61302866996472916,0.59345136328084136,0.57387405659695356,0.55429674991306577,0.53471944322917797,0.51514213654529017,0.49556482986140243,0.47598752317751464,0.45641021649362679,0.43683290980973893,0.41725560312585119,0.39767829644196329,0.37810098975807549,0.35852368307418769,0.3389463763902999,0.31936906970641205,0.2997917630225243,0.28021445633863651]
[637,{"$f":"+正規乱数!L645","v":9.5320732715668672},{"$f":"+正規乱数!M645","v":36.53065791329081},{"$f":"+正規乱数!N645","v":17.387334134166931},{"$f":"+正規乱数!O645","v":0.16659064701212351},26.081001201250395,13.040500600625196,22.586809596415304,16.991418422250685,4.1450068312909742,1.1547005383792515,11.006690138548734,1.1618953469557216,null,1.1404556066793363,1.1190158664029513,1.097576126126566,1.0761363858501809,1.0546966455737956,1.0332569052974105,1.0118171650210253,0.99037742474464008,0.96893768446825479,0.94749794419186961,0.92605820391548432,0.90461846363909926,0.88317872336271397,0.86173898308632868,0.8402992428099435,0.81885950253355821,0.79741976225717304,0.77598002198078786,0.75454028170440257,0.7331005414280175,0.71166080115163222]
[638,{"$f":"+正規乱数!L646","v":13.111523399277681},{"$f":"+正規乱数!M646","v":39.350355862194036},{"$f":"+正規乱数!N646","v":18.827278958890176},{"$f":"+正規乱数!O646","v":0.19474456720356698},28.240918438335264,14.12045921916763,24.457352793802698,16.991418422250685,6.12176180470391,1.1547005383792515,15.139883128118091,1.5057332486722999,null,1.4801133645666755,1.4544934804610512,1.4288735963554264,1.4032537122498021,1.3776338281441778,1.3520139440385535,1.3263940599329291,1.3007741758273046,1.27515429172168,1.2495344076160557,1.2239145235104314,1.1982946394048071,1.1726747552991825,1.1470548711935582,1.1214349870879339,1.0958151029823093,1.070195218876685,1.0445753347710605,1.0189554506654361,0.99333556655981181,0.96771568245418726]
[639,{"$f":"+正規乱数!L647","v":10.807597323186807},{"$f":"+正規乱数!M647","v":41.335740652545979},{"$f":"+正規乱数!N647","v":18.598113005393433},{"$f":"+正規乱数!O647","v":0.14602116731065443},27.897169508090151,13.948584754045074,24.159657487686705,16.991418422250685,6.3053788248770655,1.1547005383792515,12.479538447669963,1.3467256788972388,null,1.325863832439385,1.3050019859815312,1.2841401395236771,1.2632782930658233,1.2424164466079695,1.2215546001501154,1.2006927536922614,1.1798309072344075,1.1589690607765537,1.1381072143186997,1.1172453678608458,1.0963835214029918,1.075521674945138,1.0546598284872839,1.0337979820294301,1.012936135571576,0.9920742891137222,0.97121244265586815,0.95035059619801421,0.92948874974016038,0.90862690328230644]
[640,{"$f":"+正規乱数!L648","v":8.357165380580204},{"$f":"+正規乱数!M648","v":38.705127742020011},{"$f":"+正規乱数!N648","v":17.69042090873555},{"$f":"+正規乱数!O648","v":0.16997454302543907},26.535631363103327,13.267815681551662,22.980530865906577,16.991418422250685,4.7990639393612025,1.1547005383792515,9.6500233642804041,1.0890328634676809,null,1.0657762275903355,1.0425195917129901,1.0192629558356445,0.99600631995829914,0.97274968408095375,0.94949304820360825,0.92623641232626286,0.90297977644891747,0.87972314057157197,0.85646650469422669,0.83320986881688119,0.80995323293953569,0.78669659706219019,0.76343996118484492,0.74018332530749942,0.71692668943015392,0.69367005355280864,0.67041341767546314,0.64715678179811764,0.62390014592077225,0.60064351004342664]
[641,{"$f":"+正規乱数!L649","v":9.8736128925136963},{"$f":"+正規乱数!M649","v":34.174873082698895},{"$f":"+正規乱数!N649","v":17.081013816935418},{"$f":"+正規乱数!O649","v":0.16631329903568112},25.621520725403126,12.810760362701561,22.188887831788609,16.991418422250685,3.5288654953289429,1.1547005383792515,11.401066122733884,1.1654211924478126,null,1.1454518573035051,1.1254825221591975,1.10551318701489,1.0855438518705824,1.0655745167262749,1.0456051815819674,1.0256358464376598,1.0056665112933523,0.98569717614904462,0.96572784100473719,0.94575850586042964,0.92578917071612199,0.90581983557181445,0.88585050042750679,0.86588116528319925,0.84591183013889182,{"$f":"+(($H651-$I651-AE$10*$G$6*$E651*$K651)*TAN($C651*PI()/180)+$L651)/$G651","v":0.82594249499458416},0.80597315985027662,0.78600382470596897,0.76603448956166142,0.74606515441735388]
[642,{"$f":"+正規乱数!L650","v":7.6544086200988142},{"$f":"+正規乱数!M650","v":33.520565411810956},{"$f":"+正規乱数!N650","v":16.923377356632901},{"$f":"+正規乱数!O650","v":0.12683924722891521},25.385066034949354,{"$f":"+F652*SIN($G$2*PI()/180)","v":12.692533017474675},21.984112063011654,{"$f":"+$G$5*$G$4*$G$6/COS($G$2*PI()/180)","v":16.991418422250685},3.3071695759320034,{"$f":"+$G$4/COS($G$2*PI()/180)","v":1.1547005383792515},8.8385497546028837,0.95691847433550492,null,0.94192178926000814,0.92692510418451146,0.91192841910901468,0.896931734033518,0.88193504895802122,0.86693836388252454,0.85194167880702776,0.83694499373153119,0.82194830865603441,0.80695162358053774,0.79195493850504095,0.77695825342954428,0.76196156835404749,0.74696488327855082,0.73196819820305403,0.71697151312755736,0.70197482805206057,0.6869781429765639,0.67198145790106711,0.65698477282557055,0.64198808775007388]
[643,{"$f":"+正規乱数!L651","v":10.937547647683784},{"$f":"+正規乱数!M651","v":40.117038472047824},{"$f":"+正規乱数!N651","v":17.749693222936404},{"$f":"+正規乱数!O651","v":0.13194773838181864},26.624539834404608,13.312269917202302,23.057527860665125,16.991418422250685,5.1112223152223812,1.1547005383792515,12.629592157329181,1.3326663734204061,null,1.3137458678270562,1.2948253622337063,1.2759048566403564,1.2569843510470062,1.2380638454536566,1.2191433398603064,1.2002228342669565,1.1813023286736064,1.1623818230802565,1.1434613174869066,1.1245408118935565,1.1056203063002066,1.0866998007068567,1.0677792951135068,1.0488587895201567,1.0299382839268065,1.0110177783334566,0.99209727274010684,0.97317676714675672,0.95425626155340681,0.9353357559600568]
[644,{"$f":"+正規乱数!L652","v":6.9608917934856969},{"$f":"+正規乱数!M652","v":37.029770437565205},{"$f":"+正規乱数!N652","v":20.528672020982558},{"$f":"+正規乱数!O652","v":0.16404180950416802},30.793008031473839,15.396504015736918,26.667527214194596,16.991418422250685,7.2993565960601616,1.1547005383792515,8.037745501537648,0.99614185674368727,null,0.97793291773924174,0.95972397873479631,0.94151503973035078,0.92330610072590524,0.90509716172145982,0.88688822271701429,0.86867928371256864,0.85047034470812333,0.83226140570367779,0.81405246669923226,0.79584352769478683,0.77763458869034119,0.75942564968589565,0.74121671068145023,0.72300777167700458,0.70479883267255905,0.68658989366811374,0.66838095466366809,0.65017201565922256,0.63196307665477713,0.6137541376503316]
[645,{"$f":"+正規乱数!L653","v":8.8033974663152552},{"$f":"+正規乱数!M653","v":34.438024477027177},{"$f":"+正規乱数!N653","v":18.256697542931889},{"$f":"+正規乱数!O653","v":0.13490650445300906},27.385046314397833,13.692523157198915,23.716145792081939,16.991418422250685,4.6110751395874505,1.1547005383792515,10.165287793920763,1.0791555919874025,null,1.0638501704984511,1.0485447490094997,1.0332393275205483,1.0179339060315966,1.0026284845426452,0.98732306305369377,0.97201764156474224,0.95671222007579071,0.94140679858683929,0.92610137709788787,0.91079595560893634,0.8954905341199848,0.88018511263103338,0.86487969114208196,0.84957426965313032,0.83426884816417879,0.81896342667522737,0.80365800518627595,0.78835258369732442,0.773047162208373,0.75774174071942146]
[646,{"$f":"+正規乱数!L654","v":7.7220183981609738},{"$f":"+正規乱数!M654","v":35.25713401195425},{"$f":"+正規乱数!N654","v":16.87894155894233},{"$f":"+正規乱数!O654","v":0.15872299760099012},25.318412338413495,12.659206169206746,21.926388268555463,16.991418422250685,3.4886133147881448,1.1547005383792515,8.9166188017309622,0.97993760040772337,null,0.9598573055376165,0.93977701066750963,0.91969671579740275,0.8996164209272961,0.87953612605718923,0.85945583118708235,0.83937553631697548,0.81929524144686861,0.79921494657676184,0.77913465170665497,0.75905435683654809,0.73897406196644122,0.71889376709633435,0.69881347222622758,0.6787331773561206,0.65865288248601384,0.63857258761590696,0.61849229274580009,0.59841199787569321,0.57833170300558645,0.55825140813547958]
[647,{"$f":"+正規乱数!L655","v":7.2552801899039618},{"$f":"+正規乱数!M655","v":36.073526601411629},{"$f":"+正規乱数!N655","v":18.21791581942438},{"$f":"+正規乱数!O655","v":0.18961654154356064},27.326873729136572,13.663436864568284,23.66576685544187,16.991418422250685,4.8622964601259095,1.1547005383792515,8.377675941374422,0.96900747101440698,null,0.9461031618233342,0.92319885263226109,0.9002945434411882,0.87739023425011531,0.85448592505904231,0.83158161586796953,0.80867730667689663,0.78577299748582363,0.76286868829475085,0.73996437910367785,0.71706006991260496,0.69415576072153196,0.67125145153045906,0.64834714233938617,0.62544283314831317,0.60253852395724028,0.57963421476616739,0.55672990557509439,0.53382559638402149,0.5109212871929486,0.48801697800187571]
[648,{"$f":"+正規乱数!L656","v":6.8625573681181571},{"$f":"+正規乱数!M656","v":37.655468492816595},{"$f":"+正規乱数!N656","v":19.41768659458025},{"$f":"+正規乱数!O656","v":0.17788314797010979},29.126529891870376,14.563264945935186,25.224314810446568,16.991418422250685,6.3528904334470955,1.1547005383792515,7.9241986876245347,0.98034947342330447,null,0.95899626482540523,0.93764305622750577,0.91628984762960619,0.89493663903170673,0.87358343043380737,0.85223022183590802,0.83087701323800844,0.80952380464010898,0.78817059604220963,0.76681738744431016,0.7454641788464107,0.72411097024851134,0.70275776165061177,0.68140455305271241,0.66005134445481284,0.63869813585691337,0.61734492725901402,0.59599171866111456,0.57463851006321498,0.55328530146531563,0.53193209286741616]
[649,{"$f":"+正規乱数!L657","v":9.6997451988687295},{"$f":"+正規乱数!M657","v":39.621213770215377},{"$f":"+正規乱数!N657","v":18.542429387432112},{"$f":"+正規乱数!O657","v":0.12309767650534351},27.813644081148169,13.906822040574083,24.087322346093007,16.991418422250685,5.8746689038133448,1.1547005383792515,11.200301003275282,1.2278124978712792,null,1.2112102842406673,1.194608070610055,1.1780058569794432,1.1614036433488313,1.144801429718219,1.1281992160876069,1.1115970024569948,1.0949947888263827,1.0783925751957706,{"$f":"+(($H659-$I659-X$10*$G$6*$E659*$K659)*TAN($C659*PI()/180)+$L659)/$G659","v":1.0617903615651587},1.0451881479345466,1.0285859343039345,1.0119837206733224,0.99538150704271044,0.97877929341209824,0.96217707978148614,0.94557486615087405,0.92897265252026195,0.91237043888964986,0.89576822525903788,0.87916601162842578]
[650,{"$f":"+正規乱数!L658","v":9.7633641826602648},{"$f":"+正規乱数!M658","v":34.010559964476201},{"$f":"+正規乱数!N658","v":19.547318868397099},{"$f":"+正規乱数!O658","v":0.11283639694645492},29.320978302595648,14.660489151297822,25.392712073860164,16.991418422250685,5.6689972780565165,1.1547005383792515,11.273761878110509,1.1556748878782919,null,1.1439088781280664,1.1321428683778407,1.1203768586276148,1.1086108488773891,1.0968448391271637,1.085078829376938,1.0733128196267123,1.0615468098764869,1.049780800126261,1.0380147903760353,1.0262487806258098,1.0144827708755841,1.0027167611253585,0.99095075137513278,0.97918474162490698,0.96741873187468141,0.95565272212445573,0.94388671237423005,0.93212070262400448,0.9203546928737788,0.90858868312355312]
[651,{"$f":"+正規乱数!L659","v":9.7309019684278706},{"$f":"+正規乱数!M659","v":34.895549479947391},{"$f":"+正規乱数!N659","v":17.415755491289488},{"$f":"+正規乱数!O659","v":0.14311640887121421},26.123633236934232,13.061816618467114,22.623730022332552,16.991418422250685,3.928504621937678,1.1547005383792515,11.23627774185938,1.1610010159196937,null,1.143687119530431,1.1263732231411685,1.1090593267519058,1.0917454303626433,1.0744315339733805,1.0571176375841178,1.0398037411948553,1.0224898448055926,1.0051759484163298,0.98786205202706723,0.97054815563780461,0.95323425924854188,0.93592036285927915,0.91860646647001654,0.90129257008075392,0.8839786736914913,0.86666477730222857,0.84935088091296573,0.83203698452370312,0.81472308813444061,0.79740919174517799]
[652,{"$f":"+正規乱数!L660","v":12.213778006347766},{"$f":"+正規乱数!M660","v":29.005100111948224},{"$f":"+正規乱数!N660","v":19.584482959678244},{"$f":"+正規乱数!O660","v":0.11087177722960923},29.376724439517368,14.688362219758682,25.440989644597217,16.991418422250685,4.6846570836788528,1.1547005383792515,14.103256039574426,1.2791019748941042,null,1.2696208658452572,1.2601397567964103,1.2506586477475634,1.2411775386987163,1.2316964296498694,1.2222153206010224,1.2127342115521755,1.2032531025033284,1.1937719934544817,1.1842908844056348,1.1748097753567879,1.1653286663079407,1.1558475572590938,1.1463664482102469,1.1368853391613998,1.1274042301125529,1.1179231210637059,1.108442012014859,1.0989609029660119,1.089479793917165,1.0799986848683181]
[653,{"$f":"+正規乱数!L661","v":10.817326483625802},{"$f":"+正規乱数!M661","v":32.689088027849984},{"$f":"+正規乱数!N661","v":19.539756325350847},{"$f":"+正規乱数!O661","v":0.13099975966738076},29.309634488026269,14.654817244013133,25.382888042267261,16.991418422250685,5.3849711941011433,1.1547005383792515,12.490772714466848,1.2197862048310899,null,1.2067903808281055,1.1937945568251211,1.1807987328221365,1.1678029088191522,1.1548070848161678,1.1418112608131832,1.1288154368101988,1.1158196128072144,1.10282378880423,1.0898279648012454,1.0768321407982611,1.0638363167952767,1.0508404927922921,1.0378446687893077,1.0248488447863231,1.0118530207833387,0.99885719678035445,0.98586137277736996,0.97286554877438536,0.95986972477140098,0.94687390076841649]
[654,{"$f":"+正規乱数!L662","v":11.081243175695182},{"$f":"+正規乱数!M662","v":33.98581826881037},{"$f":"+正規乱数!N662","v":19.315052978680168},{"$f":"+正規乱数!O662","v":0.15922082552487457},28.97257946802025,14.486289734010123,25.090989832468974,16.991418422250685,5.4603134946201752,1.1547005383792515,12.795517460886632,1.2602144020802486,null,1.2434276523945802,1.2266409027089118,1.2098541530232436,1.1930674033375752,1.176280653651907,1.1594939039662389,1.1427071542805705,1.1259204045949021,1.1091336549092339,1.0923469052235657,1.0755601555378973,1.0587734058522291,1.0419866561665607,1.0251999064808925,1.0084131567952241,0.99162640710955596,0.97483965742388767,0.95805290773821938,0.94126615805255109,0.9244794083668828,0.90769265868121451]
[655,{"$f":"+正規乱数!L663","v":7.9241191642491069},{"$f":"+正規乱数!M663","v":28.620421830119021},{"$f":"+正規乱数!N663","v":20.57709958059522},{"$f":"+正規乱数!O663","v":0.1545985014159047},30.865649370892832,15.432824685446414,26.730436459496371,16.991418422250685,5.3143890191770566,1.1547005383792515,9.1499846651397885,0.93724732698850355,null,0.92486317137909091,0.91247901576967816,0.90009486016026552,0.88771070455085277,0.87532654894144002,0.86294239333202738,0.85055823772261463,0.83817408211320199,0.82578992650378924,0.8134057708943766,0.80102161528496385,0.78863745967555132,0.77625330406613846,0.76386914845672582,0.75148499284731307,0.73910083723790043,0.72671668162848768,0.71433252601907504,0.70194837040966229,0.68956421480024965,0.6771800591908369]
[656,{"$f":"+正規乱数!L664","v":7.6186793362214207},{"$f":"+正規乱数!M664","v":32.198907991262807},{"$f":"+正規乱数!N664","v":17.758025108850035},{"$f":"+正規乱数!O664","v":0.15803353161162043},26.637037663275052,13.318518831637524,23.068351297959079,16.991418422250685,3.8266871192131999,1.1547005383792515,8.7972931312737526,0.94785166504395901,null,0.93092387737088766,0.91399608969781621,0.89706830202474475,0.88014051435167318,0.86321272667860183,0.84628493900553026,0.8293571513324588,0.81242936365938734,0.79550157598631599,0.77857378831324442,0.76164600064017296,0.74471821296710139,0.72779042529402993,0.71086263762095847,0.69393484994788701,0.67700706227481555,0.66007927460174409,0.64315148692867252,0.62622369925560106,0.60929591158252971,0.59236812390945814]
[657,{"$f":"+正規乱数!L665","v":8.3951261729594826},{"$f":"+正規乱数!M665","v":41.3842511203231},{"$f":"+正規乱数!N665","v":18.777739928560489},{"$f":"+正規乱数!O665","v":0.13151196230762996},28.166609892840732,14.083304946420364,24.392999705686162,16.991418422250685,6.5217567816071984,1.1547005383792515,9.693856711678059,1.1514068292192221,null,1.1327658324267689,1.1141248356343156,1.0954838388418626,1.0768428420494096,1.0582018452569566,1.0395608484645034,1.0209198516720503,1.0022788548795973,0.98363785808714421,0.96499686129469109,0.94635586450223808,0.92771486770978495,0.90907387091733172,0.8904328741248787,0.87179187733242558,0.85315088053997246,0.83450988374751933,0.81586888695506632,0.79722789016261308,0.77858689337016007,0.75994589657770695]
[658,{"$f":"+正規乱数!L666","v":9.6823137152591379},{"$f":"+正規乱数!M666","v":33.81899163945203},{"$f":"+正規乱数!N666","v":17.642352950317772},{"$f":"+正規乱数!O666","v":0.14881386305634459},26.463529425476658,13.231764712738327,22.918088756259799,16.991418422250685,3.9704054933728821,1.1547005383792515,11.180172859766538,1.1450157013866664,null,1.1279463081025209,1.1108769148183752,1.0938075215342298,1.0767381282500841,1.0596687349659386,1.0425993416817929,1.0255299483976474,1.0084605551135017,0.99139116182935627,0.97432176854521069,0.9572523752610651,0.94018298197691952,0.92311358869277393,0.90604419540862835,0.88897480212448265,0.87190540884033718,0.85483601555619149,0.8377666222720459,0.82069722898790032,0.80362783570375473,0.78655844241960915]
[659,{"$f":"+正規乱数!L667","v":10.135854370327685},{"$f":"+正規乱数!M667","v":37.408827979908303},{"$f":"+正規乱数!N667","v":17.613733963050993},{"$f":"+正規乱数!O667","v":0.13607757316660818},26.420600944576492,13.210300472288244,22.880911601254379,16.991418422250685,4.5042955893315355,1.1547005383792515,11.703876498351066,1.2269344002949145,null,1.2090863331718367,1.1912382660487588,1.173390198925681,1.1555421318026031,1.1376940646795253,1.1198459975564474,1.1019979304333696,1.084149863310292,1.0663017961872139,1.048453729064136,1.0306056619410582,1.0127575948179806,0.9949095276949026,0.97706146057182486,0.95921339344874701,0.94136532632566905,0.92351725920259131,0.90566919207951335,0.88782112495643561,0.86997305783335777,0.85212499071027981]
[660,{"$f":"+正規乱数!L668","v":8.9839975804185599},{"$f":"+正規乱数!M668","v":36.382033558858488},{"$f":"+正規乱数!N668","v":18.099125077412047},{"$f":"+正規乱数!O668","v":0.21312604426748677},27.148687616118071,13.574343808059034,23.511453154966244,16.991418422250685,4.8038290912063788,1.1547005383792515,10.373826842907203,1.1181134166575821,null,1.0919060316124118,1.0656986465672418,1.0394912615220713,1.013283876476901,0.98707649143173082,0.96086910638656042,0.93466172134139014,0.90845433629621997,0.88224695125104968,0.85603956620587929,0.82983218116070911,0.80362479611553883,0.77741741107036844,0.75121002602519826,0.72500264098002787,0.69879525593485758,0.67258787088968719,0.64638048584451691,0.62017310079934662,0.59396571575417645,0.56775833070900616]
[661,{"$f":"+正規乱数!L669","v":7.5288539634165508},{"$f":"+正規乱数!M669","v":38.489848697618768},{"$f":"+正規乱数!N669","v":19.295287365450925},{"$f":"+正規乱数!O669","v":0.13557626007838006},28.942931048176387,14.471465524088192,25.065313547702125,16.991418422250685,6.4199309260077912,1.1547005383792515,8.6935717249358522,1.0443657296344149,null,1.0274890596488342,1.0106123896632533,0.99373571967767238,0.9768590496920917,0.9599823797065109,0.94310570972093022,0.92622903973534954,0.90935236974976874,0.89247569976418806,0.87559902977860726,0.85872235979302647,0.84184568980744567,0.82496901982186488,0.80809234983628409,0.7912156798507034,0.77433900986512261,0.75746233987954181,0.74058566989396102,0.72370899990838033,0.70683232992279954,0.68995565993721875]
[662,{"$f":"+正規乱数!L670","v":7.6614401412284359},{"$f":"+正規乱数!M670","v":37.932781584493931},{"$f":"+正規乱数!N670","v":17.202482991013664},{"$f":"+正規乱数!O670","v":0.16672977602623629},25.803724486520494,12.901862243260245,22.34668091758132,16.991418422250685,4.1738811670943559,1.1547005383792515,8.8466690558368839,1.0091992905700877,null,0.98638071898188961,0.9635621473936915,0.94074357580549328,0.91792500421729517,0.89510643262909706,0.87228786104089895,0.84946928945270084,0.82665071786450273,0.80383214627630462,0.7810135746881065,0.7581950030999085,0.73537643151171017,0.71255785992351206,0.68973928833531384,0.66692071674711573,0.64410214515891762,0.62128357357071962,0.59846500198252151,0.57564643039432328,0.55282785880612528,0.53000928721792706]
[663,{"$f":"+正規乱数!L671","v":12.246913215173002},{"$f":"+正規乱数!M671","v":34.510747781742758},{"$f":"+正規乱数!N671","v":17.312484949478087},{"$f":"+正規乱数!O671","v":0.17571091683294093},25.968727424217128,12.984363712108562,22.489577653325664,16.991418422250685,3.7802988821809365,1.1547005383792515,14.141517283044235,1.3802614099997979,null,1.35918215446727,1.3381028989347421,1.317023643402214,1.2959443878696861,1.2748651323371583,1.2537858768046306,1.2327066212721027,1.2116273657395749,1.1905481102070468,1.1694688546745191,1.148389599141991,1.1273103436094631,1.1062310880769353,1.0851518325444074,1.0640725770118795,1.0429933214793516,1.0219140659468238,1.0008348104142959,0.97975555488176802,0.95867629934924026,0.93759704381671227]
[664,{"$f":"+正規乱数!L672","v":10.795436088409629},{"$f":"+正規乱数!M672","v":37.495668426553642},{"$f":"+正規乱数!N672","v":17.83151152146149},{"$f":"+正規乱数!O672","v":0.16401115232415311},26.747267282192233,13.373633641096115,23.163812948190834,16.991418422250685,4.7355035588539671,1.1547005383792515,12.465495863325399,1.2861874254818868,null,1.2648714692778813,1.2435555130738758,1.2222395568698703,1.2009236006658648,1.1796076444618593,1.1582916882578538,1.1369757320538483,1.1156597758498428,1.0943438196458373,1.0730278634418318,1.051711907237826,1.0303959510338205,1.009079994829815,0.98776403862580953,0.96644808242180391,0.94513212621779841,0.9238161700137929,0.9025002138097874,0.88118425760578178,0.85986830140177639,0.83855234519777067]
[665,{"$f":"+正規乱数!L673","v":8.1202773157822712},{"$f":"+正規乱数!M673","v":31.464443599414928},{"$f":"+正規乱数!N673","v":17.009213460614649},{"$f":"+正規乱数!O673","v":0.16632239476297192},25.513820190921976,12.756910095460986,22.095616432926768,16.991418422250685,3.123501184008949,1.1547005383792515,9.3764885883226121,0.97986030149880576,null,0.96178490773490621,0.94370951397100644,0.92563412020710678,0.90755872644320712,0.88948333267930746,0.8714079389154078,0.85333254515150803,0.83525715138760848,{"$f":"+(($H675-$I675-W$10*$G$6*$E675*$K675)*TAN($C675*PI()/180)+$L675)/$G675","v":0.81718175762370882},0.79910636385980915,0.78103097009590949,0.76295557633200972,0.74488018256811006,0.72680478880421051,0.70872939504031074,0.69065400127641108,0.67257860751251142,0.65450321374861165,0.63642781998471198,0.61835242622081232,0.60027703245691266]
[666,{"$f":"+正規乱数!L674","v":8.2435950143389469},{"$f":"+正規乱数!M674","v":33.963702013123722},{"$f":"+正規乱数!N674","v":17.735772131078129},{"$f":"+正規乱数!O674","v":0.11308251526078783},26.603658196617193,13.301829098308595,23.039443831868596,16.991418422250685,4.0738722832420455,1.1547005383792515,9.5188836012376949,1.0218711865880263,null,1.0088980117823456,0.9959248369766649,0.98295166217098418,0.96997848736530323,0.95700531255962251,0.94403213775394179,0.93105896294826107,0.91808578814258035,0.90511261333689963,0.8921394385312188,0.87916626372553808,0.86619308891985736,0.85321991411417653,0.8402467393084958,0.82727356450281508,0.81430038969713436,0.80132721489145364,0.78835404008577281,0.77538086528009209,0.76240769047441137,0.74943451566873065]
[667,{"$f":"+正規乱数!L675","v":12.737115683721994},{"$f":"+正規乱数!M675","v":39.090523732884826},{"$f":"+正規乱数!N675","v":18.297708530184746},{"$f":"+正規乱数!O675","v":0.15822001825289941},{"$f":"+$G$3*$G$4*D677","v":27.446562795277117},13.723281397638557,{"$f":"+F677*COS($G$2*PI()/180)","v":23.769420627274819},16.991418422250685,{"$f":"+(H677-I677)*TAN(C677*PI()/180)","v":5.5064718187201063},1.1547005383792515,{"$f":"+K677*B677","v":14.707554337392594},{"$f":"+(J677+L677)/G677","v":1.4729732321594049},null,1.4517533216482326,1.4305334111370605,1.4093135006258883,1.3880935901147162,1.3668736796035439,1.3456537690923718,1.3244338585811994,1.3032139480700273,1.2819940375588552,1.2607741270476831,1.239554216536511,1.2183343060253387,1.1971143955141665,1.1758944850029944,1.1546745744918221,1.13345466398065,1.1122347534694779,1.0910148429583055,1.0697949324471332,1.0485750219359611,1.027355111424789]
[668,{"$f":"+正規乱数!L676","v":8.3612695526682952},{"$f":"+正規乱数!M676","v":35.76570959360177},{"$f":"+正規乱数!N676","v":20.23180516174018},{"$f":"+正規乱数!O676","v":0.13206960447203506},30.347707742610268,15.173853871305132,26.281885851726194,16.991418422250685,6.6920477293210041,1.1547005383792515,9.6547624540001227,1.0773011472210194,null,1.0630976001177856,1.0488940530145519,1.0346905059113178,1.020486958808084,1.0062834117048503,0.99207986460161646,0.97787631749838255,0.96367277039514876,0.94946922329191485,0.93526567618868106,0.92106212908544727,0.90685858198221336,0.89265503487897946,0.87845148777574567,0.86424794067251176,0.85004439356927786,0.83584084646604406,0.82163729936281016,0.80743375225957625,0.79323020515634246,0.77902665805310856]
[669,{"$f":"+正規乱数!L677","v":10.451718939534928},{"$f":"+正規乱数!M677","v":31.726825303414532},{"$f":"+正規乱数!N677","v":18.319682336213408},{"$f":"+正規乱数!O677","v":0.14541718716346747},27.479523504320113,13.739761752160055,23.797965438632801,16.991418422250685,4.2082127204558146,1.1547005383792515,12.0686054864696,1.1846506875831748,null,1.1698263346827211,1.1550019817822677,1.1401776288818142,1.1253532759813605,1.110528923080907,1.0957045701804533,1.0808802172799998,1.0660558643795461,1.0512315114790927,1.0364071585786392,1.0215828056781855,1.006758452777732,0.99193409987727832,0.97710974697682473,0.96228539407637115,0.94746104117591756,0.93263668827546398,0.91781233537501039,0.90298798247455681,0.88816362957410344,0.87333927667364986]
[670,{"$f":"+正規乱数!L678","v":12.415798829172672},{"$f":"+正規乱数!M678","v":37.074626621652214},{"$f":"+正規乱数!N678","v":18.53899272612302},{"$f":"+正規乱数!O678","v":8.88085898631856E-2},27.80848908918453,13.904244544592263,24.082857992096191,16.991418422250685,5.3582785700894346,1.1547005383792515,14.336529592454164,1.4164601391596958,null,1.4055264473034248,1.3945927554471536,1.3836590635908825,1.3727253717346113,1.36179167987834,1.350857988022069,1.339924296165798,1.3289906043095268,1.3180569124532555,1.3071232205969845,1.2961895287407132,1.2852558368844422,1.274322145028171,1.2633884531719,1.2524547613156287,1.2415210694593573,1.2305873776030862,1.219653685746815,1.2087199938905437,1.1977863020342727,1.1868526101780017]
[671,{"$f":"+正規乱数!L679","v":7.2279018240757331},{"$f":"+正規乱数!M679","v":39.625799858177778},{"$f":"+正規乱数!N679","v":16.643833282810075},{"$f":"+正規乱数!O679","v":0.15281881653195614},24.96574992421511,12.482874962107553,21.620973658899711,16.991418422250685,3.8334138252980248,1.1547005383792515,8.3460621276126226,0.97569478104059437,null,0.95272922220992962,0.92976366337926464,0.90679810454859999,0.88383254571793501,0.86086698688727015,0.83790142805660539,0.81493586922594075,0.79197031039527588,0.76900475156461101,0.74603919273394625,0.72307363390328139,0.70010807507261641,0.67714251624195165,0.65417695741128679,0.63121139858062203,0.60824583974995716,0.5852802809192923,0.56231472208862754,0.53934916325796256,0.5163836044272978,0.49341804559663288]
[672,{"$f":"+正規乱数!L680","v":11.312526467337268},{"$f":"+正規乱数!M680","v":37.514131943535375},{"$f":"+正規乱数!N680","v":16.348794612819006},{"$f":"+正規乱数!O680","v":0.21860886909831892},24.523191919228509,12.261595959614253,21.237707183933153,16.991418422250685,3.2599562888689548,1.1547005383792515,13.062580402263874,1.3311918566631951,null,1.3001825968219936,1.2691733369807916,1.2381640771395901,1.2071548172983884,1.1761455574571866,1.1451362976159849,1.1141270377747832,1.0831177779335814,1.0521085180923797,1.0210992582511782,0.99008999840997647,0.95908073856877474,0.9280714787275729,0.89706221888637117,0.86605295904516932,0.8350436992039677,0.80403443936276608,0.77302517952156435,0.7420159196803624,0.71100665983916089,0.67999739999795894]
[673,{"$f":"+正規乱数!L681","v":8.6128113296541642},{"$f":"+正規乱数!M681","v":35.286957950974006},{"$f":"+正規乱数!N681","v":18.384840025819901},{"$f":"+正規乱数!O681","v":0.15134830963759446},27.577260038729854,13.788630019364925,23.882607760309487,16.991418422250685,4.8768794078500965,1.1547005383792515,9.9452178793105794,1.0749506851909389,null,1.0573523063785601,1.0397539275661813,1.0221555487538028,1.0045571699414242,0.98695879112904528,0.9693604123166667,0.9517620335042879,0.93416365469190921,0.91656527587953052,0.89896689706715172,0.88136851825477303,0.86377013944239422,0.84617176063001553,0.82857338181763684,0.81097500300525804,0.79337662419287935,0.77577824538050055,0.75817986656812175,0.74058148775574295,0.72298310894336437,0.70538473013098568]
[674,{"$f":"+正規乱数!L682","v":9.5739638722289442},{"$f":"+正規乱数!M682","v":30.91821622041725},{"$f":"+正規乱数!N682","v":17.72464381626537},{"$f":"+正規乱数!O682","v":0.20596868295219087},26.586965724398055,13.293482862199026,23.024987726874858,16.991418422250685,3.6136226033993752,1.1547005383792515,11.055061237686266,1.1034492610508491,null,1.0824260392744722,1.0614028174980958,1.040379595721719,1.0193563739453424,0.99833315216896568,0.97730993039258895,0.95628670861621246,0.93526348683983573,0.91424026506345912,0.8932170432870824,0.87219382151070568,0.85117059973432907,0.83014737795795235,0.80912415618157563,0.78810093440519902,0.76707771262882229,0.74605449085244557,0.72503126907606896,0.70400804729969224,0.68298482552331552,0.66196160374693891]
[675,{"$f":"+正規乱数!L683","v":11.156012877412257},{"$f":"+正規乱数!M683","v":40.00708405409857},{"$f":"+正規乱数!N683","v":17.785313942645764},{"$f":"+正規乱数!O683","v":0.1484472469081117},26.677970913968647,13.338985456984322,23.103800532919209,16.991418422250685,5.1301855479780158,1.1547005383792515,12.881854075713795,1.3503305541322612,null,1.3291693538893543,1.3080081536464478,1.2868469534035409,1.2656857531606347,1.244524552917728,1.2233633526748213,1.2022021524319149,1.181040952189008,1.1598797519461013,1.1387185517031948,1.1175573514602883,1.0963961512173814,1.0752349509744747,1.0540737507315683,1.0329125504886614,1.0117513502457549,0.99059015000284834,0.96942894975994165,0.94826774951703485,0.92710654927412839,0.90594534903122159]
[676,{"$f":"+正規乱数!L684","v":9.6445535766327186},{"$f":"+正規乱数!M684","v":33.821347555758372},{"$f":"+正規乱数!N684","v":19.148804745374449},{"$f":"+正規乱数!O684","v":0.17528158198410163},28.723207118061673,14.361603559030835,24.875027042403424,16.991418422250685,5.28187071557549,1.1547005383792515,11.136571207365336,1.1432178764339038,null,1.1246926112937552,1.1061673461536066,1.0876420810134579,1.0691168158733093,1.0505915507331609,1.0320662855930123,1.0135410204528634,0.99501575531271491,0.97649049017256639,0.95796522503241788,0.93943995989226925,0.92091469475212051,0.90238942961197188,0.88386416447182325,0.86533889933167463,0.846813634191526,0.82828836905137748,0.80976310391122885,0.79123783877108023,0.77271257363093171,0.75418730849078297]
[677,{"$f":"+正規乱数!L685","v":10.434840727682239},{"$f":"+正規乱数!M685","v":35.710004717892559},{"$f":"+正規乱数!N685","v":16.75838475535495},{"$f":"+正規乱数!O685","v":0.16922462251151882},25.137577133032423,12.56878856651621,21.769780386796878,16.991418422250685,3.4348667536503261,1.1547005383792515,12.049116206156421,1.2319391704190761,null,1.2100126683420411,1.1880861662650064,1.1661596641879715,1.1442331621109365,1.1223066600339018,1.1003801579568668,1.0784536558798321,1.0565271538027972,1.0346006517257624,1.0126741496487275,0.99074764757169265,0.96882114549465781,0.94689464341762275,0.92496814134058791,0.90304163926355308,0.88111513718651835,0.85918863510948329,0.83726213303244845,0.8153356309554135,0.79340912887837867,0.77148262680134383]
[678,{"$f":"+正規乱数!L686","v":9.5637138344043038},{"$f":"+正規乱数!M686","v":31.895344272786772},{"$f":"+正規乱数!N686","v":18.262320062014751},{"$f":"+正規乱数!O686","v":0.16014687215542106},27.393480093022127,13.696740046511062,23.723449658620471,16.991418422250685,4.1895614615083518,1.1547005383792515,11.043225513491745,1.1121468994281094,null,1.0956617813404816,1.0791766632528541,1.0626915451652263,1.0462064270775986,1.0297213089899711,1.0132361909023433,0.99675107281471553,0.98026595472708777,0.96378083663946024,0.94729571855183259,0.93081060046420483,0.91432548237657707,0.89784036428894942,0.88135524620132166,0.8648701281136939,0.84838501002606626,0.8318998919384385,0.81541477385081085,0.79892965576318309,0.78244453767555555,0.76595941958792779]
[679,{"$f":"+正規乱数!L687","v":8.7945375765913969},{"$f":"+正規乱数!M687","v":38.587604669016017},{"$f":"+正規乱数!N687","v":18.902274705125649},{"$f":"+正規乱数!O687","v":0.18386894429968664},28.353412057688473,14.176706028844235,24.554775125926234,16.991418422250685,6.0350698168743175,1.1547005383792515,10.155057274486644,1.1420231934287259,null,1.1185771731891212,1.0951311529495169,1.0716851327099124,1.0482391124703079,1.0247930922307036,1.0013470719910991,0.97790105175149455,0.95445503151189015,0.93100901127228564,0.90756299103268112,0.88411697079307672,0.8606709505534722,0.8372249303138678,0.81377891007426328,0.79033288983465866,0.76688686959505425,0.74344084935544985,0.71999482911584534,0.69654880887624082,0.67310278863663653,0.6496567683970319]
[680,{"$f":"+正規乱数!L688","v":10.048680178204583},{"$f":"+正規乱数!M688","v":36.164608477355372},{"$f":"+正規乱数!N688","v":18.633670878791925},{"$f":"+正規乱数!O688","v":0.14560910920960152},27.950506318187887,13.975253159093942,24.205848520188169,16.991418422250685,5.2733242922963441,1.1547005383792515,11.603216411773744,1.207601788099862,null,1.1903481897969237,1.173094591493985,1.1558409931910467,1.1385873948881085,1.1213337965851702,1.1040801982822317,1.0868265999792934,1.0695730016763549,1.0523194033734167,1.0350658050704782,1.0178122067675399,1.0005586084646014,0.98330501016166316,0.96605141185872478,0.94879781355578641,0.93154421525284803,0.91429061694990965,0.89703701864697127,0.87978342034403301,0.86252982204109452,0.84527622373815614]
[681,{"$f":"+正規乱数!L689","v":7.3178683589236417},{"$f":"+正規乱数!M689","v":36.134577985475033},{"$f":"+正規乱数!N689","v":17.935473573277957},{"$f":"+正規乱数!O689","v":0.13831916482798223},26.903210359916933,13.451605179958465,23.298863615044755,16.991418422250685,4.6053013850766362,1.1547005383792515,8.4499465338376183,0.97053457518700126,null,0.95352548088031919,0.93651638657363701,0.91950729226695482,0.90249819796027275,0.88548910365359068,0.86848000934690861,0.85147091504022643,{"$f":"+(($H691-$I691-V$10*$G$6*$E691*$K691)*TAN($C691*PI()/180)+$L691)/$G691","v":0.83446182073354436},0.81745272642686218,0.80044363212018022,0.78343453781349803,0.76642544350681596,0.74941634920013367,0.7324072548934516,0.71539816058676942,0.69838906628008735,0.68137997197340527,0.66437087766672309,0.64736178336004091,0.63035268905335884,0.61334359474667666]
[682,{"$f":"+正規乱数!L690","v":9.7369873483537681},{"$f":"+正規乱数!M690","v":42.475788476346978},{"$f":"+正規乱数!N690","v":18.921971401068586},{"$f":"+正規乱数!O690","v":0.12275134900502729},28.382957101602877,14.191478550801436,24.580361884512033,16.991418422250685,6.948088203434498,1.1547005383792515,11.243304533336056,1.2818532383113266,null,1.2639120582250498,1.2459708781387733,1.2280296980524965,1.21008851796622,1.1921473378799432,1.1742061577936664,1.1562649777073897,1.1383237976211131,1.1203826175348364,1.1024414374485596,1.0845002573622828,1.0665590772760063,1.0486178971897295,1.0306767171034528,1.012735537017176,0.99479435693089946,0.97685317684462281,0.95891199675834604,0.94097081667206928,0.92302963658579262,0.90508845649951597]
[683,{"$f":"+正規乱数!L691","v":10.645835107801341},{"$f":"+正規乱数!M691","v":37.244192801041514},{"$f":"+正規乱数!N691","v":17.483917650134071},{"$f":"+正規乱数!O691","v":0.16721206958864482},26.225876475201105,13.112938237600551,22.712275264036847,16.991418422250685,4.3493255828285511,1.1547005383792515,12.292751530474945,1.2691341034142414,null,1.2471708426887382,1.2252075819632351,1.2032443212377322,1.181281060512229,1.1593177997867259,1.1373545390612227,1.1153912783357198,1.0934280176102167,1.0714647568847138,1.0495014961592106,1.0275382354337077,1.0055749747082043,0.98361171398270131,0.96164845325719839,0.93968519253169513,0.91772193180619221,0.89575867108068907,0.87379541035518582,0.85183214962968279,0.82986888890417987,0.80790562817867662]
[684,{"$f":"+正規乱数!L692","v":8.0942715009192767},{"$f":"+正規乱数!M692","v":29.913102075362957},{"$f":"+正規乱数!N692","v":18.59003582379626},{"$f":"+正規乱数!O692","v":0.14825786533044363},27.885053735694392,13.942526867847194,24.149164921005507,16.991418422250685,4.1180650783808188,1.1547005383792515,9.3464596598993204,0.96571624827423697,null,0.95185630297247481,0.93799635767071265,0.9241364123689505,0.91027646706718834,0.89641652176542619,0.88255657646366403,0.86869663116190199,0.85483668586013983,0.84097674055837779,0.82711679525661563,0.81325684995485348,0.79939690465309132,0.78553695935132917,0.7716770140495669,0.75781706874780497,0.74395712344604259,0.73009717814428066,0.71623723284251839,0.70237728754075623,0.68851734223899408,0.67465739693723203]
[685,{"$f":"+正規乱数!L693","v":10.936310092801012},{"$f":"+正規乱数!M693","v":37.216090302805121},{"$f":"+正規乱数!N693","v":17.905139541207447},{"$f":"+正規乱数!O693","v":0.11492019074572615},26.85770931181117,13.428854655905583,23.259458551486347,16.991418422250685,4.760476402136625,1.1547005383792515,12.62816315203977,1.2948713795580045,null,1.2801467497638537,1.2654221199697024,1.2506974901755514,1.2359728603814006,1.2212482305872496,1.2065236007930984,1.1917989709989476,1.1770743412047966,1.1623497114106456,1.1476250816164946,1.1329004518223436,1.1181758220281925,1.1034511922340418,1.0887265624398905,1.0740019326457397,1.0592773028515885,1.0445526730574377,1.0298280432632867,1.0151034134691357,1.0003787836749847,0.98565415388083366]
[686,{"$f":"+正規乱数!L694","v":10.073694553770464},{"$f":"+正規乱数!M694","v":29.967445320767528},{"$f":"+正規乱数!N694","v":18.972165773209721},{"$f":"+正規乱数!O694","v":0.15077614909059844},28.458248659814579,14.229124329907288,24.645566286613882,16.991418422250685,4.4133275878516844,1.1547005383792515,11.632100524706887,1.127646912103629,null,1.1138051251195711,1.0999633381355132,1.0861215511514553,1.0722797641673973,1.0584379771833394,1.0445961901992815,1.0307544032152238,1.0169126162311659,1.003070829247108,0.9892290422630502,0.97538725527899228,0.96154546829493437,0.94770368131087657,0.93386189432681865,0.92002010734276074,0.90617832035870283,0.89233653337464502,0.87849474639058711,0.8646529594065292,0.85081117242247128,0.83696938543841337]
[687,{"$f":"+正規乱数!L695","v":9.4713642299700389},{"$f":"+正規乱数!M695","v":36.018184752785828},{"$f":"+正規乱数!N695","v":19.382985313853602},{"$f":"+正規乱数!O695","v":0.14961302556519923},29.074477970780404,14.5372389853902,25.179236524466866,16.991418422250685,5.9527694098458648,1.1547005383792515,10.936589375532389,1.1617996238730004,null,1.1448481790377256,1.1278967342024506,1.1109452893671758,1.0939938445319006,1.0770423996966259,1.0600909548613509,1.0431395100260761,1.0261880651908011,1.0092366203555261,0.99228517552025131,0.97533373068497631,0.95838228584970142,0.94143084101442642,0.92447939617915131,0.90752795134387654,0.89057650650860143,0.87362506167332665,0.85667361683805165,0.83972217200277677,0.82277072716750188,0.80581928233222688]
[688,{"$f":"+正規乱数!L696","v":9.4078051104157918},{"$f":"+正規乱数!M696","v":33.914275413450312},{"$f":"+正規乱数!N696","v":18.789809586478164},{"$f":"+正規乱数!O696","v":0.1231344266950832},28.184714379717246,14.092357189858621,24.408678651243704,16.991418422250685,4.9868749825182128,1.1547005383792515,10.863197625964188,1.1247282761104507,null,1.1114191608457449,1.0981100455810393,1.0848009303163337,1.0714918150516279,1.0581826997869224,1.0448735845222168,1.031564469257511,1.0182553539928054,1.0049462387280998,0.99163712346339405,0.97832800819868848,0.96501889293398269,0.951709777669277,0.93840066240457132,0.92509154713986574,0.91178243187516006,0.89847331661045438,0.8851642013457488,0.87185508608104312,0.85854597081633743,0.84523685555163164]
[689,{"$f":"+正規乱数!L697","v":9.3795519283144966},{"$f":"+正規乱数!M697","v":37.776691119497762},{"$f":"+正規乱数!N697","v":17.601006133920635},{"$f":"+正規乱数!O697","v":0.14654340849745651},26.401509200880952,13.200754600440474,22.864377666211499,16.991418422250685,4.5517086022288922,1.1547005383792515,10.830573661380896,1.1652577999667173,null,1.1457659362440562,1.1262740725213951,1.1067822087987342,1.0872903450760731,1.067798481353412,1.0483066176307512,1.0288147539080901,1.009322890185429,0.98983102646276799,0.97033916274010701,0.95084729901744602,0.93135543529478493,0.91186357157212383,0.89237170784946274,0.87287984412680186,0.85338798040414077,0.83389611668147967,0.8144042529588188,0.7949123892361577,0.77542052551349661,0.75592866179083551]
[690,{"$f":"+正規乱数!L698","v":5.0519104509638577},{"$f":"+正規乱数!M698","v":37.390608705788004},{"$f":"+正規乱数!N698","v":18.084929567497579},{"$f":"+正規乱数!O698","v":0.17137744823445863},27.127394351246366,13.563697175623181,23.493012646657835,16.991418422250685,4.9691557338768,1.1547005383792515,5.8334437175717335,0.7964347265775793,null,0.77455677256591871,0.75267881855425822,0.73080086454259763,0.70892291053093714,0.68704495651927655,0.66516700250761596,0.64328904849595536,0.62141109448429488,0.59953314047263428,0.57765518646097369,0.5557772324493131,0.5338992784376525,0.51202132442599191,0.49014337041433137,0.46826541640267078,0.44638746239101024,0.42450950837934964,0.40263155436768905,0.3807536003560284,0.35887564634436786,0.33699769233270727]
[691,{"$f":"+正規乱数!L699","v":10.986929764697079},{"$f":"+正規乱数!M699","v":33.319341759982422},{"$f":"+正規乱数!N699","v":17.122152474882743},{"$f":"+正規乱数!O699","v":0.16731906198529042},25.683228712324116,12.841614356162056,22.242328516078583,16.991418422250685,3.4517412390832463,1.1547005383792515,12.68661371443074,1.2567232207662415,null,1.2373189280291323,1.2179146352920227,1.1985103425549135,1.1791060498178039,1.1597017570806945,1.140297464343585,1.1208931716064756,1.1014888788693662,1.0820845861322568,1.0626802933951474,1.0432760006580379,1.0238717079209285,1.0044674151838189,0.98506312244670957,0.96565882970960015,0.94625453697249062,0.92685024423538132,0.90744595149827179,0.88804165876116237,0.86863736602405295,0.84923307328694342]
[692,{"$f":"+正規乱数!L700","v":7.2203192047786837},{"$f":"+正規乱数!M700","v":35.766504399989884},{"$f":"+正規乱数!N700","v":19.436922416019996},{"$f":"+正規乱数!O700","v":0.14069726479891345},29.155383624029994,14.577691812014995,25.249302875490788,16.991418422250685,5.9484384163431585,1.1547005383792515,8.3373064730279953,0.97997303507245104,null,0.96422235067639983,0.94847166628034874,0.93272098188429753,0.91697029748824632,0.901219613092195,0.88546892869614391,0.86971824430009281,0.8539675599040415,0.8382168755079904,0.82246619111193919,0.80671550671588799,0.79096482231983678,0.77521413792378557,0.75946345352773437,0.74371276913168327,0.72796208473563206,{"$f":"+(($H702-$I702-AE$10*$G$6*$E702*$K702)*TAN($C702*PI()/180)+$L702)/$G702","v":0.71221140033958086},0.69646071594352965,0.68071003154747833,0.66495934715142724,0.64920866275537603]
[693,{"$f":"+正規乱数!L701","v":9.378512088565401},{"$f":"+正規乱数!M701","v":34.554112071073391},{"$f":"+正規乱数!N701","v":18.278045025191734},{"$f":"+正規乱数!O701","v":0.18908861684686287},27.417067537787602,13.708533768893799,23.743876984997733,16.991418422250685,4.6502318722331664,1.1547005383792515,10.829372957862786,1.1291947841439405,null,1.1076741318419581,1.0861534795399757,1.0646328272379932,1.0431121749360108,1.0215915226340284,1.000070870332046,0.97855021803006348,0.95702956572808107,0.93550891342609865,0.91398826112411635,0.89246760882213383,0.87094695652015142,0.849426304218169,0.82790565191618659,0.80638499961420407,0.78486434731222166,0.76334369501023935,0.74182304270825672,0.72030239040627442,0.69878173810429201,0.67726108580230959]
[694,{"$f":"+正規乱数!L702","v":13.1080848029188},{"$f":"+正規乱数!M702","v":37.789968255032527},{"$f":"+正規乱数!N702","v":17.756508953551926},{"$f":"+正規乱数!O702","v":0.13657256299296833},26.634763430327887,13.317381715163942,23.06638175445271,16.991418422250685,4.7105211977730557,1.1547005383792515,15.135912579051222,1.4902654441620442,null,1.4722502774872952,1.4542351108125462,1.4362199441377967,1.4182047774630477,1.4001896107882987,1.3821744441135495,1.3641592774388005,1.3461441107640515,1.3281289440893023,1.3101137774145533,1.2920986107398043,1.2740834440650548,1.2560682773903058,1.2380531107155568,1.2200379440408076,1.2020227773660586,1.1840076106913093,1.1659924440165601,1.1479772773418111,1.1299621106670621,1.1119469439923129]
[695,{"$f":"+正規乱数!L703","v":12.465783151939132},{"$f":"+正規乱数!M703","v":31.934292318166584},{"$f":"+正規乱数!N703","v":15.659400987447659},{"$f":"+正規乱数!O703","v":0.17673396875474179},23.489101481171488,11.744550740585742,20.342158594765195,16.991418422250685,2.0884355638988024,1.1547005383792515,14.394246516863117,1.4034323189394189,null,1.3821836211100755,1.360934923280732,1.3396862254513886,1.318437527622045,1.2971888297927014,1.2759401319633581,1.2546914341340145,1.2334427363046712,1.2121940384753276,1.190945340645984,1.1696966428166407,1.1484479449872971,1.1271992471579535,1.1059505493286099,1.0847018514992666,1.063453153669923,1.0422044558405794,1.0209557580112358,0.99970706018189248,0.9784583623525489,0.95720966452320544]
[696,{"$f":"+正規乱数!L704","v":10.271713240385067},{"$f":"+正規乱数!M704","v":35.534856757114767},{"$f":"+正規乱数!N704","v":19.618509626611541},{"$f":"+正規乱数!O704","v":0.14749065335480896},29.427764439917311,14.713882219958654,25.485191581552737,16.991418422250685,6.0663492793731946,1.1547005383792515,11.860752808749922,1.2183801542060659,null,1.2021608451563566,1.1859415361066477,1.1697222270569383,1.1535029180072291,1.13728360895752,1.1210642999078109,1.1048449908581015,1.0886256818083924,1.0724063727586832,1.0561870637089741,1.0399677546592649,1.0237484456095556,1.0075291365598464,0.99130982751013719,0.97509051846042794,0.95887120941071879,0.94265190036100954,0.9264325913113004,0.91021328226159115,0.89399397321188201,0.87777466416217276]
[697,{"$f":"+正規乱数!L705","v":12.982774788890355},{"$f":"+正規乱数!M705","v":38.272770414763052},{"$f":"+正規乱数!N705","v":17.426855431450733},{"$f":"+正規乱数!O705","v":0.12591326317990978},26.140283147176099,13.070141573588048,22.638149267572739,16.991418422250685,4.4551635795247977,1.1547005383792515,14.991217038388266,1.4878477412371744,null,1.4706280196225665,1.4534082980079588,1.4361885763933511,1.4189688547787433,1.4017491331641359,1.3845294115495279,{"$f":"+(($H707-$I707-U$10*$G$6*$E707*$K707)*TAN($C707*PI()/180)+$L707)/$G707","v":1.3673096899349204},1.3500899683203127,1.3328702467057048,1.3156505250910973,1.2984308034764895,1.2812110818618818,1.2639913602472741,1.2467716386326662,1.2295519170180587,1.2123321954034509,1.1951124737888432,1.1778927521742355,1.1606730305596278,1.1434533089450201,1.1262335873304123]
[698,{"$f":"+正規乱数!L706","v":6.8108655310877504},{"$f":"+正規乱数!M706","v":37.596353197637683},{"$f":"+正規乱数!N706","v":17.193048894988554},{"$f":"+正規乱数!O706","v":0.11790662751190151},25.789573342482832,12.894786671241414,22.33442566735209,16.991418422250685,4.1141277667425307,1.1547005383792515,7.8645100955757119,0.92895199957309793,null,0.91300112724738058,0.89705025492166335,0.881099382595946,0.86514851027022877,0.84919763794451142,0.83324676561879429,0.81729589329307695,0.8013450209673596,0.78539414864164236,0.76944327631592513,0.75349240399020778,0.73754153166449044,0.72159065933877309,0.70563978701305596,0.68968891468733862,0.67373804236162138,0.65778717003590403,0.64183629771018669,0.62588542538446945,0.60993455305875222,0.59398368073303487]
[699,{"$f":"+正規乱数!L707","v":8.1017327469337577},{"$f":"+正規乱数!M707","v":39.367248367129527},{"$f":"+正規乱数!N707","v":17.212306601340501},{"$f":"+正規乱数!O707","v":0.16523021568861271},25.818459902010751,12.909229951005374,22.359442161731202,16.991418422250685,4.4042079805014867,1.1547005383792515,9.3550751646892216,1.0658484818545766,null,1.0420575805165884,1.0182666791786001,0.99447577784061192,0.97068487650262369,0.94689397516463547,0.92310307382664725,0.89931217248865902,0.87552127115067069,0.85173036981268258,0.82793946847469435,0.80414856713670613,0.78035766579871779,0.75656676446072957,0.73277586312274134,0.70898496178475301,0.68519406044676479,0.66140315910877656,0.63761225777078845,0.6138213564328,0.59003045509481189,0.56623955375682355]
[700,{"$f":"+正規乱数!L708","v":8.2639401035544395},{"$f":"+正規乱数!M708","v":34.511399189968593},{"$f":"+正規乱数!N708","v":17.442595868388569},{"$f":"+正規乱数!O708","v":0.128742287751167},26.163893802582855,13.081946901291426,22.658596694954991,16.991418422250685,3.8966040297043172,1.1547005383792515,9.5423760867081988,1.0272920550599272,null,1.0119622506984047,0.99663244633688231,0.98130264197535977,0.96597283761383734,0.95064303325231481,0.93531322889079249,0.91998342452926996,0.90465362016774753,0.88932381580622499,0.87399401144470257,0.85866420708318003,0.84333440272165761,0.82800459836013507,0.81267479399861253,0.79734498963709011,0.78201518527556757,0.76668538091404526,0.75135557655252272,0.73602577219100018,0.72069596782947776,0.70536616346795522]
[701,{"$f":"+正規乱数!L709","v":11.23127543023805},{"$f":"+正規乱数!M709","v":29.335221392647213},{"$f":"+正規乱数!N709","v":16.635407788780288},{"$f":"+正規乱数!O709","v":0.13277248967433308},24.953111683170434,12.476555841585215,21.610028621095871,16.991418422250685,2.5955777563076614,1.1547005383792515,12.968759785981534,1.2474867054585843,null,1.2339377913687044,1.2203888772788247,1.2068399631889448,1.1932910490990649,1.179742135009185,1.1661932209193051,1.1526443068294252,1.1390953927395453,1.1255464786496656,1.1119975645597857,1.0984486504699058,1.0848997363800257,1.071350822290146,1.0578019082002661,1.0442529941103862,1.0307040800205063,1.0171551659306264,1.0036062518407465,0.99005733775086657,0.97650842366098678,0.96295950957110688]
[702,{"$f":"+正規乱数!L710","v":9.1846881391509836},{"$f":"+正規乱数!M710","v":32.725178008506994},{"$f":"+正規乱数!N710","v":18.834829665720886},{"$f":"+正規乱数!O710","v":0.14967446301882056},28.252244498581327,14.126122249290662,24.46716144970058,16.991418422250685,4.8039821358155637,1.1547005383792515,10.605564339123166,1.0908546735614237,null,1.0754291419885091,1.0600036104155945,1.0445780788426799,1.0291525472697653,1.0137270156968508,0.99830148412393604,0.98287595255102145,0.96745042097810685,0.95202488940519225,0.93659935783227777,0.92117382625936306,0.90574829468644846,0.89032276311353375,0.87489723154061916,0.85947169996770456,0.84404616839478996,0.82862063682187537,0.81319510524896066,0.79776957367604606,0.78234404210313147,0.76691851053021676]
[703,{"$f":"+正規乱数!L711","v":12.576232600170028},{"$f":"+正規乱数!M711","v":33.226286797513389},{"$f":"+正規乱数!N711","v":17.825902564368672},{"$f":"+正規乱数!O711","v":0.16505732086321684},26.738853846553006,13.369426923276501,23.15652669919416,16.991418422250685,4.0383747272574908,1.1547005383792515,14.521782554199026,1.3882537664455032,null,1.369932466783792,1.351611167122081,1.3332898674603699,1.3149685677986584,1.2966472681369474,1.2783259684752364,1.2600046688135254,1.2416833691518143,1.2233620694901031,1.205040769828392,1.186719470166681,1.16839817050497,1.1500768708432587,1.1317555711815477,1.1134342715198364,1.0951129718581254,1.0767916721964141,1.0584703725347031,1.0401490728729921,1.021827773211281,1.0035064735495698]
[704,{"$f":"+正規乱数!L712","v":8.5923191080228047},{"$f":"+正規乱数!M712","v":33.368029322355895},{"$f":"+正規乱数!N712","v":19.511576401240816},{"$f":"+正規乱数!O712","v":0.18714564616063667},29.267364601861225,14.633682300930611,25.346281247033254,16.991418422250685,5.5023305724868168,1.1547005383792515,9.9215554999602631,1.0539989699971972,null,1.0349179392235413,1.0158369084498851,0.99675587767622886,0.97767484690257256,0.95859381612891637,0.93951278535526017,0.92043175458160409,0.90135072380794767,0.88226969303429159,0.8631886622606354,0.8441076314869792,0.82502660071332301,0.80594556993966682,0.78686453916601062,0.76778350839235432,0.74870247761869813,0.72962144684504193,0.71054041607138563,0.69145938529772943,0.67237835452407335,0.65329732375041716]
[705,{"$f":"+正規乱数!L713","v":10.940575569036417},{"$f":"+正規乱数!M713","v":30.222171994974527},{"$f":"+正規乱数!N713","v":19.17984651510886},{"$f":"+正規乱数!O713","v":0.14996308540033462},28.769769772663288,14.384884886331642,24.915351484156062,16.991418422250685,4.6159451530800863,1.1547005383792515,12.633088499745236,1.199108215959042,null,1.185349871151103,1.171591526343164,1.1578331815352247,1.1440748367272859,1.1303164919193467,1.1165581471114079,1.1027998023034686,1.0890414574955296,1.0752831126875908,1.0615247678796516,1.0477664230717125,1.0340080782637735,1.0202497334558345,1.0064913886478954,0.99273304383995642,0.97897469903201728,0.96521635422407825,0.95145800941613923,0.93769966460820009,0.92394131980026106,0.91018297499232204]
[706,{"$f":"+正規乱数!L714","v":7.4597725114049824},{"$f":"+正規乱数!M714","v":32.880884691945724},{"$f":"+正規乱数!N714","v":18.643796041286166},{"$f":"+正規乱数!O714","v":0.17321201866640179},27.965694061929248,{"$f":"+F716*SIN($G$2*PI()/180)","v":13.982847030964622},24.219001492094357,{"$f":"+$G$5*$G$4*$G$6/COS($G$2*PI()/180)","v":16.991418422250685},4.6723134426098669,{"$f":"+$G$4/COS($G$2*PI()/180)","v":1.1547005383792515},8.6138033351060734,0.9501725040897756,null,0.93203031597741659,0.91388812786505746,0.89574593975269834,0.87760375164033944,0.85946156352798031,0.84131937541562118,0.82317718730326217,0.80503499919090304,0.78689281107854392,0.7687506229661849,0.75060843485382578,0.73246624674146665,0.71432405862910753,0.6961818705167484,0.67803968240438928,0.65989749429203037,0.64175530617967125,0.62361311806731212,0.605470929954953,0.58732874184259387,0.56918655373023475]
[707,{"$f":"+正規乱数!L715","v":6.7018109620755553},{"$f":"+正規乱数!M715","v":41.206729040527613},{"$f":"+正規乱数!N715","v":17.43976783679539},{"$f":"+正規乱数!O715","v":0.1050588444682159},26.159651755193085,13.079825877596541,22.654922974151393,16.991418422250685,4.9591984620334602,1.1547005383792515,7.7385847260246132,0.97079145448007531,null,0.95485743795389399,0.9389234214277129,0.92298940490153158,0.90705538837535027,0.89112137184916917,0.87518735532298786,0.85925333879680654,0.84331932227062545,0.82738530574444413,0.81145128921826304,0.79551727269208172,0.77958325616590041,0.76364923963971909,0.747715223113538,0.73178120658735668,0.71584719006117536,0.69991317353499427,0.68397915700881295,0.66804514048263164,0.65211112395645054,0.63617710743026923]
[708,{"$f":"+正規乱数!L716","v":10.129362274770958},{"$f":"+正規乱数!M716","v":30.722563782068704},{"$f":"+正規乱数!N716","v":16.858772376417036},{"$f":"+正規乱数!O716","v":0.13784704308689066},25.288158564625554,12.644079282312775,21.900187731894757,16.991418422250685,2.9172291933682666,1.1547005383792515,11.696380072116504,1.155766975134922,null,1.1410886486285619,1.1264103221222019,1.1117319956158418,1.0970536691094819,1.082375342603122,1.0676970160967618,1.0530186895904019,1.038340363084042,1.0236620365776818,1.0089837100713219,0.99430538356496201,0.97962705705860187,0.96494873055224184,0.95027040404588192,0.93559207753952189,0.92091375103316186,0.90623542452680195,0.89155709802044181,0.87687877151408189,0.86220044500772186,0.84752211850136183]
[709,{"$f":"+正規乱数!L717","v":10.156719396812477},{"$f":"+正規乱数!M717","v":35.050656882085683},{"$f":"+正規乱数!N717","v":17.124005966385187},{"$f":"+正規乱数!O717","v":0.15493365114742419},25.686008949577783,12.84300447478889,22.244736272168804,16.991418422250685,3.6853388712769743,1.1547005383792515,11.727969355666353,1.2001325902517594,null,1.1809595385883085,1.1617864869248575,1.1426134352614068,1.1234403835979558,1.1042673319345049,1.0850942802710539,1.065921228607603,1.0467481769441522,1.0275751252807015,1.0084020736172503,0.98922902195379947,0.97005597029034862,0.95088291862689767,0.93170986696344671,0.91253681529999575,0.89336376363654491,0.87419071197309395,0.8550176603096431,0.83584460864619214,0.8166715569827413,0.79749850531929034]
[710,{"$f":"+正規乱数!L718","v":7.7411498285460389},{"$f":"+正規乱数!M718","v":31.641405933664934},{"$f":"+正規乱数!N718","v":17.809490753224576},{"$f":"+正規乱数!O718","v":0.19662705738055763},26.714236129836863,13.35711806491843,23.135207131134809,16.991418422250685,3.7858070941715201,1.1547005383792515,8.9387098746965616,0.95263940222915067,null,0.93208896361054872,0.91153852499194687,0.89098808637334503,0.87043764775474308,0.84988720913614113,0.82933677051753918,0.80878633189893734,0.7882358932803355,0.76768545466173355,0.74713501604313171,0.72658457742452975,0.70603413880592791,0.68548370018732596,0.66493326156872412,0.64438282295012206,0.62383238433152011,0.60328194571291838,0.58273150709431643,0.56218106847571447,0.54163062985711263,0.52108019123851057]
[711,{"$f":"+正規乱数!L719","v":9.4746172018771908},{"$f":"+正規乱数!M719","v":33.202093962985877},{"$f":"+正規乱数!N719","v":18.425549114689126},{"$f":"+正規乱数!O719","v":0.15327030342400466},27.638323672033689,13.819161836016843,23.935490417997986,16.991418422250685,4.5444358486450884,1.1547005383792515,10.940345583944909,1.1205297120287032,null,1.1040855992061158,1.0876414863835284,1.071197373560941,1.0547532607383538,1.0383091479157665,1.0218650350931791,1.0054209222705919,0.98897680944800448,0.97253269662541708,0.95608858380282968,0.9396444709802424,0.923200358157655,0.9067562453350676,0.89031213251248043,0.87386801968989303,0.85742390686730563,0.84097979404471834,0.82453568122213095,0.80809156839954355,0.79164745557695626,0.77520334275436886]
[712,{"$f":"+正規乱数!L720","v":11.659562998413385},{"$f":"+正規乱数!M720","v":31.062174986655815},{"$f":"+正規乱数!N720","v":17.500034543506722},{"$f":"+正規乱数!O720","v":0.12718360534259124},26.250051815260083,13.12502590763004,22.733211722673051,16.991418422250685,3.458503278302989,1.1547005383792515,13.463303671534735,1.2892779845867186,null,1.276054680917988,1.2628313772492574,1.2496080735805271,1.2363847699117965,1.2231614662430661,1.2099381625743355,1.1967148589056049,1.1834915552368745,1.1702682515681442,1.1570449478994136,1.1438216442306832,1.1305983405619524,1.117375036893222,1.1041517332244914,1.0909284295557611,1.0777051258870305,1.0644818222182999,1.0512585185495695,1.0380352148808389,1.0248119112121086,1.011588607543378]
[713,{"$f":"+正規乱数!L721","v":12.742227074267259},{"$f":"+正規乱数!M721","v":40.185331659420527},{"$f":"+正規乱数!N721","v":18.595753003148989},{"$f":"+正規乱数!O721","v":0.14776345081914793},27.893629504723485,13.946814752361741,24.156591754841688,16.991418422250685,6.0518972590942566,1.1547005383792515,14.713456462807079,1.4888957866443984,null,1.4686224510513604,1.4483491154583226,1.4280757798652848,1.4078024442722468,1.3875291086792092,{"$f":"+(($H723-$I723-T$10*$G$6*$E723*$K723)*TAN($C723*PI()/180)+$L723)/$G723","v":1.3672557730861712},1.3469824374931332,1.3267091019000952,1.3064357663070572,1.2861624307140196,1.2658890951209816,1.2456157595279436,1.2253424239349056,1.2050690883418678,1.18479575274883,1.164522417155792,1.144249081562754,1.1239757459697162,1.1037024103766782,1.0834290747836404,1.0631557391906024]
[714,{"$f":"+正規乱数!L722","v":11.644156242853773},{"$f":"+正規乱数!M722","v":39.770869572700917},{"$f":"+正規乱数!N722","v":18.246668411383496},{"$f":"+正規乱数!O722","v":0.1571638973599164},27.370002617075244,13.68500130853762,23.703117568033733,16.991418422250685,5.5861982136586237,1.1547005383792515,13.445513482595373,1.3906985660557256,null,1.3690434667949678,1.34738836753421,1.3257332682734522,1.3040781690126944,1.2824230697519365,1.2607679704911789,1.2391128712304209,1.2174577719696631,1.1958026727089053,1.1741475734481475,1.1524924741873899,1.1308373749266318,1.109182275665874,1.0875271764051162,1.0658720771443584,1.0442169778836006,1.0225618786228428,1.0009067793620849,0.97925168010132702,0.9575965808405692,0.93594148157981139]
[715,{"$f":"+正規乱数!L723","v":10.059436832748712},{"$f":"+正規乱数!M723","v":28.576408322344822},{"$f":"+正規乱数!N723","v":19.525193053757576},{"$f":"+正規乱数!O723","v":0.19805012233173003},29.287789580636364,14.64389479031818,25.363969797524284,16.991418422250685,4.5603919958581418,1.1547005383792515,11.615637126567011,1.1046261499447498,null,1.0879371143872865,1.0712480788298229,1.0545590432723593,1.0378700077148957,1.0211809721574323,1.0044919365999687,0.98780290104250523,0.97111386548504175,0.95442482992757804,0.93773579437011456,0.92104675881265108,0.90435772325518748,0.887668687697724,0.87097965214026041,0.85429061658279681,0.83760158102533322,0.82091254546786974,0.80422350991040625,0.78753447435294266,0.77084543879547918,0.75415640323801547]
[716,{"$f":"+正規乱数!L724","v":12.496790356494699},{"$f":"+正規乱数!M724","v":38.382892272863025},{"$f":"+正規乱数!N724","v":19.338000118857909},{"$f":"+正規乱数!O724","v":0.14697716022412827},29.007000178286866,14.503500089143431,25.12079904197617,16.991418422250685,6.4393164563483385,1.1547005383792515,14.430050552657066,1.4389193560682039,null,1.4207337528017583,1.4025481495353123,1.3843625462688665,1.3661769430024207,1.3479913397359748,1.329805736469529,1.3116201332030832,1.2934345299366372,1.2752489266701914,1.2570633234037458,1.2388777201372998,1.220692116870854,1.2025065136044082,1.1843209103379624,1.1661353070715166,1.1479497038050708,1.1297641005386247,1.1115784972721789,1.0933928940057331,1.0752072907392873,1.0570216874728415]
[717,{"$f":"+正規乱数!L725","v":8.3466076127767561},{"$f":"+正規乱数!M725","v":32.93537878141931},{"$f":"+正規乱数!N725","v":17.402600744372659},{"$f":"+正規乱数!O725","v":0.17028006095512155},26.103901116558987,13.051950558279492,22.606641504817055,16.991418422250685,3.6375710679537021,1.1547005383792515,9.6378323041136795,1.0171202620474336,null,0.99797324073729488,0.97882621942715609,0.95967919811701752,0.94053217680687895,0.92138515549674027,0.9022381341866017,0.88309111287646314,0.86394409156632446,0.84479707025618589,0.82565004894604732,0.80650302763590864,0.78735600632577007,0.76820898501563151,0.74906196370549283,0.72991494239535426,0.71076792108521569,0.6916208997750769,0.67247387846493833,0.65332685715479966,0.63417983584466109,0.61503281453452252]
[718,{"$f":"+正規乱数!L726","v":11.876059544637723},{"$f":"+正規乱数!M726","v":34.291946913679716},{"$f":"+正規乱数!N726","v":17.661293766999876},{"$f":"+正規乱数!O726","v":0.10725916128069374},26.491940650499814,13.245970325249905,22.942693598882485,16.991418422250685,4.058459086792241,1.1547005383792515,13.713292350017227,1.3416722973425639,null,1.3291619280238955,1.3166515587052272,1.3041411893865591,1.2916308200678905,1.2791204507492224,1.2666100814305543,1.254099712111886,1.2415893427932179,1.2290789734745493,1.2165686041558812,1.2040582348372129,1.1915478655185445,1.1790374961998764,1.1665271268812081,1.1540167575625397,1.1415063882438714,1.1289960189252033,1.116485649606535,1.1039752802878668,1.0914649109691985,1.0789545416505302]
[719,{"$f":"+正規乱数!L727","v":12.832755833386631},{"$f":"+正規乱数!M727","v":36.919440629796924},{"$f":"+正規乱数!N727","v":16.696604555072376},{"$f":"+正規乱数!O727","v":0.21095225698770867},25.044906832608564,12.52245341630428,21.689525552453478,16.991418422250685,3.5299319648561909,1.1547005383792515,14.817990069701024,1.4652018597783845,null,1.4365266540692065,1.4078514483600286,1.3791762426508507,1.3505010369416728,1.3218258312324949,1.2931506255233169,1.2644754198141392,1.2358002141049613,1.2071250083957836,1.1784498026866057,1.1497745969774278,1.1210993912682499,1.0924241855590719,1.063748979849894,1.0350737741407161,1.0063985684315382,0.97772336272236027,0.94904815701318246,0.92037295130400454,0.89169774559482662,0.8630225398856487]
[720,{"$f":"+正規乱数!L728","v":8.1370499567757495},{"$f":"+正規乱数!M728","v":36.295442455894722},{"$f":"+正規乱数!N728","v":17.722724795111457},{"$f":"+正規乱数!O728","v":0.16978842029163915},26.584087192667184,13.29204359633359,23.022494845270323,16.991418422250685,4.4295275128140439,1.1547005383792515,9.3958559659078222,1.0401247466969932,null,1.0188704247929588,0.99761610288892433,0.97636178098488979,0.95510745908085548,0.93385313717682095,0.91259881527278652,0.89134449336875199,0.87009017146471757,0.84883584956068314,0.82758152765664883,0.8063272057526143,0.78507288384857976,0.76381856194454534,0.74256424004051091,0.72130991813647638,0.70005559623244196,0.67880127432840742,0.657546952424373,0.63629263052033858,0.61503830861630404,0.59378398671226962]
[721,{"$f":"+正規乱数!L729","v":9.8819180522522352},{"$f":"+正規乱数!M729","v":31.867580294017156},{"$f":"+正規乱数!N729","v":17.059011852374002},{"$f":"+正規乱数!O729","v":0.21140249575793063},25.588517778561005,12.794258889280501,22.160306441423582,16.991418422250685,3.2132929996859678,1.1547005383792515,11.4106560951553,1.1430086901785104,null,1.1197376095155653,1.0964665288526203,1.0731954481896753,1.0499243675267302,1.0266532868637852,1.0033822062008402,0.98011112553789514,0.95684004487495011,0.93356896421200508,0.91029788354906005,0.88702680288611513,0.86375572222316999,0.84048464156022495,0.81721356089728003,0.79394248023433489,0.77067139957138986,0.74740031890844494,0.7241292382454998,0.70085815758255476,0.67758707691960973,0.6543159962566647]
[722,{"$f":"+正規乱数!L730","v":8.107282101888309},{"$f":"+正規乱数!M730","v":30.587776163873752},{"$f":"+正規乱数!N730","v":17.63814978272654},{"$f":"+正規乱数!O730","v":0.2005962218878018},26.457224674089808,13.228612337044902,22.912628681394242,16.991418422250685,3.5000891026012937,1.1547005383792515,9.3614830078428994,0.97225406435315487,null,0.95194707934315992,0.93164009433316497,0.91133310932317013,0.89102612431317518,0.87071913930318023,0.8504121542931854,0.83010516928319045,0.8097981842731955,0.78949119926320055,0.76918421425320571,0.74887722924321076,0.72857024423321581,0.70826325922322086,0.68795627421322592,0.66764928920323097,0.64734230419323613,0.62703531918324118,0.60672833417324623,0.58642134916325128,0.56611436415325633,0.5458073791432615]
[723,{"$f":"+正規乱数!L731","v":7.3627208964668789},{"$f":"+正規乱数!M731","v":35.641817524664077},{"$f":"+正規乱数!N731","v":16.938267242366443},{"$f":"+正規乱数!O731","v":0.12195210313446198},25.407400863549665,12.703700431774831,22.003454591968694,16.991418422250685,3.5938013662457005,1.1547005383792515,8.5017377830864707,0.95212723365850871,null,0.93653288303421323,0.92093853240991763,0.90534418178562226,0.88974983116132678,0.87415548053703129,0.85856112991273581,0.84296677928844033,0.82737242866414495,0.81177807803984947,0.79618372741555399,0.7805893767912585,0.76499502616696302,0.74940067554266754,0.73380632491837205,0.71821197429407668,0.70261762366978109,0.68702327304548561,0.67142892242119023,0.65583457179689464,0.64024022117259916,0.62464587054830378]
[724,{"$f":"+正規乱数!L732","v":9.1261869501847883},{"$f":"+正規乱数!M732","v":34.619115715169812},{"$f":"+正規乱数!N732","v":16.806428940815181},{"$f":"+正規乱数!O732","v":8.1258258898125407E-2},25.209643411222771,12.604821705611384,21.832191614465916,16.991418422250685,3.3418099222788342,1.1547005383792515,10.538012984728073,1.1011518632451518,null,1.0910694107083267,1.0809869581715015,1.0709045056346762,1.0608220530978512,1.0507396005610261,1.0406571480242008,1.0305746954873756,1.0204922429505505,1.0104097904137253,1.0003273378769002,0.99024488534007504,0.98016243280324977,0.97007998026642461,0.95999752772959945,0.94991507519277429,0.93983262265594902,0.92975017011912398,0.9196677175822987,0.90958526504547366,0.8995028125086485,0.88942035997182323]
[725,{"$f":"+正規乱数!L733","v":9.4733415044621818},{"$f":"+正規乱数!M733","v":39.627467081087914},{"$f":"+正規乱数!N733","v":20.427838658784591},{"$f":"+正規乱数!O733","v":0.19332876257537362},30.641757988176884,15.32087899408844,26.536540834375938,16.991418422250685,7.9041225088710645,1.1547005383792515,10.938872535452989,1.2298899463663031,null,1.2062169451414706,1.1825439439166379,1.1588709426918049,1.1351979414669722,1.1115249402421394,1.0878519390173067,1.064178937792474,1.0405059365676412,1.0168329353428085,0.99315993411797565,0.96948693289314292,0.94581393166831018,0.92214093044347734,0.8984679292186446,0.87479492799381187,0.85112192676897902,0.8274489255441464,0.80377592431931344,0.78010292309448082,0.75642992186964797,0.73275692064481512]
[726,{"$f":"+正規乱数!L734","v":10.909543225836648},{"$f":"+正規乱数!M734","v":29.241668966168337},{"$f":"+正規乱数!N734","v":18.701330857336171},{"$f":"+正規乱数!O734","v":0.17738179332865578},28.051996286004254,14.025998143002125,24.29374141054641,16.991418422250685,4.0881026862905943,1.1547005383792515,12.597255436345293,1.1896021910540873,null,1.1735621899691744,1.1575221888842615,1.1414821877993484,1.1254421867144357,1.1094021856295226,1.09336218454461,1.0773221834596969,1.0612821823747842,1.0452421812898711,1.0292021802049582,1.0131621791200454,0.99712217803513248,0.98108217695021949,0.96504217586530661,0.94900217478039373,0.93296217369548085,0.91692217261056785,0.90088217152565497,0.88484217044074209,0.86880216935582932,0.85276216827091622]
[727,{"$f":"+正規乱数!L735","v":7.3823733501006554},{"$f":"+正規乱数!M735","v":30.184079536886777},{"$f":"+正規乱数!N735","v":16.30181186745596},{"$f":"+正規乱数!O735","v":0.176952272948661},24.45271780118394,12.226358900591968,21.176674807397255,16.991418422250685,2.4343207688239827,1.1547005383792515,8.5244304818778645,0.89632173730572018,null,0.87725031366653139,0.8581788900273426,0.83910746638815381,0.82003604274896502,0.80096461910977634,0.78189319547058755,0.76282177183139888,0.74375034819221009,0.72467892455302141,0.70560750091383262,0.68653607727464383,0.66746465363545504,0.64839322999626625,0.62932180635707757,0.61025038271788878,0.59117895907869999,0.57210753543951121,0.55303611180032242,0.53396468816113374,0.51489326452194495,0.49582184088275616]
[728,{"$f":"+正規乱数!L736","v":7.5445807161891842},{"$f":"+正規乱数!M736","v":35.246508120320378},{"$f":"+正規乱数!N736","v":18.015630238580744},{"$f":"+正規乱数!O736","v":0.16727151439071497},27.023445357871118,13.511722678935557,23.402990177697053,16.991418422250685,4.5306650267518034,1.1547005383792515,8.7117314148293694,0.98006721690830312,null,0.96024842927463738,0.94042964164097187,0.92061085400730636,0.90079206637364073,0.88097327873997522,0.86115449110630959,0.84133570347264408,0.82151691583897857,0.80169812820531294,0.78187934057164743,0.76206055293798169,0.74224176530431618,0.72242297767065056,0.70260419003698504,0.68278540240331942,0.66296661476965391,0.64314782713598828,0.62332903950232266,0.60351025186865714,0.58369146423499163,0.5638726766013259]
[729,{"$f":"+正規乱数!L737","v":11.722235555407764},{"$f":"+正規乱数!M737","v":34.664146476755803},{"$f":"+正規乱数!N737","v":18.081495239258611},{"$f":"+正規乱数!O737","v":0.14229834615292525},27.122242858887915,13.561121429443956,23.488551323408018,16.991418422250685,4.4928157205568482,1.1547005383792515,13.535671706837748,1.3294245259282966,null,1.3129857500522963,1.2965469741762963,1.280108198300296,1.2636694224242955,{"$f":"+(($H739-$I739-S$10*$G$6*$E739*$K739)*TAN($C739*PI()/180)+$L739)/$G739","v":1.2472306465482954},1.2307918706722949,1.2143530947962946,1.1979143189202945,1.1814755430442943,1.165036767168294,1.1485979912922937,1.1321592154162932,1.1157204395402931,1.0992816636642928,1.0828428877882925,1.0664041119122922,1.0499653360362919,1.0335265601602914,1.0170877842842911,1.0006490084082911,0.98421023253229079]
[730,{"$f":"+正規乱数!L738","v":10.787477945017807},{"$f":"+正規乱数!M738","v":35.604261438866985},{"$f":"+正規乱数!N738","v":17.198906145284447},{"$f":"+正規乱数!O738","v":0.10328181844815384},25.79835921792667,12.899179608963333,22.342034458680942,16.991418422250685,3.8312668089575488,1.1547005383792515,12.456306590866363,1.2626828909728542,null,1.2496940988093945,1.2367053066459346,1.2237165144824751,1.2107277223190154,1.1977389301555557,1.1847501379920957,1.1717613458286362,1.1587725536651763,1.1457837615017168,1.1327949693382571,1.1198061771747974,1.1068173850113376,1.0938285928478777,1.0808398006844182,1.0678510085209583,1.0548622163574988,1.0418734241940388,1.0288846320305793,1.0158958398671194,1.0029070477036597,0.98991825554020008]
[731,{"$f":"+正規乱数!L739","v":9.6584740483762452},{"$f":"+正規乱数!M739","v":37.960545194227635},{"$f":"+正規乱数!N739","v":18.06666357409021},{"$f":"+正規乱数!O739","v":0.14450097036198531},{"$f":"+$G$3*$G$4*D741","v":27.099995361135313},13.549997680567655,{"$f":"+F741*COS($G$2*PI()/180)","v":23.469284425183627},16.991418422250685,{"$f":"+(H741-I741)*TAN(C741*PI()/180)","v":5.0538838137211384},1.1547005383792515,{"$f":"+K741*B741","v":11.152645183582079},{"$f":"+(J741+L741)/G741","v":1.1960540052745066},null,1.177204792918521,1.1583555805625354,1.1395063682065496,1.120657155850564,1.1018079434945784,1.0829587311385926,1.0641095187826071,1.0452603064266215,1.0264110940706359,1.0075618817146501,0.98871266935866453,0.96986345700267884,0.95101424464669315,0.93216503229070757,0.91331581993472188,0.89446660757873619,0.87561739522275062,0.85676818286676493,0.83791897051077924,0.81906975815479366,0.80022054579880797]
[732,{"$f":"+正規乱数!L740","v":7.9558094605913459},{"$f":"+正規乱数!M740","v":32.819081831571111},{"$f":"+正規乱数!N740","v":18.779262954773138},{"$f":"+正規乱数!O740","v":0.22705661894841278},28.168894432159707,14.084447216079852,24.394978174772337,16.991418422250685,4.7747591682548709,1.1547005383792515,9.1865774673875684,0.99125911166063652,null,0.96770462646093924,0.94415014126124197,0.92059565606154459,0.8970411708618472,0.87348668566215004,0.84993220046245266,0.82637771526275527,0.80282323006305811,0.77926874486336073,0.75571425966366335,0.73215977446396607,0.7086052892642688,0.68505080406457142,0.66149631886487403,0.63794183366517665,0.61438734846547949,0.5908328632657821,0.56727837806608472,0.54372389286638745,0.52016940766669006,0.49661492246699268]
[733,{"$f":"+正規乱数!L741","v":7.033254019518556},{"$f":"+正規乱数!M741","v":34.007364212086578},{"$f":"+正規乱数!N741","v":19.063751681341401},{"$f":"+正規乱数!O741","v":0.19323600265567997},28.595627522012101,14.297813761006049,24.764539871219938,16.991418422250685,5.2444903651225676,1.1547005383792515,8.1213022028961106,0.934813726869961,null,0.91415542500672697,0.89349712314349283,0.87283882128025858,0.85218051941702444,0.8315222175537903,0.81086391569055616,0.79020561382732202,0.76954731196408777,0.74888901010085362,0.72823070823761948,0.70757240637438534,0.6869141045111512,0.66625580264791706,0.64559750078468281,0.62493919892144867,0.60428089705821453,0.58362259519498039,0.56296429333174625,0.54230599146851211,0.52164768960527796,0.50098938774204371]
[734,{"$f":"+正規乱数!L742","v":6.0901804686943475},{"$f":"+正規乱数!M742","v":36.176646496230205},{"$f":"+正規乱数!N742","v":15.443968881099373},{"$f":"+正規乱数!O742","v":0.15148187099757043},23.165953321649059,11.582976660824528,20.062304079432586,16.991418422250685,2.2456269596935767,1.1547005383792515,7.0323346660281647,0.80099976866061418,null,0.77933356514796803,0.75766736163532189,0.73600115812267564,0.71433495461002949,0.69266875109738335,0.67100254758473721,0.64933634407209095,0.62767014055944481,0.60600393704679867,0.58433773353415253,0.56267153002150627,0.54100532650886002,0.51933912299621376,0.49767291948356762,0.47600671597092148,0.45434051245827528,0.43267430894562903,0.41100810543298277,0.38934190192033663,0.36767569840769043,0.34600949489504429]
[735,{"$f":"+正規乱数!L743","v":8.4469785664386059},{"$f":"+正規乱数!M743","v":41.593828426599657},{"$f":"+正規乱数!N743","v":17.160653339183018},{"$f":"+正規乱数!O743","v":0.16070298558649468},25.740980008774528,12.870490004387262,22.292342605906125,16.991418422250685,4.7053597477858577,1.1547005383792515,9.7537306983446559,1.1234296783729083,null,1.098320154645674,1.0732106309184395,1.0481011071912052,1.0229915834639707,0.99788205973673627,0.97277253600950186,0.94766301228226757,0.92255348855503316,0.89744396482779876,0.87233444110056435,0.84722491737332994,0.82211539364609554,0.79700586991886113,0.77189634619162673,0.74678682246439232,0.72167729873715791,0.69656777500992351,0.67145825128268899,0.64634872755545458,0.62123920382822029,0.59612968010098588]
[736,{"$f":"+正規乱数!L744","v":9.3817594028787443},{"$f":"+正規乱数!M744","v":38.08669875424512},{"$f":"+正規乱数!N744","v":17.688964196352906},{"$f":"+正規乱数!O744","v":6.381554432104819E-2},26.533446294529359,13.266723147264678,22.978638541012508,16.991418422250685,4.6923361628425839,1.1547005383792515,10.83312263344869,1.1702557311216901,null,1.1617149994899754,1.1531742678582604,1.1446335362265458,1.1360928045948311,1.1275520729631161,1.1190113413314013,1.1104706096996866,1.101929878067972,1.0933891464362571,1.0848484148045425,1.0763076831728275,1.0677669515411128,1.059226219909398,1.0506854882776833,1.0421447566459685,1.0336040250142537,1.025063293382539,1.0165225617508242,1.0079818301191095,0.99944109848739471,0.99090036685567995]
[737,{"$f":"+正規乱数!L745","v":7.8751504670832944},{"$f":"+正規乱数!M745","v":34.107604392882017},{"$f":"+正規乱数!N745","v":17.716699185733876},{"$f":"+正規乱数!O745","v":0.14509134926721626},26.575048778600816,13.287524389300406,23.014667349078927,16.991418422250685,4.0792120761518227,1.1547005383792515,9.0934404841586929,0.99135491114639906,null,0.9746011897620902,0.95784746837778145,0.94109374699347259,0.92434002560916384,0.90758630422485498,0.89083258284054612,0.87407886145623725,0.85732514007192839,0.84057141868761953,0.82381769730331067,0.80706397591900203,0.79031025453469295,0.7735565331503842,0.75680281176607545,0.74004909038176647,0.72329536899745772,0.70654164761314886,0.68978792622884,0.67303420484453114,0.65628048346022227,0.63952676207591341]
[738,{"$f":"+正規乱数!L746","v":9.8003618764525235},{"$f":"+正規乱数!M746","v":36.387197797607158},{"$f":"+正規乱数!N746","v":18.060891624853454},{"$f":"+正規乱数!O746","v":0.16948832680985973},27.091337437280181,13.545668718640089,23.461786443181051,16.991418422250685,4.7681355037851931,1.1547005383792515,11.31648313505122,1.1874362922151267,null,1.1665468271143811,1.1456573620136352,1.1247678969128896,1.103878431812144,1.0829889667113981,1.0620995016106523,1.0412100365099066,1.020320571409161,0.99943110630841525,0.97854164120766951,0.95765217610692388,0.93676271100617803,0.9158732459054324,0.89498378080468666,0.87409431570394081,0.85320485060319506,0.83231538550244932,0.81142592040170358,0.79053645530095784,0.76964699020021221,0.74875752509946647]
[739,{"$f":"+正規乱数!L747","v":7.2391850442290293},{"$f":"+正規乱数!M747","v":37.539394313013091},{"$f":"+正規乱数!N747","v":17.585030978653599},{"$f":"+正規乱数!O747","v":0.19087946152516794},26.377546467980398,13.188773233990197,22.84362533077552,16.991418422250685,4.4969525661696688,1.1547005383792515,8.3590908679982849,0.97477174003077638,null,0.94957630823841088,0.92438087644604505,0.89918544465367944,0.87399001286131395,0.84879458106894823,0.82359914927658262,0.79840371748421701,0.7732082856918514,0.74801285389948591,0.7228174221071203,0.69762199031475458,0.67242655852238897,0.64723112673002325,0.62203569493765765,0.59684026314529204,0.57164483135292643,0.54644939956056082,0.5212539677681951,0.49605853597582938,0.47086310418346394,0.44566767239109817]
[740,{"$f":"+正規乱数!L748","v":10.885694647390835},{"$f":"+正規乱数!M748","v":37.435195188187393},{"$f":"+正規乱数!N748","v":17.92297847954007},{"$f":"+正規乱数!O748","v":0.18954710267164399},26.884467719310106,13.442233859655051,23.282632012145243,16.991418422250685,4.8161223781589486,1.1547005383792515,12.569717469974334,1.293374302935943,null,1.2689187684512979,1.2444632339666524,1.220007699482007,1.1955521649973617,1.1710966305127166,1.1466410960280713,1.122185561543426,1.0977300270587806,1.0732744925741353,1.0488189580894902,1.0243634236048449,0.99990788912019957,0.97545235463555413,0.95099682015090892,0.92654128566626348,0.90208575118161827,0.87763021669697294,0.85317468221232762,0.82871914772768218,0.80426361324303708,0.77980807875839175]
[741,{"$f":"+正規乱数!L749","v":11.01003877548191},{"$f":"+正規乱数!M749","v":35.475836587800508},{"$f":"+正規乱数!N749","v":18.16681158386314},{"$f":"+正規乱数!O749","v":0.16103701907299456},27.250217375794712,13.625108687897354,23.599380506086344,16.991418422250685,4.7092101493775109,1.1547005383792515,12.713297701625395,1.2787059721937213,null,1.2596234995787836,1.2405410269638457,1.2214585543489078,1.2023760817339704,1.1832936091190325,1.1642111365040946,1.1451286638891567,1.1260461912742188,1.1069637186592811,1.0878812460443432,1.0687987734294055,1.0497163008144677,1.0306338281995298,1.0115513555845919,0.99246888296965408,0.97338641035471629,0.95430393773977851,0.93522146512484061,0.91613899250990272,0.89705651989496504,0.87797404728002715]
[742,{"$f":"+正規乱数!L750","v":10.996579608210189},{"$f":"+正規乱数!M750","v":33.178480829860518},{"$f":"+正規乱数!N750","v":18.237023893609908},{"$f":"+正規乱数!O750","v":0.13330859517716839},27.355535840414863,13.67776792020743,23.690588971934968,16.991418422250685,4.3802217521546263,1.1547005383792515,12.697756393930602,1.2485939405986233,null,1.2341566281367558,1.2197193156748887,1.2052820032130214,1.1908446907511538,1.1764073782892868,1.1619700658274195,1.1475327533655524,1.1330954409036851,1.1186581284418178,1.1042208159799505,1.0897835035180832,1.0753461910562161,1.0609088785943486,1.0464715661324815,1.0320342536706142,1.0175969412087469,1.0031596287468796,0.98872231628501228,0.97428500382314498,0.95984769136127779,0.94541037889941049]
[743,{"$f":"+正規乱数!L751","v":10.18601993864813},{"$f":"+正規乱数!M751","v":30.257052606467859},{"$f":"+正規乱数!N751","v":19.610297058349136},{"$f":"+正規乱数!O751","v":0.15365079263815695},29.415445587523706,14.707722793761851,25.474523142434403,16.991418422250685,4.9485998820822319,1.1547005383792515,11.761802707098786,1.1361651850188927,null,1.122358632389127,1.1085520797593618,1.0947455271295963,1.080938974499831,1.0671324218700655,1.0533258692403,1.0395193166105345,1.025712763980769,1.0119062113510038,0.9980996587212384,0.98429310609147291,0.97048655346170754,0.95668000083194205,0.94287344820217667,0.92906689557241107,0.91526034294264569,{"$f":"+(($H753-$I753-AE$10*$G$6*$E753*$K753)*TAN($C753*PI()/180)+$L753)/$G753","v":0.90145379031288031},0.88764723768311471,0.87384068505334933,0.86003413242358395,0.84622757979381857]
[744,{"$f":"+正規乱数!L752","v":12.053864448677047},{"$f":"+正規乱数!M752","v":32.225938026815079},{"$f":"+正規乱数!N752","v":17.502553867264201},{"$f":"+正規乱数!O752","v":0.1378169318757313},26.253830800896303,13.12691540044815,22.736484420234554,16.991418422250685,3.6214943830714663,1.1547005383792515,13.918603768437904,1.3361934328388034,null,1.3212000007772584,1.3062065687157132,1.2912131366541679,1.2762197045926227,1.2612262725310777,1.2462328404695324,1.2312394084079872,1.2162459763464419,1.2012525442848969,1.1862591122233517,1.1712656801618064,1.1562722481002612,1.1412788160387159,1.1262853839771709,1.1112919519156257,1.0962985198540804,1.0813050877925352,1.06631165573099,1.0513182236694447,1.0363247916078997,1.0213313595463545]
[745,{"$f":"+正規乱数!L753","v":10.326662069339202},{"$f":"+正規乱数!M753","v":30.428519460041027},{"$f":"+正規乱数!N753","v":18.374331119883497},{"$f":"+正規乱数!O753","v":0.15888471155433753},27.561496679825247,13.780748339912622,23.868956291049127,16.991418422250685,4.0396305607208598,1.1547005383792515,11.924202251126571,1.1584155241854341,null,1.1430733701727782,1.1277312161601223,1.1123890621474661,{"$f":"+(($H755-$I755-R$10*$G$6*$E755*$K755)*TAN($C755*PI()/180)+$L755)/$G755","v":1.0970469081348102},1.0817047541221543,1.0663626001094983,1.0510204460968424,1.0356782920841865,1.0203361380715303,1.0049939840588744,0.98965183004621848,0.97430967603356244,0.95896752202090652,0.94362536800825036,0.92828321399559444,0.91294105998293851,0.89759890597028247,0.88225675195762654,0.8669145979449705,0.85157244393231457,0.83623028991965853]
[746,{"$f":"+正規乱数!L754","v":11.168744193766477},{"$f":"+正規乱数!M754","v":35.849211961428388},{"$f":"+正規乱数!N754","v":17.83593673301846},{"$f":"+正規乱数!O754","v":0.13477321151532567},26.753905099527692,13.376952549763844,23.169561466629023,16.991418422250685,4.4638889966040027,1.1547005383792515,12.896554933562289,1.2977876587050292,null,1.2812957778292366,1.2648038969534443,1.248312016077652,1.2318201352018596,1.2153282543260671,1.1988363734502745,1.1823444925744819,1.1658526116986896,1.149360730822897,1.1328688499471045,1.1163769690713121,1.0998850881955196,1.083393207319727,1.0669013264439347,1.0504094455681421,1.0339175646923495,1.017425683816557,1.0009338029407646,0.98444192206497205,0.9679500411891796,0.95145816031338704]
[747,{"$f":"+正規乱数!L755","v":10.008244388328549},{"$f":"+正規乱数!M755","v":33.911547858309319},{"$f":"+正規乱数!N755","v":18.872954231104529},{"$f":"+正規乱数!O755","v":0.14551413404115657},28.309431346656794,14.154715673328395,24.516686712896295,16.991418422250685,5.0589722981877694,1.1547005383792515,11.556525183434099,1.1738489041450901,null,1.1581917540921867,1.1425346040392832,1.1268774539863797,1.1112203039334763,1.0955631538805728,1.0799060038276693,1.0642488537747659,1.0485917037218624,1.0329345536689589,1.0172774036160555,1.001620253563152,0.98596310351024852,0.97030595345734505,0.95464880340444158,0.93899165335153789,0.92333450329863442,0.90767735324573107,0.8920202031928276,0.87636305313992391,0.86070590308702066,0.84504875303411697]
[748,{"$f":"+正規乱数!L756","v":10.73885030515096},{"$f":"+正規乱数!M756","v":33.287314192708365},{"$f":"+正規乱数!N756","v":16.596625111774255},{"$f":"+正規乱数!O756","v":8.5122056340506305E-2},24.894937667661381,12.447468833830689,21.55964844582488,16.991418422250685,2.9993185847379471,1.1547005383792515,12.400156228932001,1.2371571296339439,null,1.2269851831846723,1.2168132367354005,1.2066412902861292,1.1964693438368577,1.1862973973875861,1.1761254509383146,1.165953504489043,1.1557815580397715,1.1456096115904999,1.1354376651412283,1.1252657186919568,1.1150937722426852,1.1049218257934137,1.0947498793441421,1.0845779328948706,1.074405986445599,1.0642340399963275,1.0540620935470559,1.0438901470977844,1.0337182006485128,1.0235462541992413]
[749,{"$f":"+正規乱数!L757","v":9.3952702587907009},{"$f":"+正規乱数!M757","v":44.146153930770105},{"$f":"+正規乱数!N757","v":18.505016421733952},{"$f":"+正規乱数!O757","v":0.1017406352022299},27.757524632600926,13.878762316300461,24.038721478004721,16.991418422250685,6.8403283453773165,1.1547005383792515,10.848723626044192,1.2745410266624353,null,1.2584209880052397,1.2423009493480444,1.226180910690849,1.2100608720336532,1.1939408333764576,1.1778207947192623,1.1617007560620669,1.1455807174048716,1.1294606787476758,1.1133406400904804,1.0972206014332848,1.0811005627760895,1.0649805241188939,1.0488604854616983,1.0327404468045029,1.0166204081473074,1.000500369490112,0.98438033083291632,0.96826029217572085,0.95214025351852538,0.93602021486132991]
[750,{"$f":"+正規乱数!L758","v":14.104966021117516},{"$f":"+正規乱数!M758","v":33.58087180810552},{"$f":"+正規乱数!N758","v":18.573123665110749},{"$f":"+正規乱数!O758","v":0.11536668766168336},27.859685497666124,13.92984274883306,24.127195382423775,16.991418422250685,4.7375657620554863,1.1547005383792515,16.287011858405442,1.5093190927960916,null,1.4968620038448002,1.4844049148935088,1.4719478259422174,1.4594907369909262,1.4470336480396351,1.4345765590883437,1.4221194701370523,1.4096623811857609,1.3972052922344695,1.3847482032831782,1.372291114331887,1.3598340253805956,1.3473769364293042,1.3349198474780131,1.3224627585267217,1.3100056695754303,1.2975485806241389,1.2850914916728478,1.2726344027215561,1.260177313770265,1.2477202248189736]
[751,{"$f":"+正規乱数!L759","v":10.724810803684669},{"$f":"+正規乱数!M759","v":36.802977089444063},{"$f":"+正規乱数!N759","v":18.204017050042083},{"$f":"+正規乱数!O759","v":5.8053523728776688E-2},27.306025575063124,13.65301278753156,23.647711824392253,16.991418422250685,4.9800831083695805,1.1547005383792515,12.3839448090303,1.2718092473521565,null,1.2646019474557357,1.2573946475593147,1.250187347662894,1.2429800477664732,1.2357727478700524,1.2285654479736317,1.2213581480772109,1.2141508481807901,1.2069435482843693,1.1997362483879486,1.1925289484915278,1.185321648595107,1.1781143486986863,1.1709070488022653,1.1636997489058445,1.1564924490094237,1.1492851491130029,1.1420778492165822,1.1348705493201614,1.1276632494237406,1.1204559495273196]
[752,{"$f":"+正規乱数!L760","v":10.108202462696267},{"$f":"+正規乱数!M760","v":29.505049726400841},{"$f":"+正規乱数!N760","v":17.867658440256992},{"$f":"+正規乱数!O760","v":0.1642626437214017},26.80148766038549,13.400743830192743,23.210769173108996,16.991418422250685,3.51946298585043,1.1547005383792515,11.671946825721855,1.1336243722042545,null,1.1179095444141312,1.102194716624008,1.0864798888338847,1.0707650610437616,1.0550502332536384,1.0393354054635153,1.023620577673392,1.0079057498832689,0.99219092209314552,0.9764760943030224,0.96076126651289917,0.94504643872277583,0.92933161093265271,0.91361678314252948,0.89790195535240613,0.88218712756228301,0.86647229977215978,0.85075747198203655,0.83504264419191332,0.81932781640179009,0.80361298861166686]
[753,{"$f":"+正規乱数!L761","v":10.101203723403339},{"$f":"+正規乱数!M761","v":36.063908273027494},{"$f":"+正規乱数!N761","v":17.741317131681775},{"$f":"+正規乱数!O761","v":0.19292829107163406},26.611975697522663,13.30598784876133,23.046646998948734,16.991418422250685,4.409708738767649,1.1547005383792515,11.663865377692336,1.2079955505112152,null,1.1840736031890862,1.1601516558669571,1.1362297085448281,1.112307761222699,1.0883858139005702,1.0644638665784412,1.0405419192563121,1.0166199719341831,0.99269802461205403,0.96877607728992499,0.94485412996779594,0.9209321826456669,0.89701023532353785,0.87308828800140881,0.84916634067927965,0.82524439335715072,0.80132244603502167,0.77740049871289252,0.75347855139076347,0.72955660406863443,0.70563465674650538]
[754,{"$f":"+正規乱数!L762","v":13.230629601769554},{"$f":"+正規乱数!M762","v":36.612309399657235},{"$f":"+正規乱数!N762","v":17.737526704253707},{"$f":"+正規乱数!O762","v":0.12232837877507724},26.606290056380558,13.303145028190277,23.041723089282868,16.991418422250685,4.4953698907130866,1.1547005383792515,15.277415124259765,1.486324096525518,null,1.4708455757749674,1.4553670550244169,1.4398885342738663,1.4244100135233155,1.408931492772765,1.3934529720222146,1.3779744512716641,1.3624959305211135,1.3470174097705627,1.3315388890200122,1.3160603682694616,1.300581847518911,1.2851033267683603,1.2696248060178097,1.2541462852672594,1.2386677645167086,1.223189243766158,1.2077107230156074,1.1922322022650567,1.1767536815145063,1.1612751607639555]
[755,{"$f":"+正規乱数!L763","v":11.001063930061074},{"$f":"+正規乱数!M763","v":38.2628631421344},{"$f":"+正規乱数!N763","v":17.075117473727673},{"$f":"+正規乱数!O763","v":0.17566350094106381},25.612676210591509,12.806338105295753,22.181228257277599,16.991418422250685,4.0932057508757884,1.1547005383792515,12.702934442786086,1.3115490201462223,null,1.2870393722337909,1.2625297243213593,1.2380200764089277,1.2135104284964962,1.1890007805840648,1.1644911326716332,1.1399814847592018,1.1154718368467702,1.0909621889343388,1.0664525410219072,1.0419428931094759,1.0174332451970443,0.99292359728461277,0.96841394937218117,0.94390430145974968,0.91939465354731809,0.89488500563488671,0.870375357722455,0.84586570981002351,0.82135606189759214,0.79684641398516054]
[756,{"$f":"+正規乱数!L764","v":11.828838541076779},{"$f":"+正規乱数!M764","v":30.916414819523709},{"$f":"+正規乱数!N764","v":19.058582561905297},{"$f":"+正規乱数!O764","v":0.14196726331682921},28.587873842857945,14.293936921428971,24.757824988099646,16.991418422250685,4.6511209528621462,1.1547005383792515,13.658766231782597,1.280954805194026,null,1.2674793876048625,1.2540039700156989,1.2405285524265353,1.2270531348373717,1.2135777172482081,1.2001022996590445,1.1866268820698809,1.1731514644807173,1.1596760468915537,1.1462006293023901,1.1327252117132265,1.1192497941240629,1.1057743765348993,1.0922989589457357,1.0788235413565719,1.0653481237674083,1.0518727061782449,1.0383972885890811,1.0249218709999175,1.0114464534107541,0.9979710358215903]
[757,{"$f":"+正規乱数!L765","v":9.7004602422237234},{"$f":"+正規乱数!M765","v":37.242308115388667},{"$f":"+正規乱数!N765","v":16.704847455913992},{"$f":"+正規乱数!O765","v":0.10366693307641119},25.057271183870988,12.528635591935492,21.700233394748054,16.991418422250685,3.5796685264661812,1.1547005383792515,11.201126664222258,1.179760962973704,null,1.1655102684127003,1.1512595738516966,1.1370088792906929,1.122758184729689,1.1085074901686855,1.0942567956076816,1.0800061010466779,1.0657554064856742,1.0515047119246705,1.0372540173636668,1.0230033228026632,1.0087526282416595,0.99450193368065554,0.98025123911965184,0.96600054455864814,0.95174984999764445,0.93749915543664053,0.92324846087563683,0.90899776631463314,0.89474707175362944,0.88049637719262575]
[758,{"$f":"+正規乱数!L766","v":7.3823775644073519},{"$f":"+正規乱数!M766","v":35.843952790035154},{"$f":"+正規乱数!N766","v":17.373267995441875},{"$f":"+正規乱数!O766","v":0.17789078656982393},26.059901993162811,13.029950996581404,22.568537146211721,16.991418422250685,4.0288522314753568,1.1547005383792515,8.5244353481400772,0.96341786572405153,null,0.94107440229112937,0.91873093885820722,0.89638747542528519,0.87404401199236281,0.85170054855944066,0.82935708512651851,0.80701362169359636,0.78467015826067432,0.76232669482775217,0.73998323139483002,0.71763976796190787,0.69529630452898561,0.67295284109606346,0.65060937766314131,0.62826591423021905,0.6059224507972969,0.58357898736437475,0.56123552393145248,0.53889206049853033,0.51654859706560818,0.49420513363268598]
[759,{"$f":"+正規乱数!L767","v":9.9593099369384444},{"$f":"+正規乱数!M767","v":36.148365533141614},{"$f":"+正規乱数!N767","v":19.805783129707606},{"$f":"+正規乱数!O767","v":0.20669850917325061},29.70867469456141,14.854337347280703,25.728466998258082,16.991418422250685,6.3824694460719096,1.1547005383792515,11.500020546068651,1.2038564611846656,null,1.180827389742461,1.1577983183002567,1.1347692468580521,1.1117401754158478,1.0887111039736435,1.0656820325314389,1.0426529610892346,1.0196238896470302,0.99659481820482576,0.97356574676262131,0.95053667532041686,0.92750760387821241,0.90447853243600784,0.8814494609938035,0.85842038955159905,0.8353913181093946,0.81236224666719015,0.78933317522498569,0.76630410378278124,0.74327503234057679,0.72024596089837245]
[760,{"$f":"+正規乱数!L768","v":10.381345466536755},{"$f":"+正規乱数!M768","v":30.544315624210839},{"$f":"+正規乱数!N768","v":19.165071872218739},{"$f":"+正規乱数!O768","v":8.2378325273494465E-2},28.747607808328109,14.373803904164053,24.896158660044033,16.991418422250685,4.6644869296297928,1.1547005383792515,11.987345199310994,1.1584847156650575,null,1.150823002450303,1.1431612892355483,1.1354995760207935,1.127837862806039,1.1201761495912843,1.1125144363765296,1.1048527231617751,1.0971910099470203,1.0895292967322658,1.0818675835175111,1.0742058703027564,1.0665441570880019,1.0588824438732471,1.0512207306584924,1.0435590174437379,1.0358973042289832,1.0282355910142285,1.0205738777994737,1.0129121645847192,1.0052504513699645,0.99758873815520988]
[761,{"$f":"+正規乱数!L769","v":8.5832703470217897},{"$f":"+正規乱数!M769","v":34.276898478297838},{"$f":"+正規乱数!N769","v":17.521370840260222},{"$f":"+正規乱数!O769","v":0.12714867503696869},26.282056260390334,13.141028130195165,22.760928385189874,16.991418422250685,3.9322850538379441,1.1547005383792515,9.9111068907607258,1.0534481630694958,null,1.0385079452162589,1.0235677273630217,{"$f":"+(($H771-$I771-Q$10*$G$6*$E771*$K771)*TAN($C771*PI()/180)+$L771)/$G771","v":1.0086275095097847},0.99368729165654779,0.97874707380331072,0.96380685595007376,0.94886663809683658,0.93392642024359962,0.91898620239036255,0.90404598453712559,0.88910576668388852,0.87416554883065134,0.85922533097741438,0.84428511312417731,0.82934489527094024,0.81440467741770317,0.79946445956446621,0.78452424171122903,0.76958402385799196,0.754643806004755,0.73970358815151793]
[762,{"$f":"+正規乱数!L770","v":10.476566156047818},{"$f":"+正規乱数!M770","v":35.058822296575897},{"$f":"+正規乱数!N770","v":20.545308148888708},{"$f":"+正規乱数!O770","v":0.15961361174268393},30.817962223333062,15.408981111666529,26.689138178275595,16.991418422250685,6.8052646283888754,1.1547005383792515,12.097296580754261,1.2267236277440519,null,1.2102556693344972,1.1937877109249426,1.1773197525153882,1.1608517941058336,1.144383835696279,1.1279158772867244,1.11144791887717,1.0949799604676154,1.0785120020580607,1.0620440436485061,1.0455760852389517,1.0291081268293971,1.0126401684198423,0.99617221001028777,0.97970425160073327,0.96323629319117865,0.94676833478162414,0.93030037637206953,0.91383241796251502,0.8973644595529604,0.88089650114340579]
[763,{"$f":"+正規乱数!L771","v":8.9332202573051305},{"$f":"+正規乱数!M771","v":31.076971614606631},{"$f":"+正規乱数!N771","v":18.567451312310062},{"$f":"+正規乱数!O771","v":0.14692573588935698},27.851176968465094,13.925588484232545,24.119826779986841,16.991418422250685,4.2962241444613225,1.1547005383792515,10.315194240570669,1.0492496171042243,null,1.0348434963913189,1.0204373756784133,1.0060312549655077,0.99162513425260213,0.97721901353969665,0.96281289282679117,0.9484067721138858,0.93400065140098032,0.91959453068807484,0.90518840997516925,0.89078228926226377,0.87637616854935818,0.8619700478364527,0.84756392712354722,0.83315780641064163,0.81875168569773615,0.80434556498483079,0.7899394442719252,0.77553332355901972,0.76112720284611424,0.74672108213320876]
[764,{"$f":"+正規乱数!L772","v":8.4700975334848021},{"$f":"+正規乱数!M772","v":33.040667636760773},{"$f":"+正規乱数!N772","v":17.706224171495375},{"$f":"+正規乱数!O772","v":0.14325087181297885},26.559336257243061,13.279668128621529,23.001059906425606,16.991418422250685,3.9087740688560055,1.1547005383792515,9.7804261820396707,1.0308390328965742,null,1.0149436707245458,0.99904830855251758,0.98315294638048922,0.96725758420846097,0.95136222203643261,0.93546685986440425,0.91957149769237601,0.90367613552034776,0.8877807733483194,0.87188541117629115,0.85599004900426268,0.84009468683223443,0.82419932466020607,0.80830396248817771,0.79240860031614935,0.7765132381441211,0.76061787597209285,0.74472251380006438,0.72882715162803613,0.71293178945600777,0.69703642728397952]
[765,{"$f":"+正規乱数!L773","v":11.293263697367909},{"$f":"+正規乱数!M773","v":34.547558680727512},{"$f":"+正規乱数!N773","v":19.215216413299562},{"$f":"+正規乱数!O773","v":0.13561523746298362},28.822824619949344,14.41141230997467,24.961298329699691,16.991418422250685,5.4872925464064162,1.1547005383792515,13.04033767140958,1.2856221041564635,null,1.270943773938864,1.2562654437212648,1.2415871135036656,1.2269087832860659,1.2122304530684667,1.1975521228508674,1.182873792633268,1.1681954624156687,1.1535171321980695,1.1388388019804701,1.1241604717628706,1.1094821415452714,1.0948038113276719,1.0801254811100727,1.0654471508924732,1.050768820674874,1.0360904904572745,1.0214121602396753,1.0067338300220758,0.9920554998044766,0.97737716958687715]
[766,{"$f":"+正規乱数!L774","v":6.3492241206954825},{"$f":"+正規乱数!M774","v":34.448715807521495},{"$f":"+正規乱数!N774","v":17.28256592004746},{"$f":"+正規乱数!O774","v":0.1284689523730565},25.923848880071191,12.961924440035594,22.450711694010423,16.991418422250685,3.7448780808791775,1.1547005383792515,7.3314525104576029,0.85452824868545252,null,0.8391254965524656,0.82372274441947868,0.80831999228649176,0.79291724015350495,0.77751448802051792,0.76211173588753101,0.74670898375454398,0.73130623162155717,0.71590347948857036,0.70050072735558333,0.6850979752225963,0.66969522308960949,0.65429247095662257,0.63888971882363566,0.62348696669064863,0.60808421455766171,0.59268146242467479,0.57727871029168787,0.56187595815870095,0.54647320602571403,0.53107045389272711]
[767,{"$f":"+正規乱数!L775","v":11.990289844632411},{"$f":"+正規乱数!M775","v":31.372588169417547},{"$f":"+正規乱数!N775","v":19.576297114259312},{"$f":"+正規乱数!O775","v":0.17917630954795624},29.364445671388967,14.682222835694482,25.430355919470845,16.991418422250685,5.14560934772439,1.1547005383792515,13.845194138920316,1.293455609492282,null,1.276597604083562,1.2597395986748423,1.2428815932661224,1.2260235878574028,1.2091655824486831,1.1923075770399634,1.1754495716312434,1.1585915662225237,1.1417335608138039,1.1248755554050842,1.1080175499963643,1.0911595445876445,1.0743015391789248,1.0574435337702051,1.0405855283614853,1.0237275229527656,1.0068695175440456,0.9900115121353259,0.97315350672660605,0.95629550131788632,0.93943749590916648]
[768,{"$f":"+正規乱数!L776","v":11.666588115430722},{"$f":"+正規乱数!M776","v":33.340301575583055},{"$f":"+正規乱数!N776","v":17.62650504102006},{"$f":"+正規乱数!O776","v":0.1573731993429307},26.43975756153009,13.219878780765043,22.897501718186763,16.991418422250685,3.8855211850818274,1.1547005383792515,13.471415577936831,1.3129422024862321,null,1.2951994339942388,1.2774566655022455,1.2597138970102522,1.2419711285182589,1.2242283600262656,1.2064855915342723,1.188742823042279,1.1710000545502857,1.1532572860582926,1.1355145175662993,1.117771749074306,1.1000289805823127,1.0822862120903194,1.0645434435983261,1.0468006751063328,1.0290579066143395,1.0113151381223462,0.99357236963035289,0.9758296011383597,0.9580868326463664,0.9403440641543731]
[769,{"$f":"+正規乱数!L777","v":10.73549531740813},{"$f":"+正規乱数!M777","v":31.504740257923494},{"$f":"+正規乱数!N777","v":17.143200213621466},{"$f":"+正規乱数!O777","v":0.21633944349196271},25.714800320432197,12.857400160216097,22.269670330738506,16.991418422250685,3.2351176326601077,1.1547005383792515,12.396282222779101,1.2157512141378735,null,1.1923870159098864,1.1690228176818993,1.1456586194539122,1.1222944212259252,1.0989302229979381,1.075566024769951,1.0522018265419639,1.0288376283139768,1.0054734300859898,0.9821092318580027,0.95874503363001551,0.93538083540202843,0.91201663717404136,0.88865243894605417,0.86528824071806709,0.84192404249008002,0.81855984426209283,0.79519564603410575,0.77183144780611868,0.7484672495781316,0.72510305135014441]
[770,{"$f":"+正規乱数!L778","v":10.903145221576983},{"$f":"+正規乱数!M778","v":38.321896509519178},{"$f":"+正規乱数!N778","v":17.898946006134391},{"$f":"+正規乱数!O778","v":0.20627819054183508},26.848419009201585,{"$f":"+F780*SIN($G$2*PI()/180)","v":13.424209504600791},23.251412913417603,{"$f":"+$G$5*$G$4*$G$6/COS($G$2*PI()/180)","v":16.991418422250685},4.9477314170007105,{"$f":"+$G$4/COS($G$2*PI()/180)","v":1.1547005383792515},12.589867657382104,1.3064157757946395,null,1.2789010538418932,1.2513863318891472,1.2238716099364009,1.196356887983655,1.1688421660309087,1.1413274440781627,1.1138127221254164,1.0862980001726703,1.0587832782199242,1.0312685562671782,1.0037538343144319,0.97623911236168581,0.94872439040893963,0.92120966845619345,0.89369494650344738,0.86618022455070121,0.83866550259795514,0.81115078064520885,0.78363605869246278,0.75612133673971649,0.72860661478697042]
[771,{"$f":"+正規乱数!L779","v":8.9709462990624544},{"$f":"+正規乱数!M779","v":30.104821600148732},{"$f":"+正規乱数!N779","v":18.212387922578557},{"$f":"+正規乱数!O779","v":0.17759291106496716},27.318581883867836,13.659290941933916,23.658585906794894,16.991418422250685,3.8655714407208954,1.1547005383792515,10.358756521298769,1.0413664971694168,null,1.0242884510966714,1.0072104050239261,0.99013235895118079,0.97305431287843547,0.95597626680569014,0.93889822073294482,0.92182017466019939,0.90474212858745406,0.88766408251470885,0.87058603644196353,0.85350799036921821,0.83642994429647288,0.81935189822372756,0.80227385215098224,0.7851958060782368,0.76811776000549148,0.75103971393274616,0.73396166786000083,0.71688362178725551,0.69980557571451019,0.68272752964176475]
[772,{"$f":"+正規乱数!L780","v":12.987799204661746},{"$f":"+正規乱数!M780","v":35.720171306972638},{"$f":"+正規乱数!N780","v":19.613981282995585},{"$f":"+正規乱数!O780","v":0.13485037681943979},29.420971924493379,14.710485962246688,25.479309090640015,16.991418422250685,6.103700485551415,1.1547005383792515,14.997018733984532,1.4343998745989284,null,1.4194655030039731,1.4045311314090176,1.3895967598140622,1.3746623882191067,1.3597280166241512,1.3447936450291962,1.3298592734342407,1.3149249018392852,1.29999053024433,1.2850561586493745,1.270121787054419,1.2551874154594638,1.2402530438645081,1.2253186722695528,1.2103843006745973,1.1954499290796419,1.1805155574846866,1.1655811858897311,1.1506468142947757,1.1357124426998202,1.1207780711048649]
[773,{"$f":"+正規乱数!L781","v":10.001342340488369},{"$f":"+正規乱数!M781","v":40.247794852548125},{"$f":"+正規乱数!N781","v":18.541102262595217},{"$f":"+正規乱数!O781","v":0.16792221759493201},27.811653393892826,13.905826696946411,24.08559836035889,16.991418422250685,6.0051979349815543,1.1547005383792515,11.548555385077123,1.2623307986366115,null,1.2391725961756723,1.216014393714733,1.1928561912537938,1.1696979887928547,1.1465397863319153,1.1233815838709762,1.1002233814100368,1.0770651789490977,1.0539069764881583,1.030748774027219,1.0075905715662798,0.9844323691053406,0.96127416664440135,0.93811596418346199,0.91495776172252274,0.8917995592615835,0.86864135680064425,0.845483154339705,0.82232495187876575,0.79916674941782651,0.77600854695688726]
[774,{"$f":"+正規乱数!L782","v":8.9105821675709969},{"$f":"+正規乱数!M782","v":33.556060478128522},{"$f":"+正規乱数!N782","v":17.354964326871716},{"$f":"+正規乱数!O782","v":0.10351871641197577},26.032446490307574,13.016223245153785,22.544759983265411,16.991418422250685,3.6834956972273822,1.1547005383792515,10.289054026166788,1.0734718866009343,null,1.0615207821517276,1.0495696777025207,1.0376185732533141,1.0256674688041072,1.0137163643549005,1.0017652599056939,0.98981415545648699,0.97786305100728022,0.96591194655807344,0.95396084210886678,0.94200973765966001,0.93005863321045312,0.91810752876124635,0.90615642431203969,0.89420531986283291,0.88225421541362603,0.87030311096441926,0.85835200651521248,0.84640090206600571,0.83444979761679894,0.82249869316759217]
[775,{"$f":"+正規乱数!L783","v":12.04631677173748},{"$f":"+正規乱数!M783","v":33.950290079426502},{"$f":"+正規乱数!N783","v":18.208974629439862},{"$f":"+正規乱数!O783","v":0.19637552894184829},27.313461944159791,13.656730972079894,23.654151908941884,16.991418422250685,4.4856648480803685,1.1547005383792515,13.909888461812274,1.3469953642274197,null,1.3250631052700585,1.3031308463126976,1.2811985873553362,1.259266328397975,1.2373340694406139,1.2154018104832525,1.1934695515258913,1.1715372925685303,1.1496050336111689,1.1276727746538078,1.1057405156964466,1.0838082567390854,1.061875997781724,1.0399437388243629,1.0180114798670017,0.99607922090964052,0.97414696195227923,0.95221470299491806,0.93028244403755689,0.9083501850801956,0.88641792612283443]
[776,{"$f":"+正規乱数!L784","v":11.684229939452422},{"$f":"+正規乱数!M784","v":28.204562298474279},{"$f":"+正規乱数!N784","v":16.343797245751158},{"$f":"+正規乱数!O784","v":0.17602917741661075},24.515695868626736,12.257847934313366,21.231215413683966,16.991418422250685,2.2737938845786108,1.1547005383792515,13.491786601632681,1.2861621852950824,null,1.2687142182114721,1.2512662511278621,1.2338182840442518,1.2163703169606415,1.1989223498770312,1.1814743827934209,1.1640264157098108,1.1465784486262003,1.12913048154259,1.1116825144589799,1.0942345473753696,1.0767865802917593,1.059338613208149,1.0418906461245387,1.0244426790409285,1.0069947119573184,0.98954674487370797,0.97209877779009768,0.95465081070648738,0.9372028436228772,0.91975487653926691]
[777,{"$f":"+正規乱数!L785","v":10.076624140711351},{"$f":"+正規乱数!M785","v":33.051272408295127},{"$f":"+正規乱数!N785","v":17.155382493072807},{"$f":"+正規乱数!O785","v":0.18765239748359402},25.73307373960921,12.866536869804603,22.285495575959803,16.991418422250685,3.4447533008319464,1.1547005383792515,11.635483320324759,1.1720509390951381,null,1.1505514233171645,{"$f":"+(($H787-$I787-P$10*$G$6*$E787*$K787)*TAN($C787*PI()/180)+$L787)/$G787","v":1.1290519075391909},1.1075523917612171,1.0860528759832435,1.0645533602052697,1.0430538444272961,1.0215543286493223,1.0000548128713489,0.97855529709337519,0.95705578131540148,0.93555626553742777,0.91405674975945406,0.89255723398148035,0.87105771820350664,0.84955820242553282,0.82805868664755911,0.80655917086958562,0.7850596550916118,0.76356013931363809,0.74206062353566438,0.72056110775769078]
[778,{"$f":"+正規乱数!L786","v":10.272278547019846},{"$f":"+正規乱数!M786","v":37.680124566454502},{"$f":"+正規乱数!N786","v":18.436667801356968},{"$f":"+正規乱数!O786","v":0.1749352285178282},27.655001702035452,13.827500851017724,23.949934015664592,16.991418422250685,5.3742972773939117,1.1547005383792515,11.861405568625452,1.2464799700049045,null,1.2243435679075811,1.2022071658102578,1.1800707637129344,1.1579343616156113,1.1357979595182879,1.1136615574209645,1.0915251553236411,1.069388753226318,1.0472523511289946,1.0251159490316712,1.0029795469343481,0.98084314483702484,0.95870674273970136,0.9365703406423781,0.91443393854505484,0.89229753644773147,0.87016113435040809,0.84802473225308483,0.82588833015576157,0.8037519280584382,0.78161552596111483]
[779,{"$f":"+正規乱数!L787","v":11.875396610727968},{"$f":"+正規乱数!M787","v":32.039667895806254},{"$f":"+正規乱数!N787","v":18.413844655560915},{"$f":"+正規乱数!O787","v":0.16471668807040205},27.620766983341372,13.810383491670684,23.920285879584107,16.991418422250685,4.3363099895541337,1.1547005383792515,13.712526859874723,1.3069033789188016,null,1.2899928067719137,1.2730822346250257,1.2561716624781378,1.2392610903312498,1.2223505181843617,1.2054399460374736,1.1885293738905858,1.1716188017436979,1.1547082295968099,1.137797657449922,1.1208870853030339,1.1039765131561459,1.0870659410092578,1.0701553688623699,1.0532447967154817,1.0363342245685938,1.019423652421706,1.0025130802748179,0.98560250812792982,0.96869193598104186,0.9517813638341539]
[780,{"$f":"+正規乱数!L788","v":6.7622007166433189},{"$f":"+正規乱数!M788","v":39.902372738363326},{"$f":"+正規乱数!N788","v":17.464230219642769},{"$f":"+正規乱数!O788","v":0.16217079782518393},26.196345329464151,13.098172664732074,22.686700541625786,16.991418422250685,4.7623957558016672,1.1547005383792515,7.8083168081366008,0.95973025289137959,null,0.93627497655067315,0.91281970020996672,0.88936442386926029,0.86590914752855386,0.84245387118784754,0.81899859484714121,0.79554331850643467,0.77208804216572835,0.74863276582502203,0.7251774894843156,0.70172221314360927,0.67826693680290273,0.6548116604621963,0.63135638412148998,0.60790110778078355,0.58444583144007711,0.56099055509937068,0.53753527875866425,0.51408000241795793,0.49062472607725155,0.46716944973654506]
[781,{"$f":"+正規乱数!L789","v":8.9186373251036493},{"$f":"+正規乱数!M789","v":33.596854552977874},{"$f":"+正規乱数!N789","v":19.717987124556618},{"$f":"+正規乱数!O789","v":7.7875318674824681E-2},29.576980686834929,14.788490343417463,25.614416642040766,16.991418422250685,5.7284239899323595,1.1547005383792515,10.29835532090647,1.0837332911383037,null,1.0758078905186164,1.0678824898989292,1.0599570892792418,1.0520316886595544,1.044106288039867,1.0361808874201799,1.0282554868004925,1.0203300861808053,1.012404685561118,1.0044792849414306,0.99655388432174341,0.98862848370205603,0.98070308308236864,0.97277768246268126,0.9648522818429941,0.95692688122330671,0.94900148060361933,0.94107607998393206,0.93315067936424467,0.92522527874455751,0.91729987812487013]
[782,{"$f":"+正規乱数!L790","v":6.3579291271719622},{"$f":"+正規乱数!M790","v":34.073622165577895},{"$f":"+正規乱数!N790","v":18.894020163071712},{"$f":"+正規乱数!O790","v":0.25564963106049443},28.341030244607566,14.170515122303781,24.544052161253259,16.991418422250685,5.1084480787579301,1.1547005383792515,7.3415041861225889,0.87858148821173265,null,0.85093636925043825,0.82329125028914363,0.79564613132784912,0.7680010123665546,0.74035589340526009,0.71271077444396547,0.68506565548267095,0.65742053652137644,0.62977541756008204,0.60213029859878753,0.57448517963749302,0.54684006067619839,0.51919494171490388,0.49154982275360937,0.46390470379231485,0.43625958483102029,0.40861446586972577,0.38096934690843126,0.35332422794713669,0.32567910898584218,0.29803399002454761]
[783,{"$f":"+正規乱数!L791","v":10.536671843598729},{"$f":"+正規乱数!M791","v":29.668609282016408},{"$f":"+正規乱数!N791","v":18.170436078663599},{"$f":"+正規乱数!O791","v":0.13821983645861949},27.255654117995398,13.627827058997697,23.604088862945964,16.991418422250685,3.7670005453631701,1.1547005383792515,12.166700650528952,1.1692033606613745,null,1.1561136231862856,1.1430238857111967,1.1299341482361078,1.1168444107610189,1.10375467328593,1.0906649358108413,1.0775751983357524,1.0644854608606635,1.0513957233855746,1.038305985910486,1.0252162484353968,1.0121265109603079,0.99903677348521913,0.98594703601013034,0.97285729853504144,0.95976756105995253,0.94667782358486374,0.93358808610977484,0.92049834863468605,0.90740861115959714,0.89431887368450824]
[784,{"$f":"+正規乱数!L792","v":10.438844022896342},{"$f":"+正規乱数!M792","v":39.16186082747975},{"$f":"+正規乱数!N792","v":18.277419056871786},{"$f":"+正規乱数!O792","v":9.7314101561405547E-2},27.416128585307678,13.708064292653837,23.743063828297174,16.991418422250685,5.4990279748189623,1.1547005383792515,12.053738813295437,1.2804701242553218,null,1.2673709379219422,1.2542717515885629,1.2411725652551833,1.2280733789218039,1.2149741925884245,1.201875006255045,1.1887758199216656,1.1756766335882862,1.1625774472549066,1.1494782609215271,1.1363790745881475,1.1232798882547681,1.1101807019213887,1.0970815155880091,1.0839823292546296,1.0708831429212502,1.0577839565878708,1.0446847702544912,1.0315855839211117,1.0184863975877323,1.0053872112543527]
[785,{"$f":"+正規乱数!L793","v":11.389445785885888},{"$f":"+正規乱数!M793","v":32.739309397349579},{"$f":"+正規乱数!N793","v":19.47257936327447},{"$f":"+正規乱数!O793","v":0.1089810239987945},29.208869044911705,14.60443452245585,25.295622608706452,16.991418422250685,5.3392533724987343,1.1547005383792515,13.151399180803732,1.2660984939109521,null,1.255228807344974,1.2443591207789957,1.2334894342130174,1.2226197476470393,1.211750061081061,1.2008803745150829,1.1900106879491046,1.1791410013831263,1.1682713148171482,1.1574016282511699,1.1465319416851918,1.1356622551192135,1.1247925685532354,1.1139228819872571,1.1030531954212788,1.0921835088553007,1.0813138222893224,1.0704441357233443,1.059574449157366,1.0487047625913879,1.0378350760254096]
[786,{"$f":"+正規乱数!L794","v":7.2443969435543751},{"$f":"+正規乱数!M794","v":34.53349652570293},{"$f":"+正規乱数!N794","v":17.561269553538327},{"$f":"+正規乱数!O794","v":0.15319999924402189},26.341904330307493,13.170952165153745,22.812758334105602,16.991418422250685,4.0059089542291701,1.1547005383792515,8.3651090509552404,0.93926527483064493,null,0.92113150588677428,0.90299773694290375,0.884863967999033,0.86673019905516246,0.84859643011129171,0.83046266116742107,0.81232889222355043,0.79419512327967989,0.77606135433580914,0.7579275853919385,0.73979381644806785,0.72166004750419721,0.70352627856032646,0.68539250961645592,0.66725874067258517,0.64912497172871453,0.630991202784844,0.61285743384097324,0.5947236648971026,0.57658989595323196,0.55845612700936131]
[787,{"$f":"+正規乱数!L795","v":9.5647717215073058},{"$f":"+正規乱数!M795","v":36.004052111768928},{"$f":"+正規乱数!N795","v":18.961561931136721},{"$f":"+正規乱数!O795","v":0.10097618100092151},28.442342896705082,14.221171448352539,24.631791491694482,16.991418422250685,5.5518815851034411,1.1547005383792515,11.044447056299125,1.1670155796711934,null,1.1553265739861065,1.1436375683010194,1.1319485626159322,1.1202595569308453,1.1085705512457582,1.0968815455606713,1.0851925398755842,1.073503534190497,1.0618145285054101,1.050125522820323,1.0384365171352359,1.026747511450149,1.0150585057650618,1.0033695000799749,0.99168049439488781,0.9799914887098008,0.96830248302471378,0.95661347733962654,0.94492447165453952,0.9332354659694525,0.92154646028436538]
[788,{"$f":"+正規乱数!L796","v":8.0502731356886237},{"$f":"+正規乱数!M796","v":30.874969571003223},{"$f":"+正規乱数!N796","v":19.24729386595325},{"$f":"+正規乱数!O796","v":0.15243033098891712},28.870940798929873,14.435470399464934,25.00296816302987,16.991418422250685,4.7900612561324785,1.1547005383792515,9.2956547238796787,0.975771179616998,null,0.96146797480895285,0.94716477000090771,0.93286156519286256,0.91855836038481753,0.90425515557677238,0.88995195076872724,0.8756487459606821,0.86134554115263706,0.84704233634459192,0.83273913153654677,0.81843592672850163,0.80413272192045648,0.78982951711241134,0.77552631230436619,0.76122310749632094,0.74691990268827579,0.73261669788023065,0.7183134930721855,0.70401028826414036,0.68970708345609533,0.67540387864805007]
[789,{"$f":"+正規乱数!L797","v":13.34211398065894},{"$f":"+正規乱数!M797","v":30.828594063362033},{"$f":"+正規乱数!N797","v":18.341465459875415},{"$f":"+正規乱数!O797","v":0.10391355955220671},27.512198189813123,13.75609909490656,23.826262546330415,16.991418422250685,4.0790093273037389,1.1547005383792515,15.406146196584215,1.4164739138221736,null,1.406260489356115,1.3960470648900565,1.3858336404239979,1.3756202159579396,1.365406791491881,1.3551933670258225,1.3449799425597639,1.3347665180937054,1.3245530936276471,1.3143396691615885,1.30412624469553,1.2939128202294712,1.2836993957634126,1.2734859712973541,1.2632725468312958,1.2530591223652372,1.2428456978991786,1.2326322734331201,1.2224188489670615,1.212205424501003,1.2019920000349447]
[790,{"$f":"+正規乱数!L798","v":8.4141770864068288},{"$f":"+正規乱数!M798","v":32.849925512917793},{"$f":"+正規乱数!N798","v":16.802834827913205},{"$f":"+正規乱数!O798","v":0.14127551622535148},25.20425224186981,12.602126120934903,21.827522724850148,16.991418422250685,3.1226240855256777,1.1547005383792515,9.715854811692326,1.0187549921350545,null,1.0023560626341586,0.9859571331332625,0.96955820363236633,0.95315927413147028,0.93676034463057423,0.92036141512967817,0.90396248562878212,0.88756355612788596,0.8711646266269899,0.85476569712609385,0.8383667676251978,0.82196783812430152,0.80556890862340547,0.78916997912250941,0.77277104962161336,0.75637212012071708,0.73997319061982103,0.72357426111892498,0.70717533161802892,0.69077640211713287,0.67437747261623682]
[791,{"$f":"+正規乱数!L799","v":9.0959106782246639},{"$f":"+正規乱数!M799","v":31.820194576423656},{"$f":"+正規乱数!N799","v":16.837445625325074},{"$f":"+正規乱数!O799","v":0.14307428430759236},25.256168437987611,12.628084218993804,21.872483469556016,16.991418422250685,3.0287708336873385,1.1547005383792515,10.503052957195601,1.0715658492782165,null,1.055638470695627,1.0397110921130372,1.0237837135304475,1.007856334947858,0.99192895636526834,0.9760015777826786,0.96007419920008907,0.94414682061749944,0.9282194420349098,0.91229206345232017,0.89636468486973042,0.8804373062871409,0.86450992770455126,0.84858254912196152,0.83265517053937199,0.81672779195678225,0.80080041337419261,0.78487303479160286,0.76894565620901323,0.75301827762642359,0.73709089904383396]
[792,{"$f":"+正規乱数!L800","v":9.6306665887089267},{"$f":"+正規乱数!M800","v":34.985605141106575},{"$f":"+正規乱数!N800","v":18.532068711388909},{"$f":"+正規乱数!O800","v":0.14863776226624678},27.798103067083364,13.89905153354168,24.073863433112315,16.991418422250685,4.9565300629996107,1.1547005383792515,11.120535894933267,1.1567023777942786,null,1.1397470223722896,1.1227916669503004,1.1058363115283112,1.0888809561063222,1.071925600684333,1.0549702452623437,1.0380148898403547,1.0210595344183655,1.0041041789963763,0.98714882357438716,0.97019346815239804,0.95323811273040893,0.93628275730841959,0.91932740188643047,0.90237204646444136,0.88541669104245213,0.86846133562046302,0.8515059801984739,0.83455062477648456,0.81759526935449556,0.80063991393250633]
[793,{"$f":"+正規乱数!L801","v":10.519480507927042},{"$f":"+正規乱数!M801","v":33.551382162270919},{"$f":"+正規乱数!N801","v":19.40624949696236},{"$f":"+正規乱数!O801","v":7.8529164844327745E-2},29.10937424544354,14.554687122721768,25.209457584822584,16.991418422250685,5.4500062695391263,1.1547005383792515,12.146849805973398,1.209016444471797,null,{"$f":"+(($H803-$I803-O$10*$G$6*$E803*$K803)*TAN($C803*PI()/180)+$L803)/$G803","v":1.200910095954882},1.1928037474379669,1.1846973989210519,1.1765910504041364,1.1684847018872213,1.1603783533703063,1.152272004853391,1.1441656563364757,1.1360593078195607,1.1279529593026456,1.1198466107857306,1.1117402622688151,1.1036339137519,1.095527565234985,1.0874212167180697,1.0793148682011544,1.0712085196842394,1.0631021711673243,1.0549958226504088,1.0468894741334938,1.0387831256165787]
[794,{"$f":"+正規乱数!L802","v":10.985103123478778},{"$f":"+正規乱数!M802","v":30.147373500484164},{"$f":"+正規乱数!N802","v":17.66650313576994},{"$f":"+正規乱数!O802","v":0.154914907885954},26.499754703654908,13.249877351827452,22.949460767421321,16.991418422250685,3.4603411134963862,1.1547005383792515,12.684504490832541,1.218490192447117,null,1.2031063418506831,1.1877224912542494,1.1723386406578156,1.1569547900613817,1.141570939464948,1.1261870888685144,1.1108032382720805,1.0954193876756468,1.080035537079213,1.0646516864827793,1.0492678358863454,1.0338839852899118,1.0185001346934779,1.0031162840970442,0.98773243350061035,0.97234858290417658,{"$f":"+(($H804-$I804-AE$10*$G$6*$E804*$K804)*TAN($C804*PI()/180)+$L804)/$G804","v":0.95696473230774282},0.94158088171130894,0.92619703111487528,0.91081318051844151,0.89542932992200774]
[795,{"$f":"+正規乱数!L803","v":10.553431331122296},{"$f":"+正規乱数!M803","v":36.07632833407969},{"$f":"+正規乱数!N803","v":19.348573639023982},{"$f":"+正規乱数!O803","v":0.13375411259453712},{"$f":"+$G$3*$G$4*D805","v":29.022860458535973},14.511430229267985,{"$f":"+F805*COS($G$2*PI()/180)","v":25.134534447583036},16.991418422250685,{"$f":"+(H805-I805)*TAN(C805*PI()/180)","v":5.9329105959441089},1.1547005383792515,{"$f":"+K805*B805","v":12.186052839795375},{"$f":"+(J805+L805)/G805","v":1.2485994246931977},null,1.2333854573840202,1.2181714900748426,1.202957522765665,1.1877435554564875,1.1725295881473099,1.1573156208381326,1.142101653528955,1.1268876862197774,1.1116737189105999,1.0964597516014223,1.0812457842922449,1.0660318169830671,1.0508178496738896,1.035603882364712,1.0203899150555347,1.0051759477463569,0.98996198043717942,0.97474801312800197,0.95953404581882429,0.94432007850964694,0.92910611120046938]
[796,{"$f":"+正規乱数!L804","v":9.4104710967411123},{"$f":"+正規乱数!M804","v":40.933305882662154},{"$f":"+正規乱数!N804","v":18.275320211553247},{"$f":"+正規乱数!O804","v":0.19455645063739427},27.412980317329868,13.706490158664932,23.74033734825047,16.991418422250685,5.8529672675147157,1.1547005383792515,10.866276041809348,1.2198048600176856,null,1.1919160726103293,1.1640272852029727,1.1361384977956164,1.10824971038826,1.0803609229809035,1.0524721355735471,1.0245833481661908,0.99669456075883434,0.96880577335147799,0.94091698594412154,0.9130281985367652,0.88513941112940864,0.8572506237220523,0.82936183631469584,0.80147304890733939,0.77358426149998294,0.7456954740926266,0.71780668668527003,0.68991789927791358,0.66202911187055724,0.63414032446320068]
[797,{"$f":"+正規乱数!L805","v":6.1861038976886125},{"$f":"+正規乱数!M805","v":35.361688791148055},{"$f":"+正規乱数!N805","v":16.737458510114717},{"$f":"+正規乱数!O805","v":0.13840429614228081},25.106187765172074,12.553093882586035,21.742596396821082,16.991418422250685,3.3717073293677537,1.1547005383792515,7.1430975011310265,0.83762655874701775,null,0.81990035501045067,0.80217415127388358,0.7844479475373165,0.76672174380074942,0.74899554006418223,0.73126933632761515,0.71354313259104807,0.69581692885448099,0.67809072511791391,0.66036452138134683,0.64263831764477974,0.62491211390821255,0.60718591017164547,0.58945970643507839,0.5717335026985112,0.55400729896194412,0.53628109522537715,0.51855489148881007,0.50082868775224287,0.48310248401567574,0.46537628027910866]
[798,{"$f":"+正規乱数!L806","v":8.4058025645272334},{"$f":"+正規乱数!M806","v":34.320286810261599},{"$f":"+正規乱数!N806","v":17.780190814637848},{"$f":"+正規乱数!O806","v":0.12195850914775526},26.670286221956772,13.335143110978384,23.097145394416664,16.991418422250685,4.1682131654564412,1.1547005383792515,9.7061847467692886,1.0404386212250991,null,1.0262938692010706,1.0121491171770418,0.99800436515301327,0.98385961312898462,0.96971486110495586,0.95557010908092732,0.94142535705689867,0.92728060503287013,0.91313585300884148,0.89899110098481272,0.88484634896078418,0.87070159693675553,0.85655684491272688,0.84241209288869834,0.82826734086466958,0.81412258884064093,0.79997783681661228,0.78583308479258374,0.77168833276855509,0.75754358074452643,0.74339882872049767]
[799,{"$f":"+正規乱数!L807","v":8.5813248627030401},{"$f":"+正規乱数!M807","v":33.916202636813182},{"$f":"+正規乱数!N807","v":18.153817163812192},{"$f":"+正規乱数!O807","v":0.1515989991747243},27.230725745718289,13.615362872859142,23.582500259278991,16.991418422250685,4.4317292227336917,1.1547005383792515,9.9088604389704571,1.0532653294383121,null,1.0363043081884762,1.0193432869386401,1.0023822656888042,0.98542124443896828,0.96846022318913227,0.95149920193929638,0.93453818068946037,0.91757715943962437,0.90061613818978847,0.88365511693995247,0.86669409569011657,0.84973307444028057,0.83277205319044456,0.81581103194060856,0.79885001069077266,0.78188898944093654,0.76492796819110065,0.74796694694126475,0.73100592569142864,0.71404490444159274,0.69708388319175685]
[800,{"$f":"+正規乱数!L808","v":10.326210175939709},{"$f":"+正規乱数!M808","v":41.758955318097563},{"$f":"+正規乱数!N808","v":18.60195174552026},{"$f":"+正規乱数!O808","v":0.16266164261470445},27.90292761828039,13.951463809140193,24.16464415738924,16.991418422250685,6.4043633514975049,1.1547005383792515,11.923680449574887,1.3137004153689531,null,1.2901176237312606,1.2665348320935677,1.2429520404558749,1.219369248818182,1.195786457180489,1.1722036655427961,1.1486208739051036,1.1250380822674106,1.1014552906297179,1.077872498992025,1.054289707354332,1.0307069157166393,1.0071241240789464,0.98354133244125364,0.95995854080356069,0.93637574916586774,0.91279295752817502,0.88921016589048207,0.86562737425278935,0.8420445826150964,0.81846179097740357]
[801,{"$f":"+正規乱数!L809","v":13.242549657640751},{"$f":"+正規乱数!M809","v":38.916381996226789},{"$f":"+正規乱数!N809","v":17.588815193946026},{"$f":"+正規乱数!O809","v":0.1225227624190149},26.383222790919039,13.191611395459518,22.848541170640466,16.991418422250685,4.7288679247839136,1.1547005383792515,15.291179219191747,1.5176346955510267,null,1.5006459950173541,1.4836572944836812,1.4666685939500084,1.4496798934163355,1.4326911928826627,1.41570249234899,1.3987137918153172,1.3817250912816443,1.3647363907479715,1.3477476902142989,1.3307589896806258,1.3137702891469532,1.2967815886132801,1.2797928880796074,1.2628041875459346,1.2458154870122617,1.2288267864785891,1.211838085944916,1.1948493854112432,1.1778606848775706,1.1608719843438977]
[802,{"$f":"+正規乱数!L810","v":8.5252224088081299},{"$f":"+正規乱数!M810","v":31.427557574674221},{"$f":"+正規乱数!N810","v":17.525802347687925},{"$f":"+正規乱数!O810","v":0.12584663762578258},26.288703521531886,13.144351760765941,22.766685082204049,16.991418422250685,3.5290516365957671,1.1547005383792515,9.8440789052536068,1.0174051018450605,null,1.0041508021476313,0.99089650245020211,0.97764220275277292,0.96438790305534361,0.9511336033579143,0.93787930366048522,0.9246250039630558,0.91137070426562661,0.8981164045681973,0.88486210487076811,0.87160780517333891,0.85835350547590961,0.84509920577848041,0.83184490608105099,0.8185906063836218,0.8053363066861926,0.7920820069887633,0.7788277072913341,0.76557340759390491,0.7523191078964756,0.73906480819904641]
[803,{"$f":"+正規乱数!L811","v":11.576355440722677},{"$f":"+正規乱数!M811","v":35.473881122905908},{"$f":"+正規乱数!N811","v":15.985033712744087},{"$f":"+正規乱数!O811","v":0.12462309521513798},23.977550569116133,11.988775284558065,20.765167913380598,16.991418422250685,2.6891946247852725,1.1547005383792515,13.367223859872052,1.3392876339369308,null,1.3225057291833282,1.3057238244297258,1.2889419196761236,1.2721600149225212,1.2553781101689185,1.2385962054153161,1.2218143006617137,1.2050323959081113,1.1882504911545089,1.1714685864009065,1.154686681647304,1.1379047768937016,1.1211228721400992,1.1043409673864966,1.0875590626328944,1.070777157879292,1.0539952531256893,1.0372133483720869,1.0204314436184845,1.0036495388648821,0.98686763411127965]
[804,{"$f":"+正規乱数!L812","v":11.621207831071283},{"$f":"+正規乱数!M812","v":30.391895337520769},{"$f":"+正規乱数!N812","v":18.658104417269964},{"$f":"+正規乱数!O812","v":0.2180258582363005},27.987156625904944,13.99357831295247,24.23758861772766,16.991418422250685,4.2499251087762948,1.1547005383792515,13.419014939155185,1.2626463119570417,null,1.2419439288962022,1.2212415458353627,1.2005391627745232,1.1798367797136837,1.1591343966528442,1.138432013592005,1.1177296305311655,1.097027247470326,1.0763248644094865,1.055622481348647,1.0349200982878075,1.014217715226968,0.99351533216612842,0.97281294910528904,0.95211056604444944,0.93140818298360994,0.91070579992277045,0.89000341686193096,0.86930103380109147,0.84859865074025198,0.8278962676794126]
[805,{"$f":"+正規乱数!L813","v":7.6232070578524542},{"$f":"+正規乱数!M813","v":32.322422127394177},{"$f":"+正規乱数!N813","v":17.331019748265938},{"$f":"+正規乱数!O813","v":0.15089691358418261},25.996529622398906,12.998264811199451,22.513655063232136,16.991418422250685,3.4940385675979568,1.1547005383792515,8.8025212938787387,0.94601549053546286,null,0.92937462049454944,0.91273375045363581,0.89609288041272239,0.87945201037180887,0.86281114033089523,0.84617027028998182,0.82952940024906829,0.81288853020815488,0.79624766016724124,0.77960679012632772,0.76296592008541431,0.74632505004450067,0.72968418000358715,0.71304330996267351,0.6964024399217601,0.67976156988084657,0.66312069983993294,0.64647982979901952,0.629838959758106,0.61319808971719247,0.59655721967627895]
[806,{"$f":"+正規乱数!L814","v":10.454610830992356},{"$f":"+正規乱数!M814","v":30.927633795364805},{"$f":"+正規乱数!N814","v":16.506186824403073},{"$f":"+正規乱数!O814","v":0.18782894832296038},24.75928023660461,12.379640118302303,21.442165664317582,16.991418422250685,2.6666335989597836,1.1547005383792515,12.071944755092428,1.190549823194166,null,1.1699552263894726,1.1493606295847794,1.1287660327800859,1.1081714359753925,1.087576839170699,1.0669822423660056,1.0463876455613124,1.0257930487566189,1.0051984519519257,0.98460385514723225,0.96400925834253881,0.94341466153784548,0.92282006473315203,0.9022254679284587,0.88163087112376526,0.86103627431907193,0.84044167751437848,0.81984708070968504,0.79925248390499171,0.77865788710029826,0.75806329029560493]
[807,{"$f":"+正規乱数!L815","v":6.5776796851414723},{"$f":"+正規乱数!M815","v":30.38110328198993},{"$f":"+正規乱数!N815","v":18.08228502726676},{"$f":"+正規乱数!O815","v":0.16945847282598012},27.123427540900138,13.561713770450067,23.489577288126007,16.991418422250685,3.8095668600395021,1.1547005383792515,7.595250273719123,0.8409569267424627,null,0.82436096745041387,0.80776500815836505,0.79116904886631623,0.77457308957426729,0.75797713028221847,0.74138117099016954,0.72478521169812082,0.70818925240607189,0.69159329311402307,0.67499733382197413,0.65840137452992542,0.64180541523787649,0.62520945594582766,0.60861349665377873,0.5920175373617298,0.57542157806968108,0.55882561877763215,0.54222965948558333,0.5256337001935345,0.50903774090148557,0.4924417816094368]
[808,{"$f":"+正規乱数!L816","v":12.731329790006598},{"$f":"+正規乱数!M816","v":38.382497726635584},{"$f":"+正規乱数!N816","v":20.269327016450877},{"$f":"+正規乱数!O816","v":0.1548749638492781},30.403990524676317,15.201995262338157,26.330628170791055,16.991418422250685,7.3975225182143394,1.1547005383792515,14.700873362804421,1.4536510174928114,null,1.4353689560982381,1.4170868947036652,1.3988048333090921,1.380522771914519,1.3622407105199459,1.343958649125373,1.3256765877307997,1.3073945263362265,1.2891124649416534,1.2708304035470803,1.2525483421525072,1.2342662807579341,1.215984219363361,1.1977021579687879,1.1794200965742148,{"$f":"+(($H818-$I818-AD$10*$G$6*$E818*$K818)*TAN($C818*PI()/180)+$L818)/$G818","v":1.1611380351796416},1.1428559737850683,1.1245739123904954,1.1062918509959221,1.0880097896013492,1.0697277282067759]
[809,{"$f":"+正規乱数!L817","v":10.336013244417256},{"$f":"+正規乱数!M817","v":39.253190273065648},{"$f":"+正規乱数!N817","v":17.517821471293328},{"$f":"+正規乱数!O817","v":0.16548268299482854},26.27673220693999,13.138366103469993,22.756317619650769,16.991418422250685,4.7106555030387351,1.1547005383792515,11.935000058023679,1.2669501998932808,null,1.2436333867418492,1.2203165735904178,1.1969997604389861,1.1736829472875545,1.1503661341361231,1.1270493209846915,1.10373250783326,1.0804156946818284,1.0570988815303968,1.0337820683789654,1.0104652552275337,0.98714844207610208,0.96383162892467056,0.94051481577323892,0.91719800262180728,0.89388118947037576,0.87056437631894423,0.8472475631675126,0.82393075001608096,0.80061393686464943,0.77729712371321791]
[810,{"$f":"+正規乱数!L818","v":9.7346049998445494},{"$f":"+正規乱数!M818","v":35.282778740954434},{"$f":"+正規乱数!N818","v":18.190150608041247},{"$f":"+正規乱数!O818","v":0.13107855402220794},27.285225912061868,13.642612956030932,23.629698787843008,16.991418422250685,4.6971696177428299,1.1547005383792515,11.240553634229855,1.1682309908914599,null,1.1528287785200941,1.1374265661487284,1.1220243537773624,1.1066221414059967,1.0912199290346309,1.0758177166632654,1.0604155042918997,1.0450132919205339,1.0296110795491682,1.0142088671778025,0.99880665480643649,0.98340444243507075,0.968002230063705,0.95260001769233926,0.93719780532097341,0.92179559294960767,0.90639338057824193,0.89099116820687618,0.87558895583551033,0.86018674346414459,0.84478453109277885]
[811,{"$f":"+正規乱数!L819","v":9.378047615337854},{"$f":"+正規乱数!M819","v":39.449179854256897},{"$f":"+正規乱数!N819","v":17.73439763941013},{"$f":"+正規乱数!O819","v":0.14451788606720092},26.601596459115193,13.300798229557595,23.037658314815928,16.991418422250685,4.9751349871847586,1.1547005383792515,10.828836630376875,1.1881972303317392,null,1.1679422530414347,1.1476872757511298,1.1274322984608252,1.1071773211705207,1.086922343880216,1.0666673665899113,1.0464123892996069,1.0261574120093022,1.0059024347189975,0.98564745742869297,0.9653924801383883,0.94513750284808362,0.92488252555777895,0.90462754826747438,0.88437257097716981,0.86411759368686503,0.84386261639656046,0.8236076391062559,0.80335266181595122,0.78309768452564665,0.76284270723534187]
[812,{"$f":"+正規乱数!L820","v":13.925192869567256},{"$f":"+正規乱数!M820","v":39.169656352051632},{"$f":"+正規乱数!N820","v":17.324565968086873},{"$f":"+正規乱数!O820","v":0.12266859494227104},25.986848952130309,12.993424476065153,22.505271356853868,16.991418422250685,4.4921283252917616,1.1547005383792515,16.079427703524225,1.5832281987485526,null,1.5658031054759805,1.5483780122034088,1.5309529189308366,1.5135278256582645,1.4961027323856926,1.4786776391131204,1.4612525458405485,1.4438274525679766,1.4264023592954045,1.4089772660228328,1.3915521727502607,1.3741270794776885,1.3567019862051164,1.3392768929325445,1.3218517996599726,1.3044267063874007,1.2870016131148285,1.2695765198422564,1.2521514265696847,1.2347263332971126,1.2173012400245404]
[813,{"$f":"+正規乱数!L821","v":11.803498278194576},{"$f":"+正規乱数!M821","v":37.131251440107555},{"$f":"+正規乱数!N821","v":17.470259197396796},{"$f":"+正規乱数!O821","v":0.16429132544729785},26.205388796095193,13.102694398047595,22.694532413466547,16.991418422250685,4.3181232290291858,1.1547005383792515,13.629505816589845,1.369766286260433,null,1.3482580215606885,1.3267497568609443,1.3052414921611999,1.2837332274614557,1.2622249627617113,1.240716698061967,1.2192084333622224,1.1977001686624782,1.176191903962734,1.1546836392629896,1.1331753745632454,1.1116671098635007,1.0901588451637565,1.0686505804640121,1.0471423157642679,1.0256340510645234,1.0041257863647792,0.9826175216650348,0.96110925696529048,0.93960099226554616,0.91809272756580185]
[814,{"$f":"+正規乱数!L822","v":12.395490316734108},{"$f":"+正規乱数!M822","v":31.275679891276987},{"$f":"+正規乱数!N822","v":18.289003225791689},{"$f":"+正規乱数!O822","v":0.22881131373982233},27.433504838687533,13.716752419343765,23.758112105146722,16.991418422250685,4.1102812369271753,1.1547005383792515,14.313079342207672,1.3431284618911461,null,1.3201728122625576,1.2972171626339692,1.2742615130053807,1.2513058633767922,1.2283502137482039,1.2053945641196153,1.1824389144910268,1.1594832648624385,1.1365276152338499,1.1135719656052614,1.0906163159766731,1.0676606663480845,1.044705016719496,1.0217493670909075,0.99879371746231893,0.97583806783373062,0.95288241820514219,0.92992676857655354,0.90697111894796512,0.88401546931937669,0.86105981969078815]
[815,{"$f":"+正規乱数!L823","v":10.202976867138453},{"$f":"+正規乱数!M823","v":35.954823318068051},{"$f":"+正規乱数!N823","v":17.125352622372478},{"$f":"+正規乱数!O823","v":0.10491368783791731},25.688028933558719,12.844014466779358,22.246485629611534,16.991418422250685,3.8117026939529297,1.1547005383792515,11.781382881555821,1.21403519248906,null,1.2006124739670547,1.1871897554450492,1.1737670369230437,1.1603443184010382,1.1469215998790327,1.1334988813570273,1.1200761628350218,1.1066534443130163,1.0932307257910108,1.0798080072690055,1.066385288747,1.0529625702249945,1.0395398517029888,1.0261171331809833,1.0126944146589778,0.99927169613697242,0.98584897761496693,0.97242625909296143,0.95900354057095605,0.94558082204895044,0.93215810352694495]
[816,{"$f":"+正規乱数!L824","v":11.920837800934432},{"$f":"+正規乱数!M824","v":36.228120144301094},{"$f":"+正規乱数!N824","v":16.822235603974519},{"$f":"+正規乱数!O824","v":0.16669151792745929},25.233353405961779,12.616676702980888,21.85272507223349,16.991418422250685,3.5616038367342995,1.1547005383792515,13.76499782667072,1.3733094753320692,null,1.3513799368660366,1.3294503984000039,1.3075208599339716,1.2855913214679391,1.2636617830019066,1.2417322445358741,1.2198027060698415,1.197873167603809,1.1759436291377767,1.1540140906717442,1.1320845522057117,1.1101550137396792,1.0882254752736467,1.0662959368076144,1.0443663983415816,1.0224368598755491,1.0005073214095168,0.9785777829434843,0.95664824447745178,0.93471870601141926,0.91278916754538675]
[817,{"$f":"+正規乱数!L825","v":9.838265486536951},{"$f":"+正規乱数!M825","v":35.139943589228771},{"$f":"+正規乱数!N825","v":18.551182432236143},{"$f":"+正規乱数!O825","v":0.18370801012980667},27.826773648354212,13.913386824177104,24.098692884834136,16.991418422250685,5.0024820032513801,1.1547005383792515,11.360250454022225,1.17604237300729,null,1.1549878186931681,1.1339332643790458,1.112878710064924,1.0918241557508019,1.0707696014366799,1.0497150471225578,1.028660492808436,1.0076059384943139,0.98655138418019184,0.96549682986606988,0.94444227555194782,0.92338772123782575,0.90233316692370369,0.88127861260958174,0.86022405829545967,0.83916950398133761,0.81811494966721565,0.79706039535309348,0.77600584103897141,0.75495128672484946,0.73389673241072739]
[818,{"$f":"+正規乱数!L826","v":11.444892794770626},{"$f":"+正規乱数!M826","v":37.162413100020402},{"$f":"+正規乱数!N826","v":17.771668448345025},{"$f":"+正規乱数!O826","v":0.11858051251216187},26.657502672517538,13.328751336258767,23.086074515851756,16.991418422250685,4.6197971823301689,1.1547005383792515,13.215423871814457,1.3381014173193191,null,1.322823437437334,1.3075454575553491,1.2922674776733643,1.2769894977913792,1.2617115179093945,1.2464335380274092,1.2311555581454245,1.2158775782634392,1.2005995983814546,1.1853216184994695,1.1700436386174846,1.1547656587354995,1.1394876788535147,1.1242096989715296,1.1089317190895447,1.0936537392075596,1.0783757593255747,1.0630977794435896,1.0478197995616048,1.0325418196796199,1.0172638397976348]
[819,{"$f":"+正規乱数!L827","v":9.7151178396451918},{"$f":"+正規乱数!M827","v":34.619019588921496},{"$f":"+正規乱数!N827","v":17.403139313375107},{"$f":"+正規乱数!O827","v":0.16191167864904071},26.10470897006266,13.052354485031328,22.607341126473774,16.991418422250685,3.8769176172127939,1.1547005383792515,11.218051799856173,1.1564939823217448,null,1.137093026018781,1.117692069715817,1.0982911134128532,1.0788901571098894,1.0594892008069254,1.0400882445039616,1.0206872882009976,1.0012863318980338,0.98188537559506994,0.96248441929210604,0.94308346298914225,0.92368250668617835,0.90428155038321445,0.88488059408025066,0.86547963777728665,0.84607868147432275,0.82667772517135896,0.80727676886839494,0.78787581256543116,0.76847485626246737,0.74907389995950335]
[820,{"$f":"+正規乱数!L828","v":7.3098987283532306},{"$f":"+正規乱数!M828","v":33.465475692730834},{"$f":"+正規乱数!N828","v":17.379317232645988},{"$f":"+正規乱数!O828","v":0.12129627942890048},26.068975848968982,13.034487924484489,22.576395335850144,16.991418422250685,3.6917778955580687,1.1547005383792515,8.4407439971272815,0.93080157524985307,null,0.91686564191991882,0.90292970858998467,0.88899377526005052,0.87505784193011638,0.86112190860018234,0.84718597527024808,0.83325004194031393,0.8193141086103799,0.80537817528044564,0.7914422419505116,0.77750630862057735,0.7635703752906432,0.74963444196070916,0.73569850863077491,0.72176257530084076,0.70782664197090661,0.69389070864097246,0.67995477531103821,0.66601884198110417,0.65208290865117002,0.63814697532123577]
[821,{"$f":"+正規乱数!L829","v":10.060034638046744},{"$f":"+正規乱数!M829","v":36.56573274933055},{"$f":"+正規乱数!N829","v":17.042069455666031},{"$f":"+正規乱数!O829","v":0.13408189660140477},25.563104183499046,12.781552091749521,22.138297622498435,16.991418422250685,3.8176359191629854,1.1547005383792515,11.616327412666493,1.2075187129888618,null,1.1898906150638902,1.1722625171389183,1.1546344192139464,1.1370063212889745,1.1193782233640026,1.1017501254390307,1.0841220275140588,1.066493929589087,1.0488658316641153,1.0312377337391434,1.0136096358141715,0.99598153788919963,0.97835343996422774,0.96072534203925586,0.94309724411428397,0.92546914618931209,0.90784104826434009,0.89021295033936831,0.87258485241439643,0.85495675448942454,0.83732865656445266]
[822,{"$f":"+正規乱数!L830","v":7.8516214165777622},{"$f":"+正規乱数!M830","v":34.320621666328755},{"$f":"+正規乱数!N830","v":17.744963366382173},{"$f":"+正規乱数!O830","v":0.15564306068984174},26.617445049573259,13.308722524786628,23.05138359676679,16.991418422250685,4.1370247574268122,1.1547005383792515,9.0662714768724033,0.99207840645177914,null,0.97399085602570146,0.95590330559962389,0.93781575517354621,0.91972820474746875,0.90164065432139107,0.8835531038953135,0.86546555346923582,0.84737800304315825,0.82929045261708068,0.81120290219100322,0.79311535176492554,0.77502780133884785,0.75694025091277028,0.7388527004866926,0.72076515006061503,0.70267759963453735,0.68459004920845967,0.66650249878238221,0.64841494835630453,0.63032739793022696,0.61223984750414928]
[823,{"$f":"+正規乱数!L831","v":10.318883987201618},{"$f":"+正規乱数!M831","v":36.390080111882646},{"$f":"+正規乱数!N831","v":18.880596822505655},{"$f":"+正規乱数!O831","v":0.14106642764696811},28.320895233758485,14.160447616879241,24.526614730352478,16.991418422250685,5.5534123695334712,1.1547005383792515,11.915220895494745,1.2336215448589085,null,1.2169881686571253,1.2003547924553426,1.1837214162535599,1.1670880400517769,1.1504546638499942,1.1338212876482114,1.1171879114464285,1.1005545352446457,1.0839211590428628,1.0672877828410801,1.0506544066392973,1.0340210304375144,1.0173876542357314,1.0007542780339487,0.98412090183216572,0.96748752563038298,0.95085414942860003,0.93422077322681729,0.91758739702503445,0.90095402082325149,0.88432064462146864]
[824,{"$f":"+正規乱数!L832","v":10.655554006955937},{"$f":"+正規乱数!M832","v":32.696599599545813},{"$f":"+正規乱数!N832","v":18.127550203223112},{"$f":"+正規乱数!O832","v":0.1533335078810191},27.19132530483467,13.595662652417333,23.54837847655347,16.991418422250685,4.2089440327349834,1.1547005383792515,12.303973948561211,1.2145725003231209,null,1.1981712983901653,1.1817700964572102,1.1653688945242546,1.1489676925912993,1.1325664906583439,1.1161652887253886,1.099764086792433,1.0833628848594776,1.0669616829265223,1.0505604809935669,1.0341592790606116,1.017758077127656,1.0013568751947006,0.98495567326174516,{"$f":"+(($H834-$I834-AC$10*$G$6*$E834*$K834)*TAN($C834*PI()/180)+$L834)/$G834","v":0.9685544713287898},0.95215326939583445,0.93575206746287898,0.91935086552992351,0.90294966359696804,0.88654846166401269,0.87014725973105733]
[825,{"$f":"+正規乱数!L833","v":9.3646807044097589},{"$f":"+正規乱数!M833","v":37.717848305312224},{"$f":"+正規乱数!N833","v":16.859124838224695},{"$f":"+正規乱数!O833","v":0.14719042247006481},25.288687257337042,12.644343628668519,21.900645593213703,16.991418422250685,3.7967253347675607,1.1547005383792515,10.813401851131736,1.1554674259859372,null,1.1350713000771999,1.1146751741684628,1.0942790482597258,1.0738829223509885,1.0534867964422514,1.0330906705335143,1.0126945446247773,0.99229841871603996,0.97190229280730289,0.95150616689856582,0.93111004098982864,0.91071391508109145,0.89031778917235438,0.86992166326361731,0.84952553735488001,0.82912941144614294,0.80873328553740575,0.78833715962866857,0.7679410337199315,0.74754490781119443,0.72714878190245724]
[826,{"$f":"+正規乱数!L834","v":10.619790854636545},{"$f":"+正規乱数!M834","v":38.753504638047097},{"$f":"+正規乱数!N834","v":17.028241729447757},{"$f":"+正規乱数!O834","v":0.14918441224924778},25.542362594171635,12.771181297085816,22.120334879226032,16.991418422250685,4.116906484249383,1.1547005383792515,12.262678217323868,1.2825426497790628,null,1.2613001253732015,1.2400576009673399,1.2188150765614783,1.1975725521556169,1.1763300277497553,1.1550875033438939,1.1338449789380323,1.1126024545321707,1.0913599301263093,1.0701174057204477,1.0488748813145863,1.0276323569087249,1.0063898325028631,0.98514730809700168,0.96390478369114008,0.94266225928527858,0.92141973487941708,0.9001772104735557,0.87893468606769398,0.8576921616618326,0.83644963725597099]
[827,{"$f":"+正規乱数!L835","v":6.4938540021956346},{"$f":"+正規乱数!M835","v":34.49843516541921},{"$f":"+正規乱数!N835","v":17.393688578065021},{"$f":"+正規乱数!O835","v":0.15402440850844679},26.090532867097529,13.045266433548763,22.595064261179306,16.991418422250685,3.8510537528658499,1.1547005383792515,7.4984567124915564,0.87000986320751961,null,0.85162696980500674,0.83324407640249398,0.81486118299998123,0.79647828959746836,0.7780953961949556,0.75971250279244262,0.74132960938992998,0.72294671598741711,0.70456382258490435,0.68618092918239137,0.66779803577987873,0.64941514237736575,0.63103224897485288,0.61264935557234002,0.59426646216982726,0.57588356876731439,0.55750067536480163,0.53911778196228877,0.5207348885597759,0.50235199515726314,0.48396910175475033]
[828,{"$f":"+正規乱数!L836","v":9.6612017792139362},{"$f":"+正規乱数!M836","v":38.721410899999867},{"$f":"+正規乱数!N836","v":16.506896978712785},{"$f":"+正規乱数!O836","v":0.14902009541317507},24.760345468069175,12.380172734034586,21.443088181826806,16.991418422250685,3.5691920957621903,1.1547005383792515,11.155794895848913,1.1894007707283714,null,1.1675365759604588,1.1456723811925462,1.1238081864246336,1.1019439916567213,1.0800797968888087,1.0582156021208962,1.0363514073529838,1.0144872125850712,0.99262301781715867,0.97075882304924621,0.94889462828133375,0.92703043351342118,0.9051662387455085,0.88330204397759604,0.86143784920968358,0.83957365444177112,0.81770945967385855,0.79584526490594598,0.77398107013803341,0.75211687537012095,0.73025268060220849]
[829,{"$f":"+正規乱数!L837","v":8.5059763614723476},{"$f":"+正規乱数!M837","v":32.437927792752646},{"$f":"+正規乱数!N837","v":15.708668810579887},{"$f":"+正規乱数!O837","v":0.15086056530412376},23.563003215869831,11.781501607934914,20.406159374397699,16.991418422250685,2.1702326486821222,1.1547005383792515,9.821855484033307,1.0178743365479561,null,0.99943726313594394,0.98100018972393177,0.96256311631191949,0.94412604289990731,0.92568896948789503,0.90725189607588286,0.88881482266387069,0.8703777492518584,0.85194067583984623,0.83350360242783395,0.81506652901582177,0.7966294556038096,0.77819238219179732,0.75975530877978514,0.74131823536777275,0.72288116195576058,0.70444408854374829,0.68600701513173612,0.66756994171972384,0.64913286830771166,0.63069579489569949]
[830,{"$f":"+正規乱数!L838","v":9.32205457948149},{"$f":"+正規乱数!M838","v":36.136922957180573},{"$f":"+正規乱数!N838","v":20.001497856573323},{"$f":"+正規乱数!O838","v":0.15458266942131541},30.002246784859985,15.00112339242999,25.982707886298748,16.991418422250685,6.5654405412545245,1.1547005383792515,10.764181441728043,1.1552216143844003,null,1.1381746409750779,1.1211276675657558,1.1040806941564334,1.0870337207471112,1.0699867473377889,1.0529397739284665,1.0358928005191441,1.018845827109822,1.0017988537004996,0.98475188029117722,0.96770490688185484,0.95065793347253247,0.9336109600632102,0.91656398665388783,0.89951701324456546,0.88247003983524319,0.86542306642592082,0.84837609301659844,0.83132911960727618,0.81428214619795392,0.79723517278863154]
[831,{"$f":"+正規乱数!L839","v":6.411467426813636},{"$f":"+正規乱数!M839","v":34.04630308112376},{"$f":"+正規乱数!N839","v":18.78277002171313},{"$f":"+正規乱数!O839","v":0.17317342363544144},28.174155032569693,14.087077516284845,24.399533988366546,16.991418422250685,5.0055523658034913,1.1547005383792515,7.4033248895427395,0.88086952322093826,null,0.86205154461593292,0.84323356601092792,0.82441558740592269,0.80559760880091758,0.78677963019591224,0.76796165159090712,0.7491436729859019,0.73032569438089678,0.71150771577589156,0.69268973717088633,0.67387175856588122,0.6550537799608761,0.63623580135587077,0.61741782275086554,0.5985998441458602,0.57978186554085509,0.56096388693584998,0.54214590833084475,0.52332792972583952,0.50450995112083441,0.48569197251582913]
[832,{"$f":"+正規乱数!L840","v":11.689471737305031},{"$f":"+正規乱数!M840","v":35.691113456534893},{"$f":"+正規乱数!N840","v":18.580376695706907},{"$f":"+正規乱数!O840","v":0.14684768000749157},27.870565043560362,13.935282521780179,24.136617345549826,16.991418422250685,5.1326660263511359,1.1547005383792515,13.497839308435163,1.3369305793167603,null,1.3197812016199906,1.3026318239232209,1.2854824462264507,1.268333068529681,1.2511836908329113,1.2340343131361413,1.2168849354393714,1.1997355577426017,1.1825861800458319,1.1654368023490622,1.1482874246522921,1.1311380469555223,1.1139886692587524,1.0968392915619827,1.079689913865213,1.062540536168443,1.0453911584716733,1.0282417807749034,1.0110924030781334,0.9939430253813637,0.97679364768459387]
[833,{"$f":"+正規乱数!L841","v":8.5710111677437641},{"$f":"+正規乱数!M841","v":33.51582690810833},{"$f":"+正規乱数!N841","v":17.559683370909625},{"$f":"+正規乱数!O841","v":0.17595825009569174},26.339525056364437,13.169762528182217,22.810697822428352,16.991418422250685,3.8540091237129186,1.1547005383792515,9.8969512098483019,1.0441312289523283,null,1.0240844966660703,1.0040377643798122,0.9839910320935541,0.96394429980729601,0.94389756752103815,0.92385083523477995,0.90380410294852198,0.8837573706622639,0.86371063837600581,0.84366390608974773,0.82361717380348964,0.80357044151723167,0.78352370923097359,0.7634769769447155,0.74343024465845742,0.72338351237219933,0.70333678008594125,0.68329004779968316,0.66324331551342508,0.64319658322716722,0.62314985094090902]
[834,{"$f":"+正規乱数!L842","v":8.2908305987186708},{"$f":"+正規乱数!M842","v":41.089324645003167},{"$f":"+正規乱数!N842","v":17.378385758170545},{"$f":"+正規乱数!O842","v":0.11274620168095592},26.067578637255817,{"$f":"+F844*SIN($G$2*PI()/180)","v":13.033789318627907},22.575185315012078,{"$f":"+$G$5*$G$4*$G$6/COS($G$2*PI()/180)","v":16.991418422250685},4.8691985274317178,{"$f":"+$G$4/COS($G$2*PI()/180)","v":1.1547005383792515},9.5734265559516203,1.1080910340281411,null,1.0910015166874782,1.0739119993468156,1.0568224820061527,1.03973296466549,1.0226434473248274,1.0055539299841645,0.98846441264350182,0.97137489530283905,0.95428537796217627,0.93719586062151361,0.92010634328085084,0.90301682594018806,0.88592730859952529,0.86883779125886262,0.85174827391819974,0.83465875657753696,0.81756923923687419,0.80047972189621142,0.78339020455554875,0.76630068721488598,0.7492111698742232]
[835,{"$f":"+正規乱数!L843","v":9.3915071154975038},{"$f":"+正規乱数!M843","v":35.640067251206581},{"$f":"+正規乱数!N843","v":20.590771927060878},{"$f":"+正規乱数!O843","v":0.12793229217711274},30.886157890591317,15.443078945295657,26.748197358549273,16.991418422250685,6.9954929402932668,1.1547005383792515,10.844378322457539,1.1552017137220729,null,1.1417453871471224,1.1282890605721718,1.1148327339972213,1.1013764074222705,1.0879200808473199,1.0744637542723694,1.0610074276974188,1.0475511011224683,1.0340947745475177,1.0206384479725672,1.0071821213976166,0.99372579482266588,0.98026946824771521,0.96681314167276466,0.953356815097814,0.93990048852286345,0.9264441619479129,0.91298783537296224,0.89953150879801158,0.88607518222306103,0.87261885564811037]
[836,{"$f":"+正規乱数!L844","v":9.1993755554153616},{"$f":"+正規乱数!M844","v":33.374618568844333},{"$f":"+正規乱数!N844","v":18.738348483263522},{"$f":"+正規乱数!O844","v":0.11789431206032107},28.107522724895283,14.05376136244764,24.341828717207726,16.991418422250685,4.8420320855143579,1.1547005383792515,10.622523906591043,1.1003855546763073,null,1.0878661196583947,1.075346684640482,1.0628272496225697,1.0503078146046569,1.0377883795867442,1.0252689445688319,1.0127495095509191,1.0002300745330066,0.98771063951509397,0.97519120449718144,0.9626717694792688,0.95015233446135627,0.93763289944344363,0.92511346442553111,0.91259402940761847,0.90007459438970583,0.8875551593717933,0.87503572435388066,0.86251628933596824,0.84999685431805561,0.83747741930014308]
[837,{"$f":"+正規乱数!L845","v":9.2494098851187321},{"$f":"+正規乱数!M845","v":35.654303911827945},{"$f":"+正規乱数!N845","v":17.853972552953195},{"$f":"+正規乱数!O845","v":0.18950800192523631},26.780958829429792,13.390479414714894,23.192990683991365,16.991418422250685,4.4487861083880693,1.1547005383792515,10.68029857403697,1.1298389112042977,null,1.1068382926703602,1.0838376741364224,1.0608370556024846,1.0378364370685471,1.0148358185346094,0.99183520000067171,0.96883458146673396,0.94583396293279631,0.92283334439885856,0.89983272586492091,0.87683210733098316,0.8538314887970454,0.83083087026310776,0.80783025172917,0.78482963319523236,0.7618290146612946,0.73882839612735696,0.7158277775934192,0.69282715905948145,0.6698265405255438,0.64682592199160605]
[838,{"$f":"+正規乱数!L846","v":10.924144599897708},{"$f":"+正規乱数!M846","v":32.545618255616915},{"$f":"+正規乱数!N846","v":19.724224953769067},{"$f":"+正規乱数!O846","v":0.16633092867605698},29.5863374306536,14.793168715326798,25.622519819884438,16.991418422250685,5.5082839632574832,1.1547005383792515,12.614115650834677,1.2250519116513581,null,1.2087952908527815,1.1925386700542049,1.1762820492556283,1.1600254284570517,1.1437688076584751,1.1275121868598985,1.1112555660613219,1.0949989452627453,1.0787423244641687,1.0624857036655921,1.0462290828670155,1.029972462068439,1.0137158412698624,0.99745922047128566,0.98120259967270906,0.96494597887413247,0.94868935807555588,0.93243273727697928,0.91617611647840269,0.8999194956798261,0.88366287488124939]
[839,{"$f":"+正規乱数!L847","v":12.468919274417685},{"$f":"+正規乱数!M847","v":29.841981869113983},{"$f":"+正規乱数!N847","v":19.33218458958029},{"$f":"+正規乱数!O847","v":0.24542644628960772},28.998276884370433,14.499138442185215,25.113244447839861,16.991418422250685,4.6593198708834214,1.1547005383792515,14.397867799177526,1.3143669015956216,null,1.2923672208829913,1.2703675401703611,1.2483678594577308,1.2263681787451004,1.20436849803247,1.1823688173198397,1.1603691366072095,1.1383694558945792,1.116369775181949,1.0943700944693187,1.0723704137566885,1.0503707330440581,1.028371052331428,1.0063713716187976,0.98437169090616727,0.96237201019353702,0.94037232948090677,0.9183726487682764,0.89637296805564615,0.87437328734301589,0.85237360663038564]
[840,{"$f":"+正規乱数!L848","v":10.52237126113927},{"$f":"+正規乱数!M848","v":33.026011326970192},{"$f":"+正規乱数!N848","v":16.929587960464808},{"$f":"+正規乱数!O848","v":0.13587033445664104},25.394381940697212,12.697190970348604,21.99217987404856,16.991418422250685,3.2507611110121482,1.1547005383792515,12.150187760263877,1.2129414220232988,null,1.1971822178685196,1.1814230137137405,1.1656638095589611,1.1499046054041819,1.1341454012494028,1.1183861970946234,1.1026269929398442,1.0868677887850651,1.0711085846302859,1.0553493804755067,1.0395901763207276,1.0238309721659482,1.008071768011169,{"$f":"+(($H850-$I850-AB$10*$G$6*$E850*$K850)*TAN($C850*PI()/180)+$L850)/$G850","v":0.99231256385638988},0.9765533597016105,0.96079415554683134,0.94503495139205207,0.92927574723727291,0.91351654308249364,0.89775733892771437,0.88199813477293521]
[841,{"$f":"+正規乱数!L849","v":9.5277960127021704},{"$f":"+正規乱数!M849","v":28.495733390094976},{"$f":"+正規乱数!N849","v":18.309756786725664},{"$f":"+正規乱数!O849","v":0.10947537841004842},27.464635180088496,13.732317590044246,23.785071771628441,16.991418422250685,3.6879977956191166,1.1547005383792515,11.001751185434882,1.0697210346856438,null,1.0599164713266707,1.0501119079676975,1.0403073446087245,1.0305027812497514,1.0206982178907782,1.010893654531805,1.0010890911728318,0.9912845278138589,0.98147996445488572,0.97167540109591255,0.96187083773693938,0.9520662743779662,0.94226171101899314,0.93245714766001997,0.9226525843010468,0.91284802094207373,0.90304345758310056,0.89323889422412739,0.88343433086515422,0.87362976750618115,0.86382520414720798]
[842,{"$f":"+正規乱数!L850","v":4.7546989698769293},{"$f":"+正規乱数!M850","v":36.039039353318401},{"$f":"+正規乱数!N850","v":18.450294173351569},{"$f":"+正規乱数!O850","v":0.14874907699326292},27.675441260027355,13.837720630013676,23.967635192127705,16.991418422250685,5.0757842411923706,1.1547005383792515,5.4902534603481623,0.76356778576834816,null,0.74584870128863978,0.72812961680893151,0.71041053232922335,0.69269144784951509,0.67497236336980693,0.65725327889009855,0.63953419441039028,0.62181510993068212,0.60409602545097385,0.58637694097126558,0.56865785649155731,0.55093877201184915,0.53321968753214077,0.51550060305243262,0.49778151857272424,0.48006243409301608,0.46234334961330775,0.44462426513359948,0.42690518065389127,0.409186096174183,0.39146701169447473]
[843,{"$f":"+正規乱数!L851","v":10.786840500456879},{"$f":"+正規乱数!M851","v":33.769981839932562},{"$f":"+正規乱数!N851","v":16.870764199174353},{"$f":"+正規乱数!O851","v":0.15873612325273623},25.306146298761529,12.653073149380763,21.915765566613032,16.991418422250685,3.2928282447489936,1.1547005383792515,12.455570533288673,1.2446303433255967,null,1.2256253142107998,1.2066202850960033,1.1876152559812063,1.1686102268664098,1.1496051977516129,1.1306001686368161,1.1115951395220194,1.0925901104072226,1.0735850812924259,1.0545800521776292,1.0355750230628324,1.0165699939480357,0.99756496483323887,0.97855993571844213,0.9595549066036454,0.94054987748884866,0.92154484837405193,0.90253981925925508,0.88353479014445835,0.86452976102966161,0.84552473191486488]
[844,{"$f":"+正規乱数!L852","v":5.426389146968206},{"$f":"+正規乱数!M852","v":32.873127293567293},{"$f":"+正規乱数!N852","v":17.897706401366051},{"$f":"+正規乱数!O852","v":9.8835666815244763E-2},26.846559602049076,13.423279801024536,23.249802619587552,16.991418422250685,4.0445678131316534,1.1547005383792515,6.2658544694595149,0.7681000795203734,null,0.75731971798325948,0.74653935644614555,0.73575899490903152,0.72497863337191759,0.71419827183480367,0.70341791029768963,0.69263754876057571,0.68185718722346167,0.67107682568634774,0.66029646414923382,0.64951610261211978,0.63873574107500586,0.62795537953789193,0.6171750180007779,0.60639465646366397,0.59561429492655005,0.58483393338943601,0.57405357185232209,0.56327321031520805,0.55249284877809413,0.5417124872409802]
[845,{"$f":"+正規乱数!L853","v":9.869796890976879},{"$f":"+正規乱数!M853","v":38.121255262475813},{"$f":"+正規乱数!N853","v":18.892403554427215},{"$f":"+正規乱数!O853","v":0.20208290060185458},28.338605331640821,14.169302665820409,24.541952125022089,16.991418422250685,5.9248991651095784,1.1547005383792515,11.396659783704864,1.2224708129496022,null,1.1971164458448957,1.1717620787401894,1.1464077116354829,1.1210533445307767,1.0956989774260701,1.0703446103213636,1.0449902432166573,1.0196358761119508,0.99428150900724444,0.96892714190253815,0.94357277479783164,0.91821840769312524,0.89286404058841873,0.86750967348371222,0.84215530637900582,0.81680093927429942,{"$f":"+(($H855-$I855-AE$10*$G$6*$E855*$K855)*TAN($C855*PI()/180)+$L855)/$G855","v":0.79144657216959302},0.76609220506488651,0.74073783796017989,0.7153834708554736,0.6900291037507672]
[846,{"$f":"+正規乱数!L854","v":10.272957406028276},{"$f":"+正規乱数!M854","v":34.156299702159473},{"$f":"+正規乱数!N854","v":17.614101978865865},{"$f":"+正規乱数!O854","v":0.17097629411386897},26.421152968298799,13.210576484149398,22.881389667821388,16.991418422250685,3.9962565403383441,1.1547005383792515,11.862189447487969,1.2004355757565872,null,1.1805415495100249,1.1606475232634625,1.1407534970169002,1.1208594707703379,1.1009654445237753,1.081071418277213,1.0611773920306506,1.0412833657840883,1.021389339537526,1.0014953132909636,0.98160128704440119,0.96170726079783875,0.94181323455127641,0.92191920830471408,0.90202518205815163,0.8821311558115893,0.86223712956502696,0.8423431033184644,0.82244907707190218,0.80255505082533984,0.7826610245787774]
[847,{"$f":"+正規乱数!L855","v":12.937795231564582},{"$f":"+正規乱数!M855","v":35.715212739861379},{"$f":"+正規乱数!N855","v":17.714860882445432},{"$f":"+正規乱数!O855","v":0.18675270197995231},26.572291323668146,13.286145661834071,23.012279323057445,16.991418422250685,4.3288519662650469,1.1547005383792515,14.939279119328136,1.4502423483842293,null,1.4273468344536171,1.4044513205230051,1.3815558065923932,1.3586602926617812,1.3357647787311691,1.3128692648005571,1.2899737508699449,1.2670782369393332,1.2441827230087212,1.2212872090781091,1.1983916951474971,1.1754961812168849,1.152600667286273,1.129705153355661,1.1068096394250488,1.0839141254944369,1.0610186115638247,1.0381230976332128,1.0152275837026008,0.99233206977198873,0.96943655584137667]
[848,{"$f":"+正規乱数!L856","v":11.291564910558236},{"$f":"+正規乱数!M856","v":33.700310745932597},{"$f":"+正規乱数!N856","v":17.542221495413088},{"$f":"+正規乱数!O856","v":0.14770941210631877},26.313332243119632,13.156666121559814,22.78801418076177,16.991418422250685,3.8658942333273942,1.1547005383792515,13.038376081365859,1.2848445159668713,null,1.267881321510945,1.2509181270550191,1.2339549325990931,1.216991738143167,1.2000285436872407,1.1830653492313146,1.1661021547753885,1.1491389603194624,1.1321757658635361,1.11521257140761,1.0982493769516839,1.0812861824957578,1.0643229880398317,1.0473597935839054,1.0303965991279793,1.0134334046720532,0.99647021021612714,0.97950701576020094,0.96254382130427474,0.94558062684834876,0.92861743239242256]
[849,{"$f":"+正規乱数!L857","v":9.2766478483363652},{"$f":"+正規乱数!M857","v":33.64024474021511},{"$f":"+正規乱数!N857","v":18.00503769797378},{"$f":"+正規乱数!O857","v":0.12497817567417582},27.007556546960672,13.503778273480334,23.389230063812676,16.991418422250685,4.2571764567163211,1.1547005383792515,10.711750264828726,1.1084991487857938,null,1.0945471170406076,1.0805950852954216,1.0666430535502351,1.0526910218050489,1.0387389900598625,1.0247869583146765,1.01083492656949,0.99688289482430392,0.9829308630791177,0.96897883133393137,0.95502679958874515,0.94107476784355892,0.9271227360983727,0.91317070435318637,0.89921867260800015,0.88526664086281392,0.87131460911762759,0.85736257737244137,0.84341054562725515,0.82945851388206882,0.81550648213688259]
[850,{"$f":"+正規乱数!L858","v":10.014334801976982},{"$f":"+正規乱数!M858","v":34.81468492707014},{"$f":"+正規乱数!N858","v":17.765886035823744},{"$f":"+正規乱数!O858","v":0.15486165544406785},26.648829053735618,13.324414526867807,23.07856294164387,16.991418422250685,4.2329898258397245,1.1547005383792515,11.563557787352897,1.1855340871705786,null,1.1672236908124112,1.1489132944542437,1.1306028980960763,1.1122925017379088,1.0939821053797414,1.0756717090215742,1.0573613126634067,1.0390509163052393,1.020740519947072,1.0024301235889046,0.98411972723073715,0.96580933087256982,0.94749893451440226,0.92918853815623481,0.91087814179806748,0.89256774543990003,0.87425734908173269,0.85594695272356525,0.8376365563653978,0.81932616000723046,0.80101576364906313]
[851,{"$f":"+正規乱数!L859","v":12.254032949645921},{"$f":"+正規乱数!M859","v":36.871958208342839},{"$f":"+正規乱数!N859","v":16.78688343682466},{"$f":"+正規乱数!O859","v":0.14329913995215651},25.180325155236989,12.590162577618493,21.806801259987573,16.991418422250685,3.6118077270116409,1.1547005383792515,14.149738444273233,1.4107479599079633,null,1.3914071605662943,1.3720663612246256,1.3527255618829563,1.3333847625412876,1.3140439631996186,1.2947031638579498,1.2753623645162806,1.2560215651746118,1.2366807658329428,1.2173399664912739,1.1979991671496051,1.1786583678079361,1.1593175684662671,1.1399767691245981,1.1206359697829291,1.1012951704412604,1.0819543710995914,1.0626135717579224,1.0432727724162536,1.0239319730745844,1.0045911737329156]
[852,{"$f":"+正規乱数!L860","v":9.5539989404095191},{"$f":"+正規乱数!M860","v":35.597994472174818},{"$f":"+正規乱数!N860","v":17.73022394542847},{"$f":"+正規乱数!O860","v":0.19317751643258824},26.595335918142705,13.297667959071351,23.032236527292323,16.991418422250685,4.324481173920617,1.1547005383792515,11.032007720165669,1.1548257139035012,null,1.1312650395274644,1.1077043651514276,1.0841436907753907,1.0605830163993539,1.0370223420233171,1.0134616676472803,0.98990099327124348,0.96634031889520666,0.94277964451916985,0.91921897014313314,0.89565829576709632,0.8720976213910594,0.84853694701502258,0.82497627263898576,0.80141559826294895,0.77785492388691202,0.75429424951087543,0.73073357513483839,0.70717290075880157,0.68361222638276475,0.66005155200672794]
[853,{"$f":"+正規乱数!L861","v":10.198794693563579},{"$f":"+正規乱数!M861","v":34.525026043917137},{"$f":"+正規乱数!N861","v":18.544531404357251},{"$f":"+正規乱数!O861","v":0.11889307643786773},27.816797106535876,13.908398553267936,24.09005294617754,16.991418422250685,4.8833228815322993,1.1547005383792515,11.776553723477319,1.1978285308120675,null,1.1845059478735223,1.171183364934977,1.1578607819964319,1.1445381990578867,1.1312156161193414,1.1178930331807964,1.1045704502422511,1.0912478673037058,1.0779252843651606,1.0646027014266155,1.0512801184880702,1.037957535549525,1.0246349526109797,1.0113123696724344,0.99798978673388927,0.98466720379534411,0.97134462085679885,0.95802203791825358,0.94469945497970831,0.93137687204116315,0.91805428910261788]
[854,{"$f":"+正規乱数!L862","v":6.5244039617918403},{"$f":"+正規乱数!M862","v":18.00503769797378},{"$f":"+正規乱数!N862","v":16.835671465261296},{"$f":"+正規乱数!O862","v":0.16525221704171172},25.253507197891942,12.626753598945969,21.8701787680276,16.991418422250685,1.5856795919888549,1.1547005383792515,7.5337327672847589,0.72222937493884942,null,0.71259264003947487,0.70295590514010031,0.69331917024072598,0.68368243534135142,0.67404570044197687,0.66440896554260254,0.65477223064322798,0.64513549574385354,0.63549876084447909,0.62586202594510465,0.61622529104573009,0.60658855614635565,0.5969518212469811,0.58731508634760665,0.57767835144823221,0.56804161654885765,0.55840488164948321,0.54876814675010865,0.53913141185073421,0.52949467695135977,0.51985794205198521]
[855,{"$f":"+正規乱数!L863","v":11.268318151116285},{"$f":"+正規乱数!M863","v":32.992164136624268},{"$f":"+正規乱数!N863","v":17.530643209672},{"$f":"+正規乱数!O863","v":0.13072030064354315},26.295964814508,13.147982407253998,22.772973546385685,16.991418422250685,3.7534617432064485,1.1547005383792515,13.011533035722666,1.2751001834075728,null,1.2604770777476451,1.2458539720877173,1.2312308664277896,1.216607760767862,1.2019846551079343,1.1873615494480065,1.172738443788079,1.1581153381281513,1.1434922324682235,1.1288691268082958,1.1142460211483682,1.0996229154884405,1.0849998098285127,1.070376704168585,1.0557535985086572,1.0411304928487297,1.026507387188802,1.0118842815288742,0.99726117586894647,0.98263807020901872,0.96801496454909108]
[856,{"$f":"+正規乱数!L864","v":11.964280280348254},{"$f":"+正規乱数!M864","v":32.251417024207903},{"$f":"+正規乱数!N864","v":15.485644140441545},{"$f":"+正規乱数!O864","v":0.13651220830757563},23.228466210662319,11.614233105331158,20.116441829382026,16.991418422250685,1.9718509865122091,1.1547005383792515,13.815160881038389,1.3592814716542976,null,1.3424791171850676,1.3256767627158377,1.3088744082466075,1.2920720537773775,1.2752696993081476,1.2584673448389174,1.2416649903696875,1.2248626359004573,1.2080602814312273,1.1912579269619974,1.1744555724927674,1.1576532180235373,{"$f":"+(($H866-$I866-AA$10*$G$6*$E866*$K866)*TAN($C866*PI()/180)+$L866)/$G866","v":1.1408508635543071},1.1240485090850771,1.1072461546158472,1.090443800146617,1.0736414456773871,1.0568390912081571,1.0400367367389269,1.023234382269697,1.006432027800467]
[857,{"$f":"+正規乱数!L865","v":8.052391394102532},{"$f":"+正規乱数!M865","v":35.295498755711066},{"$f":"+正規乱数!N865","v":18.338390805493617},{"$f":"+正規乱数!O865","v":0.14041685598850481},27.507586208240426,13.753793104120211,23.822268453126672,16.991418422250685,4.8357057893190172,1.1547005383792515,9.2981006780106448,1.0276297135148567,null,1.0112558845978332,0.9948820556808099,0.97850822676378668,0.96213439784676336,0.94576056892973992,0.92938674001271659,0.91301291109569338,0.89663908217867005,0.88026525326164684,0.86389142434462352,0.84751759542760008,0.83114376651057675,0.81476993759355343,0.7983961086765301,0.78202227975950689,0.76564845084248345,0.74927462192546024,0.7329007930084368,0.71652696409141348,0.70015313517439026,0.68377930625736683]
[858,{"$f":"+正規乱数!L866","v":10.243922312236773},{"$f":"+正規乱数!M866","v":35.273335830692638},{"$f":"+正規乱数!N866","v":17.115076134313483},{"$f":"+正規乱数!O866","v":0.15979662904320768},25.672614201470225,12.836307100735111,22.233136080030366,16.991418422250685,3.7076818970730168,1.1547005383792515,11.828662609055028,1.2103437837848481,null,1.1903946185109098,1.1704454532369717,1.1504962879630336,1.1305471226890953,1.1105979574151572,1.0906487921412191,1.070699626867281,1.0507504615933427,1.0308012963194046,1.0108521310454666,0.99090296577152848,0.97095380049759028,0.95100463522365208,0.931055469949714,0.9111063046757758,0.89115713940183772,0.87120797412789952,0.85125880885396155,0.83130964358002335,0.81136047830608515,0.79141131303214685]
[859,{"$f":"+正規乱数!L867","v":8.1976092733348782},{"$f":"+正規乱数!M867","v":41.718575967076156},{"$f":"+正規乱数!N867","v":18.510339667095604},{"$f":"+正規乱数!O867","v":0.21072960333673588},{"$f":"+$G$3*$G$4*D869","v":27.765509500643404},13.8827547503217,{"$f":"+F869*COS($G$2*PI()/180)","v":24.045636576575372},16.991418422250685,{"$f":"+(H869-I869)*TAN(C869*PI()/180)","v":6.2891828810203068},1.1547005383792515,{"$f":"+K869*B869","v":9.4657838413425281},{"$f":"+(J869+L869)/G869","v":1.1348588234620907},null,1.1041994266194595,1.0735400297768281,1.0428806329341966,1.0122212360915652,0.98156183924893392,0.95090244240630273,0.92024304556367142,0.88958364872104001,0.85892425187840882,0.8282648550357774,0.7976054581931461,0.76694606135051469,0.73628666450788338,0.70562726766525197,0.67496787082262066,0.64430847397998936,0.61364907713735806,0.58298968029472664,0.55233028345209523,0.52167088660946404,0.49101148976683273]
[860,{"$f":"+正規乱数!L868","v":7.3082936346399237},{"$f":"+正規乱数!M868","v":34.675394934509058},{"$f":"+正規乱数!N868","v":19.962959428319923},{"$f":"+正規乱数!O868","v":0.17888038096900066},29.944439142479887,14.972219571239942,25.932644999464696,16.991418422250685,6.1855197766759833,1.1547005383792515,8.438890594552376,0.97676969681371173,null,0.95804460333718666,0.93931950986066159,0.92059441638413664,0.90186932290761146,0.88314422943108639,0.86441913595456132,0.84569404247803637,0.82696894900151141,0.80824385552498623,0.78951876204846128,0.77079366857193621,0.75206857509541114,0.73334348161888596,0.71461838814236101,0.69589329466583583,0.67716820118931087,0.65844310771278569,0.63971801423626062,0.62099292075973556,0.6022678272832106,0.58354273380668542]
[861,{"$f":"+正規乱数!L869","v":10.852999321344488},{"$f":"+正規乱数!M869","v":39.072340252027992},{"$f":"+正規乱数!N869","v":17.229658810110312},{"$f":"+正規乱数!O869","v":0.15781148867384126},25.84448821516547,12.922244107582733,22.381983342140842,16.991418422250685,4.3764739699169324,1.1547005383792515,12.531964159386131,1.3084753691799744,null,1.2860128161086413,1.2635502630373081,1.241087709965975,1.218625156894642,1.1961626038233091,1.1737000507519759,1.1512374976806428,1.1287749446093096,1.1063123915379767,1.0838498384666437,1.0613872853953106,1.0389247323239774,1.0164621792526445,0.99399962618131132,0.97153707310997817,0.94907452003864512,0.92661196696731207,0.90414941389597892,0.88168686082464598,0.85922430775331282,0.83676175468197977]
[862,{"$f":"+正規乱数!L870","v":8.0281607144123726},{"$f":"+正規乱数!M870","v":36.105406032171778},{"$f":"+正規乱数!N870","v":18.122104196338046},{"$f":"+正規乱数!O870","v":0.12843350676698181},27.183156294507071,13.591578147253534,23.541303906085993,16.991418422250685,4.7772053350296488,1.1547005383792515,9.2701214991271232,1.0335316974942554,null,1.0179175949499668,1.0023034924056782,0.98668938986138954,0.97107528731710091,0.95546118477281239,0.93984708222852376,0.92423297968423512,0.90861887713994649,0.89300477459565797,0.87739067205136922,0.8617765695070807,0.84616246696279207,0.83054836441850344,0.81493426187421469,0.79932015932992617,0.78370605678563754,0.76809195424134891,0.75247785169706027,0.73686374915277164,0.72124964660848301,0.70563554406419449]
[863,{"$f":"+正規乱数!L871","v":8.316813967016973},{"$f":"+正規乱数!M871","v":30.66844408987907},{"$f":"+正規乱数!N871","v":16.690043412600776},{"$f":"+正規乱数!O871","v":0.16578929974257578},25.035065118901166,12.517532559450581,21.681002378366099,16.991418422250685,2.7809789593194001,1.1547005383792515,9.6034295653145776,0.98936499392477339,null,0.97157116025798407,0.95377732659119474,0.9359834929244053,0.91818965925761598,0.90039582559082665,0.88260199192403732,0.86480815825724799,0.84701432459045856,0.82922049092366923,0.81142665725687979,0.79363282359009046,0.77583898992330103,0.7580451562565117,0.74025132258972226,0.72245748892293293,0.70466365525614361,0.68686982158935428,0.66907598792256495,0.6512821542557754,0.63348832058898608,0.61569448692219675]
[864,{"$f":"+正規乱数!L872","v":6.6537707156241188},{"$f":"+正規乱数!M872","v":34.903246962541132},{"$f":"+正規乱数!N872","v":17.62150160431402},{"$f":"+正規乱数!O872","v":0.14823962132206048},26.432252406471029,13.216126203235513,22.891002063246276,16.991418422250685,4.1161036087285234,1.1547005383792515,7.6831126275832675,0.89278931321215438,null,0.87505993819250305,0.85733056317285183,0.83960118815320051,0.82187181313354907,0.80414243811389785,0.78641306309424652,0.76868368807459531,0.75095431305494398,0.73322493803529276,0.71549556301564143,0.69776618799599011,0.68003681297633878,0.66230743795668745,0.64457806293703612,0.62684868791738479,0.60911931289773347,0.59138993787808225,0.57366056285843092,0.55593118783877959,0.53820181281912827,0.52047243779947694]
[865,{"$f":"+正規乱数!L873","v":7.9326010551351018},{"$f":"+正規乱数!M873","v":35.693960500315264},{"$f":"+正規乱数!N873","v":15.840860488482068},{"$f":"+正規乱数!O873","v":0.21540695498878307},23.761290732723104,11.88064536636155,20.577881401245968,16.991418422250685,2.5765618820870473,1.1547005383792515,9.1597787091123202,0.98785379323157285,null,0.95834426369758863,0.92883473416360429,0.89932520462962007,0.86981567509563595,0.84030614556165173,0.8107966160276675,0.78128708649368328,0.75177755695969894,0.72226802742571472,0.69275849789173061,0.66324896835774616,0.63373943882376205,0.60422990928977771,0.57472037975579349,0.54521085022180915,0.51570132068782493,0.4861917911538407,0.45668226161985642,0.4271727320858722,0.39766320255188803,0.36815367301790369]
[866,{"$f":"+正規乱数!L874","v":13.776155007626967},{"$f":"+正規乱数!M874","v":35.661075158858367},{"$f":"+正規乱数!N874","v":17.683736157090063},{"$f":"+正規乱数!O874","v":0.26484747599421732},26.525604235635093,13.262802117817545,22.971847118792098,16.991418422250685,4.2912161983620987,1.1547005383792515,15.907333604102879,1.5229473849519171,null,1.4904852559977217,1.4580231270435267,1.4255609980893311,1.3930988691351358,1.3606367401809407,1.3281746112267454,1.2957124822725503,1.2632503533183548,1.2307882243641595,1.1983260954099644,1.1658639664557691,1.1334018375015738,1.1009397085473782,1.0684775795931831,1.0360154506389876,1.0035533216847925,0.9710911927305973,0.93862906377640176,0.90616693482220656,0.87370480586801136,0.84124267691381593]
[867,{"$f":"+正規乱数!L875","v":10.779287303258453},{"$f":"+正規乱数!M875","v":32.967949654598229},{"$f":"+正規乱数!N875","v":19.463018893469393},{"$f":"+正規乱数!O875","v":0.16005445507898045},29.194528340204087,14.597264170102042,25.283203194121484,16.991418422250685,5.3781559858232812,1.1547005383792515,12.446848852417165,1.2211195625786802,null,1.2050075406476977,1.1888955187167147,1.1727834967857322,1.1566714748547495,1.140559452923767,1.1244474309927843,1.1083354090618018,1.0922233871308191,1.0761113651998364,1.0599993432688537,1.043887321337871,1.0277752994068885,1.0116632774759058,0.99555125554492307,0.97943923361394036,0.96332721168295776,0.94721518975197505,0.93110316782099245,0.91499114589000974,0.89887912395902725,0.88276710202804454]
[868,{"$f":"+正規乱数!L876","v":11.002565616743578},{"$f":"+正規乱数!M876","v":39.365624467179892},{"$f":"+正規乱数!N876","v":15},{"$f":"+正規乱数!O876","v":0.14118402805643615},22.5,11.249999999999998,19.48557158514987,16.991418422250685,2.0462156856968878,1.1547005383792515,12.70466844120685,1.3111897001692214,null,1.2878642675522545,1.2645388349352875,1.2412134023183206,1.2178879697013534,1.1945625370843864,1.1712371044674192,1.1479116718504523,1.1245862392334853,1.1012608066165184,1.0779353739995514,1.0546099413825845,1.0312845087656175,1.0079590761486503,0.98463364353168337,0.96130821091471641,0.93798277829774934,0.91465734568078239,0.89133191306381543,0.86800648044684825,0.84468104782988152,0.82135561521291434]
[869,{"$f":"+正規乱数!L877","v":7.6832998728026354},{"$f":"+正規乱数!M877","v":37.490289588780485},{"$f":"+正規乱数!N877","v":18.388050140256258},{"$f":"+正規乱数!O877","v":0.13202585376384202},27.582075210384389,13.791037605192193,23.886777821285897,16.991418422250685,5.2891389135645719,1.1547005383792515,8.8719104996544367,1.0268298744894662,null,1.0101935079886124,0.99355714148775864,0.97692077498690488,0.96028440848605112,0.94364804198519725,0.92701167548434349,0.91037530898348962,0.89373894248263586,0.8771025759817821,0.86046620948092833,0.84382984298007446,0.82719347647922059,0.81055710997836683,0.79392074347751296,0.7772843769766592,0.76064801047580544,0.74401164397495156,0.7273752774740978,0.71073891097324382,0.69410254447239006,0.6774661779715363]
[870,{"$f":"+正規乱数!L878","v":10.650614143555497},{"$f":"+正規乱数!M878","v":32.134483621442925},{"$f":"+正規乱数!N878","v":16.104728669749711},{"$f":"+正規乱数!O878","v":0.18494380290629867},24.157093004624567,12.078546502312282,20.920656223588232,16.991418422250685,2.4681028604326993,1.1547005383792515,12.298269885633204,1.222528947770253,null,1.2007393897521943,1.1789498317341358,1.1571602737160775,1.1353707156980188,1.1135811576799604,1.0917915996619019,1.0700020416438434,1.0482124836257849,1.0264229256077264,1.0046333675896677,0.98284380957160922,0.96105425155355073,0.93926469353549213,0.91747513551743376,0.89568557749937527,0.87389601948131668,0.85210646146325819,0.83031690344519959,0.80852734542714111,0.78673778740908251,0.76494822939102414]
[871,{"$f":"+正規乱数!L879","v":9.354164481342842},{"$f":"+正規乱数!M879","v":34.453329072626609},{"$f":"+正規乱数!N879","v":17.468414762665361},{"$f":"+正規乱数!O879","v":0.18653437778657386},26.202622143998042,13.101311071999019,22.69213642246698,16.991418422250685,3.9111617503825236,1.1547005383792515,10.801258762694651,1.1229731461396657,null,1.1008427741194149,1.0787124020991639,1.056582030078913,1.034451658058662,1.0123212860384112,0.99019091401816028,0.96806054199790947,0.94593016997765855,0.92379979795740763,0.90166942593715671,0.87953905391690579,0.85740868189665487,0.83527830987640395,0.81314793785615302,0.7910175658359021,0.76888719381565118,0.74675682179540026,0.72462644977514934,0.70249607775489842,0.6803657057346475,0.65823533371439669]
[872,{"$f":"+正規乱数!L880","v":8.8171887913801505},{"$f":"+正規乱数!M880","v":39.319143609420479},{"$f":"+正規乱数!N880","v":18.80154723479399},{"$f":"+正規乱数!O880","v":0.16738154850151343},28.202320852190986,14.101160426095491,24.423926303676996,16.991418422250685,6.0875853457725784,1.1547005383792515,10.181212644398162,1.1537205094173553,null,1.1316947554521195,1.109669001486884,1.0876432475216482,1.0656174935564127,1.0435917395911769,1.0215659856259414,0.9995402316607056,0.97751447769546995,0.95548872373023441,0.93346296976499865,0.911437215799763,{"$f":"+(($H882-$I882-Z$10*$G$6*$E882*$K882)*TAN($C882*PI()/180)+$L882)/$G882","v":0.88941146183452735},0.8673857078692917,0.84535995390405594,0.8233341999388204,0.80130844597358464,0.77928269200834899,0.75725693804311323,0.73523118407787769,0.71320543011264215,0.69117967614740639]
[873,{"$f":"+正規乱数!L881","v":12.790668636365174},{"$f":"+正規乱数!M881","v":35.954047222286448},{"$f":"+正規乱数!N881","v":19.599901520154749},{"$f":"+正規乱数!O881","v":0.1829802454546402},29.399852280232125,14.699926140116061,25.461018942190876,16.991418422250685,6.1431524626736325,1.1547005383792515,14.769391960641473,1.4226292175880275,null,1.4021748624679156,1.3817205073478036,1.3612661522276914,1.3408117971075797,1.3203574419874675,1.2999030868673558,1.2794487317472436,1.2589943766271319,1.2385400215070197,1.218085666386908,1.1976313112667958,1.1771769561466838,1.1567226010265719,1.1362682459064599,1.115813890786348,1.095359535666236,1.0749051805461241,1.0544508254260119,1.0339964703058999,1.013542115185788,0.99308776006567601]
[874,{"$f":"+正規乱数!L882","v":8.5641880713989238},{"$f":"+正規乱数!M882","v":35.801650818195888},{"$f":"+正規乱数!N882","v":18.58162007813516},{"$f":"+正規乱数!O882","v":0.17997906053037205},27.87243011720274,13.936215058601368,24.138232546704053,16.991418422250685,5.1547579419286151,1.1547005383792515,9.8890725768254999,1.0794774948216037,null,1.0583746356045234,1.0372717763874428,1.0161689171703623,0.99506605795328196,0.97396319873620152,0.95286033951912108,0.93175748030204053,0.91065462108496009,0.88955176186787976,0.86844890265079933,0.84734604343371878,0.82624318421663845,0.8051403249995579,0.78403746578247746,0.76293460656539691,0.74183174734831636,0.72072888813123603,0.69962602891415548,0.67852316969707493,0.65742031047999461,0.63631745126291417]
[875,{"$f":"+正規乱数!L883","v":8.2590964257695898},{"$f":"+正規乱数!M883","v":37.617040542715749},{"$f":"+正規乱数!N883","v":17.845787947751671},{"$f":"+正規乱数!O883","v":0.15150439763109477},26.768681921627504,13.38434096081375,23.182358569954665,16.991418422250685,4.7705996674450031,1.1547005383792515,9.5367830893622969,1.068964306774312,null,1.0492031216364515,1.0294419364985907,1.0096807513607302,0.98991956622286947,0.97015838108500885,0.95039719594714833,0.93063601080928748,0.91087482567142697,0.89111364053356634,0.87135245539570572,0.85159127025784509,0.83183008511998446,0.81206889998212384,0.79230771484426299,0.77254652970640247,0.75278534456854185,0.73302415943068111,0.71326297429282048,0.69350178915495986,0.67374060401709934,0.65397941887923849]
[876,{"$f":"+正規乱数!L884","v":14.21414035496143},{"$f":"+正規乱数!M884","v":35.273451656647964},{"$f":"+正規乱数!N884","v":17.068677429534493},{"$f":"+正規乱数!O884","v":0.20465037121280105},25.603016144301741,12.801508072150869,22.172862394468417,16.991418422250685,3.665063562320535,1.1547005383792515,16.413075520472209,1.5684198275414032,null,1.5428015174496561,1.5171832073579095,1.4915648972661628,1.4659465871744162,1.4403282770826693,1.4147099669909224,1.3890916568991758,1.3634733468074289,1.3378550367156823,1.3122367266239356,1.286618416532189,1.2610001064404421,1.2353817963486953,1.2097634862569486,1.1841451761652018,1.1585268660734551,1.1329085559817083,1.1072902458899614,1.0816719357982147,1.0560536257064681,1.0304353156147215]
[877,{"$f":"+正規乱数!L885","v":7.9543832372388881},{"$f":"+正規乱数!M885","v":35.838922172963244},{"$f":"+正規乱数!N885","v":16.851754844889761},{"$f":"+正規乱数!O885","v":0.13062548346698169},25.277632267334642,12.638816133667319,21.891071691033041,16.991418422250685,3.538803625492557,1.1547005383792515,9.1849306065146372,1.0067188332705996,null,0.98980737718391798,0.97289592109723622,0.95598446501055467,0.93907300892387302,0.92216155283719137,0.90525009675050983,0.88833864066382817,0.87142718457714663,0.85451572849046487,0.83760427240378321,0.82069281631710167,0.80378136023042002,0.78686990414373825,0.7699584480570566,0.75304699197037506,0.73613553588369329,0.71922407979701164,0.7023126237103301,0.68540116762364844,0.66848971153696668,0.65157825545028525]
[878,{"$f":"+正規乱数!L886","v":11.976768245688813},{"$f":"+正規乱数!M886","v":31.885088504513689},{"$f":"+正規乱数!N886","v":17.986103521808442},{"$f":"+正規乱数!O886","v":0.1612271698662251},26.979155282712661,13.489577641356329,23.364633847474305,16.991418422250685,3.9646763068860351,1.1547005383792515,13.829580741340395,1.3191115038081564,null,1.3022670324159289,1.2854225610237013,1.268578089631474,1.2517336182392464,1.2348891468470187,1.2180446754547913,1.201200204062564,1.1843557326703364,1.1675112612781089,1.1506667898858813,1.1338223184936538,1.1169778471014264,1.1001333757091989,1.0832889043169713,1.0664444329247438,1.0495999615325162,1.0327554901402889,1.0159110187480611,0.99906654735583367,0.98222207596360611,0.96537760457137867]
[879,{"$f":"+正規乱数!L887","v":7.1398802728918049},{"$f":"+正規乱数!M887","v":34.605071726954634},{"$f":"+正規乱数!N887","v":18.878701043717214},{"$f":"+正規乱数!O887","v":0.1205887837161979},28.318051565575821,14.159025782787909,24.524152041466358,16.991418422250685,5.1974690172673066,1.1547005383792515,8.2444235950715647,0.94935151743838175,null,0.9360383555526024,0.92272519366682315,0.90941203178104379,0.89609886989526466,0.88278570800948541,0.86947254612370606,0.85615938423792681,0.84284622235214746,0.82953306046636832,0.81621989858058908,0.80290673669480972,0.78959357480903047,0.77628041292325112,0.76296725103747187,0.74965408915169263,0.73634092726591327,0.72302776538013402,0.70971460349435478,0.69640144160857553,0.68308827972279629,0.66977511783701704]
[880,{"$f":"+正規乱数!L888","v":13.601016252929201},{"$f":"+正規乱数!M888","v":28.648268684129221},{"$f":"+正規乱数!N888","v":16.869535612029171},{"$f":"+正規乱数!O888","v":0.1864673375916896},25.304303418043759,12.652151709021878,21.914169585095298,16.991418422250685,2.6893534905333731,1.1547005383792515,15.705100789762298,1.4538597626188063,null,1.4356188418476021,1.4173779210763979,1.3991370003051937,1.3808960795339897,1.3626551587627853,1.3444142379915811,1.3261733172203769,1.3079323964491729,1.2896914756779687,1.2714505549067645,1.2532096341355603,1.2349687133643561,1.2167277925931517,1.1984868718219477,1.1802459510507435,1.1620050302795393,1.1437641095083351,1.1255231887371309,1.1072822679659267,1.0890413471947225,1.0708004264235182]
[881,{"$f":"+正規乱数!L889","v":8.8262660200745309},{"$f":"+正規乱数!M889","v":29.198125646946352},{"$f":"+正規乱数!N889","v":18.248954343702309},{"$f":"+正規乱数!O889","v":0.12193448716888716},27.373431515553463,13.68671575777673,23.706087081222869,16.991418422250685,3.752413204034001,1.1547005383792515,10.191694125258554,1.0188059411820236,null,1.0075266515692423,0.99624736195646113,0.98496807234367978,0.97368878273089843,0.96240949311811719,0.95113020350533584,0.9398509138925546,0.92857162427977336,0.917292334666992,0.90601304505421076,0.89473375544142952,0.88345446582864828,0.87217517621586682,0.86089588660308558,0.84961659699030434,0.83833730737752299,0.82705801776474175,0.81577872815196051,0.80449943853917905,0.79322014892639781,0.78194085931361657]
[882,{"$f":"+正規乱数!L890","v":13.811721709773757},{"$f":"+正規乱数!M890","v":35.705628705558986},{"$f":"+正規乱数!N890","v":18.005323026555448},{"$f":"+正規乱数!O890","v":0.15809597161540515},27.007984539833174,13.503992269916585,23.389600716512902,16.991418422250685,4.5985135505923891,1.1547005383792515,15.948402494220153,1.5215438245314887,null,1.502480973433532,1.4834181223355751,1.4643552712376187,1.4452924201396617,1.4262295690417048,1.4071667179437481,1.3881038668457912,1.3690410157478348,1.3499781646498779,1.3309153135519212,1.3118524624539643,1.2927896113560076,1.2737267602580509,1.254663909160094,1.2356010580621373,1.2165382069641804,1.1974753558662237,1.178412504768267,1.1593496536703101,1.1402868025723534,1.1212239514743965]
[883,{"$f":"+正規乱数!L891","v":10.349248587478982},{"$f":"+正規乱数!M891","v":33.955595266995701},{"$f":"+正規乱数!N891","v":17.015514962129828},{"$f":"+正規乱数!O891","v":0.12764790911685492},25.523272443194742,12.761636221597369,22.103802323517964,16.991418422250685,3.4425847278573256,1.1547005383792515,11.950282915782688,1.206182920148565,null,1.1909235399005229,1.1756641596524813,1.1604047794044394,1.1451453991563976,1.1298860189083555,1.1146266386603136,1.0993672584122718,1.0841078781642299,1.0688484979161881,1.0535891176681462,1.0383297374201044,1.0230703571720625,1.0078109769240207,0.9925515966759787,0.97729221642793684,0.96203283617989499,0.94677345593185314,0.93151407568381117,0.91625469543576921,0.90099531518772746,0.8857359349396855]
[884,{"$f":"+正規乱数!L892","v":9.1680340472116377},{"$f":"+正規乱数!M892","v":35.368663620795253},{"$f":"+正規乱数!N892","v":18.860043172680303},{"$f":"+正規乱数!O892","v":0.11602304690571782},28.290064759020453,14.145032379510225,24.499914756018608,16.991418422250685,5.3298324422867998,1.1547005383792515,10.586333850194587,1.1252124325665549,null,1.1120216890850112,1.0988309456034675,1.0856402021219238,1.0724494586403799,1.0592587151588362,1.0460679716772925,1.0328772281957488,1.0196864847142051,1.0064957412326614,0.99330499775111758,0.98011425426957388,0.96692351078803007,0.95373276730648637,0.94054202382494256,0.92735128034339875,0.91416053686185506,0.90096979338031136,0.88777904989876755,0.87458830641722385,0.86139756293568004,0.84820681945413634]
[885,{"$f":"+正規乱数!L893","v":10.977839802289379},{"$f":"+正規乱数!M893","v":37.179699063478701},{"$f":"+正規乱数!N893","v":17.970038596712275},{"$f":"+正規乱数!O893","v":0.16789864955806144},26.955057895068414,13.477528947534205,23.343764897609546,16.991418422250685,4.8181468548831168,1.1547005383792515,12.676117529944722,1.2980320393248734,null,1.2766252686648123,1.2552184980047512,1.23381172734469,1.2124049566846289,1.190998186024568,1.1695914153645066,1.1481846447044455,1.1267778740443843,1.1053711033843234,1.0839643327242621,1.0625575620642009,1.04115079140414,1.0197440207440787,0.99833725008401764,0.9769304794239565,0.95552370876389525,0.93411693810383423,0.91271016744377309,0.89130339678371195,0.86989662612365071,0.84848985546358968]
[886,{"$f":"+正規乱数!L894","v":11.699233172745426},{"$f":"+正規乱数!M894","v":34.868988699846916},{"$f":"+正規乱数!N894","v":16.656312517671331},{"$f":"+正規乱数!O894","v":0.18972186954078374},24.984468776506997,12.492234388253497,21.637184660514173,16.991418422250685,3.2371945978221239,1.1547005383792515,13.509110843193541,1.3405372426218876,null,1.3165623265137552,1.2925874104056225,1.2686124942974899,1.2446375781893575,1.2206626620812249,1.1966877459730925,1.1727128298649598,1.1487379137568274,1.1247629976486948,1.1007880815405622,1.0768131654324298,1.0528382493242971,1.0288633332161645,1.0048884171080319,0.98091350099989938,0.95693858489176686,0.93296366878363435,0.90898875267550183,0.88501383656736909,0.86103892045923658,0.83706400435110406]
[887,{"$f":"+正規乱数!L895","v":10.278598068286749},{"$f":"+正規乱数!M895","v":33.524742151412887},{"$f":"+正規乱数!N895","v":17.408504099522023},{"$f":"+正規乱数!O895","v":0.14424404039825592},26.112756149283037,13.056378074641517,22.614310188107428,16.991418422250685,3.7252037671293738,1.1547005383792515,11.868702723234643,1.1943516342140064,null,1.1777697513761582,1.1611878685383099,1.1446059857004618,1.1280241028626135,1.1114422200247653,1.0948603371869172,1.0782784543490689,1.0616965715112208,1.0451146886733726,1.0285328058355243,1.0119509229976762,0.99536904015982808,0.97878715732197974,0.96220527448413162,0.9456233916462834,0.92904150880843517,0.91245962597058705,0.89587774313273882,0.87929586029489049,0.86271397745704237,0.84613209461919425]
[888,{"$f":"+正規乱数!L896","v":8.3298440694915872},{"$f":"+正規乱数!M896","v":32.124301931796467},{"$f":"+正規乱数!N896","v":18.905399903821408},{"$f":"+正規乱数!O896","v":0.11311712829329952},28.358099855732114,14.179049927866055,24.558834878119836,16.991418422250685,4.7515053277032289,1.1547005383792515,9.618475431657151,1.0134656999210567,null,1.0021173375190191,0.99076897511698159,0.97942061271494407,0.96807225031290645,0.95672388791086893,0.9453755255088313,0.93402716310679379,0.92267880070475616,0.91133043830271865,0.89998207590068102,{"$f":"+(($H898-$I898-Y$10*$G$6*$E898*$K898)*TAN($C898*PI()/180)+$L898)/$G898","v":0.88863371349864351},0.87728535109660588,0.86593698869456837,0.85458862629253074,0.84324026389049322,0.8318919014884556,0.82054353908641808,0.80919517668438046,0.79784681428234294,0.78649845188030532,0.77515008947826791]
[889,{"$f":"+正規乱数!L897","v":8.7956820240132867},{"$f":"+正規乱数!M897","v":30.394278763435636},{"$f":"+正規乱数!N897","v":16.353143895127161},{"$f":"+正規乱数!O897","v":0.18485361340447343},24.529715842690742,12.264857921345369,21.243357067383794,16.991418422250685,2.4940269008486728,1.1547005383792515,10.156378768540847,1.031435158117336,null,1.0114066805442328,0.99137820297112944,0.97134972539802622,0.951321247824923,0.93129277025182,0.91126429267871678,0.89123581510561356,0.87120733753251034,0.85117885995940701,0.83115038238630401,0.81112190481320079,0.79109342724009757,0.77106494966699435,0.75103647209389113,0.73100799452078791,0.71097951694768469,0.69095103937458147,0.67092256180147813,0.65089408422837491,0.63086560665527192,0.61083712908216858]
[890,{"$f":"+正規乱数!L898","v":10.058630882101228},{"$f":"+正規乱数!M898","v":29.929735623748108},{"$f":"+正規乱数!N898","v":17.257464187194042},{"$f":"+正規乱数!O898","v":6.5011769676127873E-2},25.886196280791061,12.943098140395529,22.418103586515315,16.991418422250685,3.1242310985429098,1.1547005383792515,11.614706494920453,1.1387488091018179,null,1.1321974615422437,1.1256461139826694,1.1190947664230952,1.1125434188635208,1.1059920713039466,1.0994407237443722,1.0928893761847982,1.0863380286252238,1.0797866810656496,1.0732353335060754,1.0666839859465009,1.0601326383869267,1.0535812908273523,1.0470299432677781,1.0404785957082039,1.0339272481486297,1.0273759005890555,1.0208245530294811,1.0142732054699068,1.0077218579103324,1.0011705103507582]
[891,{"$f":"+正規乱数!L899","v":7.4242283620364278},{"$f":"+正規乱数!M899","v":36.904931887460521},{"$f":"+正規乱数!N899","v":18.082242541852562},{"$f":"+正規乱数!O899","v":0.12408493938093769},27.123363812778841,13.561681906389419,23.48952209795403,16.991418422250685,4.8797889639694043,1.1547005383792515,8.5727604866939711,0.99195288191543363,null,0.97638647801246703,0.96082007410950032,0.94525367020653384,0.92968726630356735,0.91412086240060075,0.89855445849763416,0.88298805459466745,0.86742165069170096,0.85185524678873448,0.83628884288576777,0.82072243898280117,0.80515603507983458,0.78958963117686798,0.77402322727390149,0.75845682337093479,0.7428904194679683,0.72732401556500159,0.71175761166203511,0.6961912077590684,0.68062480385610191,0.66505839995313532]
[892,{"$f":"+正規乱数!L900","v":7.9944038121687004},{"$f":"+正規乱数!M900","v":36.446984016295481},{"$f":"+正規乱数!N900","v":17.181152453412789},{"$f":"+正規乱数!O900","v":0.16698664165990179},25.771728680119182,12.885864340059589,22.318971736423215,16.991418422250685,3.9345585246949959,1.1547005383792515,9.2311423859323387,1.0217165541389248,null,1.0000342839434802,0.97835201374803538,0.9566697435525906,0.93498747335714594,0.91330520316170116,0.8916229329662565,0.86994066277081183,0.84825839257536706,0.8265761223799224,0.80489385218447773,0.78321158198903296,0.76152931179358818,0.73984704159814341,0.71816477140269874,0.69648250120725386,0.67480023101180919,0.65311796081636442,0.63143569062091975,0.60975342042547498,0.58807115023003032,0.56638888003458554]
[893,{"$f":"+正規乱数!L901","v":11.431718685531637},{"$f":"+正規乱数!M901","v":36.88098306880169},{"$f":"+正規乱数!N901","v":17.42452921060573},{"$f":"+正規乱数!O901","v":0.16086945571149203},26.136793815908597,13.068396907954297,22.635127418052864,16.991418422250685,4.2344881329465869,1.1547005383792515,13.20021172078353,1.3341115958238303,null,1.313187054089614,1.2922625123553975,1.2713379706211809,1.2504134288869644,1.2294888871527481,1.2085643454185315,1.187639803684315,1.1667152619500984,1.1457907202158819,1.1248661784816656,1.1039416367474491,1.0830170950132325,1.062092553279016,1.0411680115447994,1.0202434698105829,0.99931892807636646,0.97839438634214992,0.95746984460793338,0.93654530287371696,0.91562076113950053,0.89469621940528388]
[894,{"$f":"+正規乱数!L902","v":9.5075434760168847},{"$f":"+正規乱数!M902","v":27.827229104539221},{"$f":"+正規乱数!N902","v":19.19812737923867},{"$f":"+正規乱数!O902","v":0.17722962934748065},28.797191068858005,14.398595534429001,24.939099023265385,16.991418422250685,4.1951648152962164,1.1547005383792515,10.978365570420836,1.0538201694349338,null,1.0391006649440115,1.024381160453089,1.0096616559621667,0.99494215147124443,0.98022264698032202,0.96550314248939961,0.9507836379984772,0.9360641335075548,0.92134462901663239,0.90662512452570998,0.89190562003478757,0.87718611554386516,0.86246661105294276,0.84774710656202035,0.83302760207109794,0.81830809758017564,0.80358859308925334,0.78886908859833094,0.77414958410740853,0.75943007961648612,0.7447105751255636]
[895,{"$f":"+正規乱数!L903","v":12.735262882102761},{"$f":"+正規乱数!M903","v":38.003358566560493},{"$f":"+正規乱数!N903","v":19.6754051345828},{"$f":"+正規乱数!O903","v":0.18221086609783591},29.513107701874198,14.756553850937097,25.559101014449229,16.991418422250685,6.6946160788075613,1.1547005383792515,14.705414906365355,1.4502051902730619,null,1.4283467079756713,1.4064882256782811,1.3846297433808907,1.3627712610835001,1.3409127787861097,1.3190542964887193,1.2971958141913291,1.2753373318939387,1.2534788495965481,1.2316203672991577,1.2097618850017673,1.1879034027043771,1.1660449204069865,1.1441864381095961,1.1223279558122057,1.1004694735148153,1.0786109912174249,1.0567525089200345,1.0348940266226438,1.0130355443252537,0.99117706202786326]
[896,{"$f":"+正規乱数!L904","v":8.2424372235022787},{"$f":"+正規乱数!M904","v":36.797418365342665},{"$f":"+正規乱数!N904","v":17.866990733731932},{"$f":"+正規乱数!O904","v":0.18065918591928296},26.800486100597897,13.400243050298947,23.209901796889532,16.991418422250685,4.6515829334201433,1.1547005383792515,9.5175466995352647,1.0573785549836954,null,1.0345314048498464,1.0116842547159972,0.98883710458214835,0.96598995444829927,0.94314280431445019,0.92029565418060111,0.89744850404675203,0.87460135391290306,0.85175420377905398,0.82890705364520501,0.80605990351135592,0.78321275337750684,0.76036560324365765,0.73751845310980879,0.7146713029759596,0.69182415284211063,{"$f":"+(($H906-$I906-AE$10*$G$6*$E906*$K906)*TAN($C906*PI()/180)+$L906)/$G906","v":0.66897700270826144},0.64612985257441236,0.62328270244056327,0.60043555230671442,0.57758840217286522]
[897,{"$f":"+正規乱数!L905","v":10.945527127543855},{"$f":"+正規乱数!M905","v":34.29370505400162},{"$f":"+正規乱数!N905","v":19.093431886907236},{"$f":"+正規乱数!O905","v":0.17478465418760253},28.640147830360853,14.320073915180425,24.803095589234275,16.991418422250685,5.3275073403102544,1.1547005383792515,12.638806067019591,1.2546243485715611,null,1.2357658904726307,1.2169074323737006,1.1980489742747702,1.1791905161758398,1.1603320580769094,1.1414735999779793,1.1226151418790489,1.1037566837801185,1.0848982256811883,1.0660397675822579,1.0471813094833275,1.0283228513843972,1.009464393285467,0.99060593518653661,0.97174747708760623,0.95288901898867595,0.93403056088974556,0.91517210279081518,0.8963136446918849,0.87745518659295463,0.85859672849402424]
[898,{"$f":"+正規乱数!L906","v":14.5288010647233},{"$f":"+正規乱数!M906","v":31.808570793084016},{"$f":"+正規乱数!N906","v":17.402095194490805},{"$f":"+正規乱数!O906","v":0.11043266297814996},26.103142791736207,{"$f":"+F908*SIN($G$2*PI()/180)","v":13.051571395868102},22.605984776256211,{"$f":"+$G$5*$G$4*$G$6/COS($G$2*PI()/180)","v":16.991418422250685},3.4823414866347622,{"$f":"+$G$4/COS($G$2*PI()/180)","v":1.1547005383792515},16.776414411441035,1.5522081811918345,null,1.5403188273922921,1.5284294735927499,1.5165401197932078,1.5046507659936654,1.4927614121941233,1.4808720583945811,1.4689827045950388,1.4570933507954966,1.4452039969959545,1.4333146431964121,1.42142528939687,1.4095359355973278,1.3976465817977854,1.3857572279982433,1.3738678741987012,1.3619785203991588,1.3500891665996166,1.3381998128000745,1.3263104590005321,1.3144211052009902,1.3025317514014478]
[899,{"$f":"+正規乱数!L907","v":8.3011032387806427},{"$f":"+正規乱数!M907","v":39.258322212455617},{"$f":"+正規乱数!N907","v":20.477529116457735},{"$f":"+正規乱数!O907","v":0.12681388243749511},30.716293674686604,15.3581468373433,26.601090632381865,16.991418422250685,7.8537593619114219,1.1547005383792515,9.5852883789617565,1.1354916661214731,null,1.120203148748933,1.1049146313763929,1.089626114003853,1.0743375966313129,1.0590490792587728,1.0437605618862327,1.0284720445136926,1.0131835271411525,0.99789500976861223,0.98260649239607234,0.96731797502353212,0.95202945765099201,0.93674094027845189,0.92145242290591178,0.90616390553337167,0.89087538816083156,0.87558687078829156,0.86029835341575134,0.84500983604321112,0.82972131867067123,0.814432801298131]
[900,{"$f":"+正規乱数!L908","v":7.3881868463503118},{"$f":"+正規乱数!M908","v":34.063570760479131},{"$f":"+正規乱数!N908","v":17.700062703721883},{"$f":"+正規乱数!O908","v":0.19199374305424938},26.550094055582825,13.275047027791411,22.993055925000942,16.991418422250685,4.0578513609725038,1.1547005383792515,8.5311433291272092,0.94832015764196986,null,0.92616648403931456,0.90401281043665926,0.88185913683400374,0.85970546323134867,0.83755178962869337,0.81539811602603807,0.79324444242338266,0.77109076882072736,0.74893709521807206,0.72678342161541676,0.70462974801276146,0.68247607441010616,0.66032240080745086,0.63816872720479556,0.61601505360214026,0.59386137999948485,0.57170770639682966,0.54955403279417436,0.52740035919151895,0.50524668558886388,0.48309301198620846]
[901,{"$f":"+正規乱数!L909","v":10.942862763308622},{"$f":"+正規乱数!M909","v":35.999546973828082},{"$f":"+正規乱数!N909","v":16.448920725520605},{"$f":"+正規乱数!O909","v":0.11797271803558135},24.673381088280905,12.336690544140451,21.367774819705804,16.991418422250685,3.1795561721335752,1.1547005383792515,12.635729524202729,1.2819715011695805,null,1.2662314874933058,1.250491473817031,1.2347514601407559,1.2190114464644812,1.2032714327882061,1.1875314191119313,1.1717914054356566,1.1560513917593815,1.1403113780831067,1.1245713644068318,1.1088313507305569,1.0930913370542821,1.0773513233780072,1.0616113097017323,1.0458712960254575,1.0301312823491826,1.0143912686729077,0.99865125499663276,0.9829112413203579,0.96717122764408314,0.95143121396780816]
[902,{"$f":"+正規乱数!L910","v":11.483994922360285},{"$f":"+正規乱数!M910","v":34.365176450304332},{"$f":"+正規乱数!N910","v":17.981489073084472},{"$f":"+正規乱数!O910","v":0.14213623029716624},26.972233609626706,13.486116804813351,23.358639502745177,16.991418422250685,4.3540453803136536,1.1547005383792515,13.26057511959401,1.3061299078783601,null,1.2898020478329075,1.2734741877874547,1.2571463277420021,1.2408184676965497,1.2244906076510971,1.2081627476056447,1.1918348875601921,1.1755070275147395,1.1591791674692871,1.1428513074238345,1.1265234473783818,1.1101955873329292,1.0938677272874768,1.077539867242024,1.0612120071965716,1.044884147151119,1.0285562871056664,1.012228427060214,0.99590056701476126,0.97957270696930876,0.96324484692385626]
[903,{"$f":"+正規乱数!L911","v":10.263679679080463},{"$f":"+正規乱数!M911","v":35.492015472406528},{"$f":"+正規乱数!N911","v":16.849427037031671},{"$f":"+正規乱数!O911","v":0.1618731880380482},25.274140555547504,12.63707027777375,21.888047779922687,16.991418422250685,3.4917023189790477,1.1547005383792515,11.851476451186393,1.2141404956140214,null,1.1934468565451133,1.1727532174762052,1.1520595784072969,1.1313659393383888,1.1106723002694807,1.0899786612005724,1.0692850221316643,1.0485913830627565,1.0278977439938481,1.0072041049249401,0.98651046585603186,0.96581682678712366,0.94512318771821557,0.92442954864930738,0.90373590958039918,0.88304227051149109,0.86234863144258289,0.84165499237367469,0.82096135330476649,0.80026771423585852,0.77957407516695021]
[904,{"$f":"+正規乱数!L912","v":16.351088386276007},{"$f":"+正規乱数!M912","v":38.095478729800632},{"$f":"+正規乱数!N912","v":18.722706554648262},{"$f":"+正規乱数!O912","v":0.16149368270687178},28.084059831972393,14.042029915986195,24.321509255890227,16.991418422250685,5.7465913908677306,1.1547005383792515,18.880610562719632,1.7538206442325297,null,1.7333940963126027,1.7129675483926756,1.6925410004727486,1.6721144525528215,1.6516879046328945,1.6312613567129675,1.6108348087930404,1.5904082608731134,1.5699817129531866,{"$f":"+(($H914-$I914-X$10*$G$6*$E914*$K914)*TAN($C914*PI()/180)+$L914)/$G914","v":1.5495551650332595},1.5291286171133325,1.5087020691934054,1.4882755212734784,1.4678489733535514,1.4474224254336243,1.4269958775136973,1.4065693295937702,1.3861427816738432,1.3657162337539162,1.3452896858339891,1.3248631379140621]
[905,{"$f":"+正規乱数!L913","v":11.514227961392699},{"$f":"+正規乱数!M913","v":36.987246199825137},{"$f":"+正規乱数!N913","v":18.36271495439544},{"$f":"+正規乱数!O913","v":0.20376992478033429},27.544072431593158,13.772036215796577,23.853866449438289,16.991418422250685,5.1688309431109376,1.1547005383792515,13.295485226041579,1.340710689387665,null,1.315462888299642,1.2902150872116191,1.2649672861235961,1.2397194850355733,1.2144716839475505,1.1892238828595274,1.1639760817715046,1.1387282806834815,1.1134804795954585,1.0882326785074357,1.0629848774194128,1.0377370763313898,1.012489275243367,0.98724147415534391,0.96199367306732098,0.93674587197929804,0.9114980708912751,0.88625026980325217,0.86100246871522934,0.8357546676272064,0.81050686653918347]
[906,{"$f":"+正規乱数!L914","v":8.6096601218708475},{"$f":"+正規乱数!M914","v":27.997006276143665},{"$f":"+正規乱数!N914","v":19.141712840625139},{"$f":"+正規乱数!O914","v":0.20140617267352004},28.712569260937709,14.356284630468853,24.865814387892243,16.991418422250685,4.1863628581930241,1.1547005383792515,9.9415791779866396,0.98409458991885901,null,0.96719723575431771,0.95029988158977652,0.93340252742523511,0.91650517326069403,0.89960781909615262,0.88271046493161154,0.86581311076707013,0.84891575660252894,0.83201840243798764,0.81512104827344634,0.79822369410890504,0.78132633994436385,0.76442898577982255,0.74753163161528136,0.73063427745074006,0.71373692328619875,0.69683956912165745,0.67994221495711615,0.66304486079257485,0.64614750662803366,0.62925015246349236]
[907,{"$f":"+正規乱数!L915","v":8.7052586255716129},{"$f":"+正規乱数!M915","v":32.345329879480303},{"$f":"+正規乱数!N915","v":17.603546283604107},{"$f":"+正規乱数!O915","v":0.17032165835224},26.405319425406162,13.202659712703079,22.867677417444455,16.991418422250685,3.7213269809855345,1.1547005383792515,10.051966821678164,1.0432211465248609,null,1.0247125400681867,1.0062039336115123,0.98769532715483788,0.96918672069816358,0.95067811424148918,0.93216950778481489,0.91366090132814048,0.89515229487146619,0.87664368841479179,0.8581350819581175,0.8396264755014432,0.8211178690447688,0.8026092625880944,0.7841006561314201,0.7655920496747457,0.74708344321807119,0.728574836761397,0.7100662303047226,0.6915576238480482,0.67304901739137379,0.65454041093469961]
[908,{"$f":"+正規乱数!L916","v":6.5728058597757713},{"$f":"+正規乱数!M916","v":36.074121102979952},{"$f":"+正規乱数!N916","v":18.492285921703076},{"$f":"+正規乱数!O916","v":9.72147228956491E-2},27.738428882554615,13.869214441277306,24.022184073360297,16.991418422250685,5.1220598678900275,1.1547005383792515,7.5896224649453821,0.91653946131246833,null,0.90497060095866388,0.89340174060485911,0.88183288025105455,0.87026401989724989,0.85869515954344533,0.84712629918964077,0.835557438835836,0.82398857848203144,0.81241971812822689,0.80085085777442222,0.78928199742061755,0.77771313706681289,0.76614427671300822,0.75457541635920367,0.74300655600539911,0.73143769565159444,0.71986883529778978,0.70829997494398522,0.69673111459018056,0.68516225423637589,0.67359339388257122]
[909,{"$f":"+正規乱数!L917","v":8.0921605825998846},{"$f":"+正規乱数!M917","v":30.805216640008084},{"$f":"+正規乱数!N917","v":18.527106672315437},{"$f":"+正規乱数!O917","v":0.14921676484847776},27.790660008473154,13.895330004236575,24.067417555274016,16.991418422250685,4.2190152989685821,1.1547005383792515,9.3440221813794437,0.97608602863068128,null,0.96158026972387201,0.94707451081706284,0.93256875191025357,0.91806299300344429,0.90355723409663513,0.88905147518982597,0.87454571628301658,0.86003995737620742,0.84553419846939815,0.83102843956258898,0.81652268065577982,0.80201692174897043,0.78751116284216127,0.77300540393535189,0.75849964502854272,0.74399388612173356,0.72948812721492418,0.71498236830811501,0.70047660940130574,0.68597085049449646,0.6714650915876873]
[910,{"$f":"+正規乱数!L918","v":10.21571000365485},{"$f":"+正規乱数!M918","v":33.94773159528382},{"$f":"+正規乱数!N918","v":18.570020532486748},{"$f":"+正規乱数!O918","v":0.12077433556901834},27.85503079873012,13.927515399365058,24.123164294898228,16.991418422250685,4.8009632029870586,1.1547005383792515,11.79608584114656,1.1916733579695244,null,1.1784481686158184,1.1652229792621127,1.1519977899084066,1.138772600554701,1.1255474112009951,1.1123222218472892,1.0990970324935834,1.0858718431398775,1.0726466537861716,1.059421464432466,1.0461962750787601,1.0329710857250542,1.0197458963713484,1.0065207070176425,0.99329551766393676,0.98007032831023089,0.96684513895652502,0.95361994960281915,0.94039476024911328,0.92716957089540752,0.91394438154170177]
[911,{"$f":"+正規乱数!L919","v":10.553925116883367},{"$f":"+正規乱数!M919","v":29.781610480473173},{"$f":"+正規乱数!N919","v":17.736312086713586},{"$f":"+正規乱数!O919","v":0.12458429485790182},26.60446813007038,13.302234065035188,23.040145254814433,16.991418422250685,3.4615608504694078,1.1547005383792515,12.186623014479528,1.1763575793693224,null,1.164214884464509,1.1520721895596955,1.1399294946548821,1.1277867997500686,1.1156441048452552,1.1035014099404419,1.0913587150356285,1.079216020130815,1.0670733252260016,1.0549306303211881,1.0427879354163747,1.0306452405115614,1.018502545606748,1.0063598507019345,0.99421715579712111,0.98207446089230754,0.9699317659874942,0.95778907108268074,0.94564637617786729,0.93350368127305394,0.92136098636824038]
[912,{"$f":"+正規乱数!L920","v":8.8297421805034126},{"$f":"+正規乱数!M920","v":33.159650897242116},{"$f":"+正規乱数!N920","v":16.882685868090814},{"$f":"+正規乱数!O920","v":0.11369357371496339},25.324028802136219,12.662014401068108,21.931252268818774,16.991418422250685,3.2275705697703367,1.1547005383792515,10.195708049577277,1.060121888521568,null,1.0468306671544247,1.0335394457872813,1.0202482244201381,1.0069570030529946,0.99366578168585118,0.98037456031870784,0.96708333895156451,0.95379211758442106,0.94050089621727773,0.92720967485013428,0.91391845348299094,0.9006272321158475,0.88733601074870416,0.87404478938156083,0.86075356801441738,0.84746234664727405,0.8341711252801306,0.82087990391298726,0.80758868254584371,0.79429746117870048,0.78100623981155715]
[913,{"$f":"+正規乱数!L921","v":12.838643802094866},{"$f":"+正規乱数!M921","v":39.321572457868832},{"$f":"+正規乱数!N921","v":19.696880658128602},{"$f":"+正規乱数!O921","v":0.13520638309046651},29.545320987192902,14.772660493596449,25.586998537874585,16.991418422250685,7.0408068975258731,1.1547005383792515,14.824788910338382,1.4801393301729504,null,1.4631547783917536,1.4461702266105567,1.4291856748293597,1.412201123048163,1.395216571266966,1.3782320194857691,1.3612474677045721,1.3442629159233752,1.3272783641421784,1.3102938123609815,1.2933092605797847,1.2763247087985876,1.2593401570173908,1.2423556052361939,1.2253710534549971,1.2083865016738,1.1914019498926034,1.1744173981114063,1.1574328463302095,1.1404482945490124,1.1234637427678158]
[914,{"$f":"+正規乱数!L922","v":10.634564730042076},{"$f":"+正規乱数!M922","v":34.036565921177555},{"$f":"+正規乱数!N922","v":17.655001524863895},{"$f":"+正規乱数!O922","v":0.15079104149024405},26.482502287295844,13.24125114364792,22.934519736577705,16.991418422250685,4.014193299092164,1.1547005383792515,12.279737619208584,1.2305431519677246,null,1.2131170585809339,1.1956909651941434,1.1782648718073527,1.160838778420562,1.1434126850337716,1.1259865916469809,1.1085604982601902,1.0911344048733997,1.0737083114866093,1.0562822180998186,1.0388561247130279,1.0214300313262374,1.0040039379394468,0.98657784455265618,0.96915175116586549,0.95172565777907492,0.93429956439228434,0.91687347100549388,0.89944737761870319,0.88202128423191262,0.86459519084512193]
[915,{"$f":"+正規乱数!L923","v":7.844758458681139},{"$f":"+正規乱数!M923","v":34.74931990251909},{"$f":"+正規乱数!N923","v":18.114192043887996},{"$f":"+正規乱数!O923","v":0.19068200337635449},27.171288065831995,13.585644032915996,23.531025718555455,16.991418422250685,4.5365720257900097,1.1547005383792515,9.0583468156942981,1.0006826918580998,null,0.97862429291196484,0.95656589396583003,0.93450749501969532,0.91244909607356051,0.89039069712742569,0.86833229818129087,0.84627389923515606,0.82421550028902124,0.80215710134288642,0.78009870239675172,0.7580403034506169,0.73598190450448209,0.71392350555834716,0.69186510661221234,0.66980670766607753,0.64774830871994271,0.6256899097738079,0.60363151082767308,0.58157311188153826,0.55951471293540356,0.53745631398926874]
[916,{"$f":"+正規乱数!L924","v":7.6132043370165725},{"$f":"+正規乱数!M924","v":31.759823364166508},{"$f":"+正規乱数!N924","v":19.815872228715726},{"$f":"+正規乱数!O924","v":0.16731288895772806},29.723808343073589,14.861904171536793,25.741573122321572,16.991418422250685,5.4168349493436185,1.1547005383792515,8.7909711467442886,0.95598827257266261,null,0.94019932493694758,0.92441037730123243,0.90862142966551729,0.89283248202980225,0.877043534394087,0.86125458675837185,0.84546563912265682,0.82967669148694168,0.81388774385122664,0.79809879621551139,0.78230984857979624,0.76652090094408121,0.75073195330836606,0.73494300567265103,0.71915405803693588,0.70336511040122063,0.68757616276550559,0.67178721512979045,0.6559982674940753,0.64020931985836027,0.62442037222264501]
[917,{"$f":"+正規乱数!L925","v":13.673159761391339},{"$f":"+正規乱数!M925","v":31.920784246419586},{"$f":"+正規乱数!N925","v":16.948768811185388},{"$f":"+正規乱数!O925","v":9.2152760556689001E-2},25.423153216778083,12.71157660838904,22.017096530033889,16.991418422250685,3.1307390985339301,1.1547005383792515,15.788404937824097,1.4883396937459581,null,1.4781084245868099,1.4678771554276622,1.4576458862685142,1.4474146171093663,1.4371833479502181,1.4269520787910703,1.4167208096319224,1.4064895404727744,1.3962582713136267,1.3860270021544785,1.3757957329953305,1.3655644638361828,1.3553331946770348,1.3451019255178867,1.3348706563587387,1.324639387199591,1.314408118040443,1.3041768488812948,1.2939455797221469,1.2837143105629991,1.2734830414038512]
[918,{"$f":"+正規乱数!L926","v":7.5502357749676197},{"$f":"+正規乱数!M926","v":31.287291871687341},{"$f":"+正規乱数!N926","v":17.449910530483507},{"$f":"+正規乱数!O926","v":0.17589563942679864},26.17486579572526,13.087432897862628,22.668098719746464,16.991418422250685,3.4497514218312748,1.1547005383792515,8.718261314245396,0.92974786048865909,null,0.91124400011165752,0.89274013973465594,0.87423627935765447,0.85573241898065289,0.8372285586036512,0.81872469822664973,0.80022083784964815,0.78171697747264646,0.76321311709564499,0.74470925671864352,0.72620539634164183,0.70770153596464025,0.68919767558763867,0.67069381521063709,0.6521899548336354,0.63368609445663393,0.61518223407963235,0.59667837370263077,0.57817451332562908,0.5596706529486275,0.54116679257162603]
[919,{"$f":"+正規乱数!L927","v":10.689733795034861},{"$f":"+正規乱数!M927","v":29.816552860846375},{"$f":"+正規乱数!N927","v":17.522140309093157},{"$f":"+正規乱数!O927","v":0.14083909700341615},26.283210463639733,13.141605231819865,22.761927954524985,16.991418422250685,3.3070162455673797,1.1547005383792515,12.343441368257633,1.1909091269862866,null,1.1769946991803779,1.163080271374469,1.1491658435685606,1.1352514157626516,1.1213369879567427,1.1074225601508341,1.0935081323449254,1.0795937045390165,1.0656792767331078,1.0517648489271991,1.0378504211212902,1.0239359933153815,1.0100215655094726,0.99610713770356407,0.98219270989765517,0.96827828209174638,0.9543638542858377,0.94044942647992891,0.92653499867402012,0.91262057086811144,0.89870614306220253]
[920,{"$f":"+正規乱数!L928","v":11.046111373151314},{"$f":"+正規乱数!M928","v":33.207135815017558},{"$f":"+正規乱数!N928","v":19.618483269992659},{"$f":"+正規乱数!O928","v":0.16724879568781109},29.427724904988988,14.713862452494492,25.485157343300472,16.991418422250685,5.5596579514903111,1.1547005383792515,12.754950749574995,1.2447179494980509,null,1.2278619758256668,1.2110060021532831,1.1941500284808992,1.1772940548085153,1.1604380811361314,1.1435821074637476,1.1267261337913637,1.1098701601189798,{"$f":"+(($H930-$I930-W$10*$G$6*$E930*$K930)*TAN($C930*PI()/180)+$L930)/$G930","v":1.0930141864465959},1.076158212774212,1.0593022391018281,1.0424462654294444,1.0255902917570605,1.0087343180846766,0.99187834441229261,0.97502237073990872,0.95816639706752482,0.94131042339514093,0.92445444972275703,0.90759847605037325,0.89074250237798924]
[921,{"$f":"+正規乱数!L929","v":8.5826505976433136},{"$f":"+正規乱数!M929","v":31.144923568893454},{"$f":"+正規乱数!N929","v":19.327071814028471},{"$f":"+正規乱数!O929","v":0.15516931591934963},28.990607721042707,14.495303860521352,25.106602757572276,16.991418422250685,4.9040745126934375,1.1547005383792515,9.9103912658197384,1.0220182978613561,null,1.0073626316867776,0.99270696551219917,0.97805129933762058,0.963395633163042,0.94873996698846352,0.93408430081388505,0.91942863463930646,0.90477296846472799,0.89011730229014963,0.87546163611557104,0.86080596994099245,0.84615030376641409,0.83149463759183551,0.81683897141725692,0.80218330524267845,0.78752763906809997,0.77287197289352139,0.7582163067189428,0.74356064054436433,0.72890497436978585,0.71424930819520727]
[922,{"$f":"+正規乱数!L930","v":10.904255546794829},{"$f":"+正規乱数!M930","v":32.916835094625327},{"$f":"+正規乱数!N930","v":18.115013513256912},{"$f":"+正規乱数!O930","v":0.15492659082857724},27.172520269885368,13.586260134942682,23.532092838568321,16.991418422250685,4.2340787123832051,1.1547005383792515,12.591149750508928,1.2384002879217002,null,1.2216766480798915,1.204953008238083,1.1882293683962746,1.1715057285544659,1.1547820887126574,1.1380584488708487,1.1213348090290403,1.1046111691872318,1.0878875293454233,1.0711638895036146,1.0544402496618062,1.0377166098199977,1.0209929699781892,1.0042693301363805,0.98754569029457206,0.97082205045276349,0.95409841061095502,0.93737477076914644,0.92065113092733786,0.90392749108552939,0.8872038512437207]
[923,{"$f":"+正規乱数!L931","v":9.3714398467020903},{"$f":"+正規乱数!M931","v":39.517832081455339},{"$f":"+正規乱数!N931","v":18.752512125882948},{"$f":"+正規乱数!O931","v":0.11994849735861221},{"$f":"+$G$3*$G$4*D933","v":28.128768188824424},14.06438409441221,{"$f":"+F933*COS($G$2*PI()/180)","v":24.360227828685545},16.991418422250685,{"$f":"+(H933-I933)*TAN(C933*PI()/180)","v":6.0782305103649881},1.1547005383792515,{"$f":"+K933*B933","v":10.821206636375674},{"$f":"+(J933+L933)/G933","v":1.2015767653455101},null,1.1856391879318471,1.1697016105181841,1.1537640331045211,1.1378264556908582,1.1218888782771952,1.1059513008635324,1.0900137234498695,1.0740761460362067,1.0581385686225437,1.0422009912088808,1.0262634137952178,1.010325836381555,0.99438825896789196,0.97845068155422898,0.96251310414056612,0.94657552672690326,0.93063794931324029,0.91470037189957731,0.89876279448591445,0.88282521707225148,0.86688763965858862]
[924,{"$f":"+正規乱数!L932","v":8.1614944175931328},{"$f":"+正規乱数!M932","v":37.422226941580149},{"$f":"+正規乱数!N932","v":19.595322776180023},{"$f":"+正規乱数!O932","v":0.13213271046865288},29.392984164270032,14.696492082135014,25.455070979291566,16.991418422250685,6.4761551386056642,1.1547005383792515,9.4240819979740458,1.0819069644454788,null,1.0663213313814264,1.0507356983173737,1.035150065253321,1.0195644321892685,1.0039787991252158,0.98839316606116312,0.97280753299711054,0.95722189993305784,0.94163626686900526,0.92605063380495256,0.91046500074090009,0.89487936767684728,0.87929373461279459,0.86370810154874189,0.84812246848468931,0.83253683542063661,0.81695120235658403,0.80136556929253133,0.78577993622847875,0.77019430316442605,0.75460867010037347]
[925,{"$f":"+正規乱数!L933","v":10.64908267899143},{"$f":"+正規乱数!M933","v":34.439155447786717},{"$f":"+正規乱数!N933","v":17.335214536856867},{"$f":"+正規乱数!O933","v":9.1626207099153617E-2},26.002821805285301,13.001410902642649,22.519104253457009,16.991418422250685,3.7904367065782667,1.1547005383792515,12.296501502676566,1.2373224975133295,null,1.2263742780694684,1.2154260586256074,1.2044778391817463,1.1935296197378853,1.1825814002940243,1.1716331808501632,1.1606849614063022,1.1497367419624411,1.1387885225185801,1.1278403030747191,1.116892083630858,1.105943864186997,1.0949956447431359,1.0840474252992749,1.0730992058554139,1.0621509864115528,1.0512027669676918,1.0402545475238307,1.0293063280799697,1.0183581086361086,1.0074098891922476]
[926,{"$f":"+正規乱数!L934","v":9.6194312110870701},{"$f":"+正規乱数!M934","v":31.718226071045002},{"$f":"+正規乱数!N934","v":17.534888830205791},{"$f":"+正規乱数!O934","v":0.10452467507397478},26.302333245308688,13.151166622654342,22.778488769241324,16.991418422250685,3.5767110897098986,1.1547005383792515,11.107562398344415,1.1165757312175655,null,1.1054469394352404,1.0943181476529156,1.0831893558705905,1.0720605640882654,1.0609317723059404,1.0498029805236153,1.0386741887412902,1.0275453969589654,1.0164166051766401,1.0052878133943153,0.99415902161199021,0.98303022982966515,0.97190143804734008,0.96077264626501502,0.94964385448268995,0.93851506270036489,0.92738627091803993,0.91625747913571487,0.9051286873533898,0.89399989557106474,0.88287110378873968]
[927,{"$f":"+正規乱数!L935","v":4.6324290205404379},{"$f":"+正規乱数!M935","v":39.464404764132993},{"$f":"+正規乱数!N935","v":18.656601375850407},{"$f":"+正規乱数!O935","v":0.12367382709536506},27.984902063775611,13.992451031887803,24.235636109649246,16.991418422250685,5.9641173681739925,1.1547005383792515,5.3490682840217119,0.80852065348763824,null,0.79203496591972988,0.77554927835182152,0.75906359078391306,0.7425779032160047,0.72609221564809656,0.70960652808018809,0.69312084051227973,0.67663515294437138,0.66014946537646302,0.64366377780855466,0.6271780902406463,0.61069240267273794,0.59420671510482959,0.57772102753692123,0.56123533996901276,0.54474965240110451,0.52826396483319615,0.51177827726528768,0.49529258969737933,0.47880690212947097,0.46232121456156261]
[928,{"$f":"+正規乱数!L936","v":6.2664230520276787},{"$f":"+正規乱数!M936","v":36.41914145368402},{"$f":"+正規乱数!N936","v":17.118540372427869},{"$f":"+正規乱数!O936","v":0.18219900083055532},25.677810558641802,12.838905279320899,22.23763625734809,16.991418422250685,3.8705513729750662,1.1547005383792515,7.2358420718885128,0.8650576667741442,null,0.84133776511615388,0.81761786345816356,0.79389796180017325,0.77017806014218293,0.74645815848419261,0.7227382568262023,0.69901835516821198,0.67529845351022177,0.65157855185223135,0.62785865019424114,0.60413874853625082,0.5804188468782604,0.55669894522027008,0.53297904356227976,0.50925914190428945,0.48553924024629908,0.46181933858830887,0.4380994369303185,0.41437953527232813,0.39065963361433786,0.36693973195634749]
[929,{"$f":"+正規乱数!L937","v":12.350187674759955},{"$f":"+正規乱数!M937","v":34.651156329811514},{"$f":"+正規乱数!N937","v":17.902181086072531},{"$f":"+正規乱数!O937","v":0.14966187047032367},26.853271629108797,13.426635814554396,23.255615405532158,16.991418422250685,4.3296397797746211,1.1547005383792515,14.260768357130114,1.3845916723795277,null,1.3671375229427127,1.3496833735058982,1.3322292240690832,1.3147750746322682,1.2973209251954536,1.2798667757586386,1.2624126263218236,1.244958476885009,1.227504327448194,1.210050178011379,1.1925960285745645,1.1751418791377495,1.1576877297009345,1.1402335802641195,1.1227794308273047,1.1053252813904899,1.0878711319536749,1.0704169825168601,1.0529628330800451,1.0355086836432303,1.0180545342064153]
[930,{"$f":"+正規乱数!L938","v":11.629996543763735},{"$f":"+正規乱数!M938","v":35.646265139099114},{"$f":"+正規乱数!N938","v":17.756728905447844},{"$f":"+正規乱数!O938","v":0.20056203738883877},26.635093358171765,13.317546679085881,23.066667480346926,16.991418422250685,4.3568754722164664,1.1547005383792515,13.429163270432818,1.3355341769201985,null,1.311065869026897,1.2865975611335958,1.2621292532402943,1.2376609453469929,1.2131926374536914,1.1887243295603902,1.1642560216670887,1.1397877137737873,1.1153194058804861,1.0908510979871846,1.0663827900938834,1.0419144822005817,1.0174461743072805,0.99297786641397912,0.96850955852067755,0.9440412506273762,0.91957294273407486,0.89510463484077329,0.87063632694747184,0.84616801905417061,0.82169971116086915]
[931,{"$f":"+正規乱数!L939","v":8.7480157720499641},{"$f":"+正規乱数!M939","v":29.499894058088948},{"$f":"+正規乱数!N939","v":19.071233705371316},{"$f":"+正規乱数!O939","v":0.15093095875925913},28.606850558056976,14.303425279028486,24.77425930554239,16.991418422250685,4.4033005115455115,1.1547005383792515,10.101338521736277,1.014067522312178,null,1.0005422248684348,0.98701692742469194,0.97349162998094896,0.95996633253720598,0.946441035093463,0.93291573764971991,0.91939044020597693,0.90586514276223395,0.89233984531849098,0.878814547874748,0.8652892504310048,0.85176395298726182,0.83823865554351884,0.82471335809977586,0.81118806065603288,0.79766276321228979,0.78413746576854682,0.77061216832480384,0.75708687088106075,0.74356157343731788,0.73003627599357479]
[932,{"$f":"+正規乱数!L940","v":7.6620714813199156},{"$f":"+正規乱数!M940","v":31.602728734532},{"$f":"+正規乱数!N940","v":19.412642685344661},{"$f":"+正規乱数!O940","v":0.17855814970656025},29.11896402801699,14.559482014008493,25.217762580147959,16.991418422250685,5.0614207718800923,1.1547005383792515,8.8473980645804158,0.95531000505911234,null,0.93821506066859162,0.92112011627807067,0.90402517188754983,0.8869302274970291,0.86983528310650837,0.85274033871598764,0.83564539432546692,0.81855044993494608,0.80145550554442524,0.7843605611539044,0.76726561676338367,0.75017067237286283,0.73307572798234211,0.71598078359182127,0.69888583920130054,0.68179089481077959,0.66469595042025886,0.64760100602973814,0.6305060616392173,0.61341111724869657,0.59631617285817573]
[933,{"$f":"+正規乱数!L941","v":9.9307779308106898},{"$f":"+正規乱数!M941","v":37.04345373699114},{"$f":"+正規乱数!N941","v":17.94931197370925},{"$f":"+正規乱数!O941","v":0.12331850116510551},26.923967960563875,13.461983980281936,23.316840224526622,16.991418422250685,4.7740728867022151,1.1547005383792515,11.467074623231893,1.2064453154693153,null,1.1907818774266212,1.1751184393839276,1.1594550013412335,1.1437915632985396,1.1281281252558457,1.1124646872131518,1.0968012491704577,1.0811378111277639,1.06547437308507,1.0498109350423761,1.0341474969996822,1.0184840589569881,1.0028206209142942,0.98715718287160037,0.97149374482890649,0.9558303067862125,0.9401668687435184,0.92450343070082452,0.90883999265813065,0.89317655461543666,0.87751311657274278]
[934,{"$f":"+正規乱数!L942","v":10.34486382290835},{"$f":"+正規乱数!M942","v":36.476947205765967},{"$f":"+正規乱数!N942","v":17.7194400346729},{"$f":"+正規乱数!O942","v":0.14173732075811701},26.57916005200935,13.289580026004673,23.018227816292619,16.991418422250685,4.4558528863167544,1.1547005383792515,11.945219825772313,1.2341302494131428,null,1.2162660021605507,1.1984017549079589,1.180537507655367,1.162673260402775,1.1448090131501831,1.1269447658975913,1.1090805186449992,1.0912162713924074,1.0733520241398156,1.0554877768872235,1.0376235296346317,1.0197592823820398,1.0018950351294478,0.98403078787685572,0.96616654062426399,0.94830229337167204,0.9304380461190801,0.91257379886648804,0.8947095516138962,0.87684530436130426,0.85898105710871231]
[935,{"$f":"+正規乱数!L943","v":8.2600758499457445},{"$f":"+正規乱数!M943","v":36.14365435057114},{"$f":"+正規乱数!N943","v":18.373400616170493},{"$f":"+正規乱数!O943","v":0.15334687109897191},27.560100924255739,13.780050462127868,23.86774753126846,16.991418422250685,5.0223349799215518,1.1547005383792515,9.5379140309858048,1.0566179747253996,null,1.0382042560371796,1.0197905373489593,1.001376818660739,0.98296309997251874,0.96454938128429846,0.94613566259607818,0.927721943907858,0.90930822521963772,0.89089450653141755,0.87248078784319716,0.85406706915497699,0.83565335046675659,0.81723963177853631,0.79882591309031614,0.78041219440209586,0.76199847571387558,0.7435847570256553,0.72517103833743501,0.70675731964921473,0.68834360096099445,0.66992988227277417]
[936,{"$f":"+正規乱数!L944","v":11.006058366827741},{"$f":"+正規乱数!M944","v":34.136485024303262},{"$f":"+正規乱数!N944","v":15.931461245033251},{"$f":"+正規乱数!O944","v":0.14074117222821297},23.897191867549878,11.948595933774937,20.695575236409088,16.991418422250685,2.5113441796729723,1.1547005383792515,12.708701521609457,1.2737936562286896,null,1.2557015331642527,1.2376094100998161,1.2195172870353792,1.2014251639709426,1.1833330409065059,1.1652409178420691,1.1471487947776324,{"$f":"+(($H946-$I946-V$10*$G$6*$E946*$K946)*TAN($C946*PI()/180)+$L946)/$G946","v":1.1290566717131956},1.1109645486487589,1.0928724255843223,1.0747803025198854,1.0566881794554488,1.0385960563910119,1.0205039333265753,1.0024118102621384,0.98431968719770169,0.96622756413326494,0.94813544106882819,0.93004331800439144,0.9119511949399548,0.89385907187551805]
[937,{"$f":"+正規乱数!L945","v":13.67640214799977},{"$f":"+正規乱数!M945","v":35.156405836180419},{"$f":"+正規乱数!N945","v":19.573726023885222},{"$f":"+正規乱数!O945","v":0.13365194008856182},29.360589035827832,14.680294517913914,25.427015975101764,16.991418422250685,5.9410524205033335,1.1547005383792515,15.792148923386486,1.4804336055635301,null,1.4659072589598579,1.4513809123561858,1.4368545657525138,1.4223282191488416,1.4078018725451695,1.3932755259414977,1.3787491793378255,1.3642228327341535,1.3496964861304812,1.3351701395268092,1.3206437929231369,1.3061174463194649,1.2915910997157931,1.2770647531121209,1.2625384065084488,1.2480120599047766,1.2334857133011046,1.2189593666974325,1.2044330200937603,1.1899066734900883,1.175380326886416]
[938,{"$f":"+正規乱数!L946","v":8.8140744571123442},{"$f":"+正規乱数!M946","v":37.285406005732732},{"$f":"+正規乱数!N946","v":17.6982887673215},{"$f":"+正規乱数!O946","v":0.16144863219365027},26.547433150982251,13.273716575491123,22.990751514019799,16.991418422250685,4.5678526269535933,1.1547005383792515,10.177616520942433,1.110877203384196,null,1.0898965354748504,1.0689158675655051,1.0479351996561594,1.0269545317468141,1.0059738638374685,0.98499319592812318,0.96401252801877757,0.94303186010943219,0.92205119220008669,0.9010705242907413,0.8800898563813957,0.85910918847205031,0.8381285205627047,0.81714785265335921,0.79616718474401371,0.7751865168346681,0.75420584892532283,0.73322518101597722,0.71224451310663173,0.69126384519728623,0.67028317728794085]
[939,{"$f":"+正規乱数!L947","v":9.8923077771828023},{"$f":"+正規乱数!M947","v":30.792968248148398},{"$f":"+正規乱数!N947","v":18.249000520187824},{"$f":"+正規乱数!O947","v":0.1597154663167798},27.373500780281738,13.686750390140867,23.70614706623714,16.991418422250685,4.0016647823678317,1.1547005383792515,11.422653116126238,1.1269525240706402,null,1.1111972037667832,1.095441883462926,1.0796865631590689,1.0639312428552119,1.0481759225513547,1.0324206022474978,1.0166652819436406,1.0009099616397836,0.98515464133592656,0.96939932103206949,0.95364400072821232,0.93788868042435525,0.92213336012049829,0.90637803981664111,0.89062271951278404,0.87486739920892687,0.85911207890506991,0.84335675860121284,0.82760143829735566,0.81184611799349871,0.79609079768964164]
[940,{"$f":"+正規乱数!L948","v":11.794383754553468},{"$f":"+正規乱数!M948","v":31.265738080068928},{"$f":"+正規乱数!N948","v":17.145576659143284},{"$f":"+正規乱数!O948","v":0.13846459501506722},25.718364988714924,12.85918249435746,22.272757424027414,16.991418422250685,3.2067803723994146,1.1547005383792515,13.618981271234388,1.308462777553461,null,1.2936505995325522,1.278838421511644,1.2640262434907357,1.2492140654698274,1.2344018874489191,1.2195897094280108,1.2047775314071025,1.189965353386194,1.1751531753652857,1.1603409973443775,1.1455288193234692,1.1307166413025609,1.1159044632816526,1.1010922852607443,1.086280107239836,1.0714679292189275,1.0566557511980192,1.041843573177111,1.0270313951562025,1.0122192171352942,0.99740703911438588]
[941,{"$f":"+正規乱数!L949","v":6.4849779008820363},{"$f":"+正規乱数!M949","v":32.153891705588862},{"$f":"+正規乱数!N949","v":18.23819529430018},{"$f":"+正規乱数!O949","v":0.16857359295493779},27.357292941450268,13.678646470725132,23.692110666068643,16.991418422250685,4.2121241897011608,1.1547005383792515,7.4882074735260353,0.85537203467229739,null,0.83782126021266523,0.82027048575303307,0.80271971129340092,0.78516893683376887,0.76761816237413671,0.75006738791450456,0.7325166134548724,0.71496583899524024,0.6974150645356082,0.67986429007597604,0.66231351561634388,0.64476274115671173,0.62721196669707957,0.60966119223744741,0.59211041777781526,0.5745596433181831,0.55700886885855094,0.53945809439891879,0.52190731993928663,0.50435654547965447,0.48680577102002232]
[942,{"$f":"+正規乱数!L950","v":11.925287008585656},{"$f":"+正規乱数!M950","v":33.267711225494345},{"$f":"+正規乱数!N950","v":18.032251157393411},{"$f":"+正規乱数!O950","v":9.8847547750764542E-2},27.048376736090116,13.524188368045056,23.424581384586062,16.991418422250685,4.2206104516097049,1.1547005383792515,13.770135329140949,1.3302643597644037,null,1.3194007594988373,1.3085371592332713,1.2976735589677046,1.2868099587021382,1.2759463584365722,1.2650827581710058,1.2542191579054394,1.2433555576398732,1.2324919573743067,1.2216283571087403,1.2107647568431739,1.1999011565776077,1.1890375563120412,1.1781739560464748,1.1673103557809084,1.1564467555153422,1.1455831552497757,1.1347195549842093,1.1238559547186429,1.1129923544530766,1.1021287541875102]
[943,{"$f":"+正規乱数!L951","v":12.36108632479627},{"$f":"+正規乱数!M951","v":33.332916969168728},{"$f":"+正規乱数!N951","v":19.533819904747784},{"$f":"+正規乱数!O951","v":0.11808886630566973},29.300729857121674,14.650364928560835,25.375176405692557,16.991418422250685,5.5139970910935201,1.1547005383792515,14.273353034194656,1.3506387193613729,null,1.3386283412085092,1.3266179630556454,1.3146075849027816,1.3025972067499179,1.2905868285970541,1.2785764504441903,1.2665660722913268,1.254555694138463,1.2425453159855993,1.2305349378327355,1.2185245596798719,1.2065141815270082,1.1945038033741444,1.1824934252212806,1.1704830470684169,1.1584726689155531,1.1464622907626894,1.1344519126098256,1.1224415344569618,1.1104311563040983,1.0984207781512345]
[944,{"$f":"+正規乱数!L952","v":10.530872918131077},{"$f":"+正規乱数!M952","v":36.561694604872883},{"$f":"+正規乱数!N952","v":18.141812671260723},{"$f":"+正規乱数!O952","v":0.14330088908938896},27.212719006891085,13.606359503445541,23.566905966015323,16.991418422250685,4.8765706591705333,1.1547005383792515,12.160004628169434,1.252103862390656,null,1.2344084015823904,1.2167129407741251,1.1990174799658595,1.1813220191575942,1.1636265583493286,1.145931097541063,1.1282356367327977,1.1105401759245324,1.0928447151162668,1.0751492543080015,1.0574537934997361,1.0397583326914706,1.022062871883205,1.0043674110749397,0.9866719502666742,0.96897648945840875,0.9512810286501433,0.93358556784187785,0.91589010703361251,0.89819464622534706,0.8804991854170815]
[945,{"$f":"+正規乱数!L953","v":12.18389769535208},{"$f":"+正規乱数!M953","v":30.607875148408695},{"$f":"+正規乱数!N953","v":17.582062601304443},{"$f":"+正規乱数!O953","v":0.12196773224270699},26.373093901956665,13.186546950978331,22.839769295486938,16.991418422250685,3.4597901375052142,1.1547005383792515,14.068753228380768,1.3292747093723054,null,1.3168782240381633,1.3044817387040211,1.2920852533698788,1.2796887680357365,1.2672922827015942,1.2548957973674519,1.2424993120333097,1.2301028266991674,1.2177063413650253,1.2053098560308828,1.1929133706967405,1.1805168853625985,1.1681204000284562,1.1557239146943139,1.1433274293601716,1.1309309440260293,1.1185344586918871,1.1061379733577448,1.0937414880236025,1.0813450026894602,1.0689485173553179]
[946,{"$f":"+正規乱数!L954","v":4.8388451273290167},{"$f":"+正規乱数!M954","v":32.372091810559645},{"$f":"+正規乱数!N954","v":18.543215218690747},{"$f":"+正規乱数!O954","v":0.16617502756901573},27.814822828036121,13.907411414018059,24.088343170842606,16.991418422250685,4.4989978438378406,1.1547005383792515,5.5874170736606334,0.72525465862984473,null,0.70809402129153409,0.69093338395322323,0.6737727466149126,0.65661210927660185,0.6394514719382911,0.62229083459998036,0.60513019726166972,0.58796955992335898,0.57080892258504823,0.55364828524673748,0.53648764790842685,0.5193270105701161,0.50216637323180524,0.48500573589349461,0.4678450985551838,0.45068446121687311,0.43352382387856236,0.41636318654025162,0.39920254920194087,0.38204191186363018,0.36488127452531943]
[947,{"$f":"+正規乱数!L955","v":8.2324657308710343},{"$f":"+正規乱数!M955","v":40.896802108011158},{"$f":"+正規乱数!N955","v":18.530308227268677},{"$f":"+正規乱数!O955","v":0.1408743290616985},27.795462340903015,13.897731170451506,24.071576497155693,16.991418422250685,6.1323336604390111,1.1547005383792515,9.5060326116255212,1.1252459901738392,null,1.1053557902657718,1.0854655903577044,1.065575390449637,1.0456851905415696,1.0257949906335022,1.0059047907254346,0.98601459081736731,0.9661243909092998,0.94623419100123241,0.92634399109316512,0.90645379118509772,0.88656359127703033,0.86667339136896271,0.84678319146089542,0.82689299155282803,0.80700279164476063,{"$f":"+(($H957-$I957-AE$10*$G$6*$E957*$K957)*TAN($C957*PI()/180)+$L957)/$G957","v":0.78711259173669312},0.76722239182862573,0.74733219192055833,0.72744199201249093,0.70755179210442365]
[948,{"$f":"+正規乱数!L956","v":7.6270956951500697},{"$f":"+正規乱数!M956","v":35.009075037923296},{"$f":"+正規乱数!N956","v":18.060951552301862},{"$f":"+正規乱数!O956","v":0.11990059997470455},27.091427328452795,13.545713664226396,23.46186429122011,16.991418422250685,4.5321824657798864,1.1547005383792515,8.8070115054598563,0.98475387136433701,null,0.97070760129016864,0.95666133121600017,0.94261506114183158,0.9285687910676631,0.91452252099349463,0.90047625091932615,0.88642998084515778,0.8723837107709892,0.85833744069682072,0.84429117062265213,0.83024490054848377,0.81619863047431518,0.8021523604001467,0.78810609032597834,0.77405982025180975,0.76001355017764127,0.74596728010347269,0.73192101002930432,0.71787473995513573,0.70382846988096726,0.68978219980679889]
[949,{"$f":"+正規乱数!L957","v":8.9542099476080494},{"$f":"+正規乱数!M957","v":31.840316857571274},{"$f":"+正規乱数!N957","v":18.779775977805564},{"$f":"+正規乱数!O957","v":0.1492427142105657},28.169663966708345,14.084831983354171,24.395644611240549,16.991418422250685,4.5980308817218694,1.1547005383792515,10.339431047263863,1.0605353295402618,null,1.0456279246978402,1.0307205198554188,1.0158131150129972,1.0009057101705756,0.98599830532815425,0.97109090048573266,0.95618349564331118,0.9412760908008897,0.92636868595846822,0.91146128111604674,0.89655387627362515,0.88164647143120367,0.86673906658878219,0.8518316617463606,0.83692425690393912,0.82201685206151764,0.80710944721909605,0.79220204237667458,0.7772946375342531,0.76238723269183162,0.74747982784941003]
[950,{"$f":"+正規乱数!L958","v":10.569001196523658},{"$f":"+正規乱数!M958","v":31.416552861784439},{"$f":"+正規乱数!N958","v":17.767972928616246},{"$f":"+正規乱数!O958","v":0.14088293371866187},26.651959392924368,13.325979696462182,23.081273894903791,16.991418422250685,3.7196789800716608,1.1547005383792515,12.204031371756821,1.1949373115175879,null,1.1803079259739835,1.1656785404303793,1.151049154886775,1.1364197693431706,1.1217903837995662,1.107160998255962,1.0925316127123577,1.0779022271687533,1.0632728416251491,1.0486434560815447,1.0340140705379404,1.019384684994336,1.0047552994507318,0.99012591390712756,0.97549652836352319,0.96086714281991881,0.94623775727631443,0.93160837173271027,0.91697898618910589,0.90234960064550152,0.88772021510189714]
[951,{"$f":"+正規乱数!L959","v":9.6895294826968694},{"$f":"+正規乱数!M959","v":37.833880054554299},{"$f":"+正規乱数!N959","v":19.57647311645897},{"$f":"+正規乱数!O959","v":0.14297315709398625},29.364709674688456,14.682354837344226,25.430584553034883,16.991418422250685,6.5540846799292236,1.1547005383792515,11.188504910311705,1.2084294233996489,null,1.191296176444127,1.1741629294886051,1.1570296825330832,1.1398964355775616,1.1227631886220399,1.1056299416665181,1.0884966947109962,1.0713634477554743,1.0542302007999524,1.0370969538444306,1.0199637068889087,1.0028304599333868,0.98569721297786494,0.96856396602234318,0.95143071906682131,0.93429747211129954,0.91716422515577767,0.90003097820025579,0.88289773124473392,0.86576448428921216,0.84863123733369028]
[952,{"$f":"+正規乱数!L960","v":8.6147360874855945},{"$f":"+正規乱数!M960","v":37.761928759433502},{"$f":"+正規乱数!N960","v":18.366172628543804},{"$f":"+正規乱数!O960","v":0.17751365203432332},27.549258942815705,13.774629471407851,23.858358099914028,16.991418422250685,5.3192399314866927,1.1547005383792515,9.9474403982147823,1.1083187654078603,null,1.0857032467241288,1.0630877280403974,1.0404722093566658,1.0178566906729345,0.99524117198920292,0.97262565330547157,{"$f":"+(($H962-$I962-U$10*$G$6*$E962*$K962)*TAN($C962*PI()/180)+$L962)/$G962","v":0.95001013462174011},0.92739461593800876,0.9047790972542773,0.88216357857054584,0.85954805988681449,0.83693254120308302,0.81431702251935156,0.7917015038356201,0.76908598515188853,0.74647046646815718,0.72385494778442572,0.70123942910069426,0.67862391041696279,0.65600839173323144,0.63339287304949987]
[953,{"$f":"+正規乱数!L961","v":10.733411945819951},{"$f":"+正規乱数!M961","v":38.218391208366718},{"$f":"+正規乱数!N961","v":18.475416287428001},{"$f":"+正規乱数!O961","v":0.15211448411987222},27.713124431141999,13.856562215570998,24.000269775608142,16.991418422250685,5.5190659773272506,1.1547005383792515,12.393876552484587,1.2927407426989772,null,1.2731567075178178,1.2535726723366585,1.2339886371554989,1.2144046019743397,1.1948205667931802,1.1752365316120208,1.1556524964308612,1.1360684612497018,1.1164844260685427,1.0969003908873831,1.0773163557062237,1.0577323205250644,1.0381482853439048,1.0185642501627454,0.99898021498158596,0.97939617980042648,0.95981214461926723,0.94022810943810775,0.92064407425694827,0.90106003907578891,0.88147600389462943]
[954,{"$f":"+正規乱数!L962","v":9.9841391855234463},{"$f":"+正規乱数!M962","v":32.410701445645131},{"$f":"+正規乱数!N962","v":17.085801947695234},{"$f":"+正規乱数!O962","v":0.15331908395371696},25.628702921542853,12.814351460771425,22.195107796100572,16.991418422250685,3.3037252114531377,1.1547005383792515,11.528690892777304,1.1574847271543096,null,1.1402755339925283,1.1230663408307473,1.1058571476689663,1.0886479545071852,1.0714387613454039,1.0542295681836227,1.0370203750218416,1.0198111818600606,1.0026019886982795,0.98539279553649828,0.96818360237471712,0.95097440921293597,0.93376521605115481,0.91655602288937366,0.8993468297275925,0.88213763656581134,0.86492844340403019,0.84771925024224903,0.83051005708046788,0.81330086391868672,0.79609167075690557]
[955,{"$f":"+正規乱数!L963","v":8.3694142847095847},{"$f":"+正規乱数!M963","v":34.086689606427626},{"$f":"+正規乱数!N963","v":18.779163200749696},{"$f":"+正規乱数!O963","v":8.2746242756848276E-2},28.168744801124546,14.084372400562271,24.394848590494693,16.991418422250685,5.0099911633604046,1.1547005383792515,9.6641671804731555,1.0418752022807736,null,1.0328681407362457,1.0238610791917178,1.0148540176471901,1.0058469561026619,0.99683989455813438,0.98783283301360636,0.97882577146907856,0.96981870992455077,0.96081164838002286,0.95180458683549507,0.94279752529096728,0.93379046374643948,0.92478340220191146,0.91577634065738367,0.90676927911285587,0.89776221756832786,0.88875515602380017,0.87974809447927227,0.87074103293474436,0.86173397139021657,0.85272690984568866]
[956,{"$f":"+正規乱数!L964","v":7.2172579586281902},{"$f":"+正規乱数!M964","v":35.927495560839837},{"$f":"+正規乱数!N964","v":17.88266925329032},{"$f":"+正規乱数!O964","v":0.16659775356547615},26.824003879935482,13.412001939967739,23.230268791236476,16.991418422250685,4.5207388612745314,1.1547005383792515,8.3337716504499078,0.95843339191728139,null,0.93804191153167771,0.91765043114607392,0.89725895076047013,0.87686747037486645,0.85647598998926266,0.83608450960365899,0.8156930292180552,0.79530154883245152,0.77491006844684773,0.75451858806124394,0.73412710767564027,0.71373562729003648,0.69334414690443258,0.67295266651882879,0.652561186133225,0.63216970574762132,0.61177822536201754,0.59138674497641386,0.57099526459081007,0.55060378420520628,0.53021230381960249]
[957,{"$f":"+正規乱数!L965","v":7.0269577330679311},{"$f":"+正規乱数!M965","v":34.853637234493064},{"$f":"+正規乱数!N965","v":18.900253796495473},{"$f":"+正規乱数!O965","v":0.14950461163403528},28.350380694743208,14.175190347371602,24.552149888607541,16.991418422250685,5.2653490539498886,1.1547005383792515,8.1140318775417839,0.94385899614903646,null,0.92721883933981797,0.91057868253059948,0.89393852572138099,0.8772983689121624,0.86065821210294391,0.84401805529372542,0.82737789848450694,0.81073774167528834,0.79409758486606996,0.77745742805685147,0.76081727124763288,0.74417711443841428,0.72753695762919579,0.7108968008199773,0.69425664401075882,0.67761648720154022,0.66097633039232173,0.64433617358310324,0.62769601677388476,0.61105585996466627,0.59441570315544756]
[958,{"$f":"+正規乱数!L966","v":8.8998890661035954},{"$f":"+正規乱数!M966","v":31.727963365523408},{"$f":"+正規乱数!N966","v":17.269034465615036},{"$f":"+正規乱数!O966","v":0.11199906169001805},25.903551698422554,12.951775849211275,22.433133819077476,16.991418422250685,3.3645419389952211,1.1547005383792515,10.276706696145435,1.0532338417493048,null,1.0411210693246753,1.0290082969000458,1.0168955244754163,1.0047827520507868,0.99266997962615744,0.98055720720152795,0.96844443477689857,0.95633166235226907,0.94421888992763958,0.93210611750301009,0.91999334507838071,0.90788057265375122,0.89576780022912161,0.88365502780449212,0.87154225537986274,0.85942948295523325,0.84731671053060376,0.83520393810597426,0.82309116568134488,0.81097839325671539,0.7988656208320859]
[959,{"$f":"+正規乱数!L967","v":7.8973238237738421},{"$f":"+正規乱数!M967","v":37.109604600204584},{"$f":"+正規乱数!N967","v":15.008398697349609},{"$f":"+正規乱数!O967","v":0.15524181411322061},22.512598046024415,11.256299023012206,19.496481813045062,16.991418422250685,1.8952247657042296,1.1547005383792515,9.1190440710669449,0.97849824478310066,null,0.95485955172078851,0.93122085865847659,0.90758216559616445,0.8839434725338523,0.86030477947154016,0.83666608640922813,0.81302739334691598,0.78938870028460384,0.76575000722229181,0.74211131415997966,0.71847262109766774,0.69483392803535549,0.67119523497304345,0.64755654191073131,0.62391784884841917,0.60027915578610702,0.57664046272379499,0.55300176966148284,0.52936307659917059,0.50572438353685867,0.48208569047454641]
[960,{"$f":"+正規乱数!L968","v":11.453722140447004},{"$f":"+正規乱数!M968","v":32.854943443364256},{"$f":"+正規乱数!N968","v":17.21539805357968},{"$f":"+正規乱数!O968","v":0.11241477734205937},25.823097080369521,12.911548540184759,22.363458075991776,16.991418422250685,3.4693388393455602,1.1547005383792515,13.225619122020507,1.2930252253946273,null,1.2802866473553358,1.2675480693160446,1.2548094912767533,1.2420709132374621,1.2293323351981706,1.2165937571588794,1.2038551791195879,1.1911166010802965,1.1783780230410053,1.165639445001714,1.1529008669624228,1.1401622889231313,1.1274237108838401,1.1146851328445486,1.1019465548052574,1.0892079767659659,1.0764693987266747,1.0637308206873834,1.050992242648092,1.0382536646088008,1.0255150865695095]
[961,{"$f":"+正規乱数!L969","v":7.8912133063949339},{"$f":"+正規乱数!M969","v":37.059053177778615},{"$f":"+正規乱数!N969","v":19.696800779329994},{"$f":"+正規乱数!O969","v":0.1657216770520015},29.545201168994993,14.772600584497495,25.586894772271361,16.991418422250685,6.4910565328427356,1.1547005383792515,9.111988253359744,1.056215166514179,null,1.0370224620005299,1.0178297574868809,0.9986370529732318,0.97944434845958261,0.96025164394593343,0.94105893943228436,0.92186623491863517,0.9026735304049861,0.88348082589133703,0.86428812137768796,0.84509541686403877,0.82590271235038959,0.80671000783674052,0.78751730332309133,0.76832459880944215,0.74913189429579319,0.729939189782144,0.71074648526849482,0.69155378075484575,0.67236107624119656,0.65316837172754738]
[962,{"$f":"+正規乱数!L970","v":9.5152584632225583},{"$f":"+正規乱数!M970","v":36.542001274903811},{"$f":"+正規乱数!N970","v":18.223919081719334},{"$f":"+正規乱数!O970","v":0.15408129009650889},27.335878622579003,{"$f":"+F972*SIN($G$2*PI()/180)","v":13.6679393112895},23.673565321921387,{"$f":"+$G$5*$G$4*$G$6/COS($G$2*PI()/180)","v":16.991418422250685},4.9521132287267413,{"$f":"+$G$4/COS($G$2*PI()/180)","v":1.1547005383792515},10.987274070300817,1.1661880358117978,null,1.147260687126274,1.1283333384407503,1.1094059897552264,1.0904786410697027,1.071551292384179,1.0526239436986553,1.0336965950131314,1.0147692463276077,0.99584189764208397,0.97691454895656016,0.95798720027103634,0.93905985158551253,0.92013250289998882,0.90120515421446501,0.88227780552894119,0.86335045684341738,0.84442310815789368,0.82549575947236986,0.80656841078684605,0.78764106210132223,0.76871371341579842]
[963,{"$f":"+正規乱数!L971","v":8.8324664043957135},{"$f":"+正規乱数!M971","v":37.586308215559036},{"$f":"+正規乱数!N971","v":19.236181786663391},{"$f":"+正規乱数!O971","v":0.1338448716037538},28.854272679995084,14.42713633999754,24.988533148599043,16.991418422250685,6.1555635714058505,1.1547005383792515,10.198853712372381,1.1335872135925917,null,1.1174092272232397,1.1012312408538878,1.0850532544845359,1.0688752681151839,1.052697281745832,1.0365192953764801,1.0203413090071283,1.0041633226377764,0.98798533626842455,0.97180734989907269,0.95562936352972072,0.93945137716036886,0.92327339079101689,0.90709540442166503,0.89091741805231306,0.87473943168296109,0.85856144531360923,0.84238345894425726,0.8262054725749054,0.81002748620555354,0.79384949983620168]
[964,{"$f":"+正規乱数!L972","v":8.6627073513928785},{"$f":"+正規乱数!M972","v":31.908878970710372},{"$f":"+正規乱数!N972","v":16.650951957029257},{"$f":"+正規乱数!O972","v":0.11591840677777331},24.976427935543885,12.488213967771941,21.630221087972327,16.991418422250685,2.8883978326744337,1.1547005383792515,10.002832842475256,1.0322717650752786,null,1.0191777886096256,1.0060838121439728,0.99298983567832,0.97989585921266709,0.96680188274701406,0.95370790628136115,0.94061392981570835,0.92751995335005544,0.91442597688440252,0.90133200041874972,0.88823802395309681,0.87514404748744379,0.86205007102179099,0.84895609455613807,0.83586211809048516,0.82276814162483236,0.80967416515917945,0.79658018869352643,0.78348621222787362,0.77039223576222071,0.7572982592965678]
[965,{"$f":"+正規乱数!L973","v":10.347331411246749},{"$f":"+正規乱数!M973","v":35.118521128533544},{"$f":"+正規乱数!N973","v":18.16949742212946},{"$f":"+正規乱数!O973","v":0.14135069529677891},27.25424613319419,13.627123066597093,23.602869512339975,16.991418422250685,4.6497992084898367,1.1547005383792515,11.948069151355162,1.2180023823612349,null,1.2014751721048795,1.1849479618485246,1.1684207515921692,1.151893541335814,1.1353663310794586,1.1188391208231034,1.102311910566748,1.0857847003103929,1.0692574900540375,1.0527302797976823,1.0362030695413271,1.0196758592849717,1.0031486490286166,0.98662143877226127,0.97009422851590588,0.95356701825955059,0.93703980800319531,0.92051259774684002,0.90398538749048463,0.88745817723412945,0.87093096697777417]
[966,{"$f":"+正規乱数!L974","v":10.561200436952477},{"$f":"+正規乱数!M974","v":36.184742990980276},{"$f":"+正規乱数!N974","v":17.651075200801372},{"$f":"+正規乱数!O974","v":0.12564553706042811},26.476612801202059,13.238306400601028,22.929419292005253,16.991418422250685,4.3435319482481267,1.1547005383792515,12.195023830480212,1.2492954369130991,null,1.2335669924519082,1.2178385479907172,1.2021101035295263,1.1863816590683351,1.1706532146071442,1.1549247701459535,1.1391963256847624,1.1234678812235714,1.1077394367623805,1.0920109923011896,1.0762825478399987,1.0605541033788075,1.0448256589176166,1.0290972144564257,1.0133687699952345,0.99764032553404369,0.98191188107285265,0.96618343661166173,0.95045499215047069,0.93472654768927976,0.91899810322808873]
[967,{"$f":"+正規乱数!L975","v":6.9084179563596528},{"$f":"+正規乱数!M975","v":27.609082703779194},{"$f":"+正規乱数!N975","v":18.174665782520023},{"$f":"+正規乱数!O975","v":0.20107170697744187},27.261998673780035,13.630999336890016,23.609583409431188,16.991418422250685,3.4612290202290099,1.1547005383792515,7.9771539335573793,0.83914485439305408,null,0.82166715014114045,0.80418944588922681,0.78671174163731317,0.76923403738539942,0.75175633313348589,0.73427862888157225,0.7168009246296585,0.69932322037774475,0.68184551612583122,0.66436781187391747,0.64689010762200394,0.62941240337009019,0.61193469911817655,0.59445699486626291,0.57697929061434916,0.55950158636243552,0.54202388211052188,0.52454617785860824,0.50706847360669449,0.4895907693547808,0.47211306510286716]
[968,{"$f":"+正規乱数!L976","v":10.593551773921895},{"$f":"+正規乱数!M976","v":36.256060626500101},{"$f":"+正規乱数!N976","v":18.464327384293668},{"$f":"+正規乱数!O976","v":0.11441668009030093},27.696491076440502,13.848245538220249,23.985864867886487,16.991418422250685,5.129678032619462,1.1547005383792515,12.232379936696086,1.2537370110457247,null,1.2400092498349031,1.2262814886240816,1.2125537274132601,1.1988259662024385,1.185098204991617,{"$f":"+(($H978-$I978-T$10*$G$6*$E978*$K978)*TAN($C978*PI()/180)+$L978)/$G978","v":1.1713704437807955},1.1576426825699739,1.1439149213591522,1.1301871601483306,1.1164593989375093,1.1027316377266876,1.0890038765158661,1.0752761153050445,1.061548354094223,1.0478205928834015,1.0340928316725799,1.0203650704617584,1.0066373092509369,0.99290954804011522,0.97918178682929369,0.96545402561847204]
[969,{"$f":"+正規乱数!L977","v":10.05580812195389},{"$f":"+正規乱数!M977","v":30.964660041407214},{"$f":"+正規乱数!N977","v":16.019869752347212},{"$f":"+正規乱数!O977","v":0.16386847051374268},24.029804628520818,12.014902314260407,20.810421256275916,16.991418422250685,2.2914836040185231,1.1547005383792515,11.611447052258606,1.157140548681435,null,1.1386005243040278,1.1200604999266208,1.1015204755492136,1.0829804511718066,1.0644404267943994,1.0459004024169924,1.0273603780395855,1.0088203536621783,0.99028032928477128,0.97174030490736418,0.95320028052995709,0.93466025615255,0.9161202317751429,0.89758020739773592,0.87904018302032882,0.86050015864292162,0.84196013426551464,0.82342010988810754,0.80488008551070045,0.78634006113329336,0.76780003675588626]
[970,{"$f":"+正規乱数!L978","v":8.704528494130269},{"$f":"+正規乱数!M978","v":38.833233324909955},{"$f":"+正規乱数!N978","v":18.883858383460122},{"$f":"+正規乱数!O978","v":0.18624251550534002},28.325787575190184,14.16289378759509,24.530851622316316,16.991418422250685,6.0690633809566101,1.1547005383792515,10.051123738509757,1.1381986874451899,null,1.114217086211102,1.0902354849770142,1.0662538837429263,1.0422722825088384,1.0182906812747505,0.99430908004066265,0.97032747880657466,0.94634587757248678,0.92236427633839879,0.89838267510431102,0.87440107387022292,0.85041947263613515,0.82643787140204716,0.80245627016795928,0.77847466893387129,0.75449306769978342,0.73051146646569554,0.70652986523160755,0.68254826399751967,0.65856666276343179,0.63458506152934391]
[971,{"$f":"+正規乱数!L979","v":8.6580723486783917},{"$f":"+正規乱数!M979","v":35.328725910648103},{"$f":"+正規乱数!N979","v":16.811376902630229},{"$f":"+正規乱数!O979","v":0.13191707040860323},25.217065353945344,12.60853267697267,21.838619205409096,16.991418422250685,3.4356592644816324,1.1547005383792515,9.9974808023454482,1.0654007417818265,null,1.0486001764029658,1.0317996110241052,1.0149990456452447,0.99819848026638414,0.98139791488752359,0.96459734950866305,0.94779678412980251,0.93099621875094196,0.91419565337208131,0.89739508799322076,0.88059452261436022,0.86379395723549945,0.84699339185663891,0.83019282647777837,0.81339226109891782,0.79659169572005728,0.77979113034119663,0.76299056496233608,0.74618999958347543,0.72938943420461499,0.71258886882575423]
[972,{"$f":"+正規乱数!L980","v":9.1316396817207579},{"$f":"+正規乱数!M980","v":37.293041358190536},{"$f":"+正規乱数!N980","v":18.090867760429912},{"$f":"+正規乱数!O980","v":0.14473062153954111},27.136301640644866,13.568150820322431,23.500726585555796,16.991418422250685,4.9575147382578511,1.1547005383792515,10.544309256768296,1.1425156014486109,null,1.124110538053295,1.1057054746579789,1.087300411262663,1.0688953478673469,1.0504902844720307,1.0320852210767149,1.0136801576813987,0.99527509428608296,0.97687003089076685,0.95846496749545085,0.94005990410013485,0.92165484070481885,0.90324977730950284,0.88484471391418684,0.86643965051887073,0.84803458712355473,0.82962952372823873,0.81122446033292273,0.79281939693760672,0.77441433354229072,0.75600927014697461]
[973,{"$f":"+正規乱数!L981","v":12.34148306594183},{"$f":"+正規乱数!M981","v":36.44663527550231},{"$f":"+正規乱数!N981","v":17.625625152464899},{"$f":"+正規乱数!O981","v":0.14462452625354955},26.438437728697348,13.219218864348672,22.89635870942486,16.991418422250685,4.3609206436137713,1.1547005383792515,14.250717140641447,1.4079226598214158,null,1.3896177665416602,1.3713128732619047,1.3530079799821488,1.3347030867023937,1.3163981934226379,1.2980933001428823,1.2797884068631269,1.2614835135833713,1.2431786203036157,1.2248737270238603,1.2065688337441047,1.1882639404643489,1.1699590471845933,1.1516541539048379,1.1333492606250823,1.1150443673453267,1.0967394740655712,1.0784345807858156,1.06012968750606,1.0418247942263044,1.0235199009465488]
[974,{"$f":"+正規乱数!L982","v":10.607267386557883},{"$f":"+正規乱数!M982","v":37.142866022965421},{"$f":"+正規乱数!N982","v":17.116475501309136},{"$f":"+正規乱数!O982","v":0.11152670855966942},25.674713251963702,12.837356625981849,22.234953911081544,16.991418422250685,3.971825066310898,1.1547005383792515,12.248217361991063,1.2635032975148335,null,1.2485946738871112,1.2336860502593892,1.2187774266316671,1.2038688030039451,1.188960179376223,1.174051555748501,1.1591429321207789,1.1442343084930569,1.1293256848653348,1.1144170612376127,1.0995084376098907,1.0845998139821684,1.0696911903544466,1.0547825667267245,1.0398739430990025,1.0249653194712802,1.0100566958435582,0.99514807221583612,0.98023944858811418,0.96533082496039213,0.95042220133266997]
[975,{"$f":"+正規乱数!L983","v":9.5162911595984614},{"$f":"+正規乱数!M983","v":37.356361820887003},{"$f":"+正規乱数!N983","v":17.913651795771862},{"$f":"+正規乱数!O983","v":0.12264346697849583},26.870477693657794,13.435238846828895,23.270516294530744,16.991418422250685,4.793159366782338,1.1547005383792515,10.988466525362055,1.174644237595323,null,1.1588575136293526,1.1430707896633823,1.1272840656974119,1.1114973417314418,1.0957106177654714,1.079923893799501,1.0641371698335309,1.0483504458675605,1.0325637219015902,1.01677699793562,1.0009902739696497,0.98520355000367943,0.96941682603770907,0.95363010207173882,0.93784337810576857,0.9220566541397982,0.90626993017382795,0.89048320620785759,0.87469648224188723,0.85890975827591709,0.84312303430994673]
[976,{"$f":"+正規乱数!L984","v":12.707686641260064},{"$f":"+正規乱数!M984","v":33.001740692160411},{"$f":"+正規乱数!N984","v":18.983588496651198},{"$f":"+正規乱数!O984","v":0.16780625390826304},28.475382744976798,14.237691372488397,24.660404839634971,16.991418422250685,4.9806292670594878,1.1547005383792515,14.673572606217817,1.3804346055186498,null,1.3630932442149897,1.3457518829113293,1.3284105216076689,1.311069160304009,1.2937277990003486,1.2763864376966885,1.2590450763930281,1.2417037150893679,1.2243623537857076,1.2070209924820476,1.1896796311783873,1.1723382698747271,1.1549969085710667,1.1376555472674066,1.1203141859637462,1.1029728246600858,1.0856314633564257,1.0682901020527655,1.0509487407491052,1.033607379445445,1.0162660181417846]
[977,{"$f":"+正規乱数!L985","v":13.984266066548333},{"$f":"+正規乱数!M985","v":36.552891496442427},{"$f":"+正規乱数!N985","v":18.007188792955116},{"$f":"+正規乱数!O985","v":0.1897931572108113},27.010783189432672,13.505391594716334,23.392024418162361,16.991418422250685,4.7453493496078183,1.1547005383792515,16.147639555882058,1.5470109666174925,null,1.5234067910181348,1.4998026154187771,1.4761984398194197,1.452594264220062,1.4289900886207045,1.4053859130213466,1.3817817374219892,1.3581775618226315,1.3345733862232738,1.3109692106239161,1.2873650350245585,1.2637608594252006,1.2401566838258431,1.2165525082264854,1.1929483326271275,1.1693441570277701,1.1457399814284124,1.1221358058290547,1.098531630229697,1.0749274546303393,1.0513232790309817]
[978,{"$f":"+正規乱数!L986","v":13.498641432997358},{"$f":"+正規乱数!M986","v":32.789773752832502},{"$f":"+正規乱数!N986","v":17.931985014989429},{"$f":"+正規乱数!O986","v":0.15024229237028827},26.897977522484144,13.44898876124207,23.294331844894089,16.991418422250685,4.0603585254737942,1.1547005383792515,15.586888530070519,1.4608716985595731,null,1.4445677054391068,1.4282637123186404,1.4119597191981739,1.3956557260777074,1.3793517329572411,1.3630477398367746,1.3467437467163079,1.3304397535958417,1.3141357604753752,1.2978317673549089,1.2815277742344422,1.2652237811139759,1.2489197879935094,1.2326157948730432,1.2163118017525765,1.20000780863211,1.1837038155116437,1.167399822391177,1.1510958292707107,1.1347918361502443,1.1184878430297778]
[979,{"$f":"+正規乱数!L987","v":11.944848478162907},{"$f":"+正規乱数!M987","v":34.292271911443549},{"$f":"+正規乱数!N987","v":17.535462256357718},{"$f":"+正規乱数!O987","v":0.14287395051841076},26.303193384536577,13.151596692268287,22.779233671663466,16.991418422250685,3.9470360450730873,1.1547005383792515,13.79272296859329,1.3488673222541439,null,1.3320831713674497,1.3152990204807558,1.2985148695940618,1.2817307187073674,1.2649465678206735,1.2481624169339796,1.2313782660472854,1.2145941151605915,1.1978099642738973,1.1810258133872034,1.1642416625005092,1.1474575116138153,1.1306733607271211,1.1138892098404272,1.097105058953733,1.0803209080670391,1.0635367571803449,1.046752606293651,1.0299684554069568,1.0131843045202629,0.99640015363356882]
[980,{"$f":"+正規乱数!L988","v":7.5256114245431611},{"$f":"+正規乱数!M988","v":39.770680112115201},{"$f":"+正規乱数!N988","v":17.762508749432037},{"$f":"+正規乱数!O988","v":0.14965728824948893},26.643763124148055,13.321881562074026,23.074175717927258,16.991418422250685,5.0626910838592369,1.1547005383792515,8.6898275635530329,1.0323255452566267,null,1.0111428306612669,0.98996011606590684,0.96877740147054703,0.94759468687518711,0.92641197227982708,0.90522925768446738,0.88404654308910735,0.86286382849374743,0.84168111389838751,0.8204983993030277,0.79931568470766778,0.77813297011230775,0.75695025551694783,0.73576754092158803,0.714584826326228,0.69340211173086808,0.67221939713550816,0.65103668254014835,0.62985396794478843,0.60867125334942851,0.58748853875406848]
[981,{"$f":"+正規乱数!L989","v":10.894875295017716},{"$f":"+正規乱数!M989","v":34.468100855276163},{"$f":"+正規乱数!N989","v":18.687738152248762},{"$f":"+正規乱数!O989","v":0.10839161506293947},28.031607228373144,14.01580361418657,24.276083968678641,16.991418422250685,5.0006427698536191,1.1547005383792515,12.580318368731763,1.2543669719223391,null,1.2423398346197856,1.2303126973172318,1.2182855600146785,1.2062584227121249,1.1942312854095716,1.1822041481070178,1.1701770108044647,1.1581498735019109,1.1461227361993573,1.1340955988968038,1.1220684615942504,1.1100413242916969,1.0980141869891433,1.08598704968659,1.0739599123840364,1.0619327750814829,1.0499056377789293,1.0378785004763758,1.0258513631738222,1.0138242258712689,1.0017970885687153]
[982,{"$f":"+正規乱数!L990","v":9.6960900754507922},{"$f":"+正規乱数!M990","v":35.045638058107166},{"$f":"+正規乱数!N990","v":18.731349628340244},{"$f":"+正規乱数!O990","v":0.14753964732455402},28.097024442510367,14.048512221255182,24.332736937966285,16.991418422250685,5.1491660721979269,1.1547005383792515,11.196080430296746,1.1634859439254051,null,1.1467977395163025,1.1301095351072004,1.1134213306980982,1.0967331262889959,1.0800449218798935,1.0633567174707912,1.0466685130616888,1.0299803086525867,1.0132921042434846,0.99660389983438213,0.9799156954252799,0.96322749101617755,0.9465392866070752,0.92985108219797297,0.91316287778887073,0.89647467337976838,0.87978646897066615,0.8630982645615638,0.84641006015246145,0.82972185574335933,0.81303365133425698]
[983,{"$f":"+正規乱数!L991","v":10.484099085767795},{"$f":"+正規乱数!M991","v":32.124306621585035},{"$f":"+正規乱数!N991","v":18.17808595519481},{"$f":"+正規乱数!O991","v":0.10529514454258301},27.267128932792215,13.633564466396106,23.614026344063728,16.991418422250685,4.1582702269186163,1.1547005383792515,12.105994858757491,1.1929576543070692,null,1.1819713666815455,1.1709850790560212,1.1599987914304972,1.1490125038049732,1.1380262161794492,1.1270399285539254,1.1160536409284014,1.1050673533028776,1.0940810656773534,1.0830947780518296,1.0721084904263056,1.0611222028007816,1.0501359151752578,1.0391496275497338,1.0281633399242098,1.0171770522986858,1.006190764673162,0.99520447704763793,0.98421818942211392,0.97323190179659003,0.96224561417106602]
[984,{"$f":"+正規乱数!L992","v":6.6288894465728134},{"$f":"+正規乱数!M992","v":34.796877922399396},{"$f":"+正規乱数!N992","v":16.217888354911238},{"$f":"+正規乱数!O992","v":0.13936687013666543},24.326832532366858,12.163416266183427,21.067654966639427,16.991418422250685,2.8327288035997964,1.1547005383792515,7.6543822128141663,0.86218466809938032,null,0.84414543922334484,0.82610621034730924,0.80806698147127376,0.79002775259523816,{"$f":"+(($H994-$I994-S$10*$G$6*$E994*$K994)*TAN($C994*PI()/180)+$L994)/$G994","v":0.77198852371920268},0.75394929484316708,0.7359100659671316,0.717870837091096,0.69983160821506052,0.68179237933902492,0.66375315046298944,0.64571392158695384,0.62767469271091825,0.60963546383488276,0.59159623495884717,0.57355700608281157,0.55551777720677609,0.53747854833074049,0.51943931945470501,0.50140009057866952,0.48336086170263387]
[985,{"$f":"+正規乱数!L993","v":10.115407052687456},{"$f":"+正規乱数!M993","v":31.526445970765749},{"$f":"+正規乱数!N993","v":16.6787741383141},{"$f":"+正規乱数!O993","v":0.11846660719038718},25.018161207471152,12.509080603735574,21.666363161644384,16.991418422250685,2.8677787830768304,1.1547005383792515,11.680265969663482,1.1629987217762308,null,1.1498371396869287,1.1366755575976264,1.1235139755083245,1.1103523934190223,1.0971908113297202,1.0840292292404181,1.070867647151116,1.057706065061814,1.0445444829725119,1.0313829008832098,1.0182213187939078,1.0050597367046057,0.99189815461530351,0.97873657252600155,0.96557499043669937,0.95241340834739741,0.93925182625809522,0.92609024416879315,0.91292866207949108,0.89976707999018901,0.88660549790088694]
[986,{"$f":"+正規乱数!L994","v":6.3772140714085044},{"$f":"+正規乱数!M994","v":35.041112378474516},{"$f":"+正規乱数!N994","v":17.614798128508031},{"$f":"+正規乱数!O994","v":0.16195390110032029},26.422197192762049,13.211098596381023,22.882293992733818,16.991418422250685,4.1311380719422237,1.1547005383792515,7.3637725216151386,0.87009498185913292,null,0.85061849097043229,0.83114200008173145,0.81166550919303071,0.79218901830432986,0.77271252741562924,0.75323603652692839,0.73375954563822776,0.71428305474952691,0.69480656386082618,0.67533007297212544,0.6558535820834247,0.63637709119472385,0.61690060030602312,0.59742410941732238,0.57794761852862164,0.55847112763992079,0.53899463675122017,0.51951814586251921,0.50004165497381858,0.48056516408511774,0.46108867319641705]
[987,{"$f":"+正規乱数!L995","v":6.7945422139860892},{"$f":"+正規乱数!M995","v":36.821404616906875},{"$f":"+正規乱数!N995","v":15.386363371460707},{"$f":"+正規乱数!O995","v":0.1035746594822852},{"$f":"+$G$3*$G$4*D997","v":23.079545057191062},11.539772528595529,{"$f":"+F997*COS($G$2*PI()/180)","v":19.987472327315036},16.991418422250685,{"$f":"+(H997-I997)*TAN(C997*PI()/180)","v":2.2430808331242682},1.1547005383792515,{"$f":"+K997*B997","v":7.845661552530288},{"$f":"+(J997+L997)/G997","v":0.87425834093823562},null,0.85903465069224039,0.84381096044624504,0.8285872702002498,0.81336357995425446,0.79813988970825911,0.78291619946226387,0.76769250921626853,0.75246881897027329,0.73724512872427794,0.72202143847828271,0.70679774823228736,0.69157405798629201,0.67635036774029667,0.66112667749430132,0.64590298724830608,0.63067929700231073,0.6154556067563155,0.60023191651032015,0.58500822626432469,0.56978453601832946,0.55456084577233422]
[988,{"$f":"+正規乱数!L996","v":10.369340445937116},{"$f":"+正規乱数!M996","v":37.041090990153911},{"$f":"+正規乱数!N996","v":18.935104079952914},{"$f":"+正規乱数!O996","v":0.12427702596071875},28.402656119929372,14.201328059964684,24.597421734812393,16.991418422250685,5.7400915335441969,1.1547005383792515,11.973482995561335,1.2473181701253919,null,1.2323560695174069,1.217393968909422,1.2024318683014372,1.187469767693452,1.1725076670854673,1.1575455664774823,1.1425834658694973,1.1276213652615126,1.1126592646535274,1.0976971640455426,1.0827350634375577,1.0677729628295727,1.0528108622215877,1.0378487616136027,1.0228866610056178,1.0079245603976328,0.99296245978964803,0.97800035918166295,0.96303825857367797,0.94807615796569311,0.93311405735770814]
[989,{"$f":"+正規乱数!L997","v":8.218462013708054},{"$f":"+正規乱数!M997","v":37.204923348003042},{"$f":"+正規乱数!N997","v":16.469529189068645},{"$f":"+正規乱数!O997","v":0.16069124664734907},24.704293783602967,12.352146891801482,21.394545999154158,16.991418422250685,3.3427521178426889,1.1547005383792515,9.4898625118781172,1.0388975084354144,null,1.0165226113000225,0.99414771416463099,0.97177281702923934,0.94939791989384759,0.92702302275845605,0.90464812562306429,0.88227322848767253,0.859898331352281,0.83752343421688946,0.8151485370814977,0.79277363994610606,0.77039874281071441,0.74802384567532276,0.725648948539931,0.70327405140453947,0.6808991542691476,0.65852425713375595,0.63614935999836442,0.61377446286297277,0.59139956572758101,0.56902466859218925]
[990,{"$f":"+正規乱数!L998","v":11.290071457655074},{"$f":"+正規乱数!M998","v":34.769206181788647},{"$f":"+正規乱数!N998","v":17.836163164463844},{"$f":"+正規乱数!O998","v":0.10114761405702979},26.754244746695768,13.377122373347882,23.1698556097049,16.991418422250685,4.2892028973221041,1.1547005383792515,13.036651590494534,1.2951854669682976,null,1.2832933473490928,1.2714012277298883,1.2595091081106837,1.247616988491479,1.2357248688722744,1.2238327492530696,1.2119406296338648,1.2000485100146605,1.1881563903954557,1.176264270776251,1.1643721511570464,1.1524800315378418,1.1405879119186371,1.1286957922994323,1.1168036726802277,1.104911553061023,1.0930194334418184,1.0811273138226136,1.0692351942034091,1.0573430745842043,1.0454509549649995]
[991,{"$f":"+正規乱数!L999","v":10.867523900088459},{"$f":"+正規乱数!M999","v":35.575515308950308},{"$f":"+正規乱数!N999","v":16.454673290733119},{"$f":"+正規乱数!O999","v":0.17126817222636878},24.682009936099679,12.341004968049837,21.375247621122252,16.991418422250685,3.1356807262649729,1.1547005383792515,12.548735698281526,1.2709188972172496,null,1.2484297639118831,1.2259406306065168,1.2034514973011503,1.180962363995784,1.1584732306904175,1.135984097385051,1.1134949640796847,1.0910058307743182,1.0685166974689517,1.0460275641635852,1.0235384308582189,1.0010492975528524,0.97856016424748593,0.95607103094211954,0.93358189763675303,0.91109276433138664,0.88860363102602014,0.86611449772065374,0.84362536441528735,0.82113623110992096,0.79864709780455445]
[992,{"$f":"+正規乱数!L1000","v":13.329188459538001},{"$f":"+正規乱数!M1000","v":38.980741656254779},{"$f":"+正規乱数!N1000","v":17.849912678197235},{"$f":"+正規乱数!O1000","v":0.12272623401143394},26.774869017295853,13.387434508647925,23.187716751979099,16.991418422250685,5.0142159445398455,1.1547005383792515,15.391221090387035,1.5242231080006787,null,1.5074165362502512,1.4906099644998234,1.4738033927493959,1.4569968209989681,1.4401902492485406,1.423383677498113,1.4065771057476852,1.3897705339972575,1.3729639622468299,1.3561573904964024,1.3393508187459744,1.3225442469955468,1.3057376752451193,1.2889311034946918,1.2721245317442638,1.2553179599938362,1.2385113882434087,1.2217048164929807,1.2048982447425531,1.1880916729921256,1.1712851012416978]
[993,{"$f":"+正規乱数!L1001","v":11.091061960569677},{"$f":"+正規乱数!M1001","v":35.450329013542678},{"$f":"+正規乱数!N1001","v":16.368288094223956},{"$f":"+正規乱数!O1001","v":0.14848095367667496},24.552432141335935,12.276216070667965,21.263029959090485,16.991418422250685,3.0413270771485772,1.1547005383792515,12.806855217067442,1.2909663859764322,null,1.2714568934136679,1.2519474008509035,1.2324379082881392,1.2129284157253748,1.1934189231626107,1.1739094305998463,1.154399938037082,1.1348904454743176,1.1153809529115535,1.0958714603487891,1.0763619677860248,1.0568524752232606,1.0373429826604961,1.0178334900977319,0.99832399753496759,0.97881450497220324,0.95930501240943888,0.93979551984667453,0.92028602728391029,0.90077653472114605,0.8812670421583817]
[994,{"$f":"+正規乱数!L1002","v":8.5075125461919967},{"$f":"+正規乱数!M1002","v":36.552101958889715},{"$f":"+正規乱数!N1002","v":17.567481302637415},{"$f":"+正規乱数!O1002","v":0.11943650273008863},26.35122195395612,13.175610976978058,22.820827632888214,16.991418422250685,4.3217449196922537,1.1547005383792515,9.8236293173561346,1.0736029062913903,null,1.0583774865802416,1.043152066869093,1.0279266471579442,1.0127012274467957,0.99747580773564692,0.98225038802449827,0.96702496831334972,0.95179954860220106,0.9365741288910524,0.92134870917990375,0.90612328946875509,0.89089786975760632,0.87567245004645766,0.860447030335309,0.84522161062416024,0.82999619091301158,0.81477077120186292,0.79954535149071426,0.7843199317795656,0.76909451206841695,0.75386909235726829]
[995,{"$f":"+正規乱数!L1003","v":11.249518504295613},{"$f":"+正規乱数!M1003","v":31.472121117941516},{"$f":"+正規乱数!N1003","v":18.476041161679184},{"$f":"+正規乱数!O1003","v":0.10618557226167963},27.714061742518776,13.857030871259386,24.001081511071689,16.991418422250685,4.2908368925446849,1.1547005383792515,12.989825073417496,1.2470681581437251,null,1.2364412100292161,1.2258142619147072,1.2151873138001983,1.2045603656856894,1.1939334175711804,1.1833064694566715,1.1726795213421628,1.1620525732276539,1.1514256251131449,1.1407986769986358,1.1301717288841269,1.1195447807696179,1.108917832655109,1.0982908845406003,1.0876639364260914,1.0770369883115822,1.0664100401970735,1.0557830920825646,1.0451561439680557,1.0345291958535467,1.0239022477390376]
[996,{"$f":"+正規乱数!L1004","v":11.921752352060508},{"$f":"+正規乱数!M1004","v":37.980296774837328},{"$f":"+正規乱数!N1004","v":18.758059638441541},{"$f":"+正規乱数!O1004","v":0.12647766486869927},28.137089457662313,14.068544728831155,24.367434258890878,16.991418422250685,5.7586914375080003,1.1547005383792515,13.766053859348377,1.3878297772223478,null,1.3719283903950878,1.3560270035678281,1.3401256167405682,1.324224229913308,1.3083228430860481,1.2924214562587881,1.2765200694315284,1.2606186826042685,1.2447172957770085,1.2288159089497486,1.2129145221224886,1.1970131352952287,1.1811117484679687,1.1652103616407088,1.1493089748134486,1.1334075879861889,1.117506201158929,1.101604814331669,1.0857034275044093,1.0698020406771491,1.0539006538498892]
[997,{"$f":"+正規乱数!L1005","v":11.555516289020499},{"$f":"+正規乱数!M1005","v":35.912764995105405},{"$f":"+正規乱数!N1005","v":17.871003289815491},{"$f":"+正規乱数!O1005","v":0.16786797656247068},26.806504934723236,13.403252467361616,23.215114260143238,16.991418422250685,4.5073179387016094,1.1547005383792515,13.343160880182181,1.3318020280787559,null,1.3112527834371888,1.2907035387956218,1.2701542941540545,1.2496050495124873,1.2290558048709204,1.2085065602293532,1.1879573155877863,1.1674080709462191,1.146858826304652,1.1263095816630848,1.1057603370215179,1.0852110923799507,1.0646618477383836,1.0441126030968164,1.0235633584552495,1.0030141138136823,0.98246486917211517,0.96191562453054813,0.94136637988898086,0.92081713524741382,0.90026789060584678]
[998,{"$f":"+正規乱数!L1006","v":10.984239058067841},{"$f":"+正規乱数!M1006","v":33.787076100640924},{"$f":"+正規乱数!N1006","v":19.112102731720189},{"$f":"+正規乱数!O1006","v":0.18666795444339851},28.668154097580285,14.334077048790141,24.827349728111479,16.991418422250685,5.2431395595673767,1.1547005383792515,12.683506754037337,1.2506313627718222,null,1.2308903603029975,1.2111493578341732,1.1914083553653487,1.171667352896524,1.1519263504276993,1.1321853479588748,1.1124443454900503,1.0927033430212258,1.0729623405524014,1.0532213380835767,1.0334803356147522,1.0137393331459275,0.99399833067710297,0.97425732820827837,0.95451632573945389,0.93477532327062929,{"$f":"+(($H1008-$I1008-AE$10*$G$6*$E1008*$K1008)*TAN($C1008*PI()/180)+$L1008)/$G1008","v":0.91503432080180469},0.89529331833298009,0.87555231586415561,0.85581131339533101,0.83607031092650652]
[999,{"$f":"+正規乱数!L1007","v":12.134928878246457},{"$f":"+正規乱数!M1007","v":32.016183748101362},{"$f":"+正規乱数!N1007","v":20.179658857755271},{"$f":"+正規乱数!O1007","v":8.3013068610647958E-2},30.269488286632907,15.134744143316452,26.214145815779602,16.991418422250685,5.766622549249993,1.1547005383792515,14.012208908905111,1.3068494102617185,null,1.2990797521343191,1.29131009400692,1.2835404358795206,1.2757707777521214,1.2680011196247221,1.2602314614973227,1.2524618033699233,1.2446921452425241,1.2369224871151245,1.2291528289877254,1.221383170860326,1.2136135127329266,1.2058438546055275,1.1980741964781281,1.1903045383507289,1.1825348802233295,1.1747652220959302,1.166995563968531,1.1592259058411316,1.151456247713732,1.1436865895863328]
[1000,{"$f":"+正規乱数!L1008","v":9.8616970613241151},{"$f":"+正規乱数!M1008","v":35.103374135078752},{"$f":"+正規乱数!N1008","v":19.945147983222924},{"$f":"+正規乱数!O1008","v":0.18431734120782001},29.917721974834386,14.958860987417191,25.909507253566524,16.991418422250685,6.2685224360324279,1.1547005383792515,11.387306906044037,1.1802923602891864,null,1.1606709855264219,1.1410496107636572,1.1214282360008929,{"$f":"+(($H1010-$I1010-R$10*$G$6*$E1010*$K1010)*TAN($C1010*PI()/180)+$L1010)/$G1010","v":1.1018068612381287},1.0821854864753639,1.0625641117125995,1.0429427369498352,1.0233213621870707,1.0036999874243062,0.98407861266154173,0.96445723789877724,0.94483586313601287,0.92521448837324827,0.90559311361048378,0.8859717388477194,0.8663503640849548,0.84672898932219054,0.82710761455942594,0.80748623979666156,0.78786486503389708,0.76824349027113259]

{"sheet":"正規乱数","index":3,"n_rows":1008,"n_cols":15,"rows_kept":1008,"cut":false,"hidden":false,"merged":[[6,1,6,4],[6,6,6,9],[6,11,6,14],[1,6,1,9]]}
[null,null,null,null,null,null,null,null,null,null,null,null,null,"最大値","最小値"]
[null,null,null,null,null,null,"乱数を再構築したいときに押すボタン",null,null,null,null,"期待値","標準偏差","-3σ","+3σ"]
[null,null,null,null,null,null,null,null,null,null,"ｃ",{"$f":"+入力・出力!H8","v":10},{"$f":"+入力・出力!H9","v":2},{"$f":"+IF(L3-M3*3<0,0,L3-M3*3)","v":4},{"$f":"+L3+M3*3","v":16}]
[null,null,null,null,null,null,null,null,null,null,"φ",{"$f":"+入力・出力!I8","v":35},{"$f":"+入力・出力!I9","v":3},{"$f":"+IF(L4-M4*3<0,0,L4-M4*3)","v":26},{"$f":"+L4+M4*3","v":44}]
[null,null,null,null,null,null,null,null,null,null,"γ",{"$f":"+入力・出力!G8","v":18},{"$f":"+入力・出力!G9","v":1},15,21]
[null,null,null,null,null,null,null,null,null,null,"α",{"$f":"+入力・出力!J8","v":0.15},{"$f":"+入力・出力!J9","v":3.3000000000000002E-2},5.099999999999999E-2,0.249]
[null,"乱数発生（動的）",null,null,null,null,"乱数を固定化\n（計算結果に再現性を持たせるため）",null,null,null,null,"再現性のある正規分布したパラメータ群"]
[null,"rand1","rand2","rand3","rand4",null,"rand1FIX","rand2FIX","rand3FIX","rand4FIX",null,"正規乱数ｃ","正規乱数φ","正規乱数γ","正規乱数α"]
[1,{"$f":"+RAND()","v":0.10850962031611933},{"$f":"+RAND()","v":0.37592143777549858},0.42643573995778628,0.80886837841120862,null,0.43168268818361877,0.66977943232131654,0.68469851572553331,0.53325881003372078,null,{"$f":"+IF(NORMSINV(G9)*$M$3+$L$3<$N$3,$N$3,NORMSINV(G9)*$M$3+$L$3)","v":9.6558164435629106},{"$f":"+IF(NORMSINV(H9)*$M$4+$L$4<$N$4,N4,NORMSINV(H9)*$M$4+$L$4)","v":36.317912583335463},{"$f":"+IF(NORMSINV(I9)*$M$5+$L$5<$N$5,$N$5,NORMSINV(I9)*$M$5+$L$5)","v":18.480878339044278},{"$f":"+IF(NORMSINV(J9)*$M$6+$L$6<$N$6,N$6,NORMSINV(J9)*$M$6+$L$6)","v":0.15275432118840079}]
[2,{"$f":"+RAND()","v":0.90915094803454943},0.43054498616989045,0.31639520979075098,0.32189299191961585,null,0.19703318062053576,0.34394350510500848,0.76742696723254711,0.41317439944995837,null,{"$f":"+IF(NORMSINV(G10)*$M$3+$L$3<$N$3,$N$3,NORMSINV(G10)*$M$3+$L$3)","v":8.2954675996555967},{"$f":"+IF(NORMSINV(H10)*$M$4+$L$4<$N$4,N5,NORMSINV(H10)*$M$4+$L$4)","v":33.794827390736202},{"$f":"+IF(NORMSINV(I10)*$M$5+$L$5<$N$5,$N$5,NORMSINV(I10)*$M$5+$L$5)","v":18.730399431886443},{"$f":"+IF(NORMSINV(J10)*$M$6+$L$6<$N$6,N$6,NORMSINV(J10)*$M$6+$L$6)","v":0.14276023760150322}]
[3,0.81370635397773206,0.72946103284161357,4.7784507887856931E-3,0.12765733522164202,null,1.5861326123404185E-2,0.64492386340968533,0.69748837999631541,0.88778088950745149,null,5.7042239583996164,36.114954768163855,18.517190418374089,0.19008875984008825]
[4,0.63815096899347312,0.29585065438342417,0.13288960434241548,0.67125516536353114,null,0.1087722260249715,4.0937075179541704E-2,0.50296365471968962,0.99361527514888903,null,7.5338321383579814,29.780258518409696,18.007428849046356,0.23217446274915271]
[5,0.98590172138855448,0.34346648100850541,0.79145266146582738,0.92831364964508467,null,7.6714912780376787E-3,0.61491831886365511,0.32839971004643365,0.34351195365041221,null,5.1516392424865796,35.87648365357753,17.555663644239893,0.13670439491408595]
[6,0.22361477869133839,0.84163091987804473,0.63763620979166991,0.23670934246799602,null,0.78623358485320971,0.47696891577152933,0.52449468979231439,0.83958824595496684,null,11.586841139366129,34.826712585106691,18.061437710522725,0.18276131148565261]
[7,0.77670802168420139,0.91543865565068772,0.81974501339013262,1.6790708370279073E-2,null,0.10112555230278009,0.56643573359832966,0.36514079333419869,2.4297846024134206E-2,null,7.4496714579993411,35.5019208618397,17.655249017605804,8.4919977171923525E-2]
[8,0.28309299942672328,0.34211485558814902,0.90718624982291007,5.6996990183924678E-2,null,0.85465495052964002,0.83912090903153302,0.48143614585236383,0.63590020016298365,null,12.113217879011623,37.972553982411114,17.95345051277371,0.16146820815925655]
[9,0.11365208302212482,0.11021420469860699,0.66843567230952394,0.21798686882391316,null,0.74956550227690122,4.7360573971531039E-3,0.83663556365910829,0.94119351686033925,null,11.346246148317309,27.21641872159206,18.980723985031823,0.20164077021826748]
[10,0.20011545509091877,0.54268239664022633,0.39136663106905267,0.10068655598294363,null,0.32526565340975555,6.0122469573537285E-2,0.10622787668199041,0.88660660296285387,null,9.093951575251678,30.338761035523792,16.753158862706378,0.1898863553555464]
[11,0.16479553445937056,0.79963240385052292,5.4473188884556989E-2,0.61042176623117583,null,0.54939809066095546,0.24093206469184802,4.6218278811886337E-2,0.77128006889984524,null,10.248281538334057,32.890077459785246,16.317317429635658,0.17452127943176882]
[12,0.17818369256370337,0.99458315215171011,0.34599287729732731,0.18895147587657712,null,0.518452143669904,0.4512607826336924,0.94046396881809846,0.3949199512682513,null,10.092538337734721,34.632570155723648,19.558680318338936,0.14120488902793063]
[13,0.58182541320187076,5.355863406735073E-2,0.87524027728716736,8.5568578629524827E-2,null,0.11116416337127077,4.5922616977389974E-2,0.78699091028112556,0.60174595739680159,null,7.5592794349890475,29.942769803910373,18.796023839044828,0.15850967379857264]
[14,0.23857017068273134,0.9244722341621594,0.95804862401326818,0.4813754038519461,null,8.5358891546881921E-2,0.74330229275023585,0.40121143427749284,9.5644115756120085E-2,null,7.2601978435263224,36.96067956848551,17.749787305383737,0.10687633693174414]
[15,0.48704314739572829,0.37979590433704158,1.129476762769821E-2,0.3499826903515737,null,0.85066751077995495,5.3052439911331906E-3,0.2885170559936624,0.54713425260136361,null,12.078601102996412,27.334184311595529,17.442277823593169,0.1539080009770212]
[16,0.85262266293360944,0.3017343871003263,1.0572162332282975E-2,0.79057769956213753,null,4.0395760259273494E-2,0.44924342460603184,0.98307962986781861,0.70338773875229976,null,6.5077763280618948,34.617280809805052,20.121964250088155,0.16762758140002984]
[17,0.61000664834030993,0.78099424286312247,0.88207095736265329,0.16439906571521445,null,0.82501943675419809,0.23300062154147938,0.3127448410346898,0.11522104377179787,null,11.869329391328932,32.81299794311542,17.511915065941871,0.11042571241644911]
[18,0.50496565633154133,0.35873922397666513,0.5390633943813431,0.49256302547287723,null,0.25775341026412668,0.7979362007790799,0.16529423808928523,3.6888930415356014E-2,null,8.6994259001511924,37.502816681283221,17.027070769694536,9.0996379012125525E-2]
[19,0.8856809241242124,0.78177040254048435,0.50563641117338198,0.76854175428757232,null,0.36691370551639735,0.8390920518134678,0.90987174498325352,0.28597870934368996,null,9.3199226714133641,37.972199469200852,19.339965658257508,0.13134935500894529]
[20,0.77102466346187781,0.68662419684554576,0.30193975979843224,0.88636352058453138,null,0.91425978043807976,0.65669015415019372,0.4076590668129344,0.2385488298713011,null,12.734924645937127,36.210339879312997,17.766429115842481,0.12653771486324994]
[21,0.86845925291286952,0.90734868875056096,0.82215307202506238,0.26949768791890727,null,0.19556771542912799,0.33630074417181777,0.99798347261615639,0.76352102534625199,null,8.2848798568618545,33.732259042758699,20.875564702983613,0.17368326173874574]
[22,0.27293524992117779,0.38158229132723065,0.16368958593445915,0.11842086438824317,null,0.20400282198584729,0.79166673895114537,0.1419424747237964,0.66942852424575805,null,8.3451832807570092,37.436654160475435,16.92836709871413,0.16446507804930074]
[23,0.36044580151827443,0.70892943324254354,0.93988542354018556,0.5604958124442857,null,0.96391069705113142,0.14995020705899065,5.5262288668050275E-2,0.50427568418111912,null,13.595979830670718,31.890059086352167,16.404160255951801,0.15035368594965712]
[24,0.30880286682425584,0.44622568926821149,0.89303088923672902,0.32031990169294966,null,0.78609176216263021,0.84271967505567302,0.91203872646270134,0.57489400908000243,null,11.585867317591287,38.017095344608983,19.353416694377245,0.15623198266318494]
[25,0.87196977373198647,0.73691742675502148,0.32085402959150755,0.77770774500474427,null,0.86729249301785127,0.79498691592892612,0.73737870771459646,0.73028891549143959,null,12.227366889775919,37.471542742714945,18.635284954328064,0.17025167157428528]
[26,0.28171046628495444,0.26710729068699191,0.87157266743653772,0.65994042635154226,null,0.32597350309446227,3.5606623886555999E-3,0.56997993264935487,5.9745189253740394E-2,null,9.0978819435554907,26.926649460611625,18.176323075122333,9.8621764820220392E-2]
[27,0.17193225635632803,0.54073528854769082,0.16012542947537445,0.60763553451079833,null,0.91840530912783858,0.68838972941702048,0.40765790140873204,0.72026996955476463,null,12.788849478602646,36.473873438094969,17.766426113825037,0.16926024169809969]
[28,0.51173193337067269,0.5347076846853055,0.59736512628229976,5.2054435021596568E-2,null,0.37750722102702694,0.6295436247734385,0.3380657737021795,0.9323406693416143,null,9.3759313628668224,35.991934605622944,17.582252237625788,0.199283947366304]
[29,0.88547566102988151,0.53963676078340761,0.97310535263301579,0.80742661881797095,null,0.93651910447768305,0.42427268901731041,0.71618401220213679,0.89721986759001837,null,13.052386122198692,34.42707575917936,18.571542476673066,0.19177365136207408]
[30,0.96348721232555001,0.55045778523950262,0.7412265341858657,0.74395822281629453,null,0.78122972526767209,2.1611562442798715E-2,0.22046212052252478,0.30480072632534005,null,11.552706128693156,28.935357628588939,17.229366571261487,0.13314879948603645]
[31,0.81172773409974319,0.20620461351486585,0.858476723505741,0.21646640720954335,null,0.48341694794203705,0.25850530392288207,8.8127383754235122E-3,0.56231147505520862,null,9.9168409501936132,33.056119006874631,15.6266065330973,0.15517546448600966]
[32,0.9375990239234081,0.6270365536273701,8.9451807922087845E-2,0.7936581756583887,null,0.50043299541367126,0.3015633882438058,0.17312104509566106,0.73224485874383716,null,10.002170717519574,33.440272028385579,17.058096582310149,0.17044734542889239]
[33,0.95915239732830526,0.72709249476321713,0.74167091330004054,0.42747929012736763,null,0.42077649796099159,0.15494247851213849,0.91050049987440962,0.21070586914855183,null,9.6001851821576363,31.953609626295762,19.343843497884535,0.12346884356769472]
[34,0.86168246716583108,0.70714133034305193,0.83009669254211094,0.95640821779860263,null,0.88652082974204427,0.60101996711032946,0.98920773914307503,0.49969302413048544,null,12.416462417364448,35.767964145725834,20.297600771451819,0.1499746073424871]
[35,0.31896371933389711,0.52571491114571967,0.78068674950571348,5.9966334504970908E-2,null,0.97729428857561629,0.75667447883325523,0.629768660347795,0.23527591344940624,null,14.001646835327149,37.086935646650417,18.331240700457268,0.12618781105249555]
[36,0.95852164266356032,0.22715133649818986,4.3359878858991729E-3,0.55111083928748028,null,0.38238801935291711,0.97993752328878259,0.68726793662838692,0.85569493292399712,null,9.4015700885064639,41.157380778190856,18.488121014803884,0.18501879275146602]
[37,0.35454865623593756,0.19461501347715293,0.10015991145012637,0.29429248698474098,null,0.51143517446904396,0.63940142677670886,0.61884122017883536,0.78770615541714517,null,10.057335315688624,36.070577874358804,18.302438827508592,0.17635008493999257]
[38,0.87660224104952855,0.81323370176890053,9.4351311180703945E-2,0.53936559112237281,null,0.83198729781815928,0.97962784502431344,0.68488500364750315,0.63827784818784794,null,11.924096353011068,41.138367800692002,18.481403157932039,0.16167735805807301]
[39,0.43584193050440745,0.11233252745037681,0.92264057541331446,0.89774969152512518,null,0.6961639521425943,0.96549015229566082,0.87355139899056733,0.93705559271348182,null,11.026798426794707,40.454872454750678,19.143340605787962,0.20050706023093412]
[40,0.17592250343184967,0.80031039589356401,0.53520360283794965,0.54422405912283534,null,0.92148125541566339,0.89820644463915,0.44246101653154912,0.38398388300277564,null,12.830211523162038,38.814193857116237,17.855267443049115,0.1402638719152125]
[41,8.0176716649222213E-2,5.7636770147082461E-2,0.94953126839568458,0.50888785537394721,null,6.3035894750016697E-2,0.63505779679893104,1.8510277834506095E-2,0.14557166083047923,null,6.9404448122511715,36.035837902705012,15.914462696112224,0.11516464555017206]
[42,0.9498426573815949,0.97102881917071382,0.49993571616763666,0.15760658684276563,null,0.40437071278176051,4.2375764895049794E-2,0.650684918268296,0.52433184414411926,null,9.5159000131184168,29.828725836751119,18.387170262904114,0.15201394878410254]
[43,0.17972742443133738,0.82065024394629515,0.11948766207857564,0.82400926866538826,null,0.70549613907238928,0.25084080989191104,0.66337598584771873,0.77245195963933455,null,11.080549056633673,32.984461429905082,18.421694487909274,0.17464922219437867]
[44,0.80202923467929521,0.21574393639589773,0.13719693939739863,0.74151948481206131,null,0.57219543695411679,0.29892915283238686,0.37584516271888946,0.11025420192175317,null,10.36393271961685,33.417551375444546,17.68358867940449,0.10956914721712582]
[45,0.7377771018208602,0.83087852866069989,0.95665111949665271,0.87952537991325319,null,0.34571925282865901,0.25025867900801557,0.55989218342713165,0.51113077286060948,null,9.2061926814104993,32.978972163321359,18.150695867650072,0.15092084291773075]
[46,0.91369102116925505,0.48585052179734134,0.26089401637121179,0.6337553702380434,null,0.23178240519758719,5.3289813489095783E-2,0.64136169930119946,0.55307286377421006,null,8.5340209241518146,30.1587218397835,18.362100939771604,0.1544031502948835]
[47,0.66219617569709732,7.040039852825497E-2,0.13844874550497765,0.10732664077420662,null,0.9898218128081806,0.44884121907895291,0.94033082875152429,0.90305399876779391,null,14.639427246306898,34.61423135990124,19.557556815185563,0.19287199369298555]
[48,0.9031403808630617,0.22246478628629929,0.944062534370675,0.83513886403054793,null,0.47765751806993406,0.15942892332189973,0.49401423514074838,0.71654889359078244,null,9.8879327896305398,32.009576817363666,17.984995349554183,0.168896450358654]
[49,0.1626390797431313,0.43685960542005342,0.98353655210005242,0.60304117075223185,null,0.84787518594190037,0.78108607375143246,0.64720609526329842,0.43562598961989896,null,12.054725741010241,37.327599306005112,18.377788376061545,0.14465174233553149]
[50,0.87751999576763862,6.2507788350596893E-2,0.47743973100041548,0.44073799161067595,null,2.0398428741763786E-2,0.23818595336288684,0.65479553075147301,3.9569498667003322E-2,null,5.9088226673778932,32.863550056456354,18.398300165489903,9.2061774541865593E-2]
[51,0.1652753537100744,0.47237107946159063,0.11077856792551188,0.13851042250026324,null,0.29841431425710174,0.26402539940686953,6.4776100591059982E-2,0.86660378597198029,null,8.9420668252480162,33.107047140490472,16.484129896161132,0.18664582572493343]
[52,0.20085527858924845,0.23206287125276504,0.6110751609984878,0.70692304699960951,null,0.15688108909774867,0.42864768798778408,0.57938108360820395,0.99049664777573854,null,7.985281549017003,34.460545709502412,18.200310395617564,0.22739818184533081]
[53,0.78972681347936591,2.0623370322376711E-2,0.43060475368389595,0.34073189893110245,null,0.70871410063624518,0.85240053959283657,8.8293554463418578E-2,0.96820883362980326,null,11.099264020599959,38.140353889774723,16.648661763645489,0.211218211029917]
[54,0.96653706990875943,8.9909264911410491E-2,0.59623478926343931,0.7177111560747641,null,0.36147476674087675,0.27675461830276116,0.10326748848363332,0.60991455872605882,null,9.2909608414349236,33.222470493863199,16.736849162554954,0.15921017961942144]
[55,0.41037525693203047,0.60312180588042341,0.2880198278583137,0.38495565231555762,null,0.66143070296051476,0.17208579206701913,0.17069704731317192,0.21776835711136655,null,10.83274186784541,32.162135266042263,17.04858568159786,0.12426817557171144]
[56,0.39824798305403719,0.40394916506291789,0.68974833646972389,0.61708687539157669,null,0.32486361546742148,0.67782330718164074,8.2902928593208469E-2,0.81758352173761373,null,9.0917176827719715,36.384861940687607,16.614193042023842,0.17990441582542033]
[57,0.7287702498386861,0.60022910633615778,0.16498669540438626,5.5430011255293565E-2,null,0.77761941849622263,0.51003837024392529,0.38565863660234601,0.30458043262790269,null,11.528356040402864,35.075495355620326,17.709347722067474,0.13312803610269933]
[58,0.77134887505131422,1.4461666057759781E-2,0.70889512154699441,0.56158336016617072,null,0.39754078949704963,0.14998520980038366,4.4808806174046922E-2,0.17776272433182061,null,9.480564705204527,31.890509523187017,16.302581737868774,0.11951048025052563]
[59,0.43534733840791373,0.60661759953041228,0.99660887369495443,0.53302358751060441,null,0.97028625092332699,0.68402360525379269,0.17753471058579551,0.85912088497977945,null,13.77003465958761,36.436940284018405,17.075198982333088,0.18552047453925075]
[60,0.18804909773238154,0.9136970255559046,0.44476958815352752,0.53568634844821272,null,0.42534940859050596,0.69987798252930822,0.847219230280574,0.67873440632483417,null,9.6235462790355246,36.572148830282835,19.024579716046485,0.16531736888793533]
[61,0.91665978374030332,0.82574619148294315,0.4551539560456257,0.21334809724183768,null,0.81535015090273966,0.30430373340498629,0.31087502211436469,0.2304378188080497,null,11.795571818718845,33.463813350050295,17.506628398226553,0.12566561013163605]
[62,0.26825313428779074,0.64381811335983063,0.36954246933067891,0.65403360979023539,null,0.76735329814735143,6.687068693790521E-2,0.47253604564172669,9.9379656956782636E-2,null,11.460316681315948,30.501469970399121,17.931103609029684,0.10759188627937302]
[63,0.53224559567566199,0.65084800925584996,0.31427910472484577,5.7201853000871661E-2,null,0.63036704372210517,0.86548983998465334,0.93163254406836771,0.93832005618705561,null,10.66565125380971,38.315964395791035,19.488060603768698,0.20084715662368507]
[64,0.53018765633870235,0.94907524845882041,0.20971776252873686,0.46195649046147036,null,0.62904258954516445,0.1404394577631124,0.99691209109917389,0.62154717184390396,null,10.658637374186268,31.764958904341061,20.738297514352801,0.160215042725633]
[65,0.71209023402428628,2.5271271429335496E-2,0.14163418561277752,0.98423779446737725,null,0.33779947790903875,5.8486625094253952E-3,0.74528798195202184,0.8321489148316531,null,9.163047522685547,27.436561488635377,18.659734791121029,0.18176883220541024]
[66,{"$f":"+RAND()","v":0.39247505464195909},3.1613369777854894E-2,0.33001475106054623,3.4763369250312981E-2,null,0.36508800590916191,0.23561569448575348,0.3453027703647128,0.91967082158426416,null,{"$f":"+IF(NORMSINV(G74)*$M$3+$L$3<$N$3,$N$3,NORMSINV(G74)*$M$3+$L$3)","v":9.3102171883504727},{"$f":"+IF(NORMSINV(H74)*$M$4+$L$4<$N$4,N69,NORMSINV(H74)*$M$4+$L$4)","v":32.838569161225742},{"$f":"+IF(NORMSINV(I74)*$M$5+$L$5<$N$5,$N$5,NORMSINV(I74)*$M$5+$L$5)","v":17.601966565952335},{"$f":"+IF(NORMSINV(J74)*$M$6+$L$6<$N$6,N$6,NORMSINV(J74)*$M$6+$L$6)","v":0.19629440589105535}]
[67,0.62570377255674736,0.77160082165546728,0.657036759029479,0.71537686892760655,null,0.9985409339401965,0.71334090545592965,0.43962273797197593,0.31146896871353003,null,15.952465681789114,36.689514141653063,17.848074221434963,0.13377420334077783]
[68,0.75838359038940428,7.187705586956239E-2,0.99251305968475656,0.15818984186048846,null,0.37062498718415804,0.65562924636988285,0.49290993431495278,0.98734188570451187,null,9.3396029846599102,36.20169056463223,17.982226905226423,0.22380591663609956]
[69,0.64329619757645295,0.63898624066128362,0.35919460344820109,0.76869679796059787,null,0.18718174581821401,0.57031495055005144,0.82728140998544641,0.72503620896387033,null,8.2233408358251996,35.531528182338498,18.943476597584919,0.16972966532575753]
[70,0.89669744726752476,0.52144037152272793,0.39490387049110331,0.25670974113323164,null,0.79568370064010929,6.810094898869834E-2,0.48173968981346071,0.63160102508447558,null,11.652604707203084,30.529745117097306,17.954212196015721,0.16109119096945543]
[71,0.51164599537260425,0.35359092524349056,0.32625338104946966,0.55274663040990135,null,0.16491528191075677,0.46264422045788944,0.58048212712565594,0.56421197628127784,null,8.0510895632717183,34.718677075763964,18.203127029327845,0.15533467767451925]
[72,0.43996736728333963,0.55172926326802951,4.4218863215963022E-2,0.47310047932887578,null,9.3100168505824143E-2,0.46150833598206198,3.5532112732775234E-2,0.12473809518069656,null,7.3561933015052681,34.710096554033719,16.194933173853634,0.11199645420293011]
[73,0.8725255958717727,0.21714901319655566,0.8797521561835292,0.97687314496460254,null,0.47405082462492754,0.38432164792454737,0.74302698618138818,0.10985036098488676,null,9.8698182588629013,34.117550040698724,18.652705699146317,0.10949829775655912]
[74,0.6533045613950148,0.69196667482013408,0.6492352339637022,0.74994140632374628,null,0.7055176562644786,0.37669059182467424,0.61910963458763779,0.31512321566844737,null,11.080673880428916,34.057447564017131,18.303143203180845,0.13411445920341483]
[75,0.62345841359265486,0.90869213342632416,0.14363904939680894,0.34690583601449243,null,5.2355456077030404E-2,0.97405602710996519,3.6673679664051217E-2,0.93269312294314366,null,6.7551362813504277,40.832186726348816,16.20933680523763,0.19937305343964523]
[76,0.49913807692007539,0.60398906135559594,0.6970233123202928,0.39280400210700572,null,0.54343744686968798,0.84208230116398208,0.74690606384764147,0.52465354922482965,null,10.218195129875435,38.009158330352378,18.66478522786068,0.15204061008366013]
[77,0.29684746832771269,0.67292965805211413,0.80914425245765509,0.41782883546951377,null,0.38671248466395935,0.64861467122347105,0.98897668080801993,9.1146540562609402E-2,null,9.4242043956284824,36.144749154731322,20.289563405622779,0.10598698266678766]
[78,0.77587265758695967,0.6309599404922015,0.98769930489294722,0.15247145164239706,null,3.0995242279046709E-2,1.0641832092680992E-2,0.73341007182811158,0.71538029605282316,null,6.2672724051935838,28.091257034375509,18.623159281804341,0.16878267660992016]
[79,0.35353455181353677,6.7597810199347963E-2,0.44619391887553472,0.73347506972217524,null,0.42035489880282106,0.29400177011892015,0.61597638573397184,2.5631090383697708E-2,null,9.5980287072809976,33.374805734574451,18.294930164288459,8.5673811172151323E-2]
[80,0.37183131031638317,0.63551801530900731,0.69594545919653661,0.89638143188960717,null,0.43689579328289707,0.37542279436588588,0.52323882069041316,0.87085093597632179,null,9.6823115041893679,34.047426248855892,18.058284067015098,0.18730395109047138]
[81,0.63643351771587109,5.4779972794440135E-2,0.28212600274141164,0.85195949535819093,null,0.85309839120464426,0.10167739006442189,0.50491785692030178,0.10089060003745121,null,12.099629825223886,31.183845148580893,18.012327551433202,0.10787572169169996]
[82,0.68707873919076423,3.70630829316132E-3,0.41102212192435095,0.65285109444324618,null,0.91744737342869587,0.46870311724427016,0.42055919034693678,0.20624185012090257,null,12.776208825038236,34.764409121737472,17.799536857200298,0.12295548727439196]
[83,0.54312486211982103,0.38646146577133722,0.27305998075655014,0.67982942213759656,null,0.60988280398859684,5.1148313991361549E-2,0.37980983001894619,0.54411473885071115,null,10.558027188933673,30.098539663260045,17.69401971947612,0.15365658406113786]
[84,0.85385335622479674,0.52529959545456995,0.24687206911690118,4.2790588531742224E-2,null,0.66815139197744289,0.63886762677066411,8.363326295866147E-2,0.16603451628839772,null,10.869628622773492,36.066300937703019,16.618959556980464,0.11799149224719016]
[85,0.54379677436976481,0.61478325744612872,0.75554704286675856,0.29722537164688478,null,0.73360206206909362,0.31233981937279198,0.43114923566125529,0.2173363136849974,null,11.247487531116432,33.53231324673046,17.826550947870452,0.12421971276761731]
[86,0.26178700439617431,0.78539185789870392,0.4261610728941192,2.2952590135152384E-2,null,8.007762136931218E-3,0.6125907920511442,0.39301396457803361,0.76727315179821864,null,5.1828768446508411,35.858233863954446,17.728527866073669,0.17408657129905425]
[87,0.39584732289875779,0.1753430478219723,0.80015913345369982,0.86410128139045583,null,0.41870818156811962,0.1911225507610681,0.72315385592575609,0.34144917746064463,null,9.5896012638329395,32.378698704399532,18.59223641455635,0.13651912794131979]
[88,0.72596331219148358,0.80486551096392778,0.7188724567535919,0.52567701428211855,null,0.14273435801547907,0.65297405304730538,0.19577965700596289,1.791517952379118E-2,null,7.8637703353403516,36.180086966320296,17.143207034426961,8.0738037354381675E-2]
[89,9.770451453231932E-2,0.15209059327517938,0.6043989681601698,0.6756422357326729,null,0.490121861425037,0.59116994627010389,0.47062887480680049,0.67808555572563789,null,9.9504732957360655,35.691666633575409,17.92631087168018,0.16525761722004689]
[90,0.34916656932625367,0.70848408592552836,0.81442587219300488,2.9114821203974794E-2,null,8.0169937373279598E-2,0.18656200384118071,0.39956093017145322,0.74823991480254104,null,7.1921412057058749,32.328089362563844,17.74551625487835,0.17207572262397955]
[91,0.51064451691721813,8.8579600001941983E-2,0.78908082671802271,6.4264974882801029E-2,null,0.80864062468151054,0.30330423819662844,0.57501286932981743,0.34182159117521371,null,11.745795728039518,33.455238076639148,18.189151267067228,0.13655260732578225]
[92,9.7215185910272672E-2,0.33637680513375234,0.57343003373351087,0.26027383408173055,null,0.59085688625756816,0.82871916839390003,0.63705042734762296,0.38114846776859124,null,10.459499516426231,37.847347731115434,18.350585754479098,0.14001862577116153]
[93,0.90425995851023366,0.87338851292910047,2.2118563068286301E-3,2.780170178070529E-2,null,0.81140325979508421,0.88123857038107523,0.93017190362990076,0.18245221649876886,null,11.766158403912909,38.543603187980544,19.477072542716233,0.12010004103666296]
[94,0.44827125348004204,0.20943300423074296,0.89918948606291682,0.39297609190065197,null,0.24341691477126659,0.30059493193616826,0.36092240769704131,0.7313118897444767,null,8.6092931134960402,33.43192942048789,17.644005675323051,0.1703539213383351]
[95,0.98927659586648597,0.71909187591688273,0.51192210175750941,0.53724183354221267,null,0.77583159038786231,0.32073379486019382,0.11248597807757288,0.55508990812956838,null,11.516381428924237,33.603056463690187,16.786586993831619,0.15457154753722649]
[96,0.64978651694360301,0.2683066079919445,0.43282421637062318,0.58051393729180756,null,0.61941075746240437,0.52301880919066157,0.50365326026276547,0.2884935202478911,null,10.607867183587334,35.173194953985465,18.009157493458378,0.13159289368502558]
[97,0.85764695965272597,1.7051532333865471E-2,0.23328290605634416,0.3592752342967338,null,0.67733100872077834,0.69941346991654252,0.38935107028968152,0.63126409831572716,null,10.920496664660615,36.568143008883048,17.718989231691413,0.16106170581513138]
[98,0.73974302194508201,0.6767830340032629,0.65689942884100094,0.13582024216757893,null,0.63453826245747746,0.70168233739583863,0.23666086287846821,0.33262495162856542,null,10.687794725983112,36.58773577220812,17.282915121788459,0.1357216799828935]
[99,0.77678393641519627,0.6137132565346638,0.92548126233677008,0.80607965660580527,null,7.5860319278533206E-2,0.41013023524299297,0.27713202216183119,0.18267539976198188,null,7.1330394962632591,34.318370070720647,17.408617322521554,0.12012786156037164]
[100,0.41389829952147406,0.25200752542150118,0.94888761757369433,0.13957935079644312,null,0.30505264741681648,6.1780493688269322E-2,0.63068184109448522,0.45989139859442574,null,8.9801536775105166,30.380007802319369,18.333659760082401,0.14667665830650831]
[101,0.78161227870849359,2.7133371943380502E-2,0.2224765598995232,0.38043946269175444,null,0.41919875580651123,0.29310103888423922,0.47015125765900179,0.19961078356736106,null,9.5921126424994103,33.366956243470149,17.925110354753862,0.12218059424010486]
[102,0.27551920187241874,0.61387418766799884,0.80518064052807925,0.2509004095704036,null,0.66924267366166468,0.82089633150280528,4.1718584949595239E-2,7.6345039188660313E-2,null,10.87564584572705,37.756359030051129,16.268918166063884,0.10280690217960142]
[103,0.37976702691133712,0.26936513536145656,0.40297932072287546,0.30375800827658317,null,0.21804257210798439,0.86327807681763302,0.79100927541861732,0.16375382685498552,null,8.4423579278704146,38.285498491885086,18.809928189481056,0.11768816917790439]
[104,8.2410135953414509E-2,9.2593533000287942E-2,0.69561965615803978,0.68818716170033822,null,0.95729798951091793,0.68458702485722966,0.79745686425465967,0.24281948050387037,null,13.440312744763865,36.441693925898385,18.832571795118511,0.12699036014507473]
[105,0.15369993771876922,0.41026378327163338,0.52504489339767402,0.51604984054385461,null,0.13339527348361457,0.84891410517673138,0.5813064969395435,0.74131182890215741,null,7.779032129839222,38.095361774220905,18.205236944631789,0.17136403443453457]
[106,0.93716204263629654,0.57338028724097934,0.36206353732478869,0.41776364048511738,null,0.63270933264065665,0.8316681206571811,0.8585509381404437,0.98368456824522887,null,10.678075386947558,37.882334261755219,19.073831690363349,0.22050766870405786]
[107,0.86945617595490465,0.42997078136032041,0.7026054873352664,0.99066118368363787,null,0.88491626684315183,4.7333386717742454E-2,6.4796876151468119E-2,0.48103718551646557,null,12.399855166488377,29.986165903180947,16.48429416797034,0.14843082887856182]
[108,0.72694575725344479,0.27712656796756452,0.52390798937409999,0.53581195780610824,null,0.60150728121963049,0.57238120734810038,0.41566490187293559,0.60313204075120563,null,10.514500907928113,35.547319433237774,17.787003642440322,0.15862826019335957]
[109,0.60376940871469453,8.3049065739350336E-2,0.84227203439799525,0.80925867282954989,null,0.40667229199901633,0.14870910075712396,0.14010946933673563,0.17073861810592117,null,9.5277729624223024,31.874042205321043,16.920172356043985,0.11860873401097484]
[110,0.80393988327532517,0.59842241250407346,4.6894863365233852E-2,0.54967802933654053,null,0.29427227950183832,0.14652695751375955,0.55463365392489139,0.19353622050484531,null,8.9181072906465317,31.845662762981519,18.13737714911715,0.12145702325727879]
[111,0.81510702722166994,0.86441529290524499,0.25110342320318002,0.19592140083045884,null,0.93508917282958526,0.33060648484391175,0.9704974749683577,0.13656155300660633,null,13.029611101779201,33.685282709085428,19.888155707288199,0.11383534274555837]
[112,0.77130469207803665,0.67259905230394013,0.60251025956917603,0.16648161016323471,null,0.74384621407063078,4.8024088323683656E-2,0.92831964136807477,0.23685819740104785,null,11.310497623839233,30.00703517796682,19.463389912785626,0.1263573031186046]
[113,0.40461091005701399,0.74727183302912581,6.4121199993859568E-3,4.297096625151009E-2,null,0.31784789665185609,5.1336258102598897E-2,0.21316255486054192,6.2489323848703981E-2,null,9.0525493549132747,30.103900738712596,17.204504125358486,9.9371157138404595E-2]
[114,0.21090721962607972,0.68831429040938119,0.17844994356187494,0.82901431385134083,null,0.26469076066007868,0.3308115668761481,0.83052030994433901,0.97265893427608574,null,8.7420991773154935,33.686980127341684,18.95622340012126,0.21340598181665948]
[115,0.99673070142952491,0.9330353287451405,0.88297102549222817,0.75223686025063197,null,0.95697534731453793,0.65686409879963326,0.10000471768297359,0.22233145595190629,null,13.433232565984504,36.211758964928819,16.71847531563234,0.1247766834938093]
[116,0.89021616997198827,0.4258134999711457,0.60385250331308116,0.69985422991227419,null,0.34341969398388927,0.26441280840765691,0.95713187642283815,0.78514065942071964,null,9.1937041005143669,33.110600784673352,19.718331059763308,0.17605921364958876]
[117,0.51664888922023267,0.1403559349690241,0.10566409055344195,0.53969801298894815,null,0.91075681810185449,0.70439295647932199,0.1700388386397268,0.26182178914493925,null,12.69086030255235,36.611232477949351,17.045988215548746,0.12895461221748977]
[118,0.76648930078657629,8.7670137187035535E-2,0.58200597521115205,0.73519250188874341,null,0.65723433300538125,0.21593349569246179,0.87327357479184009,0.12802777502231599,null,10.80985355676086,32.641997461369996,19.142002812998118,0.11251980397435049]
[119,9.9005719912130807E-3,0.48408924215196092,0.51499581034970676,0.34389240601779303,null,0.84353387296967686,0.72048958087009007,0.99649027261959433,0.24266755250074679,null,12.018176744136781,36.752889536935214,20.695919882877039,0.12697433187655993]
[120,0.37250420548446117,0.27353854124430177,0.40211014505760845,0.52134169861287383,null,0.8634369577295733,0.89112807717752995,0.14933357917026802,0.6293820485949988,null,12.191783798596949,38.697648839246291,16.960704137134204,0.16089716535402471]
[121,0.58765309669801813,0.16013110706689793,0.47923325718972931,0.41741829806768871,null,0.55565615940620139,0.52615614089214402,8.8542084046620673E-2,0.25488715592718791,null,10.27992990606389,35.196832295514362,16.650212539041416,0.12824675797183663]
[122,0.9143531406332267,0.27495778934965631,0.11643767439696762,0.18314645744524749,null,0.93829987422439454,0.95471406369121115,0.94031844563893252,0.15040212569696343,null,13.081314293950783,40.077166302388896,19.557452420109918,0.11585456200832039]
[123,0.24010614769991645,0.17379251342740509,9.9072239295505349E-2,0.31437666036677514,null,0.58366737675496483,0.8317659182785383,0.9856061770753235,0.19960261885741792,null,10.422569078533975,37.883501254287424,20.186382322120611,0.1221796306996554]
[124,0.27519572698912176,0.32089152896836115,0.89222785665657034,0.99791425631903863,null,0.84316728945642139,0.478333940553751,0.73122235336609009,0.58910940447724458,null,12.015121327499214,34.83699355535304,18.616514063001276,0.15743340285914498]
[125,3.1914551298174443E-2,0.5954310224360011,0.93237915033117669,0.2396192144040753,null,0.49476103371495483,0.41157402093838125,0.49428690158056932,0.97431061081800485,null,9.9737349630216361,34.329506394532643,17.985678896452413,0.21429398245520515]
[126,9.6329137282920918E-2,0.99175015642304853,0.27269470450161248,0.11358303325655561,null,0.9320316290498416,0.79614100883081695,0.76226623555001682,0.90772548463746416,null,12.982188575100171,37.483748480388059,18.71361136347722,0.19378697521891519]
[127,0.82250803476229428,0.55047937090198396,0.83675397765519755,1.7756887090659923E-2,null,6.2973146731369556E-2,0.30661781838483315,0.25864020289082179,0.33575203668227904,null,6.9394307594084879,33.483619361635192,17.352456739696848,0.13600520626228657]
[128,0.72469847616734895,0.763483403617913,0.87708552615924429,0.62183443387555137,null,0.39970058056580327,0.89660858239866092,0.72010167549124537,0.96701464738182519,null,9.4917556208270941,38.787383968497032,18.583143579141986,0.21067454794744928]
[129,0.89207755082160534,0.14974712231337783,0.16782479015718066,{"$f":"+RAND()","v":4.4766724355386422E-2},null,0.80043636356629722,0.96344378055931368,0.84164164740374781,9.3810296400263615E-2,null,11.686361821401018,40.376384482337905,19.001227767162995,0.10651752568785752]
[130,{"$f":"+RAND()","v":0.5899847689140485},0.48998396146459156,0.92268117040823994,0.10985169449862031,null,0.8608755966319801,0.8971508016547618,0.23401662766008835,4.2861792189303416E-2,null,{"$f":"+IF(NORMSINV(G138)*$M$3+$L$3<$N$3,$N$3,NORMSINV(G138)*$M$3+$L$3)","v":12.168523287210647},{"$f":"+IF(NORMSINV(H138)*$M$4+$L$4<$N$4,N133,NORMSINV(H138)*$M$4+$L$4)","v":38.796447676429324},{"$f":"+IF(NORMSINV(I138)*$M$5+$L$5<$N$5,$N$5,NORMSINV(I138)*$M$5+$L$5)","v":17.274317211283719},{"$f":"+IF(NORMSINV(J138)*$M$6+$L$6<$N$6,N$6,NORMSINV(J138)*$M$6+$L$6)","v":9.3292782624431358E-2}]
[131,0.97082514823961552,0.71098948468288925,0.71066908135001117,0.1353578501439332,null,0.25969794245601241,0.83934342260997574,0.38048500514237193,0.92513987967418965,null,8.7114461774579333,37.975288974688368,17.69579276122429,0.19753717110402563]
[132,0.90663859084671505,0.50341125172069612,0.35326419743176951,0.93185330045392489,null,0.69442274011580862,0.79938315746735999,0.73346945928899887,0.1411582186367164,null,11.016852294151706,37.518259890309196,18.623340054734911,0.11452070318175597]
[133,0.99740522897508399,0.43666360563412154,0.34624539890297368,0.2186841589381715,null,0.4160404293513742,0.95311719337115097,0.89305736862899254,0.66502618995575269,null,9.5759328960760524,40.027580077318348,19.242952703430912,0.16406525661384042]
[134,0.68844658659216518,0.58685021700531781,0.99933062494712888,0.25765853788275384,null,0.41908348633344494,0.36147690106479635,0.37593115274009326,0.84553563339671289,null,9.5915226056715568,33.936458352978057,17.683815280687561,0.18357659074849894]
[135,0.95930449353017666,0.98315879138409967,0.18025706115711293,0.93584891463617592,null,0.5378602026550624,0.68221318517009932,0.71969664497332053,0.40822866311202732,null,10.190088713713257,36.421689859847625,18.58194057323584,0.14234057174179027]
[136,0.19130498480127378,0.17779257693758155,0.62165875458508457,0.88811188931132357,null,0.41823765051057948,0.84737184287839107,0.8841142827912184,0.79231799700556627,null,9.5871918834022161,38.075679581667799,19.195808150862295,0.17687818686549711]
[137,0.23044891042470517,0.69899087816368177,5.3740192405565823E-2,0.51666412190687483,null,0.1879414003926928,0.25225065916111311,0.10638825484330949,0.82726015625159777,null,8.2289843487008056,32.997727898060212,16.754032997511551,0.18113198415512943]
[138,0.21785069560181447,0.61554162626792186,0.10103940726284188,8.4024557263627342E-2,null,0.46282337023459641,0.73789167172846715,0.97213011989690545,0.16496965728914026,null,9.8133534461619369,36.910577158859418,19.913064777520191,0.1178502080685036]
[139,1.9095606882127303E-2,0.30058922023738821,0.90110062760939069,0.97526947354032334,null,0.58429948589032399,0.876031616956225,0.71482033739220208,0.58247679645896722,null,10.425810087534838,38.466125944749464,18.56752238099136,0.156871715878387]
[140,0.50035042108511685,0.80155710889065257,0.21455179535012869,7.6160812218108775E-2,null,0.59057468284651116,9.8128405818942888E-2,9.2048367122039565E-3,0.95206018621000055,null,10.458047043314853,31.123130675013812,15.642726321808635,0.20495048041368508]
[141,0.25057615754662221,0.85886807957801747,0.82276319388509411,0.49647311951095674,null,0.67081583602027417,0.36714765283259654,0.26769033459102898,3.1515535915464632E-2,null,10.884334099535883,33.981747772934078,17.380186635969501,8.8653915737596539E-2]
[142,0.41108606945199178,0.93021426579823918,8.8154193953104532E-2,0.61817294832090586,null,0.19254956951270497,0.90700102658846571,0.93210132606155738,0.31264956990643333,null,8.2629212954326245,38.967533920119592,19.491625505895264,0.1338843189946439]
[143,0.79310428092288976,0.13239811176645178,0.57204514620996549,9.6631589437443655E-3,null,0.69428844101498033,0.81541983713010202,0.15498058705925544,0.675381450062704,null,11.016086199029299,37.694141941058938,16.984696494924094,0.16500913525063046]
[144,0.94608815955167735,0.57573294480206449,0.46851429079148299,0.64971606782133851,null,0.84206463007826204,0.42812583728950582,0.92298403277475283,0.58118790735712567,null,12.005959051998648,34.456557014232637,19.425433485098416,0.15676280111324428]
[145,3.8985645434737703E-2,7.9648888345250635E-3,0.8300934347291774,1.0484888036916051E-2,null,2.0264322663282708E-2,0.82949155578160105,0.74450965987874385,0.60668842799071276,null,5.9033598116629111,37.856473818732582,18.65731144287885,0.15893304134286435]
[146,0.71409432097664549,0.50387650094955705,0.11512263624947416,0.31339787808816399,null,0.49727668198574726,0.88713762434512733,0.31442082389639492,0.23238547679749155,null,9.9863472020939668,38.634336177743791,17.516642117524587,0.12587655701395678]
[147,0.78478423198870984,0.40053637295487698,0.30379074695040187,0.31556300562280248,null,0.8993372108304758,0.46028441063324987,0.65129309651307188,0.18138542710638261,null,12.555568108315695,34.700848310399905,18.388813914393968,0.119966767563291]
[148,0.5248431061290536,0.84261505950327142,0.24921940433697909,0.90636114066462303,null,0.46571368995027917,0.38668660291915458,0.17770056595695238,0.12652827291782065,null,9.8279017851988275,34.136103728385486,17.075836376637724,0.11228242703607502]
[149,1.7961691344584807E-2,0.82759606833605603,0.87301358237236759,0.71922553119896959,null,1.2273254682207746E-2,0.23263930003104394,0.20409361690220584,0.73457678501117052,null,5.5030685839515279,32.809452313639326,17.172912085672241,0.1706815768585756]
[150,0.4914909011959715,0.472865101888576,0.45774890070847851,0.27260617542287857,null,0.22402737837602449,6.6576875643279299E-2,0.56316136993890908,0.54542148389347445,null,8.48267594243692,30.494657865038725,18.158989355648824,0.15376536202841415]
[151,0.52529106117878877,0.93482094803772886,0.45074345367850521,9.3207532559582251E-2,null,0.74628554298123539,4.8238402006417158E-2,0.53919773854980579,0.48310401837556372,null,11.325692859302139,30.013461723131194,18.098412785125074,0.14860196772987344]
[152,0.22354082708493317,0.73268624588344833,0.19442928283921801,0.82917795344371503,null,0.70328953687779561,0.11644210932453369,0.52989308520890388,0.75908114502407065,null,11.067770503973303,31.421113716561635,18.075001108928653,0.17321054725209883]
[153,0.74735383240142683,0.9706990740485999,0.8684412245430132,0.9097063076705193,null,0.5707933379445147,9.3464470458916149E-2,0.142713963683334,0.77494534505991619,null,10.356788603406221,31.0408437806596,16.931794728406331,0.17492268248662901]
[154,0.26629036885884683,0.72190369048329106,0.93214102712285718,0.10237262657110369,null,0.79948517998572755,0.34390067486189801,0.18796513900649325,0.36382102234063107,null,11.679567522121234,33.794478237870578,17.11458023841838,0.13850729315570934]
[155,0.4431204749195411,0.69975845375780321,0.50644553271595738,0.30551003924385212,null,0.5099585208251719,0.12581316091210426,0.73479449746183167,0.46992733525605079,null,10.04992980569132,31.560775620819527,18.62737873269738,0.14751006672246889]
[156,0.64623271307015773,6.0787058801111127E-2,0.6877681045799473,0.44807922772325226,null,0.21171230831483112,0.20589498751562585,0.46063929537530601,0.93321677357804034,null,8.3990119245681747,32.53775679757775,17.90117672824935,0.19950610943870464]
[157,0.6589185299225998,0.66995557337560474,0.58464997025831766,6.3524969385203356E-2,null,0.64011855218715952,0.61553142879928169,0.12608792187654194,0.93998565660683675,null,10.717551392013826,35.881296331441696,16.854919575705637,0.20130355551982942]
[158,0.97594725042768926,0.63976296824910706,0.71749001546462654,0.84913088317286312,null,0.89902905451253345,0.91545539264794284,0.42703722266328414,0.31418483737733038,null,12.552077106411822,39.125408683343259,17.816077744573089,0.13402724697691853]
[159,0.29722284814946576,0.32267566012512139,0.45488739073187334,2.2879879467222142E-2,null,0.96560936681147913,0.38780369617640842,0.92331506041072042,0.68570111894742014,null,13.639707675761144,34.144856095546565,19.427728987895833,0.16596214793818348]
[160,0.5127696066005496,0.91797290694917399,0.22495419028577945,0.99507119868912963,null,0.73464502558275391,0.47406880163684029,0.10159205339008026,0.68709304303155949,null,11.253845271123019,34.804862859835389,16.727467844933873,0.16609169814863681]
[161,0.7849652108234022,0.10652527567260361,0.71184424068297891,0.3918655860789092,null,0.57263430921313663,0.2799374170639225,4.0337805299208607E-2,0.31893333266908752,null,10.366169856071334,33.250917706466282,16.253220596333254,0.13446743970986064]
[162,0.21075625014912136,0.53517804218748888,0.71201155776118785,0.91679017257087292,null,0.25889706875473995,0.95720357991147142,0.82843427158338012,0.54013932759894911,null,8.7065011749968306,40.157354785829966,18.947996066206763,0.15332589625654416]
[163,0.15674343107332944,0.50967602964479553,3.854350379901228E-3,0.20613533861434929,null,0.46648608769266553,0.37200886175043413,0.97154817966190066,0.87888675165972252,null,9.8317880531930282,34.020387506552908,19.904050245468955,0.18859151222809367]
[164,0.16301798174450555,0.63420432693508721,0.7064749848042392,9.255018406681037E-2,null,1.07169287112171E-2,0.88025078200461437,0.5684029348837305,0.46298876782652965,null,5.3994928234243593,38.528724118696118,18.172309609276709,0.14693407278185214]
[165,0.99224217945707405,0.86605454302870888,0.61819332448683606,0.71372802091752907,null,0.76877428546117699,0.97317718753729965,0.32039482524261176,0.12171095943142418,null,11.469632434529672,40.789061163629043,17.533404979784045,0.11150628157249431]
[166,0.98854409330371507,0.54299848422573405,0.73589175293544318,0.16389443946555904,null,3.0822372509602403E-2,0.7032546450688556,0.94533055978872171,0.99508644522081957,null,6.2623152154754287,36.601353191987897,19.601171766159926,0.2352011881459104]
[167,0.13783466596851202,0.57610118528907339,0.96573002529260865,0.81058924815368782,null,0.10002134743964108,0.24336160645613936,0.72154452090233678,0.80336663107885287,null,7.437140127929176,32.91340997931686,18.587435945737273,0.17817236772530848]
[168,0.57121289114711382,0.812335411499858,8.343790117409855E-2,0.5906051837170776,null,2.1249435398218885E-2,0.316385151113317,5.8438484843568173E-3,0.29384062884594253,null,5.942796512028683,33.566506187236989,15.478564106254989,0.1321074250265617]
[169,0.27555438638775953,8.5093946826291567E-2,0.28988586171640662,0.9662463013986724,null,0.82712664105715139,0.8623760705114536,0.1841177503333824,0.84918230392840166,null,11.885742672503724,38.273170612528105,17.100216544780299,0.18408677927419764]
[170,0.67097042598767453,0.14541088303315319,0.22733747068930166,0.98663797956171584,null,0.46726120164698537,0.61399715993532478,0.47175405458862496,0.81890756815687427,null,9.835687349264866,35.86925714309298,17.929138656196038,0.18006992200562696]
[171,0.42996234948658651,0.88821774624139149,0.86976426078854885,0.53203332700589889,null,0.96860089868624533,0.37660739780749763,8.4877689530221345E-2,0.74740901659257952,null,13.721235128866555,34.05679027980046,16.627009754127823,0.17198983127234047]
[172,6.56326251995768E-2,0.45855864568810756,0.85229852608561851,0.40785680143921987,null,0.48094552029461046,0.27031235561938938,0.33344831541862563,0.87763361348788371,null,9.9044386562991082,33.164394260139737,17.569588911728509,0.18838686863156007]
[173,0.43031081140958172,0.1435780840105646,0.54411965363320891,0.39436395472998598,null,0.56293859075460462,0.51688143284397814,0.81182517856265846,8.5169943780723956E-2,null,10.316847707656049,35.126984339447958,18.884642192410734,0.10475328735769757]
[174,0.38769471083402285,2.7475556336183482E-2,0.42867097970612078,0.60007528354870077,null,0.90281919850653236,0.74392658680510804,0.8750667452027493,0.63190079687544498,null,12.595567803357023,36.966495618658897,19.15067367724108,0.16111743206018114]
[175,0.24891293287061078,0.12886313148483663,0.94697235941617186,0.62370034293607157,null,0.80918719767407277,0.39061175762439093,0.52879504151147072,0.44506934079017157,null,11.749809976665572,34.166825184473311,18.072241251485032,0.14544175196968759]
[176,0.37309297924087348,0.72643670551656947,0.86736479780472076,6.6398038446130681E-2,null,0.56349232507226854,0.8924520519774648,4.300307995664765E-2,0.93018494933196572,null,10.319659089632347,38.719022823599666,16.283147687503476,0.19874660654986048]
[177,6.8130768926172647E-2,0.41346898678756117,0.32703702484862363,0.72581128208399881,null,0.93647647696837122,0.92479940364193425,0.42411180553987404,4.6201728090996874E-2,null,13.051701438542857,39.314347480475305,17.80861454041197,9.4465834667347759E-2]
[178,0.60579394966436928,0.42008985127737453,9.8948251698230516E-2,2.6389818565996759E-2,null,0.41178636585147788,0.94343647717095358,0.22807901640790451,0.64953278078478294,null,9.5540956584124554,39.752879163079939,17.254811928243722,0.1626739594792293]
[179,6.7221507942704872E-2,0.70147164994075617,0.52470839285715998,0.93336039009510408,null,8.4934546854675608E-2,5.3842407532987302E-2,0.74715712354642128,0.76096414548505686,null,7.2547508865580941,30.173939209184127,18.665570366296016,0.17341044355623583]
[180,9.1519584231324336E-2,0.37523716922997596,0.77585731294549487,0.4873072840793059,null,8.731059947300468E-2,0.55731146390855535,0.64960569375290611,0.37937327054096814,null,7.2849924761322935,35.432468808032574,18.384256139914942,0.13986480179821226]
[181,0.52688288534484684,0.75384096232166753,0.65259240145867903,6.9950674415757308E-2,null,0.82011635562719187,0.37057903221885102,0.77868630951117845,0.2113433850334574,null,11.831617212605973,34.009039531376693,18.767764041771883,0.12354163304906084]
[182,0.94097949394309466,0.6822543807255631,0.59158920473961163,0.40370236383249913,null,0.18772758016262525,0.92695787507629257,6.5596314671309996E-2,0.8048153718910499,null,8.2273972946069662,39.360507891694127,16.490584479903834,0.17834528097197738]
[183,0.78758086185533149,0.15930320750605287,0.31908674971322515,0.137526485946451,null,0.76684158677426728,0.90577582474447249,0.41241756005905339,0.82542996056686035,null,11.456969742193255,38.945549505266094,17.778669521670746,0.18089653247815005]
[184,0.9499211288642142,0.53452813307981284,0.67285111092116889,3.3112380081806614E-2,null,6.4569133009286794E-2,0.72846906894091534,0.91060904261581854,0.73274510614382515,null,6.9649823415079997,36.824568208961978,19.34451498273739,0.17049750589424492]
[185,0.8976741323810874,0.73204436115120497,0.30196840160011573,0.67486770856756773,null,0.4071327097854488,0.78847154042518786,0.45230310743230173,0.82759054381216079,null,9.5301460685301915,37.403387258835643,17.880155354591651,0.1811746570096277]
[186,0.52069301714242056,0.85430975291479871,0.51553487841972834,0.52718503515240189,null,0.48804223147745374,0.45854190267256723,0.19523671493927397,0.71432056214124395,null,9.9400436594827166,34.68767661645461,17.14124088743403,0.16867969445389694]
[187,0.42305064800972758,0.66682173820811508,0.37275994495199738,0.16861763813953534,null,0.10125166636893024,0.47328898858700308,0.5543627098390288,0.27481213530296711,null,7.4510963342816598,34.798985958867689,18.136691586228729,0.13025533297857256]
[188,0.8514819378066939,0.20696485455395564,5.6762934193976378E-2,1.5392020556800112E-2,null,3.4647493953114505E-2,0.15046745465041289,0.84047205264858582,0.82517784037577002,null,6.3670167032223173,31.89670822601277,18.996399872984064,0.18086422080561443]
[189,0.43619366714632501,0.22506094679266697,8.9969419173301257E-2,0.43158648396628696,null,0.60954874238708445,0.39314680461782825,0.26849570213717322,0.88489561662487981,null,10.556286190392873,34.186619987604942,17.382631060346966,0.18959410147541569]
[190,0.99699012789964292,0.25098834981084439,0.37519652408295712,0.46562826993257544,null,0.66566665444524664,0.46387246321835729,0.45366149525840949,0.80517931814405164,null,10.855957226521932,34.727952689256142,17.883584170438237,0.17838884187047188]
[191,0.33895575367427411,0.93503502211404022,0.99785949263155826,2.798981866264616E-2,null,0.94530209695222311,0.29494916236010327,0.30922431105093018,2.0215816619579385E-2,null,13.201829464754804,33.383049869472238,17.501949746266472,8.2372709824412457E-2]
[192,0.4840965099707083,0.60722088168851085,0.86717859296645516,0.31277724481500113,null,0.61461669325293389,0.97031852779668093,0.79596394236021895,0.71543413385353316,null,10.582744557689061,40.656487100901948,18.82729105014818,0.1687879133030081]
[193,0.29012749258769466,0.94098421120008546,0.96898320014294814,5.0461349656340859E-2,null,0.45181369049640907,0.28696558955030549,5.0675475779409118E-2,0.13644750635591385,null,9.7578392694695086,33.313186055218999,16.361660785111532,0.11381813979245731]
[194,{"$f":"+RAND()","v":0.54971580695793487},0.95417589466359887,0.80565592834398925,0.23675032813536301,null,6.1945001428319713E-2,0.47980699510086677,0.65530466683790389,0.75888306809847628,null,{"$f":"+IF(NORMSINV(G202)*$M$3+$L$3<$N$3,$N$3,NORMSINV(G202)*$M$3+$L$3)","v":6.9227019477286991},{"$f":"+IF(NORMSINV(H202)*$M$4+$L$4<$N$4,N197,NORMSINV(H202)*$M$4+$L$4)","v":34.848086030755312},{"$f":"+IF(NORMSINV(I202)*$M$5+$L$5<$N$5,$N$5,NORMSINV(I202)*$M$5+$L$5)","v":18.399682115603497},{"$f":"+IF(NORMSINV(J202)*$M$6+$L$6<$N$6,N$6,NORMSINV(J202)*$M$6+$L$6)","v":0.17318956927165641}]
[195,9.2814299512522958E-2,0.54426246139930257,0.7535448128985518,0.14167505916524148,null,0.31115849899195303,0.59924817976155187,0.51935083484842892,0.65745895991603065,null,9.0148615511827597,35.75420476245673,18.048524385760889,0.16338275453322085]
[196,0.47758906610770746,0.90117244535361363,0.49961727867580219,0.63894202606845896,null,0.54685239824549725,0.17107727517697424,0.9060936819803812,0.20933741063244604,null,10.235425652637508,32.150249721847473,19.317077535969929,0.12331215968984943]
[197,0.96790581421266686,0.6397968875743848,0.74152915514623308,0.6551187486488933,null,0.1379148224533584,0.35348220406992914,0.96052248143760954,0.34044608128541132,null,7.8205288701456022,33.872191725465662,19.756781631688572,0.13642888205690046]
[198,0.81888181298114626,0.77142120001021142,0.50214361682204389,0.73795982933034154,null,0.37740334399091024,0.7226911884194136,0.49698228036036496,0.77543563889732081,null,9.3753845979505765,36.772564804798122,17.992435626488412,0.17497665646186952]
[199,0.31986370799580943,0.10020364903298351,0.9598709390407032,0.4411656895001147,null,0.56355858037743323,0.85165500428911223,0.97357391544165484,0.15271046312840009,null,10.319995518737084,38.130673622956323,19.936126830931595,0.11617903787753645]
[200,0.48758561509078513,0.20888866834936282,0.45525128553154692,0.42852622761376225,null,0.85650855017620531,0.72572114279806732,0.10519647592353554,0.34390422748092708,null,12.12952729448099,36.799768274714253,16.747514344032595,0.13673957919452126]
[201,0.76944132468079363,0.14514423155594491,0.30322833721609921,0.53641570047857245,null,0.64747341840337302,8.6656719962972195E-2,0.75657457995552635,7.609373301547151E-2,null,10.75701623896602,30.91509819293265,18.695326293344248,0.10274903205588615]
[202,0.20891753419556369,0.69452411400846759,0.52338919639488191,0.6405657823402604,null,0.91025859103448636,0.84404144276644733,0.48278097064839398,0.73104082016022331,null,12.684698275834458,38.033622578011162,17.956824884193956,0.17032680801435071]
[203,0.82356714615538529,0.43053307160636456,0.30554395137779378,0.71553353160941868,null,0.55193147836209633,0.56810515661640459,0.93072889640495216,0.98668660351495252,null,10.261085476262494,35.514656227232287,19.481241589730214,0.22315921262193961]
[204,1.0064040923176809E-2,0.85941287992078252,0.87081935436028135,0.83088133563995059,null,0.73174639060425095,0.21232688235561381,0.24659626807627222,0.51976058409198,null,11.236206686003396,32.604879437787829,17.31476007866306,0.15163523944813065]
[205,0.87774640478016752,0.87655711807084014,0.68896443305020749,0.4659086228339,null,0.68032460412086271,0.44628467002216055,0.81782568187558646,0.68656274391064376,null,10.937213387637231,34.594838608954404,18.907109989008202,0.16604231260859137]
[206,0.84843086644368837,9.4512531872344208E-2,0.59361183255113192,0.36430343836384826,null,0.21313528118066527,0.49133579676199146,0.19570896590237841,0.63522122274858983,null,8.4088206244575581,34.934841066877297,17.142951229550476,0.16140856671240136]
[207,0.74302252773345079,0.60773235761152167,0.95136698615512105,0.40715967678026466,null,0.90790180862522563,0.72567117639153,0.1830485740899237,0.68812924942987097,null,12.655889360907498,36.799318471394933,17.096191866518744,0.16618830190977107]
[208,0.22330740490793455,0.18501520252092107,1.1683051366085828E-2,0.85241632145733792,null,0.38549189531780992,0.78725124325583407,0.80498729224443744,7.1588132339592936E-2,null,9.4178234070951969,37.390759902520315,18.859571273955947,0.10168586411625039]
[209,0.22450940195218982,0.80341151949145195,0.54770693816913596,0.90492826364734458,null,0.34535030858812643,0.5501061022621897,0.95058571678826798,0.53176502957825134,null,9.2041910931715609,35.377788255391749,19.650559441296551,0.15263034556879471]
[210,0.60661227871651724,0.27457043314732998,0.99520330449580507,0.4126924869093378,null,0.84975021695318342,0.58941503789794736,0.71974458289521515,0.51889318306918908,null,12.070725366760453,35.678121487418238,18.582082912621839,0.15156340480764469]
[211,0.6558918184528848,0.49732922374872945,0.25847271684170425,6.8610331909011446E-3,null,8.8975064636722667E-3,0.92630043325212275,0.58767747285803684,0.81687095176609714,null,5.2602879367926416,39.346338897261681,18.221574603838892,0.1798156550046924]
[212,0.56915382385424873,0.1816596080802072,0.48828171062669101,0.75321553632115212,null,0.99890117567167425,0.45405173040158053,0.64651465338657266,9.9362182816365108E-2,null,16.12426849563149,34.653706818575749,18.375927637564555,0.10758858532728491]
[213,0.69626174050975786,0.37098968856835779,0.69545155843576789,0.89982322425805938,null,3.1421873121927901E-2,0.91651627916916922,0.20826378076081919,0.95387896593052512,null,6.2794092314947427,39.146041617215893,17.187539706479811,0.20556168924262821]
[214,0.26458133475100287,8.9498027975473571E-2,0.92718177235730903,0.68774369003664471,null,0.99780607544976019,0.58044957147673393,0.44128581910343023,0.77395564866907995,null,15.697686527505027,35.609131172309567,17.85228999854592,0.17481393435541115]
[215,7.6709306769759511E-2,0.2072627875885007,0.79096459732068947,0.39456615973145936,null,0.90363790564264146,0.23542936299678208,0.72830220165742598,0.18718580870798451,null,12.605124874802684,32.836752346967991,18.607686231258302,0.12068562243819676]
[216,0.87421224362675354,0.69704156019582564,0.88744698288652168,0.10759020641958184,null,0.68995291942967518,0.73661002195175185,0.56975990328636061,8.180080422149183E-2,null,10.991433801966451,36.898787242972787,18.175762930434836,0.10402901572185777]
[217,0.99236684114329732,0.21323074518561647,0.66760507587936868,0.33591664632444052,null,0.75113526589855961,0.42686237698578433,0.33621349676812395,0.89737393166466073,null,11.356133195221942,34.446895931909729,17.577180546950348,0.19180206347577769]
[218,0.6276716816553225,0.80708593059293565,0.89804136805607282,0.43099552958509479,null,0.70842526193372812,0.67019533836256462,0.25192059554371526,0.15058815656885294,null,11.097580284374118,36.321357850543436,17.331541855822962,0.11588083402310237]
[219,0.73387152366538744,0.7448694802913981,0.94219620390272041,0.19023602410498486,null,0.89111091814036836,0.54241259481163195,0.67355659031826642,0.88594379675854718,null,12.464915371915023,35.319541008635952,18.449755400981118,0.18977277106766549]
[220,0.87000800887930485,0.97072311933722355,0.94047356283659422,0.70843468595281955,null,0.32160239089788045,0.62099031492470602,0.63456857008648526,0.49312871262849123,null,9.073554697774437,35.924248236704017,18.343977961855508,0.14943158770857884]
[221,0.59737904457856805,0.60228538698149547,0.87453766604776229,0.54538282473424116,null,0.63020665538605192,0.20445747442032647,0.50516116936207478,0.6184678280395981,null,10.664801455143449,32.522586224208204,18.012937493954336,0.1599481541835564]
[222,0.53327390938017472,0.73519124660099111,8.674133633129355E-2,0.60720116784136913,null,0.91487269647654879,0.91877067306307258,0.42380863786790446,0.86136506467394713,null,12.742772335879089,39.190550289869755,17.807840508638517,0.18585360223632544]
[223,0.3359275348833699,0.93295028163675497,0.73636065509617876,0.78279284133217142,null,0.98084309892156785,0.91826473800286079,0.30231323899209406,0.1168964492024327,null,14.142963415464672,39.180481346322026,17.482241072114199,0.11070870832152099]
[224,0.79104196355252443,0.95392723205326035,0.47005001743808206,0.74447177711048185,null,0.39742835673918675,0.93580462419252108,0.34374003122053109,0.63244577992028939,null,9.4799816945010598,39.561435579956857,17.597722840884323,0.16116515620793209]
[225,0.88967831838625677,7.1266050899691402E-2,0.8911793444344267,0.25311215634422735,null,0.74696226976638902,0.95456962658245526,0.19439386549298421,0.67773283050258704,null,11.329921929777228,40.072623934402671,17.138182096055701,0.16522515627679649]
[226,0.60057159430365537,0.8018239693259066,0.32669374008917151,0.61689639208578573,null,2.0561274141185137E-2,8.1704005633890575E-2,0.97327934785657921,0.10919750957086582,null,5.9154154571763948,30.818897964511375,19.931337698187324,0.10938336567350709]
[227,0.43337071103153546,0.58617894254878533,0.17397986451449909,0.9071743907580464,null,0.25550935598680835,0.36081346513317925,0.26130676862855828,0.67233794309021011,null,8.6854954314357045,33.931144153544238,17.360678088911545,0.16473047892935447]
[228,0.29031934764059275,0.1471755344786817,0.15197779008052292,0.50496270032075163,null,0.43179978651181816,0.34568634628754202,0.19274650241975988,0.89498729823699863,null,9.6564122297640829,33.809021284823302,17.132180229013766,0.19136535442269573]
[229,0.70118235779618265,0.83317857911482529,0.43069941049807026,3.0741068720627318E-2,null,0.73606398404316542,3.6301444710872266E-3,0.82986379030694757,0.59034260913079395,null,11.262515424960933,26.946009870996221,18.953627126968357,0.1575380706031948]
[230,0.738821353235669,0.21647055108825786,6.5503305823636948E-2,0.70271029339504554,null,0.4626830698400719,0.78197175062405055,0.84127896507228928,0.53033533605057848,null,9.8126470030820627,37.336608975710703,18.999728181756854,0.15251172359693016]
[231,0.74020354106026831,0.16931698810354701,0.49176469226015407,0.93026347945396515,null,0.56388699238371354,0.24240470989874996,2.489482111946939E-2,0.24401171011757106,null,10.321663252766927,32.904235398224429,16.038233213816497,0.12711595152181346]
[232,0.48716660256372091,0.83638978668662278,0.14755538129647805,0.51410279392574076,null,0.72782252249938717,0.57101509152288565,0.78043559641034266,1.9821046492745964E-2,null,11.212481324325758,35.536877298839372,18.773665195344787,8.2103852350323817E-2]
[233,0.85552254275372075,0.15540024562057408,0.11447964946475031,0.92642374745299638,null,0.69570753275648378,0.80062329276361344,0.9888921794161486,0.81001482748852016,null,11.024188826077996,37.531549016579234,20.28666059908425,0.17897238091086815]
[234,0.71347090835586979,0.38552165991126697,0.5308138294461241,0.67556402694367812,null,0.26198195756501896,0.95927624094036745,0.5115638389883852,0.13305948822959979,null,8.7255058388367992,40.227044873755744,18.028990306018073,0.11330252834246196]
[235,0.38799267451426511,0.44872446071673755,0.37063296833442583,0.68399782477008164,null,0.93234028581006001,0.26375135526011906,4.7329925048366084E-2,0.41110790710136536,null,12.986900036290058,33.104531770332748,16.32868689920495,0.14258503359556579]
[236,0.69493943740207709,0.15894566211285999,0.59113913188025102,0.65306198999184428,null,0.25298543894451953,0.70561023123457733,0.63034740611243079,0.97440454707199009,null,8.6697510387456536,36.621816450331735,18.332773599899728,0.21434590646687204]
[237,0.25706773268693672,8.2909788191211642E-2,0.26361963181541248,0.94795529175835391,null,0.79810942045696498,0.31480804943388707,0.59509249092542926,0.62109739007137965,null,11.669774624641127,33.55319820684273,18.240664676861417,0.16017601859744857]
[238,0.62224748752097681,0.99365381866738334,0.89201778003442334,0.57513146274277827,null,0.83996926832822305,0.25160413677167626,7.3306998918710398E-2,7.2190826330318592E-2,null,11.988663170783276,32.991649096343913,16.548404094217954,0.10183099344825627]
[239,0.50935018618690964,0.33022718045100263,0.55367524757258024,0.33089620596271063,null,0.14682423658477239,0.8783574801527112,0.40203821740426582,0.35606610385130999,null,7.8996970398801656,38.500445359193321,17.751925073122248,0.13782319847338509]
[240,0.83635762739751907,0.89667898662611245,0.39033823964565106,0.76277684883091701,null,0.37636623365807653,0.43316443518403713,0.78982032650521627,0.141708670395709,null,9.3699231185182192,34.495029816823887,18.805797973051295,0.11460175292210602]
[241,0.40371842250200329,0.27438646254504562,0.65542869027017159,0.5705785442846657,null,0.33929780698686751,0.20052577384280501,0.16085405367905503,0.28565794392417987,null,9.1712393999221806,32.480765912125243,17.009046132956655,0.13131821863180798]
[242,0.1058203228904816,0.29002390482739981,0.62997965230717512,0.50768094644294093,null,0.11782067426875709,0.74786703438580482,0.65319119962528238,0.73355440532213634,null,7.6280964691480602,37.003378080143833,18.393950479052208,0.17057875585578117]
[243,0.10518637722391866,0.71519196047241584,0.69784891863731424,0.60449753791515637,null,7.2024188796478983E-2,0.27554667467432647,0.70358977041975679,6.5441338120609149E-2,null,7.0782400104867484,33.211632298742614,18.534753300622487,0.10014920095551244]
[244,0.52140938421060012,4.5057438184132992E-2,0.4721480836182983,0.68908150444923877,null,0.25555565194023755,0.1637704073484888,0.49719398700303841,0.41032584893746804,null,8.6857834667897791,32.062762197244552,17.992966310487226,0.14251867384853287]
[245,0.31392252816604815,0.83667545429834589,0.36233673621068385,0.608066583488311,null,0.69246445050693106,0.25514235281363451,0.50354150430645361,0.16727750067782454,null,11.005696125765215,33.024816672767813,18.008877351428023,0.11815567133383177]
[246,0.43386138364510662,0.33478245954545238,0.17673201646064463,0.12409474187206371,null,0.7967289351078285,0.25127270726901119,0.24953791789441815,0.60137302860633413,null,11.659988163476118,32.988529696179427,17.324055425698887,0.15847778668199627]
[247,2.2983259249098609E-6,0.43936023169925731,0.909919772197753,0.60688656268913965,null,0.97478270716766724,0.61318284589421301,0.55398297780291927,0.72163442718685378,null,13.912519116569081,35.862873031802827,18.135730868003531,0.16939422436155804]
[248,0.22421709211449192,0.1232589685991764,9.2701575587647578E-2,0.56968539376237204,null,0.87355939498737867,0.9535181129376602,0.21846888539084608,0.34212938514254676,null,12.286758277609279,40.039900420438194,17.222625361305649,0.13658026705600931]
[249,0.51076746434133902,0.51739371550125923,0.99341016619798905,0.74104062222214651,null,0.27025076391221214,0.10128820830758356,0.67679414414230177,0.8564057109706178,null,8.7758904799565318,31.177263432364175,18.458752774021217,0.18512220896262541]
[250,0.21330231038419056,0.97387374590255349,0.99599061991485804,0.57791124863540744,null,0.91544079185000571,0.75116986306606159,0.77682969055725304,0.66613181198424332,null,12.75008404998837,37.034527213830046,18.761529913403511,0.16416547328435158]
[251,0.64728674232324135,0.23938462435883789,0.91655832306832707,0.17783348309640457,null,0.69127633270889544,0.898754085836038,0.82513327312008922,0.36846905021618415,null,10.998942787241264,38.823452941667078,18.935106428860887,0.13891494219273026]
[252,0.52012935957173445,0.79437554102989461,0.45847233848131375,0.439601577785109,null,0.56305725115292682,0.89984523457158994,0.17057002496339324,0.80192248918146436,null,10.317450109214693,38.842010602100906,17.04808491784507,0.17800076977471352]
[253,0.99013287983100118,1.3441441276484611E-2,0.43907898888775365,0.39757232663610154,null,0.53231437580700847,0.62282781060439973,8.2468537478810555E-2,0.38576325876965956,null,10.162177811941385,35.938748404964791,16.611342997723256,0.14041750206125586]
[254,5.4232763287616392E-2,0.27937817568034118,0.80245495030821201,0.60708958762847376,null,0.69364994308050321,0.41068546839926623,0.50016116204615702,0.22301192369175271,null,11.012445990596721,34.322653842903982,18.000403973352682,0.12485200078799213]
[255,0.75689191961370961,0.63680074170749923,0.70385006478783452,0.45429076217166431,null,7.2489614214175102E-3,3.8786876786684577E-2,0.36779829910212314,0.30160181337156333,null,5.1106326055276048,29.705178276208301,17.662309717136797,0.13284663064893051]
[256,0.80840687827747815,0.18150462682531998,0.49828562959799649,0.27656135927013104,null,0.45106774368592362,0.73343022970783034,0.57504809673027324,0.71612502551064638,null,9.754071701870199,36.869661917774728,18.189241163686859,0.16885515699784734]
[257,0.66942095480730901,0.94198599695040863,3.6017837662169705E-2,{"$f":"+RAND()","v":0.33899709130635758},null,0.88629151654043103,0.68127052772180052,0.142348136177745,0.57517335590070218,null,12.414078820368241,36.413763748226742,16.930170969133968,0.15625550720201398]
[258,{"$f":"+RAND()","v":0.85481032187458617},0.34884886555726657,0.9446705091029618,0.1378147994214598,null,0.21409655710929987,0.68518609956426202,0.21085162040853012,0.24637195543725532,null,{"$f":"+IF(NORMSINV(G266)*$M$3+$L$3<$N$3,$N$3,NORMSINV(G266)*$M$3+$L$3)","v":8.4154251909633739},{"$f":"+IF(NORMSINV(H266)*$M$4+$L$4<$N$4,N261,NORMSINV(H266)*$M$4+$L$4)","v":36.446752368441935},{"$f":"+IF(NORMSINV(I266)*$M$5+$L$5<$N$5,$N$5,NORMSINV(I266)*$M$5+$L$5)","v":17.196530192225765},{"$f":"+IF(NORMSINV(J266)*$M$6+$L$6<$N$6,N$6,NORMSINV(J266)*$M$6+$L$6)","v":0.12736361190992804}]
[259,0.25487167875519778,6.2287912358806596E-2,0.47303861836387628,0.15999561145155228,null,0.21111339485838609,0.14926508528518445,0.71735381509989282,0.62745658925279446,null,8.3948720231080998,31.881228358962595,18.574998413737106,0.1607291096148446]
[260,0.73876157482255,0.7233717301316146,2.5994386942763792E-2,0.9632008114961863,null,0.2382799634074354,0.64272215032005819,0.87244536296753328,0.25917912623746397,null,8.5763072982496276,36.097233651754536,19.13802684234151,0.12868602009809071]
[261,0.46811699702803733,0.70273942040866,0.74236014714519105,0.56052940386862504,null,0.76364442295936252,0.46871093188540613,0.83572325758355281,0.37828914211740694,null,11.436149642657986,34.764468068375635,18.977031647590156,0.13977075194417146]
[262,0.67473842749627866,0.85291231762896436,0.55550315618825119,0.32601950151404346,null,0.17910713095572461,0.88738157340585611,0.12801449220899164,0.99940245566170371,null,8.1624537867586682,38.638160293392957,16.864173023110677,0.25692164007299995]
[263,5.6754522947708108E-2,0.70109833713789105,0.8926997988367934,0.23031639400044357,null,0.75817223470018891,0.25932169716121856,0.78384990202692684,2.4810348879295674E-2,null,11.400870494265204,33.063686045152316,18.78526161582765,8.5213763113657623E-2]
[264,0.84797913747873077,0.74316022205812771,0.5270733433058763,0.23258336523445999,null,0.38587327893108314,0.33550294407442049,0.26852710128626711,0.37893274317532999,null,9.4198178352779731,33.725696332667589,17.382726287215736,0.1398265953250023]
[265,0.25937743964618476,0.60678604721288232,0.76696357036449714,0.982724813301319,null,0.42491474455042044,0.65892864497078463,8.2866111574837586E-2,0.68177998513575355,null,9.6213280190271231,36.228622896653334,16.61395192165423,0.16559850788116862]
[266,0.98248696692147275,0.42065098034847959,0.18694145468663592,0.38360511162953592,null,9.076111989603064E-2,0.21464719543180688,0.71735674431871466,0.4061565990448246,null,7.3278345748074987,32.62880096937765,18.575007076107351,0.14216438371893497]
[267,0.73501717476707207,0.36359665126029506,0.34046012072728837,0.81070696301799017,null,0.29643837065213852,5.4492447678365585E-2,0.36703227637062219,0.86787146543571314,null,8.9306561584166992,30.191682568205295,17.660276221139423,0.18684072831584914]
[268,0.67246236121962299,0.96490439979978648,0.48240399328802452,0.60684123848853055,null,0.5379507053911885,0.44567648771163759,0.94942046174109473,0.1905930169557255,null,10.190544486016867,34.590222767012087,19.639260222116093,0.12110146842747083]
[269,0.90315508634270625,0.27412383469534107,0.47396756242200211,0.89422705772966826,null,0.18616900635943656,0.77998902540087234,0.73311303953797236,0.71195440847154423,null,8.2157950660123493,37.316468450267244,18.622255433415784,0.16845041081820761]
[270,0.55098392998682399,0.82932741898170415,0.4145091355955034,0.28959188970182737,null,0.44482740697186518,0.73888146485533202,0.65836599544571528,0.21449418229312578,null,9.7225179895306386,36.919702508418951,18.408007717356515,0.1238995092589216]
[271,0.29457729163918989,2.4126296943346448E-2,0.8373102635381533,0.79189956075456724,null,0.57010668003072473,0.19597911186809747,8.693488219523049E-2,0.17511841448919963,null,10.353291540432423,32.431785456548809,16.640125887624531,0.1191737093854196]
[272,0.95348878905584689,0.86684579506474824,0.44629334856081959,0.62968753442381542,null,0.18747979273254667,0.25619515118209513,0.60118162971675104,0.7024795107356947,null,8.2255567257990769,33.034639096722081,18.256406796273648,0.1675409939499525]
[273,0.95489821487172422,0.68887745560474978,3.3076054512562569E-2,0.32799980143283558,null,0.75395897134584733,0.19774382939892177,0.79951292376034344,0.4716485127094151,null,11.374002129977264,32.45087712873508,18.839882710592597,0.14765282333521484]
[274,2.6514505454294124E-2,0.41363283055321354,9.8698337896087285E-2,0.73147563372506841,null,0.89695731548891433,0.99157640556730053,0.12097139579207106,0.56153314666164544,null,12.52880626556801,42.170077426312432,16.829855421812134,0.15511029552369474]
[275,0.79729119899607115,0.19328135382035128,0.39996951560071026,9.4610923500899169E-2,null,0.20426031935742739,0.16278341747210512,0.89231596225920251,0.1522060850557464,null,8.3470004255569883,32.05075249069278,19.238939037180394,0.11610841873818606]
[276,0.20748757053839162,0.69997891082331221,0.6598868864318399,0.81469366178135483,null,9.8259634798857909E-2,0.7118692008638392,0.83627323442797641,0.89749455485173957,null,7.4169360191195812,36.676560976220564,18.979255947199213,0.19182433015110642]
[277,0.8638998553366718,0.65484833114228813,0.64209624885923566,0.61923792128408239,null,0.85579491890245285,0.85736683830366334,0.55725437290341284,0.53998240852092494,null,12.12323149317155,38.20569102886644,18.144011670226885,0.15331285027775918]
[278,0.66396604328476172,0.95062845253599204,0.82815545713055794,0.96975899592992021,null,0.76268147825144372,0.90926827126482623,0.26936250965986019,8.8543665212474365E-2,null,11.429909373459735,39.008787789245204,17.385257850424544,0.10545733902889473]
[279,0.81156310914265606,0.14686397204682655,0.48124608986806638,0.79572589804134297,null,8.3844065222914321E-2,0.67918288189333331,0.79476725938847859,0.45908752613663895,null,7.2406590690019428,36.396245243736182,18.82307475961062,0.1466098180800606]
[280,0.65993135998999553,0.40289930081282987,0.72712510251777995,0.27143542169297119,null,8.4176358409168817E-2,0.47726811290769,0.47696764443340478,0.78726581746830626,null,7.2449676460729462,34.828966221005288,17.942234336275739,0.17630001509361801]
[281,0.13583290494859557,0.88145056633914154,0.92011221751316863,0.46553066227032547,null,0.2693906272723422,0.95722810410186532,0.31271627299993299,0.53640522400218349,null,8.7706859749777948,40.158163241830415,17.511834396479099,0.15301558572489396]
[282,0.73783329145355969,0.64145208481431171,0.10643718749180231,0.98555725983100206,null,0.59774098742370241,7.4557845059392891E-2,0.31228170653624887,0.73640304918250221,null,10.495008442166524,30.672013801759178,17.510606890034687,0.17086574654318229]
[283,0.43387255335656394,0.53919269960123806,0.36318703082143322,0.40411323621127737,null,0.97078402271270325,0.18745823053147315,0.24108043155966175,0.60072019789822162,null,13.784886403031409,32.338094735545781,17.297168658955702,0.1584219857035514]
[284,0.29291780775641774,0.21381121521420932,0.44092255093467947,0.71779686042520119,null,0.58362362381874167,0.58427336138849695,0.80687207048049725,0.72570315590515089,null,10.422344785547864,35.638514176179754,18.86642733510444,0.1697956698498026]
[285,0.3151711191090234,0.84630992803887251,0.99069091761542327,0.35889257412530662,null,0.47559585628642687,0.96137861898824595,0.82689410437526578,0.15887673697215332,null,9.8775793640145633,40.30073967181751,18.941962594103007,0.11703019207538609]
[286,0.47633073648026525,0.82907593387640033,0.72920032818711644,0.31337481984697069,null,0.62664208112716591,0.41537409946505688,0.43384158739441936,0.70393850421524373,null,10.645945610013232,34.358773777169695,17.83339794264306,0.16768014868950293]
[287,2.5138095579248176E-2,0.1917974839675296,0.43233878710516027,9.2478916571853809E-2,null,0.13976409283504754,0.26986356768140773,0.79256109637954075,0.80076930114469791,null,7.8372403204305687,33.160322998006336,18.815339844829463,0.17786428580821323]
[288,0.98285851006887703,0.6621692969937174,9.1119623655841253E-2,0.91635630855254813,null,0.44975996388819151,0.67742994550561164,0.67078034500580264,4.2387372781581223E-2,null,9.7474643587679815,36.381572166512086,18.442068953213003,9.3120225783630287E-2]
[289,0.94290497086517588,0.31354384423990667,0.7136355394984486,0.56316621813837353,null,0.63272331796173231,0.29827192601824215,1.752629959238583E-2,0.67966663724201981,null,10.67814964703097,33.411868575988507,15.892249761087129,0.16540330467053835]
[290,0.55356977678382557,0.42380208089673455,0.39097621987358222,0.10462289000788094,null,0.43229319795933541,3.7465077626624987E-2,0.56918131185837584,0.74850985882564036,null,9.6589223304468561,29.657325091692556,18.174290230993893,0.17210365938170777]
[291,0.87153529735768587,0.10396573930489417,0.81232127986195757,0.66538479346985457,null,0.13465170162992457,0.36231864482194365,0.42114595754912354,0.17415782676356761,null,7.790663672905298,33.943196021481398,17.801037290784897,0.11905057452603117]
[292,0.29493586341121292,0.84986105325581607,0.36557084149337526,0.17333803260642777,null,0.12948683943259276,0.88760264414888601,0.56426114496085344,0.13668371504929988,null,7.7423595494829272,38.64163088451663,18.161781769070025,0.11385375894031867]
[293,0.22338211554010234,0.4883956673569213,0.28545522520207234,0.40722611232182226,null,0.20903371000145154,0.60432779642499379,0.40197521570421924,5.8827611196284213E-2,null,8.3804427509520476,35.793695694616055,17.751762213106314,9.836517485959953E-2]
[294,0.26688492477180881,0.10700916111421832,0.74626131651537519,0.18416566724679773,null,0.6989185123925642,0.66588569899398553,0.75872319580093606,8.1665372569543759E-3,null,11.042585142561411,36.285741240108095,18.702201342680329,7.0754245108091821E-2]
[295,0.78980866631393909,0.71801237543934338,0.92326930464243662,0.15535433986099134,null,2.9003953305476449E-3,0.68591831704917949,0.40777422765370142,0.3010761153397562,null,4.4823310254402919,36.452940629287497,17.766725753489506,0.13279683608401738]
[296,0.88395770463514012,0.90304709852840148,0.11000573905022115,0.98223145832098646,null,0.58662264320944946,0.80400124238405302,0.6983177145810584,0.49950969032608139,null,10.437731278136539,37.568001433005499,18.519568194507873,0.14995944219475457]
[297,0.3710746317723278,0.81927152628196653,0.88559073048024806,0.32153220814207373,null,0.64946329006033687,0.6697686337451435,0.52435013697899702,0.92385664364497178,null,10.767743730901993,36.317823153652483,18.06107468990508,0.197239529298398]
[298,5.5074889272165306E-2,0.87978003484517531,0.4287728709892773,0.94097985379833993,null,0.68841871317869108,2.5928402569654674E-2,0.50436325923940473,0.59776194846652464,null,10.982746236091289,29.167038277942513,18.010937287035912,0.15816942710734661]
[299,0.63383717217126312,0.81858519005033326,0.10084325806188843,0.84200284283505389,null,0.1770196961012277,0.39500512604857518,0.20130258674844703,0.90469181582462832,null,8.146434689498296,34.20110809904962,17.163022425447828,0.19318901104674097]
[300,4.4612921364174385E-3,0.33518827967958353,0.46128491705247876,3.947158729648903E-2,null,0.62549270818712022,0.79173771278459992,0.21122308278943347,8.3931832416551777E-2,null,10.639877971251121,37.437396503675927,17.197815369476192,0.10448967227186187]
[301,0.68255294380298392,0.54677611209125609,0.54145185612111701,2.6551328495035498E-2,null,0.55673506232475467,1.1092590949481451E-2,7.2094167289356359E-2,0.10641381734370781,null,10.285393014370904,28.13845295585929,16.539629713935984,0.10888768381979277]
[302,0.94466284862485905,0.54142104792589807,0.69928305920564215,0.3186427987103827,null,0.81884638288644385,0.5279876483122754,0.28349442230630906,0.18622450845076399,null,11.821954979988092,35.210636828866527,17.427508207456508,0.12056745281062209]
[303,0.99229401038274823,0.96424808606124357,0.94664051361352575,0.71181880222843219,null,0.21625268511611706,0.20312544202932969,0.45267068557307621,2.6904431107059645E-2,null,8.4301766973019578,32.508472058258278,17.881083325481473,8.6363721403686811E-2]
[304,0.46278801337107456,0.71921302008847632,9.4966189675775858E-2,0.60105752793001321,null,0.35048627151937572,0.57542519358494115,0.71418040024962792,7.0665288800835446E-2,null,9.2319840672618287,35.570610713458066,18.5656390158317,0.10146181464739122]
[305,0.34041280962072873,0.10107345260010259,0.36718710499296414,0.23862059097086874,null,0.33635360382657797,0.24622991104217529,0.18132967376700149,0.77702602137506049,null,9.15512910142753,32.94079484917679,17.089690571435135,0.17515219569562776]
[306,0.53804572183752608,0.97124395972899513,9.4134691578126262E-2,0.10513813278675321,null,0.17646822959168074,0.24654231819971095,0.62396950419396047,7.7170805707021173E-2,null,8.1421828133892333,32.943767150897322,18.315922950237596,0.10299604293874705]
[307,0.27110254442282622,2.7146949098939777E-2,0.43433414154625838,0.68110849234816673,null,0.65370137194074851,0.50177755365638488,0.72179897032697171,0.36476365861880711,null,10.790665707694115,35.0133670429937,18.588194037072007,0.13859010567162233]
[308,0.39339900875932232,0.89975938329154825,0.83304895883822938,0.95462840934224147,null,0.10862452971376046,0.95998516106288245,1.1337262125523551E-2,0.10069061625067044,null,7.5322477076973229,40.251541698107658,15.721125459573342,0.10783833301425917]
[309,0.88751034222034864,0.11050285202721843,0.1278724911791993,0.86762641515387617,null,0.35430348790970589,4.096535888223507E-2,0.3880771205024891,0.33043512015719045,null,9.2525447644620407,29.781224559638517,17.715665749875026,0.13552250442846719]
[310,0.46179547591083325,0.63098284893920165,0.85589427364804493,0.78653231940328228,null,0.40811728803457525,0.40245881637356118,0.25749601931074095,0.37001020734460977,null,9.5352186116256874,34.259036471772191,17.348915650380704,0.13904973169811136]
[311,0.89486020177144854,0.32584735639392426,0.81742105263521392,0.79164441782328643,null,0.85560490995604144,9.7026929399493311E-2,0.30886323652380576,0.12277138378904084,null,12.121558738590981,31.103960771428866,17.500924892389126,0.11167895463117772]
[312,0.90055693640234435,0.31000949926208721,0.33687986679545801,4.9736288337258849E-2,null,0.51021060607678337,0.68089355801372176,0.46832659860194203,0.61863630725677832,null,10.051193977669147,36.410596851183747,17.920522964958188,0.15996273940371986]
[313,0.4506365259137427,0.2126480363784935,0.46368316715819635,0.49452837882292511,null,0.52482290475664117,0.36670079705300285,0.46790723872490159,5.7247344561574875E-2,null,10.124523997132851,33.9781875072796,17.919468416059402,9.7915810157936892E-2]
[314,0.97193147485082454,0.56999623092489804,0.55045855858134751,0.84455125521738472,null,0.91775104786601802,0.21186254598724941,8.3340754394221617E-2,0.94205626648749419,null,12.780204011855311,32.600074016655803,16.617054275980152,0.20188497838206637]
[315,0.52407355778177411,0.10930034160432545,0.82902054251655166,0.27954934767699724,null,0.74385643474165852,0.49848150062207919,0.69508081480516426,0.32183538957429869,null,11.31056113298105,34.988581031999765,18.51030418623878,0.13473510543184203]
[316,0.44219010452927288,0.91020986072284338,0.4955957737138359,0.53592121625533262,null,0.31919141931698614,6.4453564114034245E-3,4.0483610310432239E-3,0.91835508956157907,null,9.0600778802965944,27.539676906949449,15.351990377786624,0.19600503641559219]
[317,0.4475802747703741,0.2387337010998225,6.6384660279553032E-2,0.57766353861482256,null,0.65634720383468004,0.55785504111335171,0.58662668257687522,0.82754177884250524,null,10.805028529591439,35.436599551327141,18.218876009709483,0.18116835524808531]
[318,0.88219050507575203,3.7194823661977794E-2,0.82843673641109916,0.90098954978952606,null,0.72379970744957989,0.48952715649598633,0.86164631834616234,0.92516214525937457,null,11.188333512588096,34.921236375366433,19.08774575331136,0.19754236973815925]
[319,0.1049743806517851,0.18391881267632382,0.95200269431612095,0.45795732125174848,null,0.57475171887766274,0.2637325943599137,0.55807106267396167,0.26976013194777981,null,10.376969772412579,33.10435952085497,18.146080456127901,0.12975322599557276]
[320,0.27609506630052305,0.2545499714628634,0.64421947380704969,0.46916241071193021,null,7.285820359576789E-2,0.71939171024263371,0.92521132130046468,0.78582468343533973,null,7.0903405526778798,36.743106270299386,19.441025929907862,0.17613656839917247]
[321,0.59129067637147459,0.44570525145526707,0.42193627356953611,0.80492235075663965,null,9.4802258345602075E-3,0.74319793659589906,0.9366078295950494,0.84854588063713832,null,5.3073847683324811,36.959708084417414,19.526906187299758,0.18399715484480156]
[322,{"$f":"+RAND()","v":0.20125446289933402},0.89191353255620787,0.39929050692676371,0.30960513127065892,null,0.56052684054922985,0.913712545910768,0.24311614884002763,0.9116305210950042,null,{"$f":"+IF(NORMSINV(G330)*$M$3+$L$3<$N$3,$N$3,NORMSINV(G330)*$M$3+$L$3)","v":10.304610158740308},{"$f":"+IF(NORMSINV(H330)*$M$4+$L$4<$N$4,N325,NORMSINV(H330)*$M$4+$L$4)","v":39.091930012523122},{"$f":"+IF(NORMSINV(I330)*$M$5+$L$5<$N$5,$N$5,NORMSINV(I330)*$M$5+$L$5)","v":17.303686144024745},{"$f":"+IF(NORMSINV(J330)*$M$6+$L$6<$N$6,N$6,NORMSINV(J330)*$M$6+$L$6)","v":0.19457851656039199}]
[323,0.47390627840817712,0.66177479002899464,0.62956489548717287,0.34952996046563467,null,0.43339423606099525,0.20198348487617834,4.6945658212590446E-3,6.8674750134265383E-2,null,9.6645216411219117,32.496327872607836,15.402449512766214,0.10097077882651112]
[324,0.357765068811424,0.10153153440156681,0.31541752434799408,0.29776266198980283,null,0.86119578129978669,0.25976985560557586,0.51564029185425198,0.18563826646443637,null,12.171414927966387,33.067834730409395,18.039214445952005,0.12049520231820759]
[325,0.13901201270080987,0.98367079188783679,0.55971834738505688,0.59609589445723077,null,0.46099817571387824,0.66261837087998221,0.44397472442016395,0.69927466676460781,null,9.8041613420144866,36.258859249569227,17.859100641380159,0.16723641208994261]
[326,0.32890478433791548,0.49420295625370803,0.36376733555452245,0.35302980770397396,null,0.27895561646169087,7.1510464488387493E-2,0.57401058705638108,0.61592960443266476,null,8.8281063013507239,30.606099411279789,18.186594185616833,0.15972865379086904]
[327,0.20206246316466636,0.3794227237494785,0.73040680473309139,0.58604508874153682,null,0.23748284582546597,0.47631744939946175,0.86160432300004308,0.17608600094495419,null,8.5711541219578464,34.821805219494124,19.087555569825884,0.11929730900992136]
[328,0.28659296924677702,0.60998791668649877,0.24748815486502918,0.64348511659253282,null,0.58388114320135365,0.88631269258129275,0.77497392149223276,0.80261490320761164,null,10.42366499722333,38.621448186668729,18.755328075499623,0.17808295005132782]
[329,0.63234971337292012,0.53513536797392747,0.89994485082051157,0.44519933328249695,null,0.89961318193444728,0.14092845218612604,0.23212657544057802,0.94271048027862725,null,12.558701116777094,31.771528042989154,17.268138571606965,0.20207207099630495]
[330,0.43359529285644849,1.7404303638044016E-2,0.62807114070353598,0.40194400101701722,null,0.91056787542409034,0.38105225104560969,0.7188789311860907,0.10811089494301807,null,12.688520472351456,34.091844909897468,18.579514393236561,0.10919097124766491]
[331,0.37717502249948465,0.57078275830599789,0.86190352392019365,0.46070992388881349,null,0.83612364616361146,8.2177574735791459E-2,0.14062912427109109,0.21652743626792448,null,11.957300960657781,30.828282986655445,16.922502906469056,0.12412883021846238]
[332,0.6430974243881864,0.73519507669406936,0.77339082553526306,0.47665503062226844,null,0.24554752995834705,0.82362134883671423,0.6358279379204369,0.12989738303809595,null,8.6228636681881472,37.787762960709479,18.347329056310134,0.11281308062322637]
[333,0.59699517605885966,0.40543934345458532,0.59234246656062151,0.17732216272982715,null,0.40014132862773366,0.90966516926974883,0.69044602591093729,0.36338374121674843,null,9.4940373832897667,39.016087977330272,18.49711501312137,0.13846885256234198]
[334,0.46342074026948454,0.85270825447913867,0.2887791744693109,0.59385404894986549,null,5.1153872804001299E-2,9.6898290996950798E-2,0.99760509871224667,0.7434490749468794,null,6.7324656348312857,31.101711576478703,20.820840403615833,0.17158250993738766]
[335,0.12234424145969514,0.38906586642962782,0.67519367930729146,0.54686846366450947,null,0.32332610237213744,0.70749543232368384,0.2386498733494099,0.60916053742611487,null,9.0831641185096661,36.638247906884075,17.289347734658506,0.15914534852782258]
[336,0.23371090047221421,0.12586566499385832,0.24212644807035943,0.28146879319183316,null,0.5436509954737172,0.70701565603437089,0.14855708483000374,0.97865146231610023,null,10.219272125630798,36.634061520689841,16.957358086678063,0.21687981885696161]
[337,0.70315626447812041,5.934240772248478E-2,0.28288700729770899,0.23320900666001965,null,0.53643574066397093,0.22998083429359883,0.32306957271242442,0.63119413213141773,null,10.182916399701924,32.78327009356812,17.540867675598761,0.16105558403840828]
[338,0.78543426433077301,0.48538725467348232,0.17388205560403991,0.65708294958300251,null,0.49293354811820056,0.17784863119890282,0.23962376003325125,0.41257910139377363,null,9.9645722111433219,32.229215255391296,17.292486651005397,0.14270978741797621]
[339,0.72710954572213105,0.653037358577091,0.2851770898558188,1.3303333069145107E-2,null,0.63477405133001796,0.76377672674313857,0.5206002393904996,0.5942599516159579,null,10.689048938405053,37.155512174798105,18.051660111459267,0.15787106248572733]
[340,4.1745118053102215E-2,0.19326840728250183,0.35872709805012726,0.96034328645225475,null,0.32835460941332584,0.84764539558640473,0.79791898381265247,0.81603206027581254,null,9.1110777215532224,38.079160964609969,18.834211108666,0.17971143468111256]
[341,0.81605181372801416,0.55329955791144014,0.90811637997358163,0.40874733237687366,null,0.53329038537180773,0.47941295636974146,0.7864789605909025,0.32537134042108506,null,10.167087404996312,34.84511902863445,18.794263447298761,0.13505988738170929]
[342,0.43141497246415816,0.73038885486222804,0.20856910597651268,0.90598153064183407,null,0.37033313739824869,0.64046694905182378,0.63942637681388381,0.30179983826379808,null,9.3380576927048793,36.079121621081526,18.356925944450207,0.13286537760690698]
[343,0.80018839667545394,6.3861660561937095E-2,0.57712867281717173,0.3834578741736635,null,0.6977686728486584,0.26107577709994834,0.8677745025972794,0.40843435874120226,null,11.035987430388188,33.079902885972196,19.115932579765499,0.1423580500931545]
[344,0.45971444223438185,0.59500747817541999,0.71232432185427363,0.70931040291464387,null,0.31106257812276628,0.9658811233313267,0.26331328736817095,0.54740768057128053,null,9.0143186168512557,40.470300639488485,17.366836034797878,0.15393077868055219]
[345,0.49654406588419342,0.82906883459117697,0.76761935258014369,0.48946553255287251,null,0.49550841856236416,0.98996881068685261,0.4461261347993436,0.21030486765441769,null,9.9774820742056285,41.975537681510296,17.864545162573094,0.12342299232873653]
[346,0.60378104691957435,8.6515635255950851E-2,0.27917870767115449,6.7899785699992443E-2,null,0.5255876122232791,0.4031836555099696,0.53582244237235821,0.19501706765320004,null,10.128365341818375,34.264654698543154,18.089914554408914,0.12163466977766124]
[347,0.73443203888899411,0.65430210301370095,0.25097452044942326,0.22850291918388121,null,0.83390991832182371,0.67932655204564685,0.66341459960656324,0.35980464423572966,null,11.939463727853193,36.397449322339355,18.421800280725908,0.13815362635759662]
[348,0.28366479894830898,0.13752459211915136,0.54576710945318885,7.1941990401294342E-2,null,0.53032032310589028,0.20389980994773049,0.56004689536229768,0.75554022683438149,null,10.152150190582695,32.516683921727108,18.151088113040856,0.17283693445595338]
[349,0.5568167866887811,0.92928712487159848,0.73525028318868013,0.13148854121532494,null,0.31541841099169377,0.55839014403530551,0.6871748657751694,0.46489576884402095,null,9.0389013028795908,35.440666705596705,18.487858221834159,0.14709246504994491]
[350,4.0634916861711612E-2,0.85246720829652167,0.81337726349294159,0.80104116305335049,null,0.62727607489061254,0.56965775182413114,0.47399404650010302,0.65764357136174789,null,10.649295060066779,35.526508684436713,17.93476650530059,0.16339933585063229]
[351,0.22238667172398174,0.10242008486088128,0.69690188118187624,0.72725801301199178,null,0.48102873090953779,0.15408512571396304,0.81415107937849707,0.23513088796341308,null,9.9048562868330681,31.942793261237888,18.893297565742529,0.12617224471941255]
[352,0.46267073376710388,0.9461019067327513,0.48810118977408556,0.66613576155116294,null,8.5321136898571015E-2,0.93052606548261152,0.88998601329641625,0.78482145751330967,null,7.2597140421257027,39.439161313418992,19.226453740142254,0.17602316478585547]
[353,0.95061699349266371,0.2500573722694589,0.26196372263657475,0.77268297396132246,null,0.73799579477145449,0.14917658323361782,0.88209756071791123,0.48964073143795572,null,11.274357522101896,31.880085659358748,19.185537799644401,0.14914299810780277]
[354,0.86886863537092118,0.45943592258720189,0.1442524813590943,0.31989657699949192,null,0.78661805049683142,0.43262993406118033,0.87281918913220968,0.25495737009431507,null,11.589482957136614,34.490952616965153,19.139819226996835,0.12825397493328822]
[355,0.25212190747801932,0.96625961641940894,0.90854310121114124,0.95846398018285728,null,0.35392320097743435,0.3800935754434116,0.65572144635274154,0.93696758948192072,null,9.250499997417764,34.084294895651688,18.400813950234639,0.20048358933429386]
[356,1.9126069348971875E-2,0.45735574855517092,0.84936732179964802,0.59021772914541126,null,0.71949031971165101,0.16668001163937018,0.24572529876185067,0.67925328628414916,null,11.162656155402967,32.097895532765996,17.311996532092625,0.16536518791012239]
[357,7.290398330419301E-2,0.44576064173118402,0.87666812547410411,2.5241163663742183E-2,null,0.42303714750809629,0.39288250419372384,0.94759726030791658,0.14296670487740637,null,9.6117405189740044,34.184557876916195,19.621990046403081,0.11478619171857929]
[358,0.85309582550340379,0.10828782115658553,0.8471685387907596,0.48640620622514319,null,0.89849638292917933,0.57559145681568313,0.94118567639870043,0.3104371621536397,null,12.546060915199977,35.571883866955226,19.564804965132407,0.13367781775917514]
[359,0.37225584844043491,0.5333365278925849,0.9604063861489609,0.47736102486615239,null,0.82333689902193041,0.63607504036944817,0.70486874339883776,0.67800488096761857,null,11.85631374522109,36.043961109119678,18.538455653454349,0.16525019150304765]
[360,0.14078900905131198,0.24440411194345046,0.71702532605473657,0.96516145651004182,null,0.74494921560682081,0.49609092369455576,0.6796897750432549,0.78491574246756357,null,11.317359096501381,34.970603726004924,18.466831482048438,0.1760338095638386]
[361,0.2540854971077493,0.57384987345447869,9.9161194695315258E-3,0.24268396346457632,null,0.75673634248934984,0.4276408514862946,0.43803233519692963,0.65133824889733338,null,11.39168549535696,34.452849229487221,17.844040151838342,0.16283488748029659]
[362,0.47647734620727289,0.38226128539753657,0.43180376937740172,0.38028869181783664,null,0.757514734300753,0.80014571243964416,0.77031867109979513,0.27694980328169982,null,11.396660993315574,37.526425459932135,18.739896731559096,0.13046641559346675]
[363,0.8659149542614557,0.55780628152297618,0.66428540094666821,0.72104023019192065,null,0.84947541771136803,0.41753722886595401,0.65991058797344226,0.75482166451861232,null,12.06837222757582,34.375406336537019,18.412219120142399,0.1727614743294783]
[364,0.68521526512773812,0.19648305731921556,0.68415698500842692,0.59978927403682836,null,4.9797748504212591E-2,0.54571624223463067,0.93453220858410435,0.45684166711554519,null,6.7063643558808543,35.344536758545054,19.510422767204513,0.14642300523186549]
[365,4.8793063491089472E-2,0.73407979990970196,0.85427924723141047,0.64440432946175907,null,0.56801436807826311,0.60311504086957146,0.20287539577632663,1.5861854464704339E-2,null,10.342642267377775,35.784255008737603,17.16860547600033,7.9120134151664495E-2]
[366,0.42407499601064547,0.33679475876291209,0.91164091585842966,0.20117283244383521,null,0.37809226969211329,0.98267784539595859,0.77160313028823735,0.99933570802275451,null,9.3790099427212059,41.337474676951715,18.744136764599649,0.25592118360181126]
[367,0.50896870834740571,0.94087456543433223,0.59950250753646717,0.29484305843973857,null,0.7227350495305731,0.4754399818269911,0.88493545907836302,0.68485986368933816,null,11.181971702957247,34.815194676018344,19.200026414777138,0.16588396922358803]
[368,0.20729803193228225,0.90037109473995502,0.5981915679930937,0.53123457643429195,null,0.41142657742284394,0.28998806778550035,0.30713043100724968,0.10670912863381288,null,9.5522463649625404,33.339741264752092,17.495999267175954,0.10894070882496823]
[369,0.84003588383596373,0.11780297288796249,0.56858032315092966,0.78348925649542545,null,0.19409812908228774,0.84627332166681335,8.9585875619181077E-2,0.28069705502096776,null,8.274213848828893,38.061740711295592,16.656690419693305,0.13083452309382787]
[370,0.48438649371487519,0.76106671037249951,0.45986111562039322,0.51106817126953286,null,0.46254666354152285,0.46513372370818107,0.42341583326541365,0.84078119179633581,null,9.8119601452136109,34.737474945704584,17.806837449245446,0.18292323168591904]
[371,9.359438138654752E-2,3.6243811625206179E-3,0.73715754016462787,5.6877906925237087E-2,null,0.16229740813690563,0.18868045261209443,0.58021070238581895,0.70347805975054445,null,8.0298808813245479,32.351691958132051,18.202432535501945,0.16763619893326062]
[372,0.32893550380252712,0.27188863925874251,0.88527064709215297,2.3633060464068656E-2,null,0.71113694547633366,0.62314727564078087,0.89201046908042136,0.43961479603770015,null,11.113418461697854,35.941271618596033,19.237291016378368,0.144985784734039]
[373,2.7080327755696576E-2,0.14933178213544529,0.37749299222130628,9.0393976027117073E-2,null,4.6172855449925221E-2,0.77609268638160478,0.10005821978286766,3.1542855935732361E-2,null,6.633696420730133,37.277190223314129,16.718780103770843,8.866663148723973E-2]
[374,0.19250007685968917,0.77112323940716954,2.5303779820541661E-2,0.70323498984158983,null,0.44929246433502446,0.63891392799657887,7.0686901112527623E-2,0.59813778118222294,null,9.7451017287293809,36.066671828537345,16.529305677158341,0.15820148674810841]
[375,0.4334018806501555,0.15249724655082419,0.37150925801402623,0.63725814123732438,null,0.58406882977001273,0.45932595549724875,5.5220182149127939E-2,0.17138772012352443,null,10.424627316805825,34.693604035944006,16.403783048864565,0.1186930444037422]
[376,0.56571197376548155,0.2588916383222406,0.72926808217408401,0.53302840970761223,null,0.4690585378436295,0.60235195522757146,0.41387288377410048,0.2162813141481662,null,9.844726669374662,35.778318758946646,17.782406394954354,0.12410113787496924]
[377,0.68152772591660227,0.44660654593181315,0.86424141007906474,0.16828656828009503,null,0.37039117032494506,4.0743270942044219E-2,0.40105888733364559,0.75482611133646504,null,9.3383649980287622,29.773624450664897,17.749392748432172,0.1727619409477377]
[378,0.18434361167687141,8.8073996717614955E-2,0.2998108022321837,0.28557143420645259,null,0.55582092204715239,0.31810295881697237,0.16849459069177486,0.88520036510114231,null,10.280764058300157,33.580969465319249,17.039868787613035,0.18964592817925374]
[379,0.69316638335176106,0.15657184259908452,0.98071987447963682,0.25001621533440221,null,0.77006484173942147,0.26326258022334248,0.57393537255612659,0.81087968285892109,null,11.478120816861018,33.100042137249503,18.186402343376198,0.17907770629641012]
[380,0.30447125966744337,2.7926696116630567E-2,3.1135649994412873E-2,0.14075374546295738,null,2.6019429237400193E-2,0.61555483446927794,0.72819036210898835,0.62895503955472765,null,6.114375685535931,35.881480101848361,18.607349076304942,0.16085987139742733]
[381,9.692939661027633E-2,0.87570570699170858,0.77097202825394018,0.40364877867673454,null,0.42990827082163807,0.46214395685597875,0.3192634799293893,0.26469276478364301,null,9.6467845903382567,34.714898350056494,17.530240650031729,0.12924483846057833]
[382,8.7843828983788064E-2,0.20874674652077763,2.4237483507856261E-3,0.63229490959548051,null,0.223263201432092,0.16086776740617603,0.3783597113867041,0.3048822457598187,null,8.4775624397671212,32.027306895388428,17.690208377586714,0.13315648126143814]
[383,0.4480181763895269,0.85961032788788894,0.88353468291382364,0.63475987089158992,null,6.3106872194848007E-2,0.85226260583545876,0.39238335356299825,0.20070682467283918,null,6.9415909112830931,38.138560450288232,17.726887459485063,0.12230972665583874]
[384,0.78389741738457397,0.15893440789910951,0.70969665193516607,0.2978654863577479,null,0.40642493272968483,0.95591783383745943,0.29359339243021032,0.81977508937951449,null,9.5264977377400673,40.115484111998882,17.457082759292945,0.18017877373420493]
[385,0.71877072676907494,0.26171415847029333,0.89834438381060144,{"$f":"+RAND()","v":0.28143899584395637},null,0.3429611419675842,0.26286615866610763,0.20814778036762815,0.7639670325898501,null,9.1912100205161043,33.096397687874287,17.18713516983069,0.17373101627216897]
[386,{"$f":"+RAND()","v":0.14073655854785505},0.6471796511053266,0.36822144282505898,0.63520099595659818,null,0.18176359325306479,0.58867436106140791,0.31843585810101871,0.50948851313757737,null,{"$f":"+IF(NORMSINV(G394)*$M$3+$L$3<$N$3,$N$3,NORMSINV(G394)*$M$3+$L$3)","v":8.1826707652422961},{"$f":"+IF(NORMSINV(H394)*$M$4+$L$4<$N$4,N389,NORMSINV(H394)*$M$4+$L$4)","v":35.672408783299545},{"$f":"+IF(NORMSINV(I394)*$M$5+$L$5<$N$5,$N$5,NORMSINV(I394)*$M$5+$L$5)","v":17.5279228424052},{"$f":"+IF(NORMSINV(J394)*$M$6+$L$6<$N$6,N$6,NORMSINV(J394)*$M$6+$L$6)","v":0.15078495179923776}]
[387,0.70484646143622398,0.96813971474198979,0.88568934637685959,0.71971473594590074,null,0.49924032307712429,9.1376632273256764E-3,0.72799293693115863,2.6803974578390455E-2,null,9.9961915423894379,27.920023834937115,18.606754080700441,8.6310296001091968E-2]
[388,0.34102851931722966,0.55336579516811868,6.4353347905115488E-2,0.18781019727750647,null,0.26215186370203725,0.38046958291141741,0.4957816218042671,0.61851429250799561,null,8.7265492051497517,34.087256817229338,17.989425896893461,0.15995217641132278]
[389,0.90837221650584332,0.65316531206217343,0.79839769790552506,0.69610287933167103,null,6.3454177783286547E-2,0.62745187159947258,0.471779350481219,0.7165538778509406,null,6.9471845546583761,35.975336199757344,17.929202222847273,0.16889693610275922]
[390,0.38558000346084331,0.15894934610709321,0.98917887706387009,0.52836401666822164,null,0.67228761932779635,0.75859256830850286,0.62734155508954692,0.61652663957020082,null,10.892477592398306,37.105347262297109,18.32482055093806,0.15978024510962219]
[391,0.5998811913535036,0.17665641302491553,0.65718104630111696,0.81830602883383374,null,0.39835964615865216,0.24993921864756441,0.1710186821647719,0.35333338205041975,null,9.4848094905070681,32.97595690024469,17.04985260605951,0.13758089624474609]
[392,0.34947185809634695,0.58629972889940452,0.39217080925488068,0.39498123953104702,null,0.47760874706867307,0.82423493909410306,0.53391334366022947,3.6060929367306205E-2,null,9.8876879031082385,37.794876373590583,18.085110789466601,9.0654512058885167E-2]
[393,0.32975843926352522,0.11846502168119666,0.27761176976662283,0.67295468414397941,null,0.62815347558048662,0.15716544646539343,0.52500929382689698,0.15131761584194492,null,10.653933460409744,31.98147186297318,18.062730119976532,0.11598364315716787]
[394,0.71918100561419063,0.93875730832220639,0.55529708606215822,0.75695237256885273,null,0.1950139840980486,0.18820449334404166,0.19852114618545469,0.4682959576444391,null,8.2808667103253413,32.346403391788321,17.15308462567128,0.1473747152370273]
[395,0.19411213964539276,0.18049403582086865,0.48882901070405083,0.77245995231174491,null,0.83198829636941196,0.40629770073912275,0.38439744811208143,0.49013822849042543,null,11.924104304873547,34.288762605196879,17.706048410994885,0.14918416365704421]
[396,0.18542598487871531,0.43650536441068666,1.9872322277216026E-2,0.56238102588153671,null,0.85611131278564268,0.45842042330032562,0.18311489090785238,0.37646673615520165,null,12.126020185250852,34.686758126963291,17.096441927206204,0.13961246748955172]
[397,3.2348975686656289E-2,0.46719621239310227,0.14422080658079151,0.14861869038093345,null,0.14417603704395299,0.22578603400596553,0.31153719089322174,0.86671498564195171,null,7.8765126849601454,32.741609789668736,17.508502163305351,0.18666287124631634]
[398,0.60319587578669775,0.21541984420179983,3.7536971782350714E-2,2.0310714356220005E-2,null,0.91763474894313191,0.68741465284969139,0.60550978012801693,0.3183044061078828,null,12.778672655435852,36.46560604465521,18.267634802005507,0.13440929749489267]
[399,0.6769422116023317,0.52827800631226396,0.73608665862082556,0.5041528871602865,null,0.59689578143285471,0.80612357007314128,0.79650362485966308,0.58773513218371587,null,10.490640593919123,37.591099201729016,18.829197339352731,0.15731685004232349]
[400,0.31896240013766697,0.50419265311338435,0.27663584545059583,0.96794739025102638,null,0.71290881400428274,0.82465371406622023,0.52185941068373909,4.7574710782248175E-2,null,11.123805229807783,37.799740308811735,18.054820863616921,9.4928334680817669E-2]
[401,0.57207599729114433,0.66245026429608611,0.23467195316274192,0.21863160840637352,null,0.45306312742553601,0.6543909076561949,0.4459348546779015,0.15113284332946164,null,9.7641479063231014,36.191607313256611,17.864061259652129,0.11595763278198148]
[402,0.67768925512464184,0.13451659718968623,0.51424616643087584,0.22289912875932127,null,0.71507162680937897,0.65711456428027049,0.98328840618745739,0.21974494791908483,null,11.136524976009747,36.213802803845248,20.126962638273689,0.12448918859698027]
[403,0.55269369717294947,0.10091923650790813,0.58623138746800763,0.32898223350366596,null,2.7237411195659034E-2,3.6955908083765032E-2,0.82256636160263696,0.69865665608299232,null,6.1539167481923975,29.638523414725327,18.925189629779808,0.16717784691010729]
[404,0.5796088525116232,0.54190173667247821,0.80817256883857447,0.44363440163722911,null,0.53615319231339897,0.78171336434849448,0.69428157845332472,0.27397915730745814,null,10.18149402189024,37.333978331420887,18.508023528135563,0.13017286236934023]
[405,8.3394043222778214E-2,0.24192501147362877,0.47503635896132623,0.41986397643530071,null,0.90935938213725187,7.9825211682402086E-2,0.76860912095810363,0.93687468896222992,null,12.673641001295556,30.781255272747238,18.734274004345551,0.20045883998420799]
[406,0.85077330875191082,0.50778412103810855,0.66483744084346419,0.63506681636286388,null,0.6448215311943376,0.21568545693855201,0.53220914846367662,0.5241992393314614,null,10.742753506828958,32.639456322897004,18.080824274361461,0.15200295954755016]
[407,0.59755150989498396,0.90522425344982538,0.80613733572961155,4.3465424117004603E-2,null,0.13440476150672609,0.29460170173245304,0.37316167400138278,0.52505570449481753,null,7.7883834982090905,33.380027714696993,17.676508901736995,0.15207394056580945]
[408,0.17766221399855753,0.57082378227471631,0.19355393927068842,0.72542800018218412,null,0.67385148549215379,0.40849793767108045,7.1576899932276339E-3,0.38824042811807735,null,10.901146834955682,34.305768371146947,15.550749374353032,0.14063103473782287]
[409,0.58660246040903219,0.9316885079749837,0.53340148131613629,0.17250850914553184,null,0.76134887752497238,0.5631477389549886,0.86499309687013082,0.53954776768212298,null,11.421296469652473,35.476864260060239,19.103030762459678,0.15327671769225848]
[410,0.93037312122033933,0.32814266932845271,0.72136902011421522,0.7075727307613533,null,0.29845674614852891,0.94615838252261908,0.5168691786703391,0.10064618855973806,null,8.942311482050755,39.826082458923892,18.042297368981817,0.10783001952718471]
[411,0.42554120950552021,0.12421618831675885,0.50479604823730162,0.50399117591600429,null,0.45772822659545009,0.43554775331442919,0.66570533620715755,9.0760858876387074E-2,null,9.787682637416653,34.513198642645399,18.428084875749629,0.10590921777216958]
[412,1.0353730171439923E-2,0.86318877840991082,0.85866005388805,0.58815729933367189,null,0.3593562198334993,0.44455025142748761,0.98721387106084402,0.28831675730202722,null,9.2796397581056187,34.581672547869587,20.232646609295074,0.13157580852499995]
[413,0.95378639872934079,0.32505099447521302,0.66111108586264955,0.87404377769673258,null,0.45604722287550969,8.124306366331846E-2,0.58694237087145917,0.96449090486275824,null,9.7792057818760245,30.80972371753538,18.219686578344124,0.20957691712947349]
[414,0.78833107689309567,0.9187504580781829,0.42059722832788426,0.69886378482273903,null,0.88670200226498885,0.40005451126542058,6.9489658178239821E-2,0.15132152461907922,null,12.418348045826889,34.240381970091597,16.520397340526241,0.11598419316639151]
[415,0.92077666196855346,0.97901464976170705,0.83695434612372943,0.56321432244640002,null,0.5669015376590284,0.82276880202097402,0.25700233290659036,0.45303721792913643,null,10.336982251025589,37.777905238262662,17.347385237220184,0.14610628229109432]
[416,0.79023796292506332,0.51518565757072821,0.92611395224328663,0.55395101060301277,null,3.2132041090141006E-2,0.62144806912281603,0.8794722016285379,0.2551126515032156,null,6.2993133530917893,35.9278584649526,19.172352412616291,0.12826993183705668]
[417,0.70316261045560735,2.838689106292458E-2,0.8865176780104036,0.19422577756312975,null,0.70188578123204359,1.1384469392754837E-2,0.74071644349372145,0.62039484549392609,null,11.059663938833094,28.168131260759957,18.645555733615168,0.16011509260997298]
[418,0.53944268587521471,0.6298037019863556,0.82076917927613335,0.84705842120884878,null,0.33133657589489074,0.96529413912580653,0.17787677657700129,0.23592052362467542,null,9.1275490645086954,40.447191524704856,17.076513155821957,0.12625693639220356]
[419,0.26400429605712417,0.16640479280213394,0.23348938343306469,0.72742562177642589,null,0.48278199556591572,0.44687633450342967,0.6807664041287067,0.20875484222572616,null,9.9136549113533494,34.599328167344417,18.469842998198402,0.12324527476814535]
[420,0.82949871168071665,6.7505713482731045E-2,0.11800737283683571,0.30019924098119155,null,0.81233376035150795,0.22119516078921531,0.52536850379553013,0.94726190383077791,null,11.773058203805832,32.695510845139246,18.063632324815771,0.20342256349194518]
[421,0.68633881020271226,0.34492546544160041,0.76735471301908731,0.67962947264973594,null,0.7611236676903097,4.1910400998059427E-2,0.22093505316623274,0.21716238887174022,null,11.419843491431475,29.813196222157728,17.230960911816847,0.12420018772138008]
[422,0.97123542618562653,0.82815579539579853,0.10472943501527687,0.41944802662817948,null,0.72821515151730531,0.77842398325766293,0.46518362536481517,0.9417343607459342,null,11.214847602527113,37.300644199541715,17.912617212632256,0.20179352848330429]
[423,9.0669502189147044E-2,0.57543079045342915,0.98740348278265222,0.6204117528401053,null,0.95383004755079237,0.8451114970196637,0.32158146076146887,0.13277349975327901,null,13.366363579948162,38.047070160847341,17.536718942238714,0.11325859364463213]
[424,0.8127437729590774,0.67509147951528059,5.7271269599608599E-2,0.87531023572716127,null,0.82856159759370818,0.30892416995162253,0.11292565457259818,0.89195980885207338,null,11.896992799338566,33.503293637558372,16.788884936920539,0.1908215955894623]
[425,0.45850047146759643,0.43933388015823538,0.25198485316873831,0.5863272911719194,null,0.63763555877864431,0.85072628959192098,0.66089158408242488,0.52134979109459656,null,10.704291705450238,38.118660301436854,18.414897647804349,0.15176687148898257]
[426,0.10089329223974042,0.3673764151509189,0.29772561510644591,0.83804865128026174,null,4.6717751588241319E-2,0.17378550988924646,0.60412346275683448,9.1654640767766304E-2,null,6.644905348363114,32.182066574576496,18.264034837561205,0.10608905916790709]
[427,0.86917410622692048,0.89141405391883721,0.8142379699240061,0.39783393221132379,null,0.87951946397253189,0.2581930398173371,0.54702971620599616,8.5229395350408632E-2,null,12.345175959330138,33.053221402779918,18.118160398387264,0.10476587311928778]
[428,0.52242895080503393,0.67872876416293826,0.38353715658016496,0.49671330255100143,null,0.27319554703134707,0.97145141549374669,0.78872896243371871,0.60741749731518691,null,8.7936464432113475,40.707698692974105,18.802018814225658,0.15899561570467799]
[429,0.34187854840361187,0.2780677250156196,0.23449350800624302,0.906652375131906,null,0.67559762613205898,0.14336501455350703,1.2190950098576958E-2,3.597781623751195E-2,null,10.910846566889207,31.80403259836153,15.748942570087756,9.0619842356027047E-2]
[430,0.88622460767658018,5.3308485012528717E-2,0.78113593542548487,0.28294963902254167,null,0.72027443915925526,0.49967730003608857,5.9952498029858248E-2,0.30181695905205919,null,11.167313943695737,34.997573333174081,16.44482751755864,0.13286699816709732]
[431,0.69014592118153972,0.53162963465542667,0.93593798172279441,0.68010501988549754,null,0.62204455817857074,0.87947420559565981,0.7054641724860472,0.74145387434600918,null,10.62170992603523,38.517087198669302,18.540181811214051,0.17137852561403621]
[432,0.33074744362716779,8.8296027367875118E-2,0.14772526734731672,0.44103504706368346,null,0.70917410462910258,0.62376555603357897,0.7282456791656633,0.33360769518117073,null,11.101947145808866,35.946156843348518,18.607515828179409,0.13581089592312787]
[433,0.6204474789552894,2.4723275684907398E-2,0.44608212913966294,0.88178405541913762,null,0.23567897045111152,0.23262287408262849,0.8251956849982589,0.94511353069531134,null,8.5594572996793428,32.809291053950595,18.935348690777364,0.20277408012709239]
[434,0.18034113071218072,0.53305085103531125,0.81945464690222358,0.94453557404282196,null,0.31150486191015636,0.21578869397244882,0.80690168271525908,0.71675510644825313,null,9.016821441639026,32.640514184249653,18.866535377220661,0.16891655037946157]
[435,6.929326012135939E-2,0.95531723416420689,0.48156949168741248,0.30793296224080058,null,0.16611471148738466,0.9415093494164497,0.52258321771199634,0.72455929692332222,null,8.0607338603776189,39.702712785049528,18.056637998639598,0.16968251600751616]
[436,0.43414169295975136,0.17820138722535905,0.48932589052256037,0.83018443764869343,null,0.48016969328097237,0.26491095264669273,0.96817902918771348,0.92825863952198695,null,9.9005446105623758,33.115166294509535,19.854679963667316,0.19827714982216144]
[437,0.8283301981430008,0.90027338615279595,0.44669839073272988,0.75427431439440196,null,0.43853288028030502,0.54895361686395927,0.51191349284371956,0.45558376400502776,null,9.6906201182688534,35.369054295577378,18.029867137894026,0.14631832184475502]
[438,0.86322161106480011,0.20908573877019399,0.61606471762253212,0.1844339810679877,null,0.6556717238325207,0.96471231256018342,0.28791158769880654,0.99393400116408737,null,10.801357786895181,40.424600072423893,17.440503875478839,0.23277328925141733]
[439,0.74560739435783363,0.20118447912275184,0.95194194473370664,0.97503600098831111,null,0.7807537734606349,0.57628884406498193,0.59646094282566142,0.62335269131064597,null,11.54948289903871,35.577225204656052,18.244197175678359,0.16037183833276197]
[440,0.21918931735683755,0.65032578906352778,0.8825612324976333,0.82506890182297454,null,0.41280829351004178,0.32611262531484664,0.74609023200697888,0.93339413579060604,null,9.5593462393831512,33.647981024281066,18.662236702091807,0.19955135892131096]
[441,0.88981365532361834,0.92089591795958403,0.76082369392886406,0.24734575924343116,null,0.72441290252381485,0.38705531445721442,3.4892970174560944E-2,0.93686942338379153,null,11.192003088912545,34.138993373362744,16.186702445902739,0.20045743804686711]
[442,0.67307565581476314,0.69988037736677444,0.85391520107134511,0.59614769985559601,null,0.89175249569423176,0.35016669545056334,0.31698855462193809,9.6437529849142445E-2,null,12.471803918828225,33.845388612541541,17.523863463949844,0.10703001030852782]
[443,0.3872932718847224,0.31112211326064243,0.83310637522917264,0.60917042298848856,null,0.99911472560624737,0.71007362243554872,0.39461556419850086,6.2048502194131494E-2,null,16.252487013969404,36.660799434244396,17.732690831890249,9.9252529944823698E-2]
[444,0.56121417487283587,0.63265604582324175,0.29002352828867162,0.16926626108270049,null,0.29482022596105473,0.60052577439324328,0.16923409143664581,0.73291577019301102,null,8.921285729161502,35.76412472116737,17.042803697273481,0.17051462943741455]
[445,0.86892094503730577,0.4929185671909424,9.6098324279880853E-2,0.6362782503040596,null,0.45109234580775548,4.6294710693385199E-2,0.56205878721208358,0.97384189654659292,null,9.7541959741145163,29.954318387014851,18.156191057162133,0.21403724672607011]
[446,0.17779431991816319,0.35299577875855492,6.5218842881437755E-2,0.77065592729613241,null,0.74044565741061097,0.50186953070033125,0.98948561569036808,0.87066679381920831,null,11.28943990105353,35.014058706997808,20.307467561121989,0.18727510908729117]
[447,0.13997520587977907,0.21507726560769713,0.1543912475100867,0.89616960381534316,null,3.3306276388436751E-2,9.5169595569854049E-2,0.69510374224995619,0.65302163213357867,null,6.3314415012628942,31.071270929847174,18.51036964989186,0.16298520899929769]
[448,7.5601126902759663E-2,0.73738647650779865,0.95104541783453889,0.20271563947385185,null,0.67293803462158219,0.69617906586473377,0.15997319319971592,0.953970886555221,null,10.89608110307903,36.540327305214625,17.005431936044793,0.20559308959808403]
[449,0.60754555038892111,0.7969097143660282,0.17870971934121671,3.130180192008214E-2,null,0.49380832162685417,0.895787730321984,0.34743134757159577,7.7499046406060645E-2,null,9.9689582815800968,38.773728070728843,17.607735370416862,0.10307079891204701]
[450,{"$f":"+RAND()","v":0.4081831357194573},0.42850358975258096,7.5879698313652266E-2,6.7417243091453471E-2,null,0.11575422257903467,0.48507451965007164,0.40465595202416882,0.97766793991105672,null,{"$f":"+IF(NORMSINV(G458)*$M$3+$L$3<$N$3,$N$3,NORMSINV(G458)*$M$3+$L$3)","v":7.6070356227043296},{"$f":"+IF(NORMSINV(H458)*$M$4+$L$4<$N$4,N453,NORMSINV(H458)*$M$4+$L$4)","v":34.887735910669697},{"$f":"+IF(NORMSINV(I458)*$M$5+$L$5<$N$5,$N$5,NORMSINV(I458)*$M$5+$L$5)","v":17.758686184532557},{"$f":"+IF(NORMSINV(J458)*$M$6+$L$6<$N$6,N$6,NORMSINV(J458)*$M$6+$L$6)","v":0.21625753306980822}]
[451,0.94785788087492151,3.76023042905963E-2,0.14612068184652982,0.82549896909160814,null,0.78841935394232088,6.243581213391669E-2,0.30950820311695304,0.83353603068498716,null,11.601897582795576,30.396071977614028,17.502755162504837,0.18195169420860957]
[452,2.2138000629561949E-2,0.22809841669789721,0.5901317672492844,0.58036737415484396,null,0.96314677913241054,0.82515899824322259,0.41523377677333095,0.22263640454360001,null,13.576862705551918,37.805618835457715,17.78589804791098,0.12481045282898272]
[453,0.1482714436775785,0.13075305865652631,0.18426764149063046,0.56330895663798064,null,0.24037945061441957,0.25431630913987169,0.5884583931887567,0.36054823932848212,null,8.5898350154862477,33.017094983839087,18.223581174261479,0.1382192059857261]
[454,0.77837526569998305,0.72648120583037878,2.332300122204467E-2,0.8748983356767186,null,0.74419858172604869,0.16184345095502295,5.9500550573187594E-2,0.86419345980652307,null,11.312687927124104,32.039270859367768,16.441019946101964,0.18627872790543501]
[455,0.67531222036289995,0.15710906573132555,0.18224892514098912,0.44077197776986077,null,5.2552004784862327E-2,0.94531636031198385,0.61869418524556552,0.68948272348244477,null,6.7588051939855838,39.803130573484431,18.302053040648509,0.16631469342882416]
[456,0.31247475996397511,3.9047118140569825E-2,3.1556409240467431E-2,0.73546700294713596,null,0.28371196089020612,0.52642612400028854,0.51207212818828962,0.47341695327860034,null,8.8563009493024669,35.198866957387992,18.030264957504016,0.14779945429884855]
[457,0.69122778937057794,0.77119506552845651,0.82239676940613315,0.37079009098675109,null,0.27826742274477767,0.78992207509429901,3.8832011065624839E-3,0.64949419214296766,null,8.8240076060753108,37.418452678607224,15.33793995159891,0.1626705232332023]
[458,0.3974819482594083,0.22380903071252323,7.1480540478484067E-2,0.29451691046320239,null,0.5157411572023215,0.69258428673279571,4.6233510905243635E-3,0.23064086395055095,null,10.078934947234407,36.50956687759767,15.397204244064572,0.12568764787542638]
[459,0.76875114177640635,0.74987273957387035,0.17488889466067414,0.83804661877992148,null,0.87065164568545517,0.54527937851064634,0.49025823066528484,0.64412080519281101,null,12.258953801058704,35.341230065837372,17.975578578244725,0.16219335314322531]
[460,0.29462515065916595,0.69929955450536485,0.82654205025541083,0.73552228875600401,null,0.83891257395110386,0.34348882119249724,0.6328570505252008,0.9583947035585535,null,11.979997000390632,33.791119965379991,18.339429897661834,0.20716767457502466]
[461,0.13357481730201237,0.83094061364337957,0.26123450441040597,0.32622736971660271,null,0.31381004214939523,0.365531177146176,0.21530545779654586,0.84533090502324348,null,9.0298413698062738,33.968861880251453,17.211853323866112,0.18354818583350974]
[462,0.55901432146367591,0.26412025601801448,0.33293390030686998,0.54806021785510317,null,0.75839009882978414,0.58983444059307066,0.53625593224540025,0.4335377518699649,null,11.402266690229011,35.681357352604969,18.09100560737248,0.14447664634665025]
[463,0.3963337890786125,0.47183453841478484,0.27169675592655174,9.3342973626506454E-2,null,0.9155952247604171,0.8553616059012249,0.26700470757856165,0.7157046403473466,null,12.752078056691733,38.179128442877754,17.378102722094081,0.1688142320836174]
[464,0.15746370399406451,2.4148864098615497E-2,0.5599836643939029,0.66115196283876776,null,0.17476443341591119,0.6743232248060046,8.0414416717932147E-2,0.52792818989912782,null,8.1289929471411853,36.355647840416168,16.597710563079012,0.1523120746807263]
[465,0.67415813024361404,0.6059677868249207,0.19855347914769406,0.51559813229817419,null,0.71591730799672637,0.36979093035210731,0.81452290567212027,0.50216216447393669,null,11.141511022461787,34.002778631097868,18.894687451236894,0.15017885238155221]
[466,1.1298579525447661E-2,0.93928712700310824,0.96481883521099832,0.98789198058669514,null,0.9577816807748224,0.59375961543580236,0.93872782014978673,0.74153669625167207,null,13.451008500997618,35.711680698228143,19.544181539545132,0.17138697683466569]
[467,0.29587334410557653,0.19461301550985632,0.40172348381392431,0.81785239180207381,null,0.62408172299279652,0.92032463433158485,0.13341813036217176,0.36569543192309062,null,10.632437296933507,39.221775692898078,16.889622200675593,0.13867189329598906]
[468,0.25543067176882861,0.58890338681946375,0.1396434731156232,0.23299134490241702,null,0.77642067762840317,0.7918959895268094,0.68350709025476974,0.47375948519881061,null,11.520321026573733,37.439052520072423,18.477528516673232,0.14782785035946325]
[469,0.42793507927997687,0.45169670773279047,0.77792725435989851,0.90497188817512719,null,0.31596965767604157,0.69780447819029723,0.67727253436905643,0.87877235411454691,null,9.0420019305375767,36.554289063498395,18.460085388827878,0.18857276899012809]
[470,0.74179952347348921,0.51290116690625831,0.83619415988341439,0.33340637200887391,null,6.4002485375075246E-2,0.5916882467687834,0.90395454200086622,0.16959699197369948,null,6.9559671943093679,35.695669788484494,19.304418543622166,0.11845995150952811]
[471,0.8912146471435658,0.27581895248001587,0.27885396206898383,5.4094972206896075E-2,null,0.85500316714527791,0.46409501273664222,0.72392428531879749,0.5167935047768627,null,12.1162710269853,34.729633088618868,18.594539353250511,0.1513895479509523]
[472,0.49158239030889905,0.97036484071849194,0.42836129738427753,0.18397081120819747,null,0.76373060278470239,0.8185693183030156,0.82920660914362299,5.4129838395177154E-3,null,11.436708803931433,37.729778987087947,18.951034659612755,6.5907199493762308E-2]
[473,0.4806908951681601,0.2790170429381672,0.34832118796856315,0.95116640932277041,null,0.26245571152603731,0.64916123841627693,0.46864346118524203,0.48820916321546548,null,8.7284142223991719,36.149170911901216,17.921319708992456,0.14902453488318809]
[474,0.16272637309133398,0.29694679480410247,1.1764838794997234E-2,0.29322564810940688,null,0.69758762830530385,3.1665353479093494E-2,3.7109858667229378E-2,0.76004039260500134,null,11.03494963574604,29.429412247091669,16.214743476038691,0.17331227255083032]
[475,0.20934469750813189,0.99325354719483017,0.58278463959993509,0.63417293291452448,null,0.12217370207872069,0.65767398874374816,0.50476897878416715,0.24045458624489724,null,7.6716218870168893,36.218369834990078,18.011954341780505,0.12674024605612291]
[476,0.97170568831142323,0.80638215662153034,0.95010034118567388,0.56476970468759191,null,0.93482937895244056,3.2758157506644348E-2,0.86354409060788329,0.97780633444544451,null,13.025515203407489,29.474844055501826,19.096381586257586,0.21634368036647039]
[477,0.56835805256200844,0.80917632636896364,0.50664948680663557,0.18463761190943628,null,0.46254906896189041,0.97879678224017774,0.37311966499791038,0.1249048417661569,null,9.8119722576167412,41.088528112034012,17.676397942412137,0.1120232117486103]
[478,0.18600399278635926,0.23406395891360721,0.37976743946452463,0.57661153508975826,null,0.6410029215034212,0.82563493136602983,0.93336399329596553,0.38162279471713334,null,10.722281700269953,37.811165758192139,19.50132309861511,0.14005969021082088]
[479,0.81573865692213243,0.9417226160001555,0.81860962830983497,0.37058289172289349,null,0.5397524440815713,0.56812587036704154,0.26069466185846757,0.44290344481813737,null,10.199620143614506,35.514814302004204,17.358794726297724,0.14526080506032976]
[480,0.36546007232043276,0.45699579524034184,0.98879562868050841,2.5761128195710747E-2,null,0.66096851361861741,0.4039520815814569,0.41716342972473641,0.60543627755185792,null,10.830215646256638,34.27060795307488,17.790844512185611,0.15882564688919573]
[481,0.20105375841082973,0.85981924677405275,0.78000834468168523,8.5398334106557283E-2,null,0.27754160794567284,0.72780451187768536,0.3018974366227043,8.4412348724973163E-2,null,8.8196794914543535,36.818559229222522,17.481048944859868,0.10459232660806486]
[482,0.26723175567874691,0.69665960969077634,0.50044877556914003,0.86881809320795,null,0.98997943834365687,4.2741753783142045E-3,0.66435020072872741,0.80249873395107818,null,14.651154166253708,27.11117758731119,18.424365059395434,0.17806915016503333]
[483,0.7421989639894,0.70647727996879528,0.41789861061588063,0.29452607571014888,null,0.50257481296123174,0.26376162334867748,0.28182010333052077,0.81628838082076949,null,10.012908287558338,33.104626042101884,17.422556960363945,0.17974324738237046]
[484,5.6656108131205363E-2,0.84018793970154382,0.28632286652221084,0.11651856000454286,null,0.47771323876394101,0.68669200270302766,0.64958111374530048,0.47049358528024587,null,9.8882125695477949,36.459486078911461,18.384189807042123,0.14755703722112373]
[485,0.26858204056750223,0.42515493233497703,0.56340691826880707,0.91141240554175884,null,0.72711062923398895,0.34253912898472194,0.27392590265540739,0.39817468265714806,null,11.208195240765903,33.783370348559501,17.399017744858767,0.14148353953880188]
[486,0.96385235191631258,0.22478435987732071,0.33418879813157942,0.46381532162376171,null,0.16278903310830584,0.16572942472387708,0.40303484136132917,0.36195473461641359,null,8.0338806370111175,32.086461192798239,17.754500483791148,0.13834312167157287]
[487,0.95976237089584593,0.76953546548144125,0.19428594289607493,0.24729766650820084,null,0.63502613522547102,0.52089750169684168,0.44884488975895487,0.38520456773739542,null,10.690390127401239,35.157218740874377,17.87141973071126,0.14036928756155284]
[488,0.31449991082854001,0.99700449762479115,0.41239315044496538,0.2697927438829647,null,0.88265210593811461,0.84147750245102504,0.32702313310826803,0.52544989351824523,null,12.376698772885439,38.001646391160314,17.551851830837432,0.15210661286149851]
[489,0.85176281470611193,0.1202225416087116,5.1141573275409025E-2,0.79070592652526261,null,0.97040137923788605,0.8391521089611812,0.99573133800726166,0.76737167972657949,null,13.773451215523643,37.972937322726274,20.630046300893124,0.1740972102585813]
[490,0.21165488755237416,0.67883929421462763,0.67008845157673769,0.12200313188592138,null,0.91617170357747379,0.30264400908326905,0.4356768219339725,0.6581713834634948,null,12.759545710740076,33.449566646181381,17.83806068671505,0.16344676123881857]
[491,0.59716221316985663,0.70062112039517555,0.64879836987459594,0.33040738432983829,null,0.60300017271210915,0.40701054867376518,0.29605180233635453,0.27339136145778864,null,10.522240814974539,34.294274727245295,17.464209870515127,0.13011459191440242]
[492,0.49294243979078844,0.40896476235859014,0.88989704827066562,0.47314050537836783,null,0.93194515557735258,0.31947883771983321,0.56168966895516725,0.51826742730158115,null,12.980871572626736,33.592530077534782,18.155254528211469,0.15151158686791627]
[493,0.80306781471169297,0.72351783045722928,0.49332112852758625,0.32849382710860764,null,0.28669250024966753,5.7265005114826795E-2,0.36647571950727442,0.25139299170217211,null,8.8738534842748003,30.265535063148334,17.658797895403531,0.12788628265255439]
[494,0.49752188702874234,0.50866729636688923,0.99760325999576072,0.3942904227078593,null,0.29294249122940785,9.3137996573058213E-2,0.21453358117459098,2.6010582193401355E-2,null,8.9103822743131751,31.0349713636876,17.20921105545003,8.5882367219573638E-2]
[495,1.0477692987548304E-3,0.72470381022255059,0.73969004350933643,0.62480542082970791,null,0.9729131985544256,6.6380085143094791E-2,0.87481590996845593,0.67169729189070326,null,13.850891721251049,30.490082194048533,19.149455563149573,0.16467195665767512]
[496,0.97687659860209519,0.50070392283349896,0.7357303963664733,0.4177602744320289,null,0.89027939958325253,0.26892211382123821,0.94386058098209846,0.56619726143937865,null,12.456030726240533,33.151771393049692,19.588033173046078,0.15550112635451402]
[497,0.40417160436567345,0.99919135351119548,0.18251792461051997,0.44717523681695492,null,0.86164890865294053,0.37243926006638128,0.12284723490725624,0.33043673060679912,null,12.17551497054038,34.023800652613403,16.839129260462041,0.1355226510995611]
[498,0.68478447800037368,0.68107054438642534,0.92898626082897495,0.73825728820819803,null,0.45264455537837966,0.16446464530462324,0.49734997627300181,6.8601558409692731E-2,null,9.7620347235651117,32.071181571874355,17.993357326746342,0.10095251564584405]
[499,0.55541459158880557,0.2195647794257749,0.36265730063549606,9.2038282645588887E-2,null,0.83701428528290223,0.19079304426660748,0.36038565473180284,0.30451857583348141,null,11.964521403998102,32.375067170474324,17.642571854561005,0.13312220470169353]
[500,0.25387219917314319,0.42384428035457633,0.2023470694280789,0.98638165297324698,null,0.10924760050687055,0.46892949081847612,0.44174644537832264,0.12066997685892011,null,7.538921300102519,34.766116644032252,17.853457181869604,0.11133574297480495]
[501,0.38649971293070362,0.44291134543414323,0.89411055133281536,0.43837972200698705,null,0.3269355235720165,0.72585219243936827,0.65219145043844551,0.81580647890616986,null,9.1032180310150217,36.800948190883986,18.391243714073795,0.17968345993607099]
[502,0.84347352169579837,0.31835543679213607,3.9180197036789988E-2,0.18357637324669729,null,0.53734250241178938,0.64543025299177592,0.97308710417275324,0.91875364794280179,null,10.18748176129826,36.119036075631378,19.928235892400682,0.19609231763219764]
[503,0.67901987968927524,0.37314594164559667,0.59972341809574325,0.66636966968883438,null,0.78440434434335016,0.81812806585458364,7.3096729529829929E-2,0.55030608824710792,null,11.574309401447488,37.724762974406943,16.54689087914808,0.15417234561721541]
[504,0.26341994253396961,0.96306923978955017,0.36871630849062198,0.5895636060917514,null,0.17274855803647482,0.3986156814772791,0.68150824496618068,0.71159363192772063,null,8.1132812531874148,34.229204372260675,18.471920534930771,0.16841552945938867]
[505,0.49381228254098075,1.7822311525504952E-2,0.43484200230046677,0.33902632848961434,null,0.38041261758259826,8.3133624908383164E-2,8.8591092438176977E-2,0.29957253865565614,null,9.3912054278722277,30.847106231602993,16.650517958788484,0.13265419902301362]
[506,0.2728850472720501,0.8323001197419988,0.92819873913356266,0.70905654164876875,null,0.88785014218266256,0.9435986257082537,0.13008956927715198,0.80408359644491889,null,12.430348099552157,39.757161211046849,16.874032175136261,0.17825784355680491]
[507,0.91640955741389751,7.6671414688196271E-2,4.460840436082214E-2,0.59852002445034735,null,0.97705761673322811,0.68413903204372817,0.2487922753043299,0.53881443244440219,null,13.992903613489199,36.4379138601251,17.321704814383704,0.15321576290951405]
[508,0.27475874584264615,0.8853908944184955,4.6076038721449386E-2,0.66483603152733817,null,6.2960404448662355E-2,0.34474708762428474,0.29748233198592966,0.79142261372035971,null,6.9392247388727117,33.801375189658664,17.468344566512386,0.17677512086813796]
[509,0.83642602678148315,8.7490620013744524E-2,0.97083421883115095,0.58312412988388151,null,0.40954303192332508,0.70352223275187264,0.51807836695318565,0.34909810960838572,null,9.5425587515511427,36.60367399277834,18.045331266362002,0.13720403458956831]
[510,0.48970482867480014,0.51676783098387347,0.69441139136139141,5.3574978736288248E-3,null,0.90708056189720232,0.63052514652923486,0.30048842701895662,0.76900693282993149,null,12.645978960650815,35.999733590759405,17.477003737325845,0.17427415102433957]
[511,0.37657189928578183,0.63509621722758225,0.16688147485228599,0.66740433047668046,null,0.16308710612350519,0.69286011351456245,0.56576767318229393,0.76461648337978494,null,8.0363018707226654,36.511921465530904,18.165609013331544,0.17380064276766169]
[512,0.90255651020029481,0.27184083030868278,0.18357630245665035,0.48837940429766058,null,0.9171211850272688,1.382089430940614E-2,0.87716324178459693,0.14004699799263309,null,12.771929745431105,28.393000737888247,19.160922257567755,0.1143564290449664]
[513,0.39409437806848424,0.28378220130387888,0.77595373374237642,{"$f":"+RAND()","v":0.56475387563750901},null,8.563914671641959E-2,0.75203777337482314,0.19321726959866092,0.20092486825437583,null,7.2637841308471156,37.042748901378232,17.133898566571389,0.12233536537363636]
[514,{"$f":"+RAND()","v":0.17931742139332851},0.20592680391170504,0.72820099718726095,0.76530615491980281,null,0.57263441142676053,0.9873594258102435,0.85524318766796059,0.73920146979879664,null,{"$f":"+IF(NORMSINV(G522)*$M$3+$L$3<$N$3,$N$3,NORMSINV(G522)*$M$3+$L$3)","v":10.366170377155075},{"$f":"+IF(NORMSINV(H522)*$M$4+$L$4<$N$4,N517,NORMSINV(H522)*$M$4+$L$4)","v":41.711238323851319},{"$f":"+IF(NORMSINV(I522)*$M$5+$L$5<$N$5,$N$5,NORMSINV(I522)*$M$5+$L$5)","v":19.059189195464285},{"$f":"+IF(NORMSINV(J522)*$M$6+$L$6<$N$6,N$6,NORMSINV(J522)*$M$6+$L$6)","v":0.17114922235751942}]
[515,0.46186400566233043,0.76954388068037294,0.16115067361601476,0.47758620494527759,null,3.8236774039553389E-2,0.28427855559963566,0.99864767879548832,0.20550608767087186,null,6.4569513111621859,33.289466598235776,20.999453684423788,0.12287024710775774]
[516,0.70532977331982027,0.869253281149726,0.29229853707283671,0.33304351722592529,null,0.53119109509745221,0.618958695275865,5.2616641676632048E-2,0.64816121816979899,null,10.156528612556237,35.908241264906273,16.380004685214217,0.16255190841043232]
[517,0.95069249157241409,0.67223407977845195,0.52802095889105727,0.57843484865393446,null,0.42838384266789065,0.78237989441953382,0.28683535715918496,0.65139554218590912,null,9.6390194420635389,37.340767973900611,17.437346295064106,0.16283999922120021]
[518,0.15864740411311762,0.22915884789913055,0.13175944740972223,0.98133723641579951,null,0.29012883350660501,0.18565525001487404,0.80894844164447977,0.13614099298482873,null,8.8939832255979692,32.31793612896589,18.874027795794646,0.11377185609816984]
[519,0.28652735361590542,4.1638478015500469E-2,0.11899520432892685,0.97572195055005984,null,0.15680282947437385,0.37926490248377953,0.82061515574084709,0.99960163688349735,null,7.9846297945063771,34.077764037535459,18.917711952369384,0.2606796776336473]
[520,0.90410656750861573,0.57265515397057354,0.86371863007155536,0.62033129959479594,null,0.64715495922368094,0.60777162997080747,0.67375103275414483,0.94728878017489326,null,10.755301438397522,35.820547433267329,18.450294735487343,0.20343080762979185]
[521,0.27328792518749556,0.76857809813243672,0.89127183413715749,5.1605227096442552E-2,null,0.21051401221651056,0.73836167310707745,3.5657901478240994E-3,0.53716086407694019,null,8.3907219814258038,36.91490810449536,15.309363263986715,0.15307835833166178]
[522,0.31124327346985781,0.42381754402258665,0.69676063087530049,0.24358250364645384,null,0.45219828347298452,0.92819886326647028,0.72245878929324925,0.33814447185063501,null,9.7597814039221173,39.387521592458008,18.590161439418956,0.13622142687616698]
[523,0.60157738579084774,0.8725828287392573,5.1398892175941402E-2,0.34623889802471242,null,0.42402033406507078,0.1297833763340257,0.6407597680681042,0.38683864486848107,null,9.6167620246955696,31.617752818392336,18.360490360629885,0.14051024939795018]
[524,0.76630900296043369,0.37060957847578024,0.67137994527086942,0.95453370726942821,null,0.35306799975407499,0.67657668745233623,0.94394088226579131,0.77042430789318628,null,9.2458987937647912,36.374441873101965,19.588743846564039,0.17442808297886597]
[525,0.93125347075470355,0.23322051200360028,0.2977318298247229,1.1480781980117372E-2,null,0.80657337423923137,0.21707972742189308,0.9449369038868195,0.53909181214223034,null,11.730676175748567,32.653718623900673,19.597626198868291,0.1532388173926838]
[526,0.20981364186669127,6.7008435107962505E-3,8.3806961930344648E-2,0.57308745325082167,null,0.6622037825280398,0.91692867446434245,0.2051762007209742,0.45455182157667817,null,10.836970318507881,39.154115377747466,17.176726362138893,0.14623241540433263]
[527,0.77677299251169485,0.78995611419526379,0.43816405926355317,0.15424201697631312,null,0.96562643726491748,0.7887208130863399,9.2981259984150744E-2,0.22154044912870696,null,13.6401560251406,37.405971913694785,16.677382224707241,0.12468896573948247]
[528,0.62686935161925927,0.66059722559472356,0.37401865743076823,0.12798708195665776,null,0.48600245706385969,0.29328667112305329,8.454940065055272E-2,8.6024650225960286E-2,null,9.929812321934957,33.368574862885701,16.624894699413694,0.10493359787028485]
[529,0.70232894306391391,0.97025679853506064,0.81637460845577303,0.98702377429775856,null,0.56306713084323956,0.92082567869901999,0.78899857501918091,0.24133533491415227,null,10.317500266596197,39.231941846174891,18.80295135769153,0.12683355055166512]
[530,8.8892119509111245E-2,0.46582818622739219,0.71006353913959808,0.56092851375009944,null,0.55219635769413711,0.87820718299553313,0.59141190203708671,0.96757000996722964,null,10.262424806001269,38.498213790525909,18.231178417906786,0.21092532549287735]
[531,0.14030735281454054,0.31649156853022675,0.73456462919279419,0.25464824054206925,null,0.79905026699958182,0.44684382419758772,0.16927349893841115,0.15397804459554465,null,11.67646739143699,34.599081502076046,17.042959865277084,0.11635583485650747]
[532,0.94023898795791661,0.17933734867690054,4.4240260195018477E-2,0.61128848115175138,null,0.42479643490649666,0.96927365123033382,0.69628481137949827,0.95339764976541241,null,9.6207241582564773,40.610672447600543,18.513744869097959,0.20539808592898143]
[533,0.10596095208721568,0.50619456598593116,0.79981144483961086,0.37697173570522047,null,5.3235125165880248E-2,0.26089750778215615,0.35745713602576068,0.78864805222819589,null,6.7714726930900486,33.078257315245054,17.634735897641409,0.17645739016181503]
[534,0.98085231002615758,7.4983884540188672E-2,0.44604099386032248,0.12682905233683794,null,0.71484200417173827,0.36781845563536386,0.24091275143692059,0.23929216345011395,null,11.135172365104479,33.987089618299144,17.296630490418934,0.12661681618194925]
[535,5.092001992420303E-2,0.26411120680815292,0.3507112671524969,0.54673296417417894,null,0.11515494563707773,0.67354669238169429,0.67550374015287828,0.91503006415106769,null,7.6008780543706171,36.349183850270151,18.455162245613195,0.19528910225530674]
[536,0.96236953533160119,0.83981041787249089,0.72276008373822265,0.39069560620298305,null,0.62169000804854724,0.85894945343620388,0.1294649650083014,0.4926426292637105,null,10.61984475869151,38.226834157721427,16.87107608193709,0.14939137311139733]
[537,3.2322701670570164E-2,0.34098531221170125,0.20738103760987192,0.32243624772792912,null,1.9943768006667195E-3,0.79531660642404378,0.61887341680495833,0.51383096102885917,null,4.2419004278609673,37.475025382839043,18.30252331027792,0.15114430885659408]
[538,0.8492245864460316,0.33192165964906206,0.36122348123906856,0.19033642007321117,null,0.18084159309066361,0.50269386876638655,0.31280874909337519,0.27918190979562385,null,8.1756750186030125,35.020257736802613,17.512095515885687,0.13068597396745152]
[539,0.2692784729476092,0.23493779207100962,0.22556332057319395,0.78211625081333913,null,0.44711006468092673,0.32725390315170477,0.21950052344683513,0.88131361581127643,null,9.7340676449507892,33.657473894309454,17.226118797923046,0.18899210880878897]
[540,0.10531464871053153,0.81168991973166882,0.40678033139119574,0.86860232641399215,null,0.95245948321653817,0.18768540986174498,0.14487232829013119,0.48363830240308736,null,13.338366853652342,32.34062623849956,16.941318062401169,0.14864620146280419]
[541,0.83172564772373725,0.64313785249390309,0.36918725926273255,0.57357244023287834,null,0.69317368101626931,0.76028811672924823,0.76462247460907939,0.79369025914888225,null,11.009732905271541,37.121688994066758,18.721251077878257,0.1770366564861576]
[542,0.91821437294997532,0.63771322531928831,0.44618686604028368,0.8526877397738809,null,0.78177381553982184,0.14713162433566151,0.42606871281690406,0.59106555775573077,null,11.556395751541226,31.853554845460085,17.813608076587162,0.15759946578387338]
[543,0.99646659506453772,0.44936948090353412,0.56179391533817347,0.82618452706622403,null,0.82425095564173756,0.41370181894938163,0.95054613477607874,0.71469273569761349,null,11.863374843632606,34.34590191750015,19.650172153943117,0.16871584052886046]
[544,0.55464877816797842,0.66271687037557958,0.33379028438078351,0.55430474273878871,null,0.94734790773877375,0.35718174678736481,0.11389889606656756,0.49787619776231784,null,13.239330688465298,33.901993639735473,16.793948910839635,0.14982432093981227]
[545,8.3223249347655681E-2,0.27176021810702344,0.15231085462105054,0.72337372899540509,null,0.78218413043181512,0.80474304876191116,0.94356979456741064,0.70715903040903927,null,11.559181714494585,37.57605731495871,19.585466374840877,0.16798843452373322]
[546,0.76700840868980225,0.68778655877169648,0.17608863329939084,0.68451545883533005,null,0.86378728722729148,0.99274689646403125,0.79643519366304183,0.58875383187887897,null,12.194988350779095,42.33343293341705,18.828955457067632,0.15740323770961581]
[547,0.69576746569763492,0.55075938678465652,0.63186618328663346,4.3986196433497771E-2,null,0.56161782908724356,0.98759266551978964,0.16639943224738829,0.40770748678806712,null,10.310144543085816,41.73282705689298,17.031508304552819,0.14229627675921461]
[548,0.33077333723219648,0.88784665948711239,0.56815019562551849,0.2229225345015855,null,0.50060289209433517,0.66634777686719637,3.7669419502933676E-2,0.89610043349603408,null,10.003022453890875,36.289551288804809,16.221603998902371,0.19156813151440072]
[549,0.18675321308021586,0.17157839976161404,0.20087227751011616,0.78168317188680669,null,0.87844090053304102,0.70965562792683423,0.3636872614651947,2.6949714039127826E-2,null,12.334456531423264,36.657136873677786,17.651379882931515,8.6387749609787443E-2]
[550,0.70325619290041852,0.61638553001936869,0.42272082052925319,0.74848334866382038,null,0.66457796759611054,0.76818700614180901,0.50304991122368514,0.13325865163565676,null,10.849979725057992,37.198667713085229,18.00764506817972,0.11333308624276639]
[551,0.66752273566590392,0.60871036978610327,0.97889464043916818,0.88618269751237455,null,0.78654860881507382,8.2398224929873809E-3,0.28838949463480634,0.52170900667149256,null,11.589005590333924,27.805651969108006,17.441904230491001,0.15179662868963867]
[552,0.63112362983801629,0.64129696296049643,0.92517982928674913,0.2796852548933787,null,9.0685101553374725E-2,0.63067591019668123,0.74415260945047634,0.40932686097010862,null,7.3269038815246113,36.000932127691115,18.656201038015503,0.14243386295838623]
[553,0.29193857960511249,0.36137411582745482,0.30173907375086195,0.22856616184719858,null,0.87338255852658597,0.99089589033255721,0.90321242184408479,0.12024071737053543,null,12.285054706258764,42.084069375565385,19.300075317544575,0.11126511815236514]
[554,0.82734339794993583,0.48470903891417205,0.37671284645742542,0.99890722628480322,null,0.35033436586120137,0.58124371821286303,0.10787734252485526,0.87206557727035372,null,9.2311641895739633,35.615228704899259,16.762104160033449,0.18749491745165608]
[555,0.88559288989638885,0.41188578247055851,0.25272790936343414,0.84069108706446649,null,0.54909324709676055,0.30224620243633171,0.24916157449417875,0.23050708121688546,null,10.24674153136028,33.446146773722447,17.322869484362453,0.12567312882793821]
[556,0.34087136585910627,0.24053117153176828,0.48030886159141828,0.18022140574400136,null,0.71100168734437785,0.56649433952379968,0.6470910894954589,0.30656590571016495,null,11.112626808683313,35.50236778867643,18.377478793634143,0.13331493351009496]
[557,0.72856281781963317,0.18127826926847912,0.62406633141248424,0.6700172232071343,null,0.48863582105952053,0.88413811175001333,0.89188252031280613,0.86655963828403737,null,9.9430207484864113,38.587790771387887,19.236601778372187,0.18663906114614892]
[558,0.56098508002484127,0.90872542822733127,0.50800423097024061,0.18286539149948089,null,0.80867758753312691,0.22290677632928513,0.68917393484976142,0.21026465276099615,null,11.746066976071003,32.712761014420614,18.4935102059369,0.12341839125428024]
[559,0.44892114589008769,0.15143946073053194,0.21442227308101636,0.13781713650278404,null,0.87544561958672129,0.8308887195341772,0.22273146333028215,9.7005248046272419E-2,null,12.30503364586761,37.873049420537846,17.236999213254624,0.10713940017868206]
[560,0.31810062604013933,0.60969445170238301,0.72913875158842301,0.73686771655946226,null,0.60396277440618651,0.42810980525817532,0.25197325515733271,0.22771679572824588,null,10.527235573986699,34.456434460393197,17.331706889629352,0.12536922470840695]
[561,0.10446992963159718,0.38971329533740973,0.60470308132637141,0.42668913325045299,null,0.80579530021062762,0.72036289039447599,0.97904977656187453,0.12114412046792034,null,11.725011029948378,36.751759631831526,20.034507562673102,0.11141354718057153]
[562,0.96122050275346504,0.30248268285456315,0.25667958713904726,0.72575773095215568,null,0.63967078800291655,0.70823443740782355,0.84642239691317733,0.64946474400082499,null,10.715157925580103,36.644702497728616,19.021209470887733,0.16266790102391529]
[563,0.38955016157902511,0.2324792804631205,0.97375733846813495,0.30760991277041294,null,0.50449039577312405,0.25915241740477957,0.40470793401912042,7.0175670689636482E-2,null,10.022511981377335,33.062118027678174,17.758820331495436,0.10134203031312852]
[564,0.22363043567660812,0.99637765346524609,0.36806080171970745,0.43302926226336402,null,0.98598601447449996,0.72761350611856068,0.49066899386306018,0.32161136914146893,null,14.393789299592591,36.816833489468614,17.97660850320462,0.13471447928793567]
[565,0.90392838549559174,0.22627987419282025,0.19402109637102893,0.94055980151599483,null,4.1315120694157104E-2,0.38843185761760712,0.73551390421438123,0.53397656320430675,null,6.5287508909964318,34.149774507454261,18.629575753179068,0.15281390450350771]
[566,8.5880950283435564E-2,0.69666978488065456,0.66688418995384002,0.14538230567625277,null,0.2807191523597421,0.48464365399507403,0.48551367261299727,0.78087332981420843,null,8.8385870728166438,34.884493514952794,17.963680178665115,0.17557982092094038]
[567,0.73529095669078803,2.4520144925373466E-2,0.84300622529555225,0.45634337110594203,null,2.6088263299790526E-3,0.19949414152672906,0.79580708612648343,0.62663009140624604,null,4.4134402451533017,32.469711521105289,18.826737559672452,0.16065705769664346]
[568,0.37570545239531272,0.56824881272201644,0.87333994707179918,0.53586353095384931,null,0.88837987236435501,0.5899861327948156,3.6287804947590874E-2,0.98935777740289854,null,12.435914307358072,35.682527915691431,16.204509656346193,0.22599571464379439]
[569,0.1033539701480406,0.88656676614290164,4.0263509476933912E-2,0.52910805996330956,null,0.62767830573484296,0.13488883533502238,0.68280957948720822,0.33671731905332147,null,10.65142102830108,31.689275897459641,18.475569875611583,0.13609251717711254]
[570,0.18037420799435377,0.97559482874950787,0.66473648839033117,0.19195788134987979,null,0.21948348599649781,0.14687192576457087,0.10489183617611997,0.22216104403580261,null,8.4521223614883301,31.850167942717288,16.745839495921128,0.1247578009453154]
[571,0.1005411190893416,0.99669552075272494,0.65989958360366241,0.64097899939970104,null,0.59441182074517052,0.91597995059049819,0.4064986957955653,0.18535447691456985,null,10.477817453520837,39.135586238855289,17.763439016300939,0.1204601762639502]
[572,0.70022602050090954,0.58619420562929181,0.13541497313584938,0.79529239707919919,null,0.8813785883328108,0.76073359498162718,0.80382129007561531,0.41418507777175961,null,12.363812895392604,37.125992966801469,18.855349991227346,0.14284585166820554]
[573,0.9159190251028323,0.52315860549941784,0.22828230722329612,0.4517000924837653,null,0.41054045031301578,7.1647048223606014E-2,0.1414691338534384,0.14621181274555262,null,9.5476900821418642,30.60909930508187,16.92625785749463,0.11525694926288971]
[574,0.8277826477737521,0.8150119316866401,0.21098423599533356,0.88978769148393144,null,0.86480415959172996,0.39635862007524203,3.6179348454179361E-2,0.58973160415013248,null,12.204322013344038,34.211648668459674,16.203145344696246,0.15748620239089881]
[575,0.27756812259077768,0.93782832579236519,0.80694931242677037,0.44398729075460475,null,0.49888568369646935,0.40710539180181304,0.16485301484433301,0.46752061223278518,null,9.9944136392293856,34.295007925159005,17.025293826305383,0.14731037134221681]
[576,0.51685617127721184,0.48353936484534021,0.66240917989669212,0.32139829202578296,null,0.21213341586864731,3.6860395592102524E-2,0.54399621582400748,0.65408977542993485,null,8.4019186659357139,29.634972949760595,18.110506659940011,0.16308073099064208]
[577,0.22737152237062508,0.42242857966436576,5.8808267301793893E-2,0.41145614421938703,null,0.8406800461173316,0.22715755013341243,0.42487832156200422,0.12862308746928486,null,11.994513472826753,32.755278469774382,17.810571058602296,0.11261350835897919]
[578,{"$f":"+RAND()","v":8.350254086520692E-2},0.76653735503306608,2.9161411468293097E-2,0.66924177466364887,null,0.36256205869406977,2.7862503713090514E-2,0.16143093267348174,0.71941329993122927,null,{"$f":"+IF(NORMSINV(G586)*$M$3+$L$3<$N$3,$N$3,NORMSINV(G586)*$M$3+$L$3)","v":9.2967622753646495},{"$f":"+IF(NORMSINV(H586)*$M$4+$L$4<$N$4,N581,NORMSINV(H586)*$M$4+$L$4)","v":29.260459869761306},{"$f":"+IF(NORMSINV(I586)*$M$5+$L$5<$N$5,$N$5,NORMSINV(I586)*$M$5+$L$5)","v":17.01140608657434},{"$f":"+IF(NORMSINV(J586)*$M$6+$L$6<$N$6,N$6,NORMSINV(J586)*$M$6+$L$6)","v":0.1691762832786716}]
[579,0.32035791496130195,0.10543935158888118,7.5795532170675473E-2,0.14046435379972411,null,0.515312792043228,0.40900909889444981,0.38343137456955689,8.238994323062232E-2,null,10.0767858147395,34.309715956311614,17.703518966288229,0.10415726240776002]
[580,0.20581922565939381,2.0114458241715538E-2,0.69065942629602062,0.47545831783773695,null,0.16729730350094252,8.4539217582095705E-2,0.23468569214249291,0.76832893800669433,null,8.0701988244044305,30.87448698474655,17.276497769578469,0.17420070492255749]
[581,7.711391085387842E-2,0.91376500858444754,0.32234406516507952,1.0603777897921551E-2,null,0.25399515696266206,0.59697587476326441,0.30167514764727754,0.88885362664271605,null,8.6760595807410859,35.736581598291764,17.480411328128902,0.19027498815389393]
[582,0.98519825291483509,0.73639383428167537,0.32238961574145975,0.97445339912737416,null,0.95795465595718321,0.61440463679841328,0.16746011056221677,0.17398781869852076,null,13.454857532508484,35.872453182781285,17.03574924004873,0.11902873679954779]
[583,0.94029126131980412,8.5238613914340178E-2,0.80833209046233656,0.46588391961492348,null,0.95274074762135974,0.82295700233301161,0.37998281763925967,0.46558538744608446,null,13.344059003346249,37.780078755456721,17.694474084572775,0.14714972692244593]
[584,5.9633963646558374E-2,0.40894096697226601,1.8727539194253962E-2,0.28780688398477483,null,0.14295208160909356,0.24667543596850217,0.58292834626055989,0.19418228862046849,null,7.8657002507823943,32.945033045743543,18.209390629160758,0.12153462880709902]
[585,0.33411994246817822,0.93166142071876323,0.89733728934698398,0.65349502438225671,null,0.92302411118302274,0.39049059781836126,0.15878363084291469,0.31209544133223444,null,12.851422016515805,34.165878211430297,17.000530406621543,0.13383265738204619]
[586,0.23277132923692589,0.28254122966715844,0.77181131502662637,0.4160659575463751,null,0.19971771008612971,0.27577345970059841,0.26462822963441401,0.81599286991445752,null,8.3147400455647933,33.213668888813572,17.37085855478276,0.17970657308284127]
[587,0.25147658905892178,0.647801374866116,0.86510807830452596,0.44685812658473234,null,0.13773078298309327,0.18234372356116979,0.70758631807164285,0.76218527297684013,null,7.8188574094255197,32.280591759863938,18.546347102786143,0.17354053670166678]
[588,0.17727581439516871,0.1063885804419521,0.37796394436912406,0.72926807480876954,null,0.65455405283966994,0.88133640698485394,0.29518749611155093,0.75332953019310167,null,10.795289974080978,38.545081651496609,17.461707302745491,0.17260515591207573]
[589,0.86817826822019117,0.76685194433435677,0.1703177686194921,0.6963376440887783,null,0.41798970114490908,0.55658612206662428,0.18939827664705455,0.79562297309247176,null,9.585922004046326,35.426958077121256,17.119884149490158,0.17726091101155578]
[590,0.197710774076434,0.68055882809415458,0.75106813370914771,0.9331114580103862,null,0.89774564026412484,0.86138160326848234,0.79019560755773099,0.95454625015473726,null,12.537620662580265,38.259642800731484,18.807100151435904,0.20579078853872673]
[591,0.729397120064185,0.54678050264989264,0.14735382408154729,0.21663702717827027,null,7.174836538079099E-2,0.25815209498540781,0.21459997535296538,0.30709506771137118,null,7.0742145191226697,33.052841327197157,17.209438551197298,0.13336465437491588]
[592,8.5195227615865399E-2,0.65158240864794637,6.2623121928093162E-2,0.80110967971075098,null,0.22444188408895038,2.9332124417571603E-2,0.90088677111316207,0.83568790083438027,null,8.4854454685272351,29.327896549360368,19.286620893139862,0.18223733098816786]
[593,0.36427302529050742,0.95760864836059401,0.26605230720402484,0.61308923708908802,null,0.28953122207223903,0.66040980224462875,0.94231824294315969,0.51722159651920208,null,8.890490565410337,36.240745436286431,19.574536309437086,0.15142499137249485]
[594,0.54920115101917344,0.56265752538793312,0.58033190056351369,0.61138255807035047,null,0.38551440731748743,0.57903882937695472,4.0813231449652987E-2,0.78239069516356408,null,9.4179411486289641,35.598305548714912,16.258674066534358,0.17574965904404077]
[595,0.3740172571803545,0.17385788576975036,0.1064745274142932,0.73108279899655892,null,0.81649987893040055,0.33008012392262565,0.97651298139657583,0.62768697238763749,null,11.804213204056065,33.68092420841802,19.986534218492729,0.1607492029176536]
[596,0.71819476372671409,0.68134740925810855,0.41549352411767215,0.36241853989864281,null,0.29828445038274343,0.35601563897441035,0.2374562001301932,4.6049090351572675E-2,null,8.9413179485296563,33.892611808089413,17.285490850045537,9.4413738853102128E-2]
[597,0.19022147535967937,0.33548462187565509,0.93090189399897227,0.97128011124480018,null,0.21320155780064853,0.1073103278367824,0.419905268741538,0.82969225898411247,null,8.4092765427959257,31.277121053960922,17.797864169753481,0.18144734496965698]
[598,0.11192797286135614,0.89479489539501789,0.48121123163227253,0.21754730151225987,null,0.43007992450123467,0.80653794376113008,0.92062488591914393,0.99577015871110142,null,9.6476586260649029,37.595626857960362,19.409287314969689,0.23689396998785045]
[599,0.20197767497002972,0.1684470688816222,0.8013118661171762,0.30909854214647536,null,2.4574215244169695E-3,0.15744183608281903,6.9148860485223507E-2,0.24983003575022289,null,4.3748744687012149,31.984917898562756,16.51783997732565,0.12772418485766709]
[600,0.59293984902959862,0.62135753976884023,0.87131501934368927,0.74473998560112198,null,4.9781397368933833E-2,0.23275271394859842,0.28220916367311555,0.76099033128214466,null,6.7060462073032685,32.810565567890045,17.423708736941297,0.17341322944610582]
[601,0.42213333227762095,0.3447204855061119,0.95242540118434682,1.5768498337619952E-2,null,0.7830007469503667,0.43902472881850796,7.7944816269052586E-2,0.46934681386683674,null,11.564735415131651,34.539672979722035,16.580967813399685,0.14746190717447696]
[602,0.76225451691531076,0.10820895545301212,0.36209035505152631,0.89901201694039867,null,0.2392744167466162,0.66458217514377449,0.42526084154658861,0.8432869615751315,null,8.5827229845739126,36.275004218317115,17.811547162272792,0.1832659512686336]
[603,0.67668040466377488,0.9003985417191257,0.29671526072513488,0.62381318558502652,null,0.90654222862979472,0.59407990352939788,0.91855338322380042,0.31863688065738138,null,12.639517710760096,35.714158205182763,19.395406695026612,0.13444003970386226]
[604,0.1501454931512155,0.52311849036390479,0.43857908428591741,7.2855475119928403E-3,null,0.50055364889273513,0.88398285916450836,0.53675069224541516,8.6698979036389789E-2,null,10.002775584828443,38.585405058342012,18.092251003915983,0.10507491185465631]
[605,0.82786624783204665,0.9593608031158205,0.37867403412557643,0.49663106399217849,null,0.56368017788374825,0.56058669603529898,0.91167885212354105,0.11599656410066694,null,10.320612986296306,35.457370600651302,19.351165898521923,0.1105570676404263]
[606,0.30491569969363497,0.72758309646799524,0.93343972340038817,0.46357848312276229,null,2.1102642958824136E-2,0.52067631965584693,0.18003936697523504,0.93761930079101108,null,5.9370194667549523,35.155553215970009,17.084784928429631,0.20065801351943013]
[607,0.7055990025480422,0.6794586578466848,0.18173000747833468,0.61869661402614773,null,0.25418650238420115,0.77502007104263848,0.56670632311822966,0.14152780766826711,null,8.6772535884268684,37.266445853130733,18.167994820563383,0.11457514586249273]
[608,0.65478690354354696,0.83503763934978104,0.59465325067020991,0.9943182102213628,null,0.28042426925693276,0.47172857446895089,0.64291161894348425,0.6269250947794095,null,8.836836796509246,34.787223878920145,18.366252376862239,0.16068276947026544]
[609,0.82298668128738661,0.77045468094568392,9.7292917594562489E-2,0.25938095795155247,null,0.36911485805893052,0.51746353762651798,0.2134134602848321,0.46335297475839932,null,9.3316028417635533,35.131365760498824,17.205366835198724,0.14696432853672142]
[610,0.55822646925558039,0.33985566543134871,0.57266462567623877,0.92684237480522103,null,0.10885710561980422,0.19640340513711774,0.68708796373147751,0.54177556668125804,null,7.5347419949208643,32.436385168535502,18.487612877402189,0.15346196168279386]
[611,0.24887443475026172,0.49335529916501575,0.74875882051872056,0.71211166774752699,null,0.62528911767585171,0.79819512687105676,0.65771433058594542,0.25647880938522571,null,10.638803814730544,37.505575291387544,18.406233095631762,0.12841010171973488]
[612,0.31695204260659637,0.98792438218768142,0.13790847728270983,0.37617623634318254,null,0.70882464311272841,0.23972205929469781,0.25733436732258852,0.2580794795320176,null,11.099908615350291,32.878409270204877,17.348414702097429,0.12857383907004252]
[613,1.3312883730264291E-2,0.55168431736532619,6.4098863664316275E-2,0.79312973069860992,null,0.50531249054098659,0.98304620326603476,0.48175226191354337,0.83069215042341349,null,10.026633665170174,41.363506627356088,17.954243742626275,0.18157783284492091]
[614,0.90718003739716235,0.25285062778763934,0.83514971208276734,0.33959104046387456,null,0.53803439585641399,0.34871114421211902,4.3932030485868689E-2,1.9261358945098173E-2,null,10.190965960490546,33.833592650435733,16.293225968765395,8.1714779886394515E-2]
[615,0.29599717835688466,1.7189951870964393E-2,0.72001952907230116,0.15600745312059716,null,0.13222877995585758,0.23509206184667708,2.8714165559176941E-2,0.96690584559068515,null,7.7681655125072453,32.833461492037991,16.099963509714339,0.21062582607617175]
[616,0.31135921161056657,7.6709574500497868E-2,0.69188722772673372,0.76622973179001674,null,0.52703481855824119,0.17549475513033863,0.90494457482580504,0.30720247094242825,null,10.135636381731377,32.201984954199766,19.310251258817203,0.13337474153315601]
[617,0.61084260823784109,0.23526053302493644,0.10955961035037665,0.29942353451482695,null,0.28902870568289574,0.46950589670389986,0.22202891374642786,0.44676806471749586,null,8.8875510548333825,34.770464098293047,17.234641045909925,0.14558357350266621]
[618,4.1009450419052684E-2,0.36235691964131544,0.85770198890053817,0.6249335596714396,null,0.18825112870958449,0.42368156624127284,0.37908226381747778,9.2542423486528635E-2,null,8.2312812930407162,34.422548125459706,17.692108018747174,0.10626641163438322]
[619,0.36704031329786146,0.49370469783858839,9.1477068270587991E-2,0.44109225010300734,null,0.81328538906042525,0.26006038689155275,0.20336225032949429,0.26448263293351504,null,11.780136567581026,33.070522258709381,17.170328431763004,0.12922365091716287]
[620,0.89652076196858732,0.9629159696909283,0.45024612846391132,0.68752236417031176,null,0.78852469241051015,0.81889010352844394,0.77857532617579828,0.36720761505015442,null,11.602625487137722,37.733430363762437,18.767390546238733,0.13880447945422397]
[621,0.70976842862099176,0.59533230364572165,0.75912807920269487,0.73223091003937102,null,0.42357003425400719,0.50420018489771645,0.78278755614971418,0.57855526252634715,null,9.6144624749559924,35.031585490198125,18.781642185162099,0.15654056256708862]
[622,7.1028866962970283E-2,8.146773977855104E-2,0.63230744170639885,0.2100582497547675,null,0.92992008247461122,0.81199216612654246,0.40803057051007774,0.31299510733457014,null,12.950392160009207,37.655784176105669,17.767385981909424,0.13391651358750814]
[623,0.13878701476024169,0.73587593091283277,0.61297013302419157,3.8197868834327187E-2,null,0.71133988691649663,0.71216425101769087,0.99949083425170571,0.67320026727607252,null,11.114606586060908,36.679155340126549,21.285412545428958,0.16480932385710734]
[624,0.26844160717043986,0.7441274212332768,0.48618518429479518,0.21571917410747143,null,0.35853499024877589,1.8642305927748515E-3,0.97841443599298805,0.19008664944229781,null,9.2752450790538035,26.299202027965443,20.022050567974361,0.12103995799208164]
[625,0.62287894247888786,0.74466901460191837,0.24159010178868967,0.2510986950566293,null,2.3152481832792171E-3,0.90807196844560478,0.91433663104274665,9.8315917929896912E-2,null,4.336651056111771,38.986926408028943,19.367953160949824,0.1073901620885481]
[626,0.12637300816294494,0.42175163509920832,0.8694601904220941,0.51705768806244079,null,0.31076366648823173,0.17355538838407014,0.15505250259347081,0.33290248026806635,null,9.0126262415744627,32.179375401681902,16.984998274914563,0.1357468852811643]
[627,0.53076523523910202,0.59566679316458981,0.36346115556115144,0.57284793408336421,null,0.82327061964159587,0.71346629271216022,0.69401469514677516,0.70420127046077363,null,11.855802635871701,36.690619188009336,18.507262552920704,0.16770524397399111]
[628,0.87253162836403364,0.96602102642502075,1.7979202592853794E-2,0.2609887733633155,null,0.92962950450282489,0.27352326047879605,7.1332990757381087E-2,0.10188435688336284,null,12.946074506324866,33.193424814530466,16.534064947834995,0.10806071619091219]
[629,0.84322950174215328,0.92102034982926095,0.16039111465030143,0.50379460475460358,null,0.65042440603432772,0.17184679363165423,0.37145091334249969,0.58604491231540068,null,10.772933054759907,32.159322660080555,17.67198699117003,0.15717362642733834]
[630,0.47411578895722495,0.16827791610887988,0.74080946514321255,0.59697697417858286,null,0.96083728815664393,0.50856282265522357,0.14077492927699964,0.17777233288539607,null,13.520972182992974,35.064396385070879,16.92315576274347,0.11951169817239596]
[631,0.79557439205484692,0.45932038829017596,0.74707843140823993,0.77615383224640222,null,0.40899723721604564,0.21956953821881431,0.36587072189259973,2.069783404773573E-2,null,9.5397495765078197,32.679056496551347,17.657190054982504,8.2695016074623817E-2]
[632,0.21489734611350964,8.3564326054522353E-2,1.2545364270768466E-3,0.65743099961751938,null,0.82190699583454063,0.61514518966410259,0.76941615018873777,0.39698971668700223,null,11.845313895507058,35.878264238798991,18.736925428066325,0.14138216120995625]
[633,0.80232039207047889,0.98641185041271351,2.1534824916894624E-2,0.65254391077964435,null,0.99784937131841933,0.22974679522304498,0.73120119650088433,0.16735975814305604,null,15.710358080080946,32.780957053921902,18.616449931992143,0.11816650847680221]
[634,0.69511806362449124,0.99230605259586246,0.9041861970794498,0.36609061553161237,null,0.20841430195201249,0.40107016546589436,0.29203485406205565,0.36728701669107255,null,8.3761288638413927,34.248265760699809,17.452550139353786,0.1388114362720439]
[635,0.97750405108586247,0.62827926553138846,0.73742625076857815,0.86474697061641403,null,0.282928296541336,0.12079164406925869,0.96289352879834533,0.79228494763380175,null,8.8516713058294947,31.486884395180649,19.785298312758215,0.17687437795280239]
[636,0.46693750149753432,0.63670462277818529,0.49279065563840896,0.31369224036120757,null,2.0037076497170236E-4,0.44908815438259364,0.7881615241587614,0.78917137976154594,null,4,34.61610362595632,18.800058417780722,0.17651713108680395]
[637,0.19620088133324287,0.28102661149007191,0.83737877347605605,0.40927064676491809,null,0.40750671023857299,0.69505108536687987,0.27004864847568555,0.69242887715682355,null,9.5320732715668672,36.53065791329081,17.387334134166931,0.16659064701212351]
[638,0.59972054684460219,0.34304815453427384,0.76067128826704622,0.51263559420312232,null,0.94011761561500773,0.92648727832377276,0.79596051652966493,0.912433865960803,null,13.111523399277681,39.350355862194036,18.827278958890176,0.19474456720356698]
[639,0.27425884814953017,0.94601955838284302,0.31858389614041105,0.58968836594039165,null,0.65681960961073727,0.98265306755753101,0.72511773350188136,0.45201554368331509,null,10.807597323186807,41.335740652545979,18.598113005393433,0.14602116731065443]
[640,0.33218240671502441,0.31502360668500273,0.89714466590486097,0.41869191747878554,null,0.20570430358581659,0.89159267135189979,0.37844052920909554,0.72750656614295861,null,8.357165380580204,38.705127742020011,17.69042090873555,0.16997454302543907]
[641,0.42328133269411283,0.5805645286831379,0.629698448240403,{"$f":"+RAND()","v":0.7800789204861982},null,0.47480618894472071,0.39164186795668388,0.17905139962058436,0.68946780544815756,null,9.8736128925136963,34.174873082698895,17.081013816935418,0.16631329903568112]
[642,{"$f":"+RAND()","v":0.39788598000086417},0.15770099905061841,0.98962151705340284,0.75934400562818105,null,0.12043887347727145,0.31095511679097709,0.14082444203610733,0.2413891654710637,null,{"$f":"+IF(NORMSINV(G650)*$M$3+$L$3<$N$3,$N$3,NORMSINV(G650)*$M$3+$L$3)","v":7.6544086200988142},{"$f":"+IF(NORMSINV(H650)*$M$4+$L$4<$N$4,N645,NORMSINV(H650)*$M$4+$L$4)","v":33.520565411810956},{"$f":"+IF(NORMSINV(I650)*$M$5+$L$5<$N$5,$N$5,NORMSINV(I650)*$M$5+$L$5)","v":16.923377356632901},{"$f":"+IF(NORMSINV(J650)*$M$6+$L$6<$N$6,N$6,NORMSINV(J650)*$M$6+$L$6)","v":0.12683924722891521}]
[643,2.7505262564701205E-2,0.57845407702400153,0.24425204206178897,0.44410052128300881,null,0.68038434390972502,0.95596611487917837,0.40117505795813369,0.29217623357021816,null,10.937547647683784,40.117038472047824,17.749693222936404,0.13194773838181864]
[644,0.72477982716132372,0.57737477932339853,0.60500633483116362,0.40948024659438387,null,6.43115402623059E-2,0.75066698347545591,0.99427525180215726,0.66476730699917275,null,6.9608917934856969,37.029770437565205,20.528672020982558,0.16404180950416802]
[645,0.70113135347585775,0.23926995354481684,0.75201307173424692,0.91152193321977959,null,0.27481946573282789,0.42570284304063244,0.60129386576794763,0.32369945261268451,null,8.8033974663152552,34.438024477027177,18.256697542931889,0.13490650445300906]
[646,0.69157157370704059,0.14258523362580944,0.84641213879034471,0.81247249790468845,null,0.12735349553364772,0.5341520552895167,0.13113149357138953,0.60423843342672445,null,7.7220183981609738,35.25713401195425,16.87894155894233,0.15872299760099012]
[647,0.30376370973883748,0.87975897039216788,0.18211330494075506,1.5653369957818297E-2,null,8.4975712684006055E-2,0.63976929626132162,0.58625264939280708,0.88502763799281325,null,7.2552801899039618,36.073526601411629,18.21791581942438,0.18961654154356064]
[648,0.32238904286549797,0.5108849098289403,0.83312775067075884,0.6173268172874965,null,5.8356444760109039E-2,0.8119637944498268,0.92185885720505767,0.80092891275638112,null,6.8625573681181571,37.655468492816595,19.41768659458025,0.17788314797010979]
[649,0.90362735497778046,0.17997019157594196,0.17361709310107143,0.95060394558316019,null,0.44033205122020802,0.9382691183695947,0.70623863024623612,0.20747264526394371,null,9.6997451988687295,39.621213770215377,18.542429387432112,0.12309767650534351]
[650,2.3417381499927337E-2,9.864982371627351E-2,0.32375844918436536,0.7331964821840723,null,0.4529078840009102,0.37077050155012203,0.9391068129555814,0.130046829133591,null,9.7633641826602648,34.010559964476201,19.547318868397099,0.11283639694645492]
[651,0.56477584822746785,0.37744955619900766,0.84871147217689913,8.9250314804311004E-2,null,0.44648422721428571,0.4861128961901533,0.27952791016418521,0.41738272602172821,null,9.7309019684278706,34.895549479947391,17.415755491289488,0.14311640887121421]
[652,0.90614123172650674,0.7752634012733669,0.53473989403143463,0.21477357028388622,null,0.86582903952623402,2.2842074779401034E-2,0.94345807179536145,0.1178696624161627,null,12.213778006347766,29.005100111948224,19.584482959678244,0.11087177722960923]
[653,0.50567324718016748,0.21255528553971237,0.75467153377013052,0.46913245382210689,null,0.65860659359993845,0.22055979484332744,0.93819011924940132,0.28238706467275865,null,10.817326483625802,32.689088027849984,19.539756325350847,0.13099975966738076]
[654,3.9436976469440443E-2,0.63089230879972691,0.31462851238901091,0.28841403074122884,null,0.70561578248233825,0.36765876913678475,0.90575395100879952,0.61003833703265642,null,11.081243175695182,33.98581826881037,19.315052978680168,0.15922082552487457]
[655,0.98770364622338791,0.2906796227823607,0.79476928674019787,0.97631624243103665,null,0.1496488975121435,1.6729741010048871E-2,0.99501833785747729,0.55541262784249779,null,7.9241191642491069,28.620421830119021,20.57709958059522,0.1545985014159047]
[656,0.3490148334041947,0.41556227267738699,0.43379251704603994,0.34813879015660865,null,0.11689347825269891,0.17523001972982843,0.40439980956182819,0.59616785622532253,null,7.6186793362214207,32.198907991262807,17.758025108850035,0.15803353161162043]
[657,0.85829382638755713,4.0052550747465165E-2,0.12522974892658234,0.96522967301286033,null,0.2111501337113233,0.98333492802163558,0.78163882596219303,0.28765665720760114,null,8.3951261729594826,41.3842511203231,18.777739928560489,0.13151196230762996]
[658,0.90151217964176622,0.80644601737352806,0.21092116637503178,9.9170806697821856E-2,null,0.43689622879838652,0.34691254826877505,0.36030373177233943,0.48566368769683588,null,9.6823137152591379,33.81899163945203,17.642352950317772,0.14881386305634459]
[659,0.31969058440112608,0.84527718310419453,0.9388367793849024,0.30856661473865921,null,0.52707820095203128,0.78899606130684019,0.34964982546156376,0.33655202617013236,null,10.135854370327685,37.408827979908303,17.613733963050993,0.13607757316660818]
[660,0.25498587346035206,0.99814807495162339,0.39221728565772795,0.94530044718464246,null,0.30572624739515308,0.67748512665043614,0.53948051937761377,0.97212024009805076,null,8.9839975804185599,36.382033558858488,18.099125077412047,0.21312604426748677]
[661,0.85102627441277579,0.94759092794596522,0.47270537249223832,4.207073897913971E-3,null,0.10830865961454039,0.87764262920847758,0.90238944196739745,0.33102556767702107,null,7.5288539634165508,38.489848697618768,19.295287365450925,0.13557626007838006]
[662,0.87984568365128502,0.63915388090982228,0.1394242997709022,0.36199473348823585,null,0.12114543341773287,0.83586238271473257,0.21257541424637727,0.69390957839176493,null,7.6614401412284359,37.932781584493931,17.202482991013664,0.16672977602623629]
[663,0.83333240042497181,0.92295057002930281,0.264235022946406,3.7113144183898994E-3,null,0.86937819012572748,0.4352261200047074,0.24587910988868966,0.7820450998736812,null,12.246913215173002,34.510747781742758,17.312484949478087,0.17571091683294093]
[664,0.96848393532843169,0.11253036570323871,0.29176525756123151,0.12480953610456935,null,0.65458098250233354,0.79726433353640414,0.43309950344765757,0.66442869853239228,null,10.795436088409629,37.495668426553642,17.83151152146149,0.16401115232415311]
[665,0.75376983044304424,0.83841849266316149,0.20112385207488004,0.47648581856019745,null,0.17364434442496512,0.11929492092586547,0.16089491171421288,0.68956511125022457,null,8.1202773157822712,31.464443599414928,17.009213460614649,0.16632239476297192]
[666,0.10085212478216254,9.0727033164732518E-2,0.37841835061511131,0.33751741700499538,null,0.18991691972346503,0.36488456282739401,0.39580216881897745,0.13163158487788718,null,8.2435950143389469,33.963702013123722,17.735772131078129,0.11308251526078783]
[667,0.34886478171050483,9.1365353727990706E-2,0.92084166538538215,0.12846027869898458,null,0.91443123514325442,0.91363875352076074,0.61703718382767414,0.5983549832351186,null,12.737115683721994,39.090523732884826,18.297708530184746,0.15822001825289941]
[668,0.53161392534728236,0.89837783873695631,0.80414326058476837,0.7294798305603728,null,0.20628903500623086,0.60072979130854298,0.98718607848106521,0.29344603342195219,null,8.3612695526682952,35.76570959360177,20.23180516174018,0.13206960447203506]
[669,3.6158070382186547E-2,0.7907955020219567,0.42359290609810329,6.2231944651405136E-2,null,0.58934463913798663,0.13762362999522637,0.62539542433327311,0.44477520760190425,null,10.451718939534928,31.726825303414532,18.319682336213408,0.14541718716346747]
[670,0.5329817696323228,0.38048007721216737,0.88263771907524247,0.54045805183009588,null,0.88645702259838122,0.75538756698935883,0.70505406320057262,3.1849187351057018E-2,null,12.415798829172672,37.074626621652214,18.53899272612302,8.88085898631856E-2]
[671,0.78841882107529093,0.92102848765891432,0.6187012697873997,0.94035792757930703,null,8.2865957440918625E-2,0.93845509687562789,8.7523064551472407E-2,0.53403572963575086,null,7.2279018240757331,39.625799858177778,16.643833282810075,0.15281881653195614]
[672,0.90047132501660387,0.53751971311164159,0.52047515988670334,0.78717038101263603,null,0.74417261533128209,0.79899699858110718,4.9348321737091139E-2,0.98119392756302948,null,11.312526467337268,37.514131943535375,16.348794612819006,0.21860886909831892]
[673,0.36028653916730835,0.12860793912336121,0.55962480419844784,0.66433406985613563,null,0.24396832364687926,0.53810177602257092,0.6498220288186779,0.51629539700018379,null,8.6128113296541642,35.286957950974006,18.384840025819901,0.15134830963759446]
[674,0.91040222641653157,0.30229497439578745,0.75843584899138328,0.12747041173037854,null,0.41565643654154782,8.6820920597351692E-2,0.39152130182380274,0.95505901959382766,null,9.5739638722289442,30.91821622041725,17.72464381626537,0.20596868295219087]
[675,0.28361191736791913,0.94261859977553042,0.98870694680553139,0.56577182987827179,null,0.71837011389774352,0.95244408635744482,0.4150060468741813,0.48123544377836069,null,11.156012877412257,40.00708405409857,17.785313942645764,0.1484472469081117]
[676,0.8644038831168348,0.41996222186276666,0.81751041932296309,0.1736547066695292,null,0.42947017757751049,0.34720252505025107,0.8746817488969264,0.77819414048619007,null,9.6445535766327186,33.821347555758372,19.148804745374449,0.17528158198410163]
[677,1.0752390676439405E-2,0.73566020352189099,0.72584031884442968,0.81608341589510391,null,0.586059618649589,0.59354291181037555,0.10718927720451166,0.71990668426253512,null,10.434840727682239,35.710004717892559,16.75838475535495,0.16922462251151882]
[678,0.60239789336863714,0.70378753345442113,0.46577439275118071,0.98380118941409234,null,0.41365881519369951,0.15036125368255626,0.6034626519065095,0.6207613488473448,null,9.5637138344043038,31.895344272786772,18.262320062014751,0.16014687215542106]
[679,0.43773360631126002,0.23804017849501291,0.42046051279436436,0.6953289326807518,null,0.27334375724584004,0.88412600626579962,0.81654452047623338,0.84763235716412133,null,8.7945375765913969,38.587604669016017,18.902274705125649,0.18386894429968664]
[680,7.2979115379738002E-2,0.31683822897865754,1.6199347967469802E-2,0.7145253534061784,null,0.50970933194284263,0.651067028917934,0.73685218317628987,0.44707403354536135,null,10.048680178204583,36.164608477355372,18.633670878791925,0.14560910920960152]
[681,0.98180044724389415,0.6383994606058403,7.0779473720931629E-2,0.33044398747073001,null,8.9949541642905473E-2,0.64735626181277617,0.47427553273625167,0.361682668229797,null,7.3178683589236417,36.134577985475033,17.935473573277957,0.13831916482798223]
[682,0.79991757556474397,0.85871973173480642,0.20309290233245469,0.76630281999283745,null,0.44768739137565094,0.99364743720892068,0.82172825331251309,0.20448240924367411,null,9.7369873483537681,42.475788476346978,18.921971401068586,0.12275134900502729]
[683,0.86200880221627596,0.8441994479692102,0.47849857079240066,0.35969578695766569,null,0.6266211590896611,0.7727893029791737,0.3028984473842451,0.69901786130280219,null,10.645835107801341,37.244192801041514,17.483917650134071,0.16721206958864482]
[684,0.99458346175460866,0.24234847227395429,0.41981280815616351,0.34529236907688343,null,0.17032942790209538,4.4977736053224526E-2,0.72241668372898782,0.47894883390595888,null,8.0942715009192767,29.913102075362957,18.59003582379626,0.14825786533044363]
[685,0.51397683709162678,0.49367937710636944,0.7592613640572311,0.87705098695128447,null,0.68016314161281155,0.76995442548812143,0.46221283207556541,0.14388541527143528,null,10.936310092801012,37.216090302805121,17.905139541207447,0.11492019074572615]
[686,0.53234313033113867,0.99512163495425732,0.20702931348914699,0.95559501302493965,null,0.5146966109404052,4.6720594194069487E-2,0.83451595750984442,0.50938212554891915,null,10.073694553770464,29.967445320767528,18.972165773209721,0.15077614909059844]
[687,0.2891000698417735,0.16214321851651625,0.98221477019601811,3.0527502454825051E-2,null,0.3957674899736473,0.63284387660084984,0.91666531547473185,0.49532191135190673,null,9.4713642299700389,36.018184752785828,19.382985313853602,0.14961302556519923]
[688,0.28885172655715297,0.66249084830707172,0.64481526045115478,0.70006315101049477,null,0.38357783265217282,0.35871031768558315,0.78518051018646706,0.20779146088348732,null,9.4078051104157918,33.914275413450312,18.789809586478164,0.1231344266950832]
[689,0.44513744294507707,0.90648719606362915,0.88616695055339501,0.96130406198588247,null,0.37819529680487485,0.82266361903312024,0.34494886197763708,0.4582889985695684,null,9.3795519283144966,37.776691119497762,17.601006133920635,0.14654340849745651]
[690,0.59627451430121836,0.1029457192436648,0.62207267816770961,0.32689494758403059,null,6.6796476401133065E-3,0.7872366068731399,0.53384130738043434,0.74144331504568972,null,5.0519104509638577,37.390608705788004,18.084929567497579,0.17137744823445863]
[691,0.38188383809316662,0.85932760677982378,8.6850037165086214E-2,0.84024437380660388,null,0.68915792628142447,0.28766489345137347,0.19001323474988274,0.7001458575004752,null,10.986929764697079,33.319341759982422,17.122152474882743,0.16731906198529042]
[692,0.38718585243658243,0.47053465541581441,0.62649679724273244,0.41178171625125115,null,8.2288673924253652E-2,0.60083209451955111,0.92462998012000364,0.38900968579346307,null,7.2203192047786837,35.766504399989884,19.436922416019996,0.14069726479891345]
[693,8.5040409486127566E-2,0.14786905401750061,0.24923937361323445,0.40625235460865128,null,0.37799763924988516,0.4409230720653009,0.60951110210267845,0.8818931022562001,null,9.378512088565401,34.554112071073391,18.278045025191734,0.18908861684686287]
[694,0.94233516067850576,4.3172273971613384E-2,0.75632524090447562,9.2423860933320334E-2,null,0.93991284858388935,0.82381171835641753,0.4038125101682728,0.34204364475625937,null,13.1080848029188,37.789968255032527,17.756508953551926,0.13657256299296833]
[695,0.85547790418646752,0.94312193196033656,8.911204089206981E-4,0.91034201796535352,null,0.8911918906064118,0.15341351021111438,9.6264163266336356E-3,0.79106447095024579,null,12.465783151939132,31.934292318166584,15.659400987447659,0.17673396875474179]
[696,0.43592410492801159,0.45418904420232908,0.34249017968155848,0.90510554146442412,null,0.55403268524749172,0.57075065079788156,0.9472235930502716,0.46969331626398902,null,10.271713240385067,35.534856757114767,19.618509626611541,0.14749065335480896]
[697,0.77077893068266601,0.36264154521377456,0.53668774659682983,0.17198432076436088,null,0.93207009214523606,0.86234672093136977,0.28327340629063602,0.23272531512572914,null,12.982774788890355,38.272770414763052,17.426855431450733,0.12591326317990978]
[698,0.67564768081245652,0.53404178615044762,0.11975357714562895,0.63741715509189933,null,5.5404522267331724E-2,0.80660436845915651,0.20984732687428664,0.16539435916782619,null,6.8108655310877504,37.596353197637683,17.193048894988554,0.11790662751190151]
[699,0.42744342508410527,0.6217820249034508,0.85924394974995488,0.63352183307021048,null,0.17127632691263583,0.92726905357269862,0.21543803391178107,0.67778781733030324,null,8.1017327469337577,39.367248367129527,17.212306601340501,0.16523021568861271]
[700,0.71412665126036645,0.3752134193079012,0.15130045620332688,0.77487825165222135,null,0.19268896900854227,0.43531160195015883,0.28862567162883701,0.25973159666140688,null,8.2639401035544395,34.511399189968593,17.442595868388569,0.128742287751167]
[701,0.47492254105484732,0.97711059437832226,0.70555857422323431,0.52962777248213733,null,0.73093317322070117,2.9495558357673035E-2,8.619062707684999E-2,0.30081923248179376,null,11.23127543023805,29.335221392647213,16.635407788780288,0.13277248967433308]
[702,0.78949229363608775,0.22133481536210831,6.2677405665213959E-2,0.53879633600325338,null,0.3417631479975306,0.22414348528836225,0.79809318985644895,0.49606459517270596,null,9.1846881391509836,32.725178008506994,18.834829665720886,0.14967446301882056]
[703,0.47394758676984206,0.47033547149384825,0.13662637052174331,0.37758091651297709,null,0.90114725896580283,0.27718057148870268,0.43089444424761758,0.67590655893534801,null,12.576232600170028,33.226286797513389,17.825902564368672,0.16505732086321684]
[704,0.5359001847085999,0.73910366155272422,0.26579813242773875,8.3597483694297647E-2,null,0.24076607126008531,0.29322409942597527,0.9346791705674603,0.86983799498055792,null,8.5923191080228047,33.368029322355895,19.511576401240816,0.18714564616063667]
[705,0.37172443248446307,0.88182661724999778,0.78708067029692763,2.4716487118653263E-2,null,0.68092528818188736,5.5623929029645858E-2,0.88096936729652475,0.49955373359093058,null,10.940575569036417,30.222171994974527,19.17984651510886,0.14996308540033462]
[706,{"$f":"+RAND()","v":0.79788513366825053},0.64350779204101882,9.3834154779519618E-2,0.99694545916332467,null,0.10202205824194222,0.23997848607664884,0.74014614941740364,0.75909503499411135,null,{"$f":"+IF(NORMSINV(G714)*$M$3+$L$3<$N$3,$N$3,NORMSINV(G714)*$M$3+$L$3)","v":7.4597725114049824},{"$f":"+IF(NORMSINV(H714)*$M$4+$L$4<$N$4,N709,NORMSINV(H714)*$M$4+$L$4)","v":32.880884691945724},{"$f":"+IF(NORMSINV(I714)*$M$5+$L$5<$N$5,$N$5,NORMSINV(I714)*$M$5+$L$5)","v":18.643796041286166},{"$f":"+IF(NORMSINV(J714)*$M$6+$L$6<$N$6,N$6,NORMSINV(J714)*$M$6+$L$6)","v":0.17321201866640179}]
[707,5.088442094025647E-2,0.60640788539871837,0.20782263800535006,0.27835074817460448,null,4.9564136178904539E-2,0.98072271848097226,0.28766054571334743,8.6622109460660068E-2,null,6.7018109620755553,41.206729040527613,17.43976783679539,0.1050588444682159]
[708,0.1516909328819217,0.98712447721290109,0.90901982182027563,0.72693715992752106,null,0.52578605922275701,7.6961297577984311E-2,0.12688760592933168,0.35633542983290534,null,10.129362274770958,30.722563782068704,16.858772376417036,0.13784704308689066]
[709,0.69246889717343618,0.33150846318470983,0.45290476302618321,0.3590230960878793,null,0.53122903453509618,0.50673607058121561,0.19051663865747337,0.55942225225508957,null,10.156719396812477,35.050656882085683,17.124005966385187,0.15493365114742419]
[710,0.60542048978280683,0.52341886454325581,0.32742197192360234,0.89846871400432204,null,0.12935927771766043,0.13145676094482883,0.42445504899885456,0.92116348324067843,null,7.7411498285460389,31.641405933664934,17.809490753224576,0.19662705738055763]
[711,0.6375730408761221,0.29843469486181462,0.72729527870553312,0.12681127728497532,null,0.39639422329535601,0.27448575310224743,0.66478178710666946,0.5394706051460525,null,9.4746172018771908,33.202093962985877,18.425549114689126,0.15327030342400466]
[712,0.4713966693411018,4.3915135649170267E-2,0.39596290796749567,0.90787088647164327,null,0.79666883360241625,9.4657479308629333E-2,0.30854970040199203,0.24465524910385827,null,11.659562998413385,31.062174986655815,17.500034543506722,0.12718360534259124]
[713,0.49338263069076593,1.0117040190503412E-2,0.1846462655036426,0.37228604674598631,null,0.91483021717601121,0.95804566345576891,0.72432987803081605,0.47298268396611498,null,12.742227074267259,40.185331659420527,18.595753003148989,0.14776345081914793]
[714,1.6314458247961405E-2,0.39828010069555353,0.96825419976783944,0.12152154071304533,null,0.79448378174749379,0.94411525812038832,0.59741757234521342,0.58593003879978767,null,11.644156242853773,39.770869572700917,18.246668411383496,0.1571638973599164]
[715,0.28454462628604138,0.26358264172682266,0.9470940080788931,0.40444616955645807,null,0.51185418786724646,1.6129068333731844E-2,0.93639452367908815,0.9273125791520006,null,10.059436832748712,28.576408322344822,19.525193053757576,0.19805012233173003]
[716,0.98063667840380164,0.8207733801151994,0.56717766973928418,0.99292125061393088,null,0.89405681303455997,0.87026205429998871,0.90955180097804844,0.46350744688196799,null,12.496790356494699,38.382892272863025,19.338000118857909,0.14697716022412827]
[717,0.6812908560505907,0.57370367745119999,0.70730027606543133,0.60664614447957121,null,0.20420463967686275,0.24566119528233321,0.27512042530111025,0.7305731371391101,null,8.3466076127767561,32.93537878141931,17.402600744372659,0.17028006095512155]
[718,0.67865809178270675,0.71056306246307654,0.46502408030343567,0.66003693691383547,null,0.82588544493837512,0.40670946952209086,0.36741552234220365,9.7629600497169067E-2,null,11.876059544637723,34.291946913679716,17.661293766999876,0.10725916128069374]
[719,0.25082448178875549,0.38596203650133631,0.18407424303966913,0.62169529705620008,null,0.92166755699166847,0.73885308664275295,9.6219895411579937E-2,0.96762919001277936,null,12.832755833386631,36.919440629796924,16.696604555072376,0.21095225698770867]
[720,0.28373965479969376,0.76181610135655731,0.5080314691938862,0.2113176529780838,null,0.17580394977070102,0.6670617534899741,0.39078439853340075,0.72562994134479997,null,8.1370499567757495,36.295442455894722,17.722724795111457,0.16978842029163915]
[721,0.56558149984876005,0.8507192479191098,0.18835472050326219,0.47846162761032185,null,0.47645973629157856,0.14821033353835855,0.17335546654371725,0.96860542944937988,null,9.8819180522522352,31.867580294017156,17.059011852374002,0.21140249575793063]
[722,0.42636938233413924,0.24407445195928845,0.47293150375983817,0.37285876111668548,null,0.17198276793225953,7.0680549147586369E-2,0.35873198166632736,0.93738902874490548,null,8.107282101888309,30.587776163873752,17.63814978272654,0.2005962218878018]
[723,0.69470483266510963,7.6184623174289201E-2,0.40975117761890056,0.86884627934531411,null,9.3644822169382969E-2,0.584702754869737,0.14417851186928476,0.19768025995388216,null,7.3627208964668789,35.641817524664077,16.938267242366443,0.12195210313446198]
[724,6.5457089353167741E-2,8.9910019533513741E-2,1.7715306398633834E-2,0.4756938906567344,null,0.33108956986287108,0.44948546360687436,0.11632290020920144,1.8621826430481603E-2,null,9.1261869501847883,34.619115715169812,16.806428940815181,8.1258258898125407E-2]
[725,0.58055697149632557,0.62396708942442447,0.36398302274596084,0.7232333172319817,null,0.39614840924541384,0.93852259880382338,0.99240545069006492,0.90540731372855099,null,9.4733415044621818,39.627467081087914,20.427838658784591,0.19332876257537362]
[726,0.11916650561984121,0.54158359177303195,0.84843854240339156,0.76330347617392691,null,0.67536322269624449,2.7464103861548184E-2,0.75845171958199509,0.79666029847097797,null,10.909543225836648,29.241668966168337,18.701330857336171,0.17738179332865578]
[727,0.52329969024691647,0.70437083509740228,0.56625875331088438,0.81284429825645232,null,9.5298796085765858E-2,5.4213149400927696E-2,4.4736129835068028E-2,0.79296021288746943,null,7.3823733501006554,30.184079536886777,16.30181186745596,0.176952272948661]
[728,0.30334058213303805,0.99246601786588429,0.80652135595400354,0.13247982062933028,null,0.10977799281904244,0.53274398624022679,0.50623530913605452,0.69964481040249471,null,7.5445807161891842,35.246508120320378,18.015630238580744,0.16727151439071497]
[729,0.11439977615970831,0.50704295597988158,0.69132681712768729,0.73487624419264252,null,0.80541341058607419,0.4554310601415873,0.53247594459575232,0.40773183171819805,null,11.722235555407764,34.664146476755803,18.081495239258611,0.14229834615292525]
[730,0.3201377004979864,0.52545104875433812,0.65947180352573187,0.36833898188137359,null,0.65311311754639678,0.5798150985349434,0.21153865678354833,7.8431317267447342E-2,null,10.787477945017807,35.604261438866985,17.198906145284447,0.10328181844815384]
[731,0.52480485777074615,0.93704295435627705,0.48719760856601313,0.54883448485480912,null,0.43220507121325191,0.83814151783839808,0.52657523327937739,0.43382773647635342,null,9.6584740483762452,37.960545194227635,18.06666357409021,0.14450097036198531]
[732,1.4552508718772672E-2,0.6262871530397236,0.28094878418325242,0.13708107228999711,null,0.15336790589616189,0.23362133285233322,0.78208758395249134,0.99022957098395015,null,7.9558094605913459,32.819081831571111,18.779262954773138,0.22705661894841278]
[733,0.55874288201171907,0.6708650778831875,0.71282564683318117,8.9406264516592171E-2,null,6.8987669733953982E-2,0.3703680950650392,0.85627939728288649,0.90493284610776148,null,7.033254019518556,34.007364212086578,19.063751681341401,0.19323600265567997]
[734,0.75746758147450277,0.13530662847044561,0.59474818213953351,0.38728042100157101,null,2.5296860852038638E-2,0.65255050330484321,5.2936825037755986E-3,0.51790855671099312,null,6.0901804686943475,36.176646496230205,15.443968881099373,0.15148187099757043]
[735,0.85952136437648086,0.64962348078626919,4.1973346175794402E-2,0.72710604300788773,null,0.21872374781315984,0.98602340912816278,0.20063740311239042,0.62715699163241023,null,8.4469785664386059,41.593828426599657,17.160653339183018,0.16070298558649468]
[736,0.17370851224042216,0.58008807513161154,0.32265330291382988,3.2392060201497097E-2,null,0.37861500941890502,0.8482365682306201,0.37788670162746352,4.5053202173125362E-3,null,9.3817594028787443,38.08669875424512,17.688964196352906,6.381554432104819E-2]
[737,0.51116228838731537,0.77601407229775587,0.91684132111174432,0.91688614287505399,null,0.14402144768654235,0.38305568537201506,0.38847312657478428,0.44087663975002611,null,7.8751504670832944,34.107604392882017,17.716699185733876,0.14509134926721626]
[738,0.9722493542374494,0.60426487321305411,0.446009652049421,0.32648639530383161,null,0.46024398726221816,0.67810248715795429,0.52427724026549649,0.72259080803104436,null,9.8003618764525235,36.387197797607158,18.060891624853454,0.16948832680985973]
[739,2.1528036114294768E-2,0.36791502592775716,0.87886432020193395,7.1904939853694616E-2,null,8.3730609528377187E-2,0.80135324067906488,0.33908229062598116,0.89228494576375894,null,7.2391850442290293,37.539394313013091,17.585030978653599,0.19087946152516794]
[740,0.32068356231993878,0.18452639668797832,0.92872703218603581,0.65830876490972179,null,0.67106191454660291,0.79152720818578737,0.4693032124840778,0.88461875993984829,null,10.885694647390835,37.435195188187393,17.92297847954007,0.18954710267164399]
[741,0.26445670797596166,9.7073390621597033E-3,0.25609256560142668,0.3210495230565622,null,0.69322739060099159,0.56301279026134188,0.56624084810279585,0.63098192535391417,null,11.01003877548191,35.475836587800508,18.16681158386314,0.16103701907299456]
[742,0.52317948946841519,0.67167963778007489,0.58804110042315039,0.70476748258019539,null,0.69086010339021398,0.27186803543128413,0.59368087303417294,0.30649847796059571,null,10.996579608210189,33.178480829860518,18.237023893609908,0.13330859517716839]
[743,0.76738714979306633,0.34205850417584738,0.44747378608122768,0.91040028760943992,null,0.53705217940902861,5.6941023622237519E-2,0.94633348943326301,0.54404515322694669,null,10.18601993864813,30.257052606467859,19.610297058349136,0.15365079263815695]
[744,0.51144937452446582,0.5374383915170956,0.53628621175611346,0.33847915755775682,null,0.84777381036340627,0.17756428737191698,0.30943724016843543,0.35599533425832852,null,12.053864448677047,32.225938026815079,17.502553867264201,0.1378169318757313]
[745,0.1180926014674275,0.74604157464849463,0.4149747669012025,0.96941491669966895,null,0.56487110007338204,6.3775985634123344E-2,0.64592100901611915,0.60612506937184463,null,10.326662069339202,30.428519460041027,18.374331119883497,0.15888471155433753]
[746,0.62790520648881265,0.79533346344265188,0.66401662768227432,0.48087485809854658,null,0.72051500224516607,0.61143866159458671,0.43484066931453713,0.32224942986933847,null,11.168744193766477,35.849211961428388,17.83593673301846,0.13477321151532567]
[747,0.28859903380549357,0.98922321236397626,0.5828627904938144,0.68988537240567516,null,0.50164451288275869,0.35837065375568167,0.80865598744934886,0.44593620187259497,null,10.008244388328549,33.911547858309319,18.872954231104529,0.14551413404115657]
[748,0.5930596967304187,0.71930960862237914,0.45403586788291939,6.0657438852355083E-3,null,0.64409457359378286,0.28403531902193746,8.0252538614392188E-2,2.4649403913022838E-2,null,10.73885030515096,33.287314192708365,16.596625111774255,8.5122056340506305E-2]
[749,6.4335395105030502E-2,0.86363687113321652,0.43187864767286355,0.45331617496503662,null,0.38118696568505672,0.99885089940590166,0.69322634900251501,7.1815130886429324E-2,null,9.3952702587907009,44.146153930770105,18.505016421733952,0.1017406352022299]
[750,0.24042103611675969,0.10951186748346353,1.1705234724986413E-2,6.5385594433620131E-4,null,0.97993862775015805,0.31809134685591312,0.71671951753245866,0.1469753355838308,null,14.104966021117516,33.58087180810552,18.573123665110749,0.11536668766168336]
[751,0.89895422690961235,0.9246842062709304,0.66434414442490797,0.66024799435860326,null,0.64147544830505621,0.72607746358479697,0.58082991244270077,2.6660301306604683E-3,null,10.724810803684669,36.802977089444063,18.204017050042083,5.8053523728776688E-2]
[752,0.44644349248815873,0.66113122328714735,0.96938820619776722,0.65201643751243876,null,0.52157274439386736,3.3501784406409718E-2,0.44735706826318977,0.66720245174321402,null,10.108202462696267,29.505049726400841,17.867658440256992,0.1642626437214017]
[753,0.89809891462476088,0.26332455138982436,0.7301048998155969,0.98936154263313347,null,0.52017861034780466,0.63856888270866108,0.39793996942860166,0.90334634874382069,null,10.101203723403339,36.063908273027494,17.741317131681775,0.19292829107163406]
[754,7.5945327362643922E-2,0.49007418560255522,0.67224582414975864,0.98950697849368308,null,0.94687872998719891,0.70451692015977463,0.39647828537703023,0.2008654368873769,null,13.230629601769554,36.612309399657235,17.737526704253707,0.12232837877507724]
[755,0.87953403644364436,3.9218285549442178E-2,0.37626113677663231,0.44922657108294262,null,0.69164972280223336,0.86161878239932543,0.17751350840767932,0.78162170167470968,null,11.001063930061074,38.2628631421344,17.075117473727673,0.17566350094106381]
[756,2.6841630438779074E-2,0.83840353351834829,0.890128158649381,0.55364899891189767,null,0.81975171009454306,8.672602742648472E-2,0.85510503398178495,0.40384147323663366,null,11.828838541076779,30.916414819523709,19.058582561905297,0.14196726331682921]
[757,0.67421152218223901,0.73776000442143275,0.23099796417749674,0.47110186417867461,null,0.44047308721795464,0.77259980083317736,9.7633805932037077E-2,8.0154611122665198E-2,null,9.7004602422237234,37.242308115388667,16.704847455913992,0.10366693307641119]
[758,0.38030324191618126,0.95466869034152579,0.7031525174177633,0.77998455136509948,null,9.5299153058669095E-2,0.61076659256245613,0.26541746056281845,0.80099352866285678,null,7.3823775644073519,35.843952790035154,17.373267995441875,0.17789078656982393]
[759,0.14906156740447529,0.91958537199725876,0.31975237009021973,0.28271263397805513,null,0.49188406662174189,0.64906170962733412,0.96452388918213428,0.95711415261277122,null,9.9593099369384444,36.148365533141614,19.805783129707606,0.20669850917325061]
[760,0.60756302369131987,0.51589460807921195,4.9035339104870901E-2,0.38993974353991212,null,0.57560899878183014,6.8741702009193828E-2,0.8780050493024647,2.0224132488722013E-2,null,10.381345466536755,30.544315624210839,19.165071872218739,8.2378325273494465E-2]
[761,9.2379061486324021E-2,0.6863262276568044,0.34695669798294448,0.46461807931622556,null,0.2393593646503982,0.40476444430353664,0.31610123505084298,0.24432286978435269,null,8.5832703470217897,34.276898478297838,17.521370840260222,0.12714867503696869]
[762,3.7312655529335492E-2,0.81541203285080233,2.5414134282252698E-2,0.55807657879838268,null,0.59416922740629041,0.50782173252893503,0.99454093292380674,0.6145973031937404,null,10.476566156047818,35.058822296575897,20.545308148888708,0.15961361174268393]
[763,0.2945608528740673,0.59593788717827356,4.8042151423866253E-2,0.77984792383173351,null,0.2968818636989472,9.5491591705306522E-2,0.71479620180116188,0.46288841701745054,null,8.9332202573051305,31.076971614606631,18.567451312310062,0.14692573588935698]
[764,0.60281785303649094,0.3336450590261284,0.56018981744472118,0.80543096255033608,null,0.22215029215525739,0.25684242903684484,0.38446460327468079,0.41897395890602274,null,8.4700975334848021,33.040667636760773,17.706224171495375,0.14325087181297885]
[765,0.55328959609626982,0.19764926721748843,0.59725858795781439,0.70923253667877606,null,0.74106487982554192,0.44006131059261078,0.88785821901241546,0.33145395506519071,null,11.293263697367909,34.547558680727512,19.215216413299562,0.13561523746298362]
[766,0.68992037623509328,6.1477895205100941E-2,0.37062428963201688,8.7301560545383183E-2,null,3.3971253986178285E-2,0.42710032035172318,0.23655314875703459,0.2570535279438031,null,6.3492241206954825,34.448715807521495,17.28256592004746,0.1284689523730565]
[767,0.57984050506678197,0.9176223528193661,0.91576606609445288,0.56011201647101705,null,0.84016710757475355,0.11330505504235266,0.94252132680761369,0.81168713973806061,null,11.990289844632411,31.372588169417547,19.576297114259312,0.17917630954795624]
[768,0.37719447465296141,0.62190587997520397,0.50559672449945514,0.38206856968987712,null,0.79766054659204155,0.29005200208105619,0.35439004824797327,0.58839968127150344,null,11.666588115430722,33.340301575583055,17.62650504102006,0.1573731993429307]
[769,0.12622412791330306,0.93331843446116336,6.3528176811844195E-2,{"$f":"+RAND()","v":0.94100789467756019},null,0.6434692998076067,0.12199197410138474,0.19577777189059098,0.97779954492201882,null,10.73549531740813,31.504740257923494,17.143200213621466,0.21633944349196271]
[770,{"$f":"+RAND()","v":0.58409945455484991},0.70307168970585454,0.64135548358445482,0.59076670570048573,null,0.67421154750182533,0.86591762638854308,0.45975379929846605,0.95594004911560171,null,{"$f":"+IF(NORMSINV(G778)*$M$3+$L$3<$N$3,$N$3,NORMSINV(G778)*$M$3+$L$3)","v":10.903145221576983},{"$f":"+IF(NORMSINV(H778)*$M$4+$L$4<$N$4,N773,NORMSINV(H778)*$M$4+$L$4)","v":38.321896509519178},{"$f":"+IF(NORMSINV(I778)*$M$5+$L$5<$N$5,$N$5,NORMSINV(I778)*$M$5+$L$5)","v":17.898946006134391},{"$f":"+IF(NORMSINV(J778)*$M$6+$L$6<$N$6,N$6,NORMSINV(J778)*$M$6+$L$6)","v":0.20627819054183508}]
[771,0.65266674845260086,0.6700674761477845,0.98825296951526809,2.169819848022192E-2,null,0.30344184641105021,5.1368596109707898E-2,0.58409779637790882,0.79846440675874564,null,8.9709462990624544,30.104821600148732,18.212387922578557,0.17759291106496716]
[772,0.9343289544646517,0.48033209292155321,0.70845567273790055,0.1300550367576776,null,0.93239906879151191,0.59485700535574448,0.94673425690686197,0.32308854214382698,null,12.987799204661746,35.720171306972638,19.613981282995585,0.13485037681943979]
[773,0.72332011626439463,0.33609631871115175,0.41635502407478198,0.26581438159383863,null,0.50026775816764968,0.95987738426600921,0.70578145059900854,0.70646866406928899,null,10.001342340488369,40.247794852548125,18.541102262595217,0.16792221759493201]
[774,0.97503521947392369,0.42371864915420199,0.19089541313416414,0.43628516736817613,null,0.29297686578663573,0.31514696770354911,0.25945203419225271,7.9488020433587492E-2,null,8.9105821675709969,33.556060478128522,17.354964326871716,0.10351871641197577]
[775,0.55768231746297803,0.85976154456486664,0.70100502861874847,0.8309768711008354,null,0.84688351748776525,0.36320563260650085,0.58276597793597551,0.92003678827572721,null,12.04631677173748,33.950290079426502,18.208974629439862,0.19637552894184829]
[776,0.45205791637394788,0.11663803330068212,0.73540639441200106,0.25064071195901216,null,0.80013819860060531,1.1751863852353828E-2,4.8840382838770457E-2,0.78487471667932407,null,11.684229939452422,28.204562298474279,16.343797245751158,0.17602917741661075]
[777,0.68173850992730445,5.8120263952818219E-2,0.11104779408254617,0.99893094341799393,null,0.51528056644974729,0.2579831139224914,0.19916221558788172,0.87306123949902759,null,10.076624140711351,33.051272408295127,17.155382493072807,0.18765239748359402]
[778,0.34391753430300753,0.54708794909843472,0.65963749857272624,0.97673760883658312,null,0.55414440961822797,0.81417176829083882,0.66882385816268131,0.77505936595066449,null,10.272278547019846,37.680124566454502,18.436667801356968,0.1749352285178282]
[779,0.12554096374692392,0.59441985688106125,0.6039355184565578,0.66010473577989415,null,0.8258002625153863,0.16187589598111196,0.66050606108442866,0.67218701829311789,null,11.875396610727968,32.039667895806254,18.413844655560915,0.16471668807040205]
[780,0.74150972862177622,0.69455544690726556,0.6804891958710354,0.27447552298847977,null,5.2734428998824412E-2,0.94888361763411799,0.29605883502741981,0.64386609082936141,null,6.7622007166433189,39.902372738363326,17.464230219642769,0.16217079782518393]
[781,6.4206964403792366E-3,0.86815645529658214,4.5100464997541723E-3,8.3466868844890629E-2,null,0.29436362203073285,0.31999415312164203,0.95710051810886509,1.442257298008387E-2,null,8.9186373251036493,33.596854552977874,19.717987124556618,7.7875318674824681E-2]
[782,0.34629197263951284,0.44368058840178304,0.49976039852010889,0.45151018182838687,null,3.4300735183242059E-2,0.37873964492992906,0.81434444842131182,0.99931643904711631,null,6.3579291271719622,34.073622165577895,18.894020163071712,0.25564963106049443]
[783,2.1552438830316767E-3,0.81803618805681799,0.13086619499518715,0.6300373075855431,null,0.60577962092197402,3.7773406947307686E-2,0.56766639973617383,0.36055539070748832,null,10.536671843598729,29.668609282016408,18.170436078663599,0.13821983645861949]
[784,3.0052058112920443E-2,0.30092458613508899,8.0059662761765571E-2,0.99872392386424891,null,0.58683933743577055,0.91732285844216777,0.60927082480313521,5.5183876189283776E-2,null,10.438844022896342,39.16186082747975,18.277419056871786,9.7314101561405547E-2]
[785,0.88191053421394905,0.17472888700105438,5.6272743397961511E-2,0.36494386432199277,null,0.75638551079852068,0.22555567385218822,0.92956775363331456,0.10693405072635176,null,11.389445785885888,32.739309397349579,19.47257936327447,0.1089810239987945]
[786,0.36769326858165141,0.5773189608278847,0.48396672014572895,0.78496486758070882,null,8.4132287036630449E-2,0.43821312050800565,0.33042843159116053,0.53862476124068837,null,7.2443969435543751,34.53349652570293,17.561269553538327,0.15319999924402189]
[787,0.24991565996683096,0.96996088926202362,0.4150524554367383,0.38726179113555814,null,0.41386488348589201,0.63106827793689668,0.8318651489714739,6.8696411485213216E-2,null,9.5647717215073058,36.004052111768928,18.961561931136721,0.10097618100092151]
[788,0.69169126866338915,0.70565878933448489,3.5642846681366969E-2,0.62868614416011448,null,0.16481400361792309,8.4564150073057953E-2,0.89385511710549226,0.52935412270641979,null,8.0502731356886237,30.874969571003223,19.24729386595325,0.15243033098891712]
[789,0.28869187852129607,0.30070379006270787,0.13752097363774207,0.85337452934067248,null,0.95264478921161988,8.2193307022617734E-2,0.63362339849473992,8.1273143281486715E-2,null,13.34211398065894,30.828594063362033,18.341465459875415,0.10391355955220671]
[790,0.42386332002776805,0.29750644274878657,0.3521085890807899,0.19018083011205444,null,0.21391470592640993,0.23678223723107317,0.11562109091069328,0.39574421692909434,null,8.4141770864068288,32.849925512917793,16.802834827913205,0.14127551622535148]
[791,0.50993715480834889,0.11637008056048137,0.56103304025140888,0.34742901163806694,null,0.32561840444548773,0.14458705358025314,0.12250517565227537,0.41688450133652188,null,9.0959106782246639,31.820194576423656,16.837445625325074,0.14307428430759236]
[792,9.8369237889104344E-3,0.95571252563036857,0.57215366266486922,0.65002855500352075,null,0.4267452310147104,0.49808576806773897,0.70266079655023217,0.48353636595666194,null,9.6306665887089267,34.985605141106575,18.532068711388909,0.14863776226624678]
[793,0.14207333435033975,0.67076898431762133,0.80341441362287114,0.72053937660631906,null,0.60246793009356003,0.31459309449997219,0.92017497451763797,1.5163890955978698E-2,null,10.519480507927042,33.551382162270919,19.40624949696236,7.8529164844327745E-2]
[794,0.42488724996017624,0.83700661501056839,0.9449916910407139,0.10093263898141214,null,0.68883525959300795,5.2880650690586561E-2,0.36937962804639368,0.55919817069832634,null,10.985103123478778,30.147373500484164,17.66650313576994,0.154914907885954]
[795,0.40156777028408075,0.86919933534719329,0.64362015451116072,0.58877769510558919,null,0.60900077898185989,0.64011870756038269,0.91126302372648738,0.31125377494940187,null,10.553431331122296,36.07632833407969,19.348573639023982,0.13375411259453712]
[796,0.82465068399395924,0.73840264555082757,0.29726135934598907,0.94155860152409931,null,0.3840869119864978,0.97602259290001314,0.60846488114735453,0.91152335517433691,null,9.4104710967411123,40.933305882662154,18.275320211553247,0.19455645063739427]
[797,0.82088140988354819,0.68124674655654494,0.53492945879304921,5.7014156939624083E-2,null,2.8263657461050862E-2,0.54798138406333097,0.10337700332416766,0.36264978003631587,null,6.1861038976886125,35.361688791148055,16.737458510114717,0.13840429614228081]
[798,0.79504763294762471,0.55642324226194606,0.48424382666635757,0.21335250759903324,null,0.21269685050561193,0.4103786476691923,0.41300988284818518,0.19773423020397796,null,8.4058025645272334,34.320286810261599,17.780190814637848,0.12195850914775526]
[799,0.43900213106244435,2.3468055574895397E-2,0.18423964671331106,0.21478532726939037,null,0.23905751003708242,0.35895038327154571,0.56112304993476458,0.51932299536818338,null,8.5813248627030401,33.916202636813182,18.153817163812192,0.1515989991747243]
[800,0.99195421677661788,1.2437361240378086E-2,0.90780113941873941,0.29558075138790296,null,0.5647821530876268,0.98786995596130123,0.72639687080511672,0.64939445668861107,null,10.326210175939709,41.758955318097563,18.60195174552026,0.16266164261470445]
[801,0.997179647395671,0.83938165488165006,0.17602131086573347,0.33844784878425493,null,0.9475206445763914,0.90413198366573244,0.34046851427218239,0.20252289127727618,null,13.242549657640751,38.916381996226789,17.588815193946026,0.1225227624190149]
[802,0.70565041385908167,0.8521396423943165,0.75165733401014811,0.75870758720200537,null,0.23044297358194787,0.11686327797206919,0.31767948368183541,0.23210867711658989,null,8.5252224088081299,31.427557574674221,17.525802347687925,0.12584663762578258]
[803,0.59958253036894971,0.38723067785638432,0.53643185600660537,0.76218958371462875,null,0.78470362039061747,0.56275598832071649,2.1954090788022129E-2,0.22094751169317883,null,11.576355440722677,35.473881122905908,15.985033712744087,0.12462309521513798]
[804,0.80916045585879703,0.8087821253411609,0.42241401194643646,0.13232867088820288,null,0.79120341621911017,6.2264912047006793E-2,0.74476448117964644,0.98036705895426435,null,11.621207831071283,30.391895337520769,18.658104417269964,0.2180258582363005]
[805,0.9196114181834123,0.6326781004923383,7.4517045827346085E-2,0.27611523040649166,null,0.11733862304563814,0.18605554295941218,0.25175403774439387,0.5108415970224931,null,7.6232070578524542,32.322422127394177,17.331019748265938,0.15089691358418261]
[806,0.52999348743021935,0.23315245452214139,0.8475710561711074,0.96868790416197315,null,0.58990686881957444,8.7318277534644273E-2,6.7612228410216413E-2,0.87417104831541947,null,10.454610830992356,30.927633795364805,16.506186824403073,0.18782894832296038]
[807,4.4413033130353385E-2,0.1649270898309334,3.0648883175099617E-2,0.62853756944466221,null,4.3525775729216343E-2,6.1825011169494015E-2,0.53278996972411952,0.72228757042808556,null,6.5776796851414723,30.38110328198993,18.08228502726676,0.16945847282598012]
[808,0.77376439494074301,0.88380709317384232,0.99883868779406437,0.21863265309619073,null,0.91397791619466184,0.87023426963978834,0.98837577660251041,0.55872056408194903,null,12.731329790006598,38.382497726635584,20.269327016450877,0.1548749638492781]
[809,0.68645097291455481,0.42263754572490775,0.34500896082424903,0.64338260479435916,null,0.56671096531778042,0.92186520934736649,0.3148395641324635,0.68052672686965632,null,10.336013244417256,39.253190273065648,17.517821471293328,0.16548268299482854]
[810,0.74847578873178877,8.3948575642116996E-2,0.57391528376150602,0.39296057933124573,null,0.44721631001508533,0.53754852142821352,0.57540444302016014,0.28319467886570437,null,9.7346049998445494,35.282778740954434,18.190150608041247,0.13107855402220794]
[811,0.83160567710602973,0.89097662395405353,0.80380618652797797,0.19523526408368208,null,0.37790936034195,0.93097075842101307,0.39527273369713045,0.43402942213787732,null,9.378047615337854,39.449179854256897,17.73439763941013,0.14451788606720092]
[812,0.32497892004101714,0.55902171749579088,0.77296870634101633,0.86913483770033584,null,0.97515345733819492,0.91771816782332272,0.24970002497533361,0.2037717151643017,null,13.925192869567256,39.169656352051632,17.324565968086873,0.12266859494227104]
[813,0.88774004150072261,0.1559646091842215,0.84297627786622642,0.33264783218381877,null,0.81640492838413015,0.7612772533798785,0.29814582693699987,0.66751821174621839,null,11.803498278194576,37.131251440107555,17.470259197396796,0.16429132544729785]
[814,8.1359967188398219E-2,0.59779941132795777,0.95254314305532095,0.44661750222153551,null,0.88449187843276178,0.10722161841139854,0.61371054549102244,0.99153493567532924,null,12.395490316734108,31.275679891276987,18.289003225791689,0.22881131373982233]
[815,0.26247081314249576,0.52056272578183715,0.88410671292196652,0.26735927590579556,null,0.54041863058701134,0.62486161428223641,0.19088290033077127,8.5929958848572796E-2,null,10.202976867138453,35.954823318068051,17.125352622372478,0.10491368783791731]
[816,0.90831963189863074,0.5026872103240394,0.3361895227275945,0.14371868614412409,null,0.8315777852691657,0.65886716451721972,0.1194452731829716,0.6935027251970155,null,11.920837800934432,36.228120144301094,16.822235603974519,0.16669151792745929]
[817,0.67786696638799737,0.54166700247027921,0.43901537893241194,0.69128758926414757,null,0.46777375999843129,0.51860305784625715,0.7092456891566139,0.84648050565079924,null,9.838265486536951,35.139943589228771,18.551182432236143,0.18370801012980667]
[818,0.73233174590960259,9.7391834876046857E-2,0.8557814887222327,0.24274362860023146,null,0.76498996509762929,0.76448505579685311,0.40969424882702676,0.17052169397802575,null,11.444892794770626,37.162413100020402,17.771668448345025,0.11858051251216187]
[819,4.6855727783608359E-2,0.43785566833498824,0.17175030179234652,0.48269799366978294,null,0.44336580794362435,0.44947278330246399,0.27530019830839836,0.64093531002197468,null,9.7151178396451918,34.619019588921496,17.403139313375107,0.16191167864904071]
[820,0.17959138667377361,0.35487634882569086,0.6580746013289106,0.97974155813048314,null,8.9304441519979516E-2,0.30449765817176311,0.26740418498924046,0.1922022009218568,null,7.3098987283532306,33.465475692730834,17.379317232645988,0.12129627942890048]
[821,0.89185183685133429,0.92951674813357121,0.64518144730901494,0.26564287763307426,null,0.51197337959451528,0.69913382136616453,0.16904889154265623,0.31477271149269714,null,10.060034638046744,36.56573274933055,17.042069455666031,0.13408189660140477]
[822,0.72987883719711577,0.34004252656394029,0.51212921353464957,0.13057878289043523,null,0.14136892539307544,0.41042204922926051,0.39934740250177625,0.56788884024264519,null,7.8516214165777622,34.320621666328755,17.744963366382173,0.15564306068984174]
[823,0.75132063796822213,1.2829413721577199E-2,0.18511073269631151,0.37462271143933801,null,0.56333967202521362,0.6784468408075025,0.81073196048384277,0.39330538350061428,null,10.318883987201618,36.390080111882646,18.880596822505655,0.14106642764696811]
[824,0.58523997105347647,0.75086314468400861,0.45350841119946217,0.71505557488943605,null,0.62845986191531045,0.22130296760558976,0.55074752940181093,0.54023087852494456,null,10.655554006955937,32.696599599545813,18.127550203223112,0.1533335078810191]
[825,0.64546120527826778,0.74694251587457849,0.20125866176307716,0.33348382494467799,null,0.37537156164407892,0.81751869160012514,0.12696093848090817,0.46607555673840861,null,9.3646807044097589,37.717848305312224,16.859124838224695,0.14719042247006481]
[826,0.57936492017121644,5.1297590373319268E-2,6.3041441464095072E-2,0.96939738709067269,null,0.62167975988802349,0.89456344354780681,0.16558541012269867,0.49014123284337241,null,10.619790854636545,38.753504638047097,17.028241729447757,0.14918441224924778]
[827,0.89385385845462373,0.83840266310125267,0.17294399910682323,0.91819374657290653,null,3.9794738798625384E-2,0.43361095362761604,0.27215398768860377,0.54853139366339376,null,6.4938540021956346,34.49843516541921,17.393688578065021,0.15402440850844679]
[828,0.59963573685006755,0.59020840008153641,0.44980008557258699,1.2351011987921101E-2,null,0.43274136159851528,0.89259925356938119,6.7705110908109267E-2,0.48815551730111573,null,9.6612017792139362,38.721410899999867,16.506896978712785,0.14902009541317507]
[829,0.9726409832473164,0.80527342149432035,0.66383951098358895,1.6529793959223715E-2,null,0.2275282132092179,0.19654582668345377,1.0972133012812524E-2,0.51040233263426804,null,8.5059763614723476,32.437927792752646,15.708668810579887,0.15086056530412376]
[830,0.47378094075364885,0.19866625143558081,8.0996987928646402E-2,9.2848978151081063E-2,null,0.36731514421983802,0.64764653283375007,0.97733061773386409,0.55522307526623693,null,9.32205457948149,36.136922957180573,20.001497856573323,0.15458266942131541]
[831,9.0769548584552773E-3,0.17954978252146025,0.26606647057245181,0.64088788201282854,null,3.6385338222664099E-2,0.37528078584100455,0.78311891262884736,0.75873055854696903,null,6.411467426813636,34.04630308112376,18.78277002171313,0.17317342363544144]
[832,5.5817423417179213E-2,0.90406261936438259,0.97490578502091341,1.9352190101434852E-3,null,0.8008708359308413,0.59109831221468645,0.71916969146147713,0.46194897722339889,null,11.689471737305031,35.691113456534893,18.580376695706907,0.14684768000749157]
[833,6.9933037347894245E-2,0.7733658072803733,7.1100053284158693E-2,0.21273125814430605,null,0.23746075388001431,0.31039735047354156,0.329853899210929,0.78424596374429778,null,8.5710111677437641,33.51582690810833,17.559683370909625,0.17595825009569174]
[834,{"$f":"+RAND()","v":0.41234231208135586},0.53916770926188851,0.77299213866607486,0.71289642386418495,null,0.19639055018277551,0.97881028635077993,0.26709777700360238,0.12946938190657808,null,{"$f":"+IF(NORMSINV(G842)*$M$3+$L$3<$N$3,$N$3,NORMSINV(G842)*$M$3+$L$3)","v":8.2908305987186708},{"$f":"+IF(NORMSINV(H842)*$M$4+$L$4<$N$4,N837,NORMSINV(H842)*$M$4+$L$4)","v":41.089324645003167},{"$f":"+IF(NORMSINV(I842)*$M$5+$L$5<$N$5,$N$5,NORMSINV(I842)*$M$5+$L$5)","v":17.378385758170545},{"$f":"+IF(NORMSINV(J842)*$M$6+$L$6<$N$6,N$6,NORMSINV(J842)*$M$6+$L$6)","v":0.11274620168095592}]
[835,0.48487391133484437,0.69766028353395959,0.25819572002506286,0.14417405501087921,null,0.38047007249542975,0.58447525404545897,0.99521195336201096,0.25183755790981976,null,9.3915071154975038,35.640067251206581,20.590771927060878,0.12793229217711274]
[836,0.67448880856215188,0.94184058038303264,0.45582721516728431,0.51417086577468896,null,0.34446328342384469,0.2939802779142997,0.76984864428490629,0.1653015933195241,null,9.1993755554153616,33.374618568844333,18.738348483263522,0.11789431206032107]
[837,0.9642782585701678,0.73530988824505017,0.1839233613479635,4.9272155194700962E-2,null,0.35372052078635285,0.58632490926941072,0.44194986053100582,0.8843880680942342,null,9.2494098851187321,35.654303911827945,17.853972552953195,0.18950800192523631]
[838,0.6459994403338013,0.42741607078996635,0.70179731525696709,3.9249824837409908E-2,null,0.67798526317960017,0.20664226572590216,0.95766637950623923,0.68965639472067408,null,10.924144599897708,32.545618255616915,19.724224953769067,0.16633092867605698]
[839,0.70451840721420733,6.0114046722864911E-2,0.4405516027725177,0.87708589897886979,null,0.89148416089644955,4.2776296944102343E-2,0.90860023040673776,0.99808424583936317,null,12.468919274417685,29.841981869113983,19.33218458958029,0.24542644628960772]
[840,0.87006203903230173,0.27757866078093496,0.28356714473243383,0.78110134507408591,null,0.60302532061344682,0.25527027864813578,0.14221694120673278,0.33426306540112893,null,10.52237126113927,33.026011326970192,16.929587960464808,0.13587033445664104]
[841,1.4647838359818532E-2,0.9480126624852131,0.87355028667310386,0.12673316247657374,null,0.40667676347593607,1.5075962756256112E-2,0.62162704223994669,0.10971994857297518,null,9.5277960127021704,28.495733390094976,18.309756786725664,0.10947537841004842]
[842,0.44787949397677751,0.37367490940854176,0.48954858431298931,0.29511542624700826,null,4.3624359862326489E-3,0.63545881834892759,0.67375083011590275,0.48488101249701776,null,4.7546989698769293,36.039039353318401,18.450294173351569,0.14874907699326292]
[843,0.52027081939481779,0.61513875478226854,0.19137545057133842,0.68736576528335469,null,0.6529954422463099,0.3409007535151698,0.12939918748688561,0.60439165560555674,null,10.786840500456879,33.769981839932562,16.870764199174353,0.15873612325273623]
[844,0.21923102494504099,0.24289242416621504,0.3303751875388129,0.74538823473596316,null,1.1103591309451599E-2,0.23917540418283711,0.45926181810278943,6.0518650964364595E-2,null,5.426389146968206,32.873127293567293,17.897706401366051,9.8835666815244763E-2]
[845,0.42529009274450247,0.53655820962593204,0.571646224956466,0.87070259707005404,null,0.47404657136951323,0.8509272264254768,0.8139116666809495,0.94274816987654897,null,9.869796890976879,38.121255262475813,18.892403554427215,0.20208290060185458]
[846,0.23969623267505524,0.51835213509292288,0.2844223436349147,0.91220678426127866,null,0.55427857022918847,0.38926568174749276,0.34978609811832151,0.73749617397730183,null,10.272957406028276,34.156299702159473,17.614101978865865,0.17097629411386897]
[847,0.68772138200584199,0.74612629866080882,0.99762085197529171,0.40680608490402703,null,0.92906971928265836,0.59421621297713312,0.3877687809766176,0.86729995951384486,null,12.937795231564582,35.715212739861379,17.714860882445432,0.18675270197995231]
[848,0.59745569550476607,0.24784141335536236,0.76264084125494502,0.90025289512209028,null,0.74078987406056374,0.33242393347493082,0.32355579023009073,0.47233093643273338,null,11.291564910558236,33.700310745932597,17.542221495413088,0.14770941210631877]
[849,0.57780110906712989,0.70196007157953766,0.11719790107768957,0.93421840507700615,null,0.35879705358052627,0.3251837349469342,0.50200974221695593,0.22415452721146323,null,9.2766478483363652,33.64024474021511,18.00503769797378,0.12497817567417582]
[850,0.70152761081029957,0.46445458084015723,0.97854748490817001,0.54039549847590862,null,0.50285935481325628,0.47537232387481376,0.407448252652585,0.55856141788780211,null,10.014334801976982,34.81468492707014,17.765886035823744,0.15486165544406785]
[851,0.39079023255675704,0.76101073049633727,0.13492351034010952,0.33362136538301101,null,0.8701322422534461,0.73368163312658197,0.1125426291367021,0.41954548839666117,null,12.254032949645921,36.871958208342839,16.78688343682466,0.14329913995215651]
[852,0.39883304380153117,0.84991158117240106,0.33581633946168044,0.5475788884864643,null,0.4117675470844524,0.57899827631405054,0.39366627285013644,0.90463278899594102,null,9.5539989404095191,35.597994472174818,17.73022394542847,0.19317751643258824]
[853,0.49218113230731042,0.27039498488928371,0.26802273607037597,9.9001355978988625E-2,null,0.53958860535267417,0.43710049180915,0.70696207810110334,0.17293405924008787,null,10.198794693563579,34.525026043917137,18.544531404357251,0.11889307643786773]
[854,0.82322061676562186,0.24502402754024788,4.6594953931442085E-2,0.56385924979880375,null,4.1123204923545265E-2,6.943301529670487E-4,0.12214544847965059,0.67802688773433462,null,6.5244039617918403,18.00503769797378,16.835671465261296,0.16525221704171172]
[855,0.46408806004824099,0.96295607828954499,0.37354177746572781,0.58733790937323749,null,0.73701149379858399,0.25165888088799349,0.31940731428531355,0.27953167554992353,null,11.268318151116285,32.992164136624268,17.530643209672,0.13072030064354315]
[856,0.57382882698011517,0.18966339534074728,0.30848849484932794,0.62982448535351054,null,0.83698459364884759,0.17978249067230767,5.9625019049820427E-3,0.34137222495219777,null,11.964280280348254,32.251417024207903,15.485644140441545,0.13651220830757563]
[857,4.1400420488983625E-2,0.19831987074977375,0.37049049131402656,0.63190982695924691,null,0.16507685809720052,0.53923219935399247,0.63246564897738411,0.38575577075815293,null,8.052391394102532,35.295498755711066,18.338390805493617,0.14041685598850481]
[858,0.65230535084509877,0.4315865447490439,0.61953753829392766,0.50474074987880979,null,0.54853510925800453,0.53629817873699903,0.18809884762058415,0.61671618312979126,null,10.243922312236773,35.273335830692638,17.115076134313483,0.15979662904320768]
[859,0.63176107721486707,0.35691177080971592,0.61931305110597878,0.41528325247739617,null,0.18374222790341022,0.98743912220781793,0.69509324142010931,0.96713723775379801,null,8.1976092733348782,41.718575967076156,18.510339667095604,0.21072960333673588]
[860,0.36072056308289879,0.54253080556588362,0.85917292114345278,0.33912745881613593,null,8.9174934989259658E-2,0.45691785279722941,0.97517455575291523,0.80925740518013378,null,7.3082936346399237,34.675394934509058,19.962959428319923,0.17888038096900066]
[861,0.68597965173712061,0.95334396654624165,0.61171495860402869,0.3895118406194803,null,0.6651281023905079,0.91268034893470662,0.22054876450451133,0.59355980145231213,null,10.852999321344488,39.072340252027992,17.229658810110312,0.15781148867384126]
[862,0.62105964797708502,0.3744951397900711,0.51549132710423773,0.10671929174692696,null,0.16208627350086136,0.64373810171130641,0.54859175072367561,0.25670729614219234,null,8.0281607144123726,36.105406032171778,18.122104196338046,0.12843350676698181]
[863,6.2070540759098902E-2,2.2258540671436178E-2,0.46323998112760822,0.35060459005569655,null,0.20000789980209832,7.4390309772416563E-2,9.5105261104847072E-2,0.68383987221658205,null,8.316813967016973,30.66844408987907,16.690043412600776,0.16578929974257578]
[864,0.53061565539473743,0.77372780241571326,0.15735263688894607,0.5084444734824588,null,4.7152364796129831E-2,0.48713593761694418,0.35253019267083241,0.47872858952260278,null,6.6537707156241188,34.903246962541132,17.62150160431402,0.14823962132206048]
[865,0.45085551286422609,0.3794381144277198,0.80408465993464606,0.64228008177873608,null,0.15063833990732522,0.59146695965766405,1.5419672555817998E-2,0.97626199908727485,null,7.9326010551351018,35.693960500315264,15.840860488482068,0.21540695498878307]
[866,{"$f":"+RAND()","v":6.3381327409029353E-2},0.23422472757155621,0.1408352637915089,0.77273334113040548,null,0.97049222677765234,0.58720397411061909,0.37590112643830786,0.99974950501993831,null,13.776155007626967,35.661075158858367,17.683736157090063,0.26484747599421732]
[867,0.39764721324318042,0.97062530447180029,0.93697445067078822,0.31793086913589852,null,0.65159996552531974,0.24909192052684648,0.92826889540663315,0.61969523227099754,null,10.779287303258453,32.967949654598229,19.463018893469393,0.16005445507898045]
[868,0.71017883402373849,0.6227593220621046,0.20350660322999437,0.16536262483505215,null,0.6919139486903173,0.92719417814067973,2.8910931816761298E-4,0.39467657982718241,null,11.002565616743578,39.365624467179892,15,0.14118402805643615]
[869,0.67670977723551651,0.72680983111865527,6.2547953302628856E-2,0.9275803683848427,null,0.12336060437231844,0.79675789546218767,0.6510105356871474,0.29298987303784585,null,7.6832998728026354,37.490289588780485,18.388050140256258,0.13202585376384202]
[870,0.25388783562712547,0.73054478135754231,0.52334682109698993,0.33849440177186652,null,0.62752566040379287,0.16974532961113542,2.9028232184910352E-2,0.85517804801895658,null,10.650614143555497,32.134483621442925,16.104728669749711,0.18494380290629867]
[871,0.78723179560086787,0.12169077217562463,0.34073368808066418,0.46622726388283897,null,0.37337876311988527,0.4277036098045075,0.29750664580524322,0.86587516173029333,null,9.354164481342842,34.453329072626609,17.468414762665361,0.18653437778657386]
[872,0.83894306499130855,0.99651964278721616,0.83609104217342689,0.41463638464238628,null,0.2771243431117143,0.92502591050475769,0.7885925448011526,0.70080375193974931,null,8.8171887913801505,39.319143609420479,18.80154723479399,0.16738154850151343]
[873,0.62882512911790978,0.41572000106289242,0.45393891645826923,0.17199021140362469,null,0.91854247607468964,0.62476350156742244,0.94518978397318709,0.84119985357255433,null,12.790668636365174,35.954047222286448,19.599901520154749,0.1829802454546402]
[874,0.74699413171479456,4.3726397267957351E-2,0.17014382879294199,0.90327882802012693,null,0.23640763505385576,0.60534893276673796,0.71958869215329668,0.81818142504425995,null,8.5641880713989238,35.801650818195888,18.58162007813516,0.17997906053037205]
[875,0.96024793239295536,0.94199298342991911,7.1975622818384433E-2,0.74230442656690543,null,0.192026778052522,0.80849040613124634,0.43872126977300618,0.51818060616437589,null,8.2590964257695898,37.617040542715749,17.845787947751671,0.15150439763109477]
[876,0.83827099393439064,0.59131722116734764,0.53894580635592826,0.90895880369920512,null,0.98244425153064785,0.53631351753453127,0.1758433650603316,0.95114636587627066,null,14.21414035496143,35.273451656647964,17.068677429534493,0.20465037121280105]
[877,0.9863839657135649,3.5347141036480512E-2,0.60553168331642893,2.1794180507906935E-3,null,0.15319922721052759,0.61012342021530608,0.12543368655721709,0.27856607049908211,null,7.9543832372388881,35.838922172963244,16.851754844889761,0.13062548346698169]
[878,7.9062177925093735E-2,0.28128507442971029,0.3483024985617037,0.67248818257125509,null,0.83851771983942758,0.1495643126559314,0.49445628572767553,0.63315354274343183,null,11.976768245688813,31.885088504513689,17.986103521808442,0.1612271698662251]
[879,0.74559249549608309,0.61194940995936276,0.36532705681346966,0.95658192512246654,null,7.6349919212011841E-2,0.44763343203445538,0.81021830369656067,0.18639780697781039,null,7.1398802728918049,34.605071726954634,18.878701043717214,0.1205887837161979]
[880,0.90202830674119572,0.80009072517129509,0.90967811001383192,0.69527758007367158,null,0.96410977920985297,1.7119582115445509E-2,0.12914029807432825,0.86543555180237663,null,13.601016252929201,28.648268684129221,16.869535612029171,0.1864673375916896]
[881,0.93668775521418934,0.31186118840609089,0.5835176336680018,0.41115861197337455,null,0.27864652060896145,2.6559138764847279E-2,0.59830195095283811,0.19753189248630554,null,8.8262660200745309,29.198125646946352,18.248954343702309,0.12193448716888716]
[882,7.3226676649306266E-2,0.37198289846054766,0.45798359749073458,0.63357290192521265,null,0.97166586951072764,0.5929769601472179,0.50212357032423915,0.59690049504730103,null,13.811721709773757,35.705628705558986,18.005323026555448,0.15809597161540515]
[883,0.60384452261533628,0.30834857886272815,0.80701503968894284,0.15134474665207442,null,0.56931257087936982,0.36386943353761125,0.16243854226344767,0.2490963696332682,null,10.349248587478982,33.955595266995701,17.015514962129828,0.12764790911685492]
[884,0.31214548060633318,0.10996736144760721,7.2090870398357598E-2,0.967851985277149,null,0.33871123012299953,0.54890205584638208,0.80511737770576153,0.15159781829949737,null,9.1680340472116377,35.368663620795253,18.860043172680303,0.11602304690571782]
[885,0.64874087195159724,0.22609679042541564,0.84454393177978626,0.59790658354876647,null,0.68755079717596723,0.76625417726924139,0.48804891752772739,0.70622276601996636,null,10.977839802289379,37.179699063478701,17.970038596712275,0.16789864955806144]
[886,0.52957739443201945,0.95242318406901649,0.21558634509578889,9.1177855204349623E-3,null,0.80223085631669488,0.48258355373243855,8.9524733420290881E-2,0.88564587375283321,null,11.699233172745426,34.868988699846916,16.656312517671331,0.18972186954078374]
[887,0.70227904083466619,0.94187618951727548,0.44731319745307629,0.34997351158320233,null,0.55539307345852196,0.31144711863183716,0.2770941005731774,0.43076651282592437,null,10.278598068286749,33.524742151412887,17.408504099522023,0.14424404039825592]
[888,0.40015145587811174,0.13251558286843224,0.88820028440894372,0.60329604578118157,null,0.20183690611070815,0.16888870809906975,0.81737321665655605,0.13185552263448019,null,8.3298440694915872,32.124301931796467,18.905399903821408,0.11311712829329952]
[889,0.37538389286302687,0.21671031670839291,0.43347573347658386,0.88582730301253154,null,0.2735341561614294,6.2362392503306996E-2,4.9793813049109126E-2,0.85455474648044505,null,8.7956820240132867,30.394278763435636,16.353143895127161,0.18485361340447343]
[890,0.85756889325920027,0.99420901419243302,0.19220979357736356,0.9202571219990755,null,0.51169349399117947,4.5505548154183284E-2,0.22888138093826582,5.0061977504866073E-3,null,10.058630882101228,29.929735623748108,17.257464187194042,6.5011769676127873E-2]
[891,0.76712824023132342,0.88799588037663202,0.55193342736156692,0.4500349960273734,null,9.8892856301034504E-2,0.73727838861328043,0.53277307774968941,0.21613742138833825,null,7.4242283620364278,36.904931887460521,18.082242541852562,0.12408493938093769]
[892,0.37298823193085295,0.69229221679850916,3.9607382697868232E-2,5.4367797715486943E-2,null,0.15797914435245231,0.68521352212316744,0.20643669990005598,0.69663498829888915,null,7.9944038121687004,36.446984016295481,17.181152453412789,0.16698664165990179]
[893,8.3744915860878066E-2,0.81413985904824837,0.23146957078634067,6.3070857023430404E-2,null,0.76296089730874739,0.73466853268215027,0.28248647028133145,0.62906479339708399,null,11.431718685531637,36.88098306880169,17.42452921060573,0.16086945571149203]
[894,0.24149125334596322,0.19166946900815651,0.99884716121362627,0.39995279916904969,null,0.40275276949865713,8.4030240989164673E-3,0.88456628427450779,0.79535402407302702,null,9.5075434760168847,27.827229104539221,19.19812737923867,0.17722962934748065]
[895,0.63694312470547254,0.63059105003178839,0.66191566885149877,0.8366314445359001,null,0.91428626511712097,0.84161548602866176,0.95307261505936336,0.83548928670402978,null,12.735262882102761,38.003358566560493,19.6754051345828,0.18221086609783591]
[896,0.58137817479480347,0.9572204891657079,0.32406766452698887,0.38692400689480977,null,0.18975990976148571,0.72546005351516107,0.44709302609742529,0.82357262049478108,null,8.2424372235022787,36.797418365342665,17.866990733731932,0.18065918591928296]
[897,0.93866262893131203,0.88475673647303865,0.62762803172786052,0.22887254884320496,null,0.68180906407235853,0.40693686211281577,0.86289789019846297,0.77368875558334282,null,10.945527127543855,34.29370505400162,19.093431886907236,0.17478465418760253]
[898,{"$f":"+RAND()","v":0.44020674834235429},0.74996854174884675,0.63352204115863942,0.84389886689515559,null,0.98822525436778297,0.14370745003762597,0.2749517266157141,0.11526198725434855,null,{"$f":"+IF(NORMSINV(G906)*$M$3+$L$3<$N$3,$N$3,NORMSINV(G906)*$M$3+$L$3)","v":14.5288010647233},{"$f":"+IF(NORMSINV(H906)*$M$4+$L$4<$N$4,N901,NORMSINV(H906)*$M$4+$L$4)","v":31.808570793084016},{"$f":"+IF(NORMSINV(I906)*$M$5+$L$5<$N$5,$N$5,NORMSINV(I906)*$M$5+$L$5)","v":17.402095194490805},{"$f":"+IF(NORMSINV(J906)*$M$6+$L$6<$N$6,N$6,NORMSINV(J906)*$M$6+$L$6)","v":0.11043266297814996}]
[899,0.53589294068905735,0.81857294852766638,0.29368655548784228,0.16682507569117211,null,0.19781592092313272,0.92211471858229532,0.99338521929637802,0.24114953188594723,null,8.3011032387806427,39.258322212455617,20.477529116457735,0.12681388243749511]
[900,7.7600219558856209E-2,0.28780521290764849,0.63576247463236257,0.73937180406145597,null,9.579216487634945E-2,0.3774658939824066,0.3821124924714715,0.89840892538069794,null,7.3881868463503118,34.063570760479131,17.700062703721883,0.19199374305424938]
[901,0.92699687557480293,0.72254781305812676,9.5721585173780821E-2,0.82192213536697223,null,0.68133364486142511,0.63050167022448178,6.0441343652668067E-2,0.16589275971720752,null,10.942862763308622,35.999546973828082,16.448920725520605,0.11797271803558135]
[902,0.87458030669689779,0.63676715158747454,0.98955197924763372,0.9341192568715877,null,0.77095556309314839,0.41620649234148044,0.49261563032086264,0.40582574176226394,null,11.483994922360285,34.365176450304332,17.981489073084472,0.14213623029716624]
[903,3.5307330829987493E-2,0.86220860465514382,0.55576646238835647,0.35528443227503093,null,0.55244451291083341,0.56513645814155034,0.12495398065276697,0.64049924656827728,null,10.263679679080463,35.492015472406528,16.849427037031671,0.1618731880380482]
[904,0.71577802679860414,0.87084290025047784,0.44105236969820316,0.14763605060674034,null,0.99925222130280733,0.84892323851070717,0.76506990613973247,0.6361900807852755,null,16.351088386276007,38.095478729800632,18.722706554648262,0.16149368270687178]
[905,0.78854163234738217,0.16540610765757335,0.79307694589841848,0.83134197702828438,null,0.77550921058802513,0.74614748156700983,0.64159108627935368,0.94838493340488939,null,11.514227961392699,36.987246199825137,18.36271495439544,0.20376992478033429]
[906,0.95285294565491019,0.49727576700484466,0.45105240161729987,0.20853116786534631,null,0.24347440439894619,9.7891920420406509E-3,0.87321329918617518,0.94035525729130787,null,8.6096601218708475,27.997006276143665,19.141712840625139,0.20140617267352004]
[907,0.89955495014506093,0.49080575977252783,8.7001446104541857E-2,0.64724789710929065,null,0.25869603125453267,0.18810797014584013,0.34588517273040098,0.73098932011972562,null,8.7052586255716129,32.345329879480303,17.603546283604107,0.17032165835224]
[908,0.82160358661393074,0.79098204739685574,0.98379086402089333,0.66811154434520315,null,4.3301376012852666E-2,0.63984344785414571,0.68874138446240374,5.4848796512712461E-2,null,6.5728058597757713,36.074121102979952,18.492285921703076,9.72147228956491E-2]
[909,0.33455883900770289,0.25344448275244091,0.67689046573766321,0.62282378951913786,null,0.17006214316978474,8.1017334367535998E-2,0.70094024324752624,0.49053223383408717,null,8.0921605825998846,30.805216640008084,18.527106672315437,0.14921676484847776]
[910,0.10758037398433118,0.46044025625556995,0.41259701911820301,8.4205790979000827E-2,null,0.54294464391847475,0.36288565406836937,0.7156681139783958,0.18790949561411563,null,10.21571000365485,33.94773159528382,18.570020532486748,0.12077433556901834]
[911,0.51561225891478568,1.5175292611747215E-2,0.12735619684953881,0.67581167344554405,null,0.60909557203031139,4.0976662281341891E-2,0.39601020490413297,0.22059867353682505,null,10.553925116883367,29.781610480473173,17.736312086713586,0.12458429485790182]
[912,0.43399899028727973,0.74270673698757483,0.66197447112110608,0.1712929214330442,null,0.2792305206444482,0.26978951580386379,0.13193001759115675,0.13562364184811626,null,8.8297421805034126,33.159650897242116,16.882685868090814,0.11369357371496339]
[913,0.20657705855155462,7.4058953630696145E-2,0.91275356554043163,0.49752654590195811,null,0.92209740505920257,0.92514041909895117,0.9551403872609302,0.32697144546971602,null,12.838643802094866,39.321572457868832,19.696880658128602,0.13520638309046651]
[914,0.24865416197740775,0.85248024076586681,0.47847385652246077,0.43372205670861186,null,0.62448532135103663,0.37405037125838614,0.36504775855145477,0.50956211140092356,null,10.634564730042076,34.036565921177555,17.655001524863895,0.15079104149024405]
[915,0.50940047429289137,0.67159632739404873,0.11872488225317457,0.76212998064822546,null,0.14060151451455027,0.46670312260228852,0.54545722064407942,0.89117256168876247,null,7.844758458681139,34.74931990251909,18.114192043887996,0.19068200337635449]
[916,0.23749600452417863,0.39238487530748789,0.61032994002738128,0.31983022527694027,null,0.11635680193023168,0.14005798097680089,0.96530501286719894,0.70008082874094868,null,7.6132043370165725,31.759823364166508,19.815872228715726,0.16731288895772806]
[917,0.57403902982748667,0.38144811500076514,0.64985889083529913,0.67570325933237751,null,0.96686403015320854,0.15235030192505683,0.14657621099041762,3.9805582544485851E-2,null,13.673159761391339,31.920784246419586,16.948768811185388,9.2152760556689001E-2]
[918,1.1265643012861037E-2,0.38071674679327927,0.54199642636587919,0.60065764964714174,null,0.1103098204566525,0.10793788769650436,0.29112900452241064,0.78369005170464912,null,7.5502357749676197,31.287291871687341,17.449910530483507,0.17589563942679864]
[919,0.26315727308985026,0.84350132458787652,8.8112861294855516E-2,0.51662754634657382,null,0.63490278120823962,4.2010634683006476E-2,0.316375036452479,0.39065851799274631,null,10.689733795034861,29.816552860846375,17.522140309093157,0.14083909700341615]
[920,0.31445160809307127,0.80116870701407172,0.70448343869732588,0.64047301082216801,null,0.69953224911134271,0.27504629257117208,0.94722075528880678,0.69940527173243228,null,11.046111373151314,33.207135815017558,19.618483269992659,0.16724879568781109]
[921,0.56896706976911182,0.4302423236295595,0.3536501612363524,0.54415313730057824,null,0.23926318389167223,9.9391690653286568E-2,0.90775753596899322,0.56223805151453154,null,8.5826505976433136,31.144923568893454,19.327071814028471,0.15516931591934963]
[922,0.22918629172124405,6.1466935478492468E-2,0.44903615889685666,3.0125539239793664E-3,null,0.67441153167282442,0.24371936398161254,0.54578279445272881,0.55933784616359572,null,10.904255546794829,32.916835094625327,18.115013513256912,0.15492659082857724]
[923,0.53563214490075051,0.25728569054749739,0.32055413881918271,0.73572605099917865,null,0.37665416435726184,0.93395922847644963,0.77412842975944562,0.18123948797288081,null,9.3714398467020903,39.517832081455339,18.752512125882948,0.11994849735861221]
[924,0.29238987695665952,0.28466086187394202,0.78203438314416474,0.76242871593946115,null,0.17898168213983789,0.7902845526748532,0.9446799625401916,0.29410457777317756,null,8.1614944175931328,37.422226941580149,19.595322776180023,0.13213271046865288]
[925,0.32026381883994381,0.23774794059151261,0.67214012737350892,0.61042671811313698,null,0.62723588499148542,0.4258506298452972,0.25309386089765473,3.845504716011694E-2,null,10.64908267899143,34.439155447786717,17.335214536856867,9.1626207099153617E-2]
[926,0.78828964619437347,0.67069126420486813,0.52044443742857172,0.29748729963761245,null,0.42454314083092637,0.13699401488742946,0.32092592372321471,8.4095446260396001E-2,null,9.6194312110870701,31.718226071045002,17.534888830205791,0.10452467507397478]
[927,3.8463730902873694E-2,0.70363068317282662,0.95985771265038811,0.4222538254380982,null,3.6396897692684282E-3,0.93164234220191733,0.74428136800351052,0.21250407186204534,null,4.6324290205404379,39.464404764132993,18.656601375850407,0.12367382709536506]
[928,0.2839684132568282,0.96454964524846409,0.57865711673441966,0.6699429145465321,null,3.0965566352942675E-2,0.68191023002746576,0.18903454820156129,0.83540018955903106,null,6.2664230520276787,36.41914145368402,17.118540372427869,0.18219900083055532]
[929,0.78374560620477585,0.212906153426349,0.63807332785169457,0.47209623840092907,null,0.88002141204973838,0.45371483310781147,0.4610380441339087,0.49591236953616702,null,12.350187674759955,34.651156329811514,17.902181086072531,0.14966187047032367]
[930,{"$f":"+RAND()","v":0.73125932456807985},0.91115887934453121,0.76827596420179434,0.61460568976578822,null,0.79246335036423721,0.58528072858577729,0.40389769753625238,0.9372613527815733,null,11.629996543763735,35.646265139099114,17.756728905447844,0.20056203738883877]
[931,0.38163592835096438,4.9935392799770328E-2,0.52500302439265278,0.98298635778312571,null,0.26566005693752293,3.3373883447538333E-2,0.8579678200423011,0.51125301676058366,null,8.7480157720499641,29.499894058088948,19.071233705371316,0.15093095875925913]
[932,0.79434927942834521,0.27355108309034737,0.65464969816597851,9.6914063705406672E-3,null,0.12120901575663556,0.12872816120410568,0.92111959419839551,0.8065899413939539,null,7.6620714813199156,31.602728734532,19.412642685344661,0.17855814970656025]
[933,0.75067721874552051,0.40643971271093449,0.60288488080569469,0.52066945383729146,null,0.48619495121932266,0.75211210305078757,0.47978705901030161,0.20939269456567067,null,9.9307779308106898,37.04345373699114,17.94931197370925,0.12331850116510551]
[934,0.5868402216037627,0.17884198203327151,0.39703959674720768,0.86685974189108606,null,0.56845100691192296,0.68875192095247606,0.38952396307144921,0.40114511604416103,null,10.34486382290835,36.476947205765967,17.7194400346729,0.14173732075811701]
[935,0.11831831045022501,0.92838648964859727,0.14352857361415716,0.86168660425117249,null,0.19216056506228274,0.64847929648848801,0.64557484951368393,0.54039160317511525,null,8.2600758499457445,36.14365435057114,18.373400616170493,0.15334687109897191]
[936,0.93080757724052932,0.51904166026203846,0.49889936492142184,0.86639725974179149,null,0.69252812286726217,0.38673524948385329,1.9294695127402228E-2,0.38951990776337042,null,11.006058366827741,34.136485024303262,15.931461245033251,0.14074117222821297]
[937,4.6595481449815068E-2,0.58971613599413564,0.64897678125535374,0.73795329634762186,null,0.96698360919717297,0.52078954859033522,0.94222459862453456,0.31016039534455242,null,13.67640214799977,35.156405836180419,19.573726023885222,0.13365194008856182]
[938,0.40280654593958243,0.46449782595675571,0.58443852611842562,0.36791785599619553,null,0.2766030336433325,0.77691090729519297,0.38143610233146796,0.63567738797927564,null,8.8140744571123442,37.285406005732732,17.6982887673215,0.16144863219365027]
[939,0.65691255493762435,0.94719938371197521,0.55297508868814838,0.91497733981011498,null,0.47852888559637974,8.0406285946890366E-2,0.59831981048325944,0.61577694954719286,null,9.8923077771828023,30.792968248148398,18.249000520187824,0.1597154663167798]
[940,0.90054980700424081,0.62564513324396553,0.31965740725926051,0.10125411531212103,null,0.81519173060138517,0.1066110997605848,0.19643523391309825,0.36333532040741734,null,11.794383754553468,31.265738080068928,17.145576659143284,0.13846459501506722]
[941,0.26808465607138832,0.4357155850954646,0.74876507236361445,0.40517000091544331,null,3.9415370063782151E-2,0.17138590372873463,0.59413518664676834,0.71322676920658201,null,6.4849779008820363,32.153891705588862,18.23819529430018,0.16857359295493779]
[942,4.6938155278437699E-2,0.33639696718632084,0.91337648639821334,0.65927132609634542,null,0.83213677128000085,0.28182464450416489,0.51286412016257599,6.0561840576843662E-2,null,11.925287008585656,33.267711225494345,18.032251157393411,9.8847547750764542E-2]
[943,0.8085982241194376,0.43614403389430534,0.33792861213337333,9.7855358372259338E-2,null,0.88110787290060688,0.28920991201692092,0.93746301762795115,0.16677100418894242,null,12.36108632479627,33.332916969168728,19.533819904747784,0.11808886630566973]
[944,0.888880760909592,0.12870588037617503,0.37103676157122856,0.17228269630565085,null,0.60466337357355648,0.69866503590462092,0.55638601249498287,0.41956620263441213,null,10.530872918131077,36.561694604872883,18.141812671260723,0.14330088908938896]
[945,4.0513814513879698E-2,0.46412706797992564,2.8678241644498947E-2,0.15510836629224334,null,0.86257220731399353,7.1591288801895248E-2,0.33799644400159357,0.19781194982287542,null,12.18389769535208,30.607875148408695,17.582062601304443,0.12196773224270699]
[946,0.8091034655195054,0.1724300679009908,0.70688781965851089,0.6631881131997629,null,4.9317616184892943E-3,0.19052333555477141,0.70650918527416251,0.6879869520889782,null,4.8388451273290167,32.372091810559645,18.543215218690747,0.16617502756901573]
[947,0.94159104358249168,0.6852583119192025,0.89637234314966807,0.53692338644512161,null,0.18841096560786108,0.97532762355865765,0.70205087832106094,0.39106840513383945,null,8.2324657308710343,40.896802108011158,18.530308227268677,0.1408743290616985]
[948,0.35272843254898467,0.83077215537717386,0.88267660808726234,0.83437226101224293,null,0.11772189322471793,0.50120680360076653,0.52430110353376147,0.18085724144812632,null,7.6270956951500697,35.009075037923296,18.060951552301862,0.11990059997470455]
[949,0.21686073003215012,8.796761731719438E-2,3.359185614616178E-2,1.5754033262169287E-2,null,0.30052365302229866,0.14611831975068035,0.78223862579558523,0.4908458543726173,null,8.9542099476080494,31.840316857571274,18.779775977805564,0.1492427142105657]
[950,0.30172787341614515,0.54415421284152987,0.34662464893504308,0.65969886719873494,null,0.61198661218844319,0.11614466467203721,0.40825849378574897,0.39116852947783509,null,10.569001196523658,31.416552861784439,17.767972928616246,0.14088293371866187]
[951,0.33468000026586586,0.10358643081806462,5.5455876550580929E-2,1.5905850051921355E-2,null,0.43831792640549727,0.82757525069391036,0.94254159520604885,0.41568897407815031,null,9.6895294826968694,37.833880054554299,19.57647311645897,0.14297315709398625]
[952,9.1858084043304089E-2,0.64149585380546381,0.86333612363934842,0.83319612949132238,null,0.24427027526110912,0.82138155684257042,0.64288186739073205,0.79778822531376092,null,8.6147360874855945,37.761928759433502,18.366172628543804,0.17751365203432332]
[953,0.34637775145714056,0.66267526517104691,0.43745363475335342,0.71029276849615897,null,0.64308082462170468,0.85831891201837773,0.68275485619048071,0.52554485600531642,null,10.733411945819951,38.218391208366718,18.475416287428001,0.15211448411987222]
[954,0.50293281272280976,0.7154508171961862,0.9744152599202196,0.8432664061024896,null,0.4968362584138859,0.19404137643837827,0.18030639370155366,0.54005738893102528,null,9.9841391855234463,32.410701445645131,17.085801947695234,0.15331908395371696]
[955,0.4737393811672076,0.83675214540889109,0.74094579153056039,0.64619215475676572,null,0.2074523480650563,0.38039756836808813,0.78205820782523094,2.0775334278459234E-2,null,8.3694142847095847,34.086689606427626,18.779163200749696,8.2746242756848276E-2]
[956,0.63700701268690818,0.41461253675472698,0.71260208326461172,0.20980863048559273,null,8.2056473798926666E-2,0.62140206285854649,0.4532989804725277,0.69250458601703035,null,7.2172579586281902,35.927495560839837,17.88266925329032,0.16659775356547615]
[957,0.91135564294516491,0.98412941162189704,0.82149258425136884,0.93703404425456771,null,6.8570665580564016E-2,0.48054428666843318,0.81600739844435832,0.49401139570172137,null,7.0269577330679311,34.853637234493064,18.900253796495473,0.14950461163403528]
[958,7.0603342798117863E-3,0.97327536813534932,0.90460175568278878,1.2996426809860684E-2,null,0.29114066502946157,0.13770710391686303,0.23240010254588517,0.12475433756808951,null,8.8998890661035954,31.727963365523408,17.269034465615036,0.11199906169001805]
[959,0.63239633279020346,0.58598134694507609,0.67038605321866307,0.562526671007053,null,0.14655166989621538,0.75903491811490553,1.3875922238264504E-3,0.56310365677961127,null,7.8973238237738421,37.109604600204584,15.008398697349609,0.15524181411322061]
[960,0.53874467959887407,0.63282290265979024,1.9623995965462715E-2,0.17831201432337396,null,0.76634446633109476,0.23729869714381857,0.21634349424781008,0.12736280945285006,null,11.453722140447004,32.854943443364256,17.21539805357968,0.11241477734205937]
[961,0.41712276645646762,0.74771588289452717,0.81712234751973378,0.160626591442531,null,0.14585143352939933,0.75375412080848525,0.95513283431464646,0.6831104311229319,null,7.8912133063949339,37.059053177778615,19.696800779329994,0.1657216770520015]
[962,{"$f":"+RAND()","v":0.58414500994213248},9.6580880491323295E-2,0.81798063162982126,0.89858672993129984,null,0.40424644132890108,0.69637415322484486,0.58858986618345999,0.54921387772577357,null,{"$f":"+IF(NORMSINV(G970)*$M$3+$L$3<$N$3,$N$3,NORMSINV(G970)*$M$3+$L$3)","v":9.5152584632225583},{"$f":"+IF(NORMSINV(H970)*$M$4+$L$4<$N$4,N965,NORMSINV(H970)*$M$4+$L$4)","v":36.542001274903811},{"$f":"+IF(NORMSINV(I970)*$M$5+$L$5<$N$5,$N$5,NORMSINV(I970)*$M$5+$L$5)","v":18.223919081719334},{"$f":"+IF(NORMSINV(J970)*$M$6+$L$6<$N$6,N$6,NORMSINV(J970)*$M$6+$L$6)","v":0.15408129009650889}]
[963,0.12776808258423822,0.40827832078367865,0.44153219460621274,0.46523837412698543,null,0.27968860962448971,0.80568450772351707,0.89180450039731862,0.31222641421116515,null,8.8324664043957135,37.586308215559036,19.236181786663391,0.1338448716037538]
[964,0.94240249285765176,0.63049276241547747,0.78515865412643093,0.58112396509241104,null,0.25186055740263424,0.1514173126655135,8.866076759867636E-2,0.15085447363860949,null,8.6627073513928785,31.908878970710372,16.650951957029257,0.11591840677777331]
[965,0.28035907218176137,0.52963379527886767,0.33933658633881081,0.19823123762470141,null,0.56893590456838972,0.51575693073791062,0.5672973000658017,0.39662211845185247,null,10.347331411246749,35.118521128533544,18.16949742212946,0.14135069529677891]
[966,0.3813284944061891,0.75856625464732919,0.91571122175815567,0.47647655886430296,null,0.61049147577937013,0.65354694312913386,0.36357288339270732,0.23025296220395253,null,10.561200436952477,36.184742990980276,17.651075200801372,0.12564553706042811]
[967,0.61730451782350348,0.93729618956114136,0.66400339533981123,0.16159588019209759,null,6.1077523022421309E-2,6.876725895239133E-3,0.56932887200339677,0.93914399484837585,null,6.9084179563596528,27.609082703779194,18.174665782520023,0.20107170697744187]
[968,0.1817308241131419,0.6113607042740189,0.34856969528552506,0.35338265593996332,null,0.61668119202677474,0.66227750563858612,0.6787933963891184,0.14045386967710727,null,10.593551773921895,36.256060626500101,18.464327384293668,0.11441668009030093]
[969,0.21725227253542423,0.78305141840069192,0.43433461657947892,0.13004089114286488,null,0.5111306652426032,8.9294321250724895E-2,2.3844447562673787E-2,0.6628510245361583,null,10.05580812195389,30.964660041407214,16.019869752347212,0.16386847051374268]
[970,0.81903465130273001,0.50756914560735467,0.58295984572452919,0.10339541684159781,null,0.2585779378032369,0.89933022512497152,0.8116136674624076,0.86395408688024899,null,8.704528494130269,38.833233324909955,18.883858383460122,0.18624251550534002]
[971,0.7173742150887219,0.56172281693674686,0.63741686708739798,0.80898635485026982,null,0.25112178727988632,0.54362690119627832,0.11729400733284201,0.29185708767811203,null,8.6580723486783917,35.328725910648103,16.811376902630229,0.13191707040860323]
[972,0.34838701692596752,0.7427471028648166,0.72588188273107923,0.78099566735409409,null,0.33207880988631444,0.77766979366276656,0.53620116618405389,0.43656731274576199,null,9.1316396817207579,37.293041358190536,18.090867760429912,0.14473062153954111]
[973,0.58238403246367432,0.45597906859715764,0.14475703149480779,0.33988748016625103,null,0.87914865733487368,0.68517223767004254,0.35406272669154937,0.43530128457929373,null,12.34148306594183,36.44663527550231,17.625625152464899,0.14462452625354955]
[974,0.43914894481263256,0.74575039070884819,0.76130953049369265,0.81788335371839338,null,0.61929651039675693,0.76247565296482911,0.18847647597183192,0.12183606946213599,null,10.607267386557883,37.142866022965421,17.116475501309136,0.11152670855966942]
[975,0.75094928742906031,0.82063045534009493,0.63021216771807054,0.94429693742899046,null,0.40444648456485388,0.78390626722596357,0.46559481005288117,0.20355620732785151,null,9.5162911595984614,37.356361820887003,17.913651795771862,0.12264346697849583]
[976,0.39862646044334249,0.29844878011156295,0.33066825961911439,0.59790415593842106,null,0.91210681526151793,0.25267792693670654,0.83734105829230254,0.70525783430338118,null,12.707686641260064,33.001740692160411,18.983588496651198,0.16780625390826304]
[977,0.77968681582124399,0.17821680022642095,0.62587253958702604,0.38896963079227931,null,0.97682176829817957,0.69764195087303793,0.50286788875334532,0.88606296019811814,null,13.984266066548333,36.552891496442427,18.007188792955116,0.1897931572108113]
[978,0.69251305586990997,0.96131281801021395,0.65000588779303214,0.87000489270228454,null,0.95988220153339088,0.23063960512904225,0.47288685279725462,0.50292908491736477,null,13.498641432997358,32.789773752832502,17.931985014989429,0.15024229237028827]
[979,0.19347314527069115,0.96872666734338653,0.18727720767731559,0.875841696267329,null,0.83458023094058875,0.40675150138981497,0.32113126220110444,0.41451691034790472,null,11.944848478162907,34.292271911443549,17.535462256357718,0.14287395051841076]
[980,0.31400231178305049,0.61387635671043106,0.624479255000434,0.2059786814175647,null,0.10800748085311429,0.94410814337468152,0.40613785305437466,0.49585697728269817,null,7.5256114245431611,39.770680112115201,17.762508749432037,0.14965728824948893]
[981,0.72882518382843553,0.33992568144126722,0.81588685847431552,0.50191742368927761,null,0.6727204507625506,0.42963648735859172,0.75419115513431012,0.10367961899755274,null,10.894875295017716,34.468100855276163,18.687738152248762,0.10839161506293947]
[982,0.43148453892374683,0.58465786454463931,0.59858408559247145,0.11798643434216016,null,0.43961122897367089,0.50606874957966475,0.76771718785957266,0.47028393541016544,null,9.6960900754507922,35.045638058107166,18.731349628340244,0.14753964732455402]
[983,0.30079689369018037,0.80763175144070787,1.1066113240446263E-2,0.9485770590166831,null,0.59562911266116192,0.16888910202712715,0.57067226407286487,8.7757759924108392E-2,null,10.484099085767795,32.124306621585035,18.17808595519481,0.10529514454258301]
[984,0.95563338185193547,3.432383469330369E-2,0.31126796972452664,0.22981795908026947,null,4.5940744751122531E-2,0.47300929548146775,3.7365513586409493E-2,0.37364451066696402,null,6.6288894465728134,34.796877922399396,16.217888354911238,0.13936687013666543]
[985,0.84602116958113949,0.91742534929112041,0.61713701320446546,0.2139721546298311,null,0.52300760761866383,0.12346235334326094,9.3213032801182316E-2,0.16964795694908275,null,10.115407052687456,31.526445970765749,16.6787741383141,0.11846660719038718]
[986,0.87831566746180478,0.47812583410556275,0.62623491422510147,0.39118524432757706,null,3.5040022147237893E-2,0.50546698422050795,0.35004392844225429,0.64141344068865014,null,6.3772140714085044,35.041112378474516,17.614798128508031,0.16195390110032029]
[987,0.62798937125850984,0.12484882167381339,0.7313134203749514,0.2341673110447694,null,5.4497260832509831E-2,0.7281192954068848,4.4792128562392008E-3,7.9739124595438637E-2,null,6.7945422139860892,36.821404616906875,15.386363371460707,0.1035746594822852]
[988,0.95554373641842616,8.1231499600841417E-2,0.17655080111073496,0.15510224522205862,null,0.57325614847056516,0.75186288855772199,0.82513266792167916,0.21784731134474045,null,10.369340445937116,37.041090990153911,18.935104079952914,0.12427702596071875]
[989,0.33399127418607855,0.36976736936926491,0.97062890158925308,0.85107937142126577,null,0.1865265564096491,0.76882247243060242,6.295011657361127E-2,0.62702234115234368,null,8.218462013708054,37.204923348003042,16.469529189068645,0.16069124664734907]
[990,0.59673371572716705,0.24453410021863564,0.92465885032251205,0.97545817859067041,null,0.74054798385498632,0.46933910960691649,0.43492979645410268,6.9386554755294871E-2,null,11.290071457655074,34.769206181788647,17.836163164463844,0.10114761405702979]
[991,0.14022401951809815,0.78978244110146989,0.27178769298419125,0.32532227930384616,null,0.6677693424875476,0.57606561886709684,6.1133629053215177E-2,0.74037115180198798,null,10.867523900088459,35.575515308950308,16.454673290733119,0.17126817222636878]
[992,0.91468203470388687,9.6279701325946321E-2,0.27984225612809277,0.67641284746886998,null,0.95200313132712844,0.90773141470871499,0.44034786120906733,0.20426656525231324,null,13.329188459538001,38.980741656254779,17.849912678197235,0.12272623401143394]
[993,0.84301633701859779,0.78350288478702956,0.77043737999258144,0.28961115209220278,null,0.70730581036573659,0.55966095502836355,5.1370095390079862E-2,0.48164248917036312,null,11.091061960569677,35.450329013542678,16.368288094223956,0.14848095367667496]
[994,0.56847914923772358,0.51416166335137059,0.88249685590225457,0.11284726126662337,null,0.22776009899000749,0.69755011582485571,0.33268223297622201,0.17717970774412994,null,8.5075125461919967,36.552101958889715,17.567481302637415,0.11943650273008863]
[995,0.92259690547192597,0.1188316817952344,0.21486272417362151,0.42117567774031606,null,0.73393546095964524,0.11980550477115359,0.68297747322828462,9.213697567784751E-2,null,11.249518504295613,31.472121117941516,18.476041161679184,0.10618557226167963]
[996,0.68315169929083397,4.1367586233991505E-2,0.89111386694765538,0.80543360452844692,null,0.83169278454272932,0.83975032615186584,0.77579235959229575,0.23798537109209261,null,11.921752352060508,37.980296774837328,18.758059638441541,0.12647766486869927]
[997,0.51332018472336149,0.48228258408137226,0.71156630016160893,0.80091412917082239,null,0.78164419641515603,0.61953318651535105,0.44868012598636964,0.70590259543506739,null,11.555516289020499,35.912764995105405,17.871003289815491,0.16786797656247068]
[998,0.85106219248330572,0.64138246208349503,0.73588412660282154,0.50130269255415183,null,0.68868257632854002,0.34299313400941933,0.86695300882873705,0.8667481344864727,null,10.984239058067841,33.787076100640924,19.112102731720189,0.18666795444339851]
[999,6.4841774564230348E-2,0.23341809487087106,0.86826575321860588,0.53996859362497873,null,0.85711891828406528,0.1599641058571124,0.98535862079718606,2.1182996111940633E-2,null,12.134928878246457,32.016183748101362,20.179658857755271,8.3013068610647958E-2]
[1000,0.3055239174498311,0.25291197510070029,0.86163816875076582,0.2253709712483154,null,0.4724345262192523,0.51374405115821975,0.97412141487498238,0.85081133284065558,null,9.8616970613241151,35.103374135078752,19.945147983222924,0.18431734120782001]

{"sheet":"注意事項","index":4,"n_rows":18,"n_cols":4,"rows_kept":18,"cut":false,"hidden":false,"merged":[]}
[]
[null,"【注意事項】"]
[null,"・ このソフトウエアは、エクセルマクロで動作します"]
[null,"・無限長斜面の安定計算（確定論的・確率論的）を行います"]
[null,"　（ただし、太田ジオではRocscience社のSLIDE2018を用いています）"]
[null,"・このソフトウエアを使用して生じたいかなる損害にも賠償責任を負いません"]
[null,"・当該安定計算及び対策工の設計には特許権が成立しています"]
[null,"・太田ジオと契約している排水資材を用いる場合には無償で使用できます"]
[null,"　（プロテクトはかけていませんので自由に改造してください）"]
[null,"・この設計方法で対策を行う場合には、太田ジオと契約済の排水資材以外は使用できません"]
[null,"　（未契約の排水資材を設計に織込んだ場合には設計者は知財権侵害となりますのでご注意ください）"]
[]
[]
[null,"最新情報は、下記URLに掲載します。"]
[null,"http://www.ohta-geo.co.jp/PF/"]
[]
[null,"Version情報"]
[null,"v0.50",43698,"基本的な確率計算の方法と過剰間隙水圧の作用の概念がわかるように無限長斜面で試作"]